{"text_format":"1","workbook":"xlsx","n_sheets":9,"sheets":["For GFSC Portal Use Only","Data Validation (hidden)","Change Log (hidden)","Start","Scheme and Member Information","Jurisdictions","Financial Information","Investment Information","LoV (hidden)"],"not_rendered":{"charts":0,"images":1,"macros":1,"external_links":0,"defined_names":8,"comments":0,"pivot_tables":0},"unopened":[],"bounds":{"document_bytes":16777216,"sheet_cells":100000,"rows_first":2000,"rows_last":500,"rows_between":2000,"halvings":0,"cell_chars":16384,"cell_head_chars":4096},"cells_cut":0,"cells_raw":0,"read":"whole","date_system":"1900"}

{"sheet":"For GFSC Portal Use Only","index":0,"n_rows":35,"n_cols":13,"rows_kept":35,"cut":false,"hidden":true,"merged":[]}
[null,"Form Name","PENA","Name",null,null,null,null,"C1","The form name will be a unique code to identify the spreadsheet, this will be populated by GFSC\nCodes to be used for Form Name:\n- Form names will be:\nMA1\nBSL2\nLOC2\nNST - tbc\nCAS - tbc"]
[null,"Form Version",{"$f":"Start!T1","v":"v1.0"},"Vn.n",null,null,null,null,"C2","Version of the form, this will be populated by GFSC and will be used to check that the file being uploaded into the Portal is the current version"]
[]
[null,"Licensee Name",{"$f":"Start!F8","v":0},null,null,null,null,null,"C4","Licensee name will be populated by GFSC and must match name on front sheet; a formula should be created so that this field is populated with the name as shown on the Front Sheet. The name on the front sheet is populated by GFSC when the template is set up and must match the name of the Liscensee held in 'Internal CRM'"]
[null,"Name Reference",{"$f":"Start!F10","v":0},null,null,null,null,null,"C5","Reference number for licensee as held in CRM Nameref field, this will be populated by GFSC"]
[null,"Frequency","A","M,Q,A",null,null,null,null,"C6","This will indicate the frequency of the return and will be populated with M,Q or A"]
[]
[null,"Reporting Date",{"$f":"Start!F12","v":0},"DD/MM/YYYY",null,null,null,null,"C8","Reporting date will be month YYYY (or DD/MM/YYYY for the annual return?)\nFor banking, this will be populated by using data input on the front sheet\nOther returns - tbc"]
[]
[null,"Mandatory Validation",{"$f":"IF(Start!F14=\"OK\",IF(AND('Scheme and Member Information'!R719=\"Validation Check Passed\",Jurisdictions!JC714=\"\",'Financial Information'!S719=\"Validation Check Passed\",'Investment Information'!Q719=\"Validation Check Passed\"),\"T\",\"F\"),\"F\")","v":"F"},"T or F",null,null,null,null,"C10","Mandatory validation will be set to T or F, it will default to T "]
[]
[]
[null,"Optional Validation","T","T or F",null,null,null,null,"C13","Optional validation will be set to T or F, it will default to T"]
[]
[null,null,null,null,null,null,null,null,null,"A rule must be set up within this hidden spreadsheet to check the result of all validation completed by the spreadsheet.\nIf any of the mandatory checks fail then the mandatory validation field will be set to F\nIf any of the optional checks fail then the optional validation field will be set to F"]
[]
[]
[null,null,null,null,null,null,null,null,null,"Validation Rules"]
[null,null,null,null,null,null,null,null,null,"These are contained within the detailed specifications for each return"]
[]
[null,null,null,null,null,null,null,null,null,"Copy of Sheet for Inclusion in specifications"]
[]
[null,null,null,null,null,null,null,null,null,"Table below is a summary of the validation sheet for inclusion in the individual specifications"]
[]
[null,null,null,null,null,null,null,null,null,"GFSC Portal Validation Sheet","Data Type","Cell Ref.","Valid Values"]
[]
[null,null,null,null,null,null,null,null,null,"Form Name","xxxxx","C1"]
[null,null,null,null,null,null,null,null,null,"Form Version","xxxxx","C2"]
[null,null,null,null,null,null,null,null,null,"Licensee Name","xxxxx","C4","CRM Name "]
[null,null,null,null,null,null,null,null,null,"Name Reference","nnnnnn","C5","CRM NameRef"]
[null,null,null,null,null,null,null,null,null,"Frequency","x","C6","M,Q,A"]
[null,null,null,null,null,null,null,null,null,"Reporting Date","xxxxx","C8","month yyyy"]
[]
[null,null,null,null,null,null,null,null,null,"Mandatory Validation","x","C10","T or F"]
[null,null,null,null,null,null,null,null,null,"Optional Validation","x","C13","T or F"]

{"sheet":"Data Validation (hidden)","index":1,"n_rows":46,"n_cols":8,"rows_kept":46,"cut":false,"hidden":true,"merged":[]}
[null,"Scheme Data Errors",null,"TODAY = ",{"$f":"TODAY()","v":"2018-12-13"},null,"Financial Info","Data Errors"]
[null,0,"OK",null,null,null,0,"OK"]
[null,1,"GFSC Reference is missing",null,null,null,1,"GFSC reference missing"]
[null,2,"Scheme Classification missing",null,null,null,2,"Previous financial statements missing"]
[null,3,"Scheme Description missing",null,null,null,3,"Financial statements end date missing"]
[null,4,"Scheme Type missing",null,null,null,4,"Previous year end missing"]
[null,5,"Retirement Annuity Trust Yes or No?",null,null,null,5,"Previous year end market value missing"]
[null,6,"Investment Direction missing",null,null,null,6,"Total contributions value missing"]
[null,7,"Total number of members missing",null,null,null,7,"Total paid or transferred value missing"]
[null,8,"Active members missing",null,null,null,8,"Total income missing"]
[null,9,"Deferred members missing",null,null,null,9,"Total expenses missing"]
[null,10,"Pensioner members missing",null,null,null,10,"Total market value missing"]
[null,11,"The total number of members does not equal the sum of active, deferred and retired members",null,null,null,11,"Total increase / decrease missing"]
[null,12,"Is the Scheme open to new members?",null,null,null,12,"Market value change reason missing"]
[null,13,"Services are missing",null,null,null,13,"Market value < £1000 reason missing"]
[null,14,"Transfers Taking 6+ months?",null,null,null,14,"Licensee revenue value missing"]
[null,15,"Contributions Taking 60+ days?",null,null,null,15,"Other income value missing"]
[null,16,"Formatting error - cell format changed!",null,null,null,16,"Formatting error - cell format changed!"]
[null,17,"OK",null,null,null,17,"OK"]
[]
[]
[]
[]
[]
[]
[]
[]
[]
[null,"Investments","Data Errors",null,null,null,"Jurisdiction","Data Errors"]
[null,0,"OK",null,null,null,0,"OK"]
[null,1,"GFSC Reference is missing",null,null,null,1,"GFSC Reference missing."]
[null,2,"Investments to declare mssing",null,null,null,2,"Are there members in jurisdictions on the BSSN?"]
[null,3,"Cash held at bank",null,null,null,3,"Total BSSN members cannot be greater than the total number of Scheme members"]
[null,4,"Cash or money market funds missing",null,null,null,4,"Formatting error - cell format changed"]
[null,5,"Listed equity missing"]
[null,6,"Non-listed equity missing"]
[null,7,"Sovereign, government and local authority bonds missing"]
[null,8,"Corporate bonds and loan notes missing"]
[null,9,"Directly held physical assets missing"]
[null,10,"Indirectly held physical assets missing"]
[null,11,"Investment products missing"]
[null,12,"Insurance products missing"]
[null,13,"Total Value of investments missing"]
[null,14,"Scheme investment total and scheme market value not equal"]
[null,15,"Formatting error - cell format changed"]
[null,16,"OK"]

{"sheet":"Change Log (hidden)","index":2,"n_rows":7,"n_cols":4,"rows_kept":7,"cut":false,"hidden":true,"merged":[[0,0,0,3]]}
["Form NST Change Log"]
[]
[null,"Information"]
[]
[null,"Comment","Version","Saved"]
["CBy","Original version","v.0.01","2017-11-03"]
["PS","Renamed the Scheme Details Tab\nFleshed out the Scheme Information Tab\nAdded the Jurisdictions, Financial Information and Investment Information Tabs\n","v.0.01","2018-09-04"]

{"sheet":"Start","index":3,"n_rows":20,"n_cols":26,"rows_kept":20,"cut":false,"hidden":false,"merged":[[19,2,19,20],[18,2,18,20],[1,1,1,19],[2,1,2,19],[17,2,17,20],[13,5,13,11],[7,5,7,18]]}
[null,null,null,null,null,null,null,null,null,null,null,null,null,null,null,null,null,null,null,"v1.0",null,null,null,null,null,{"$f":"TODAY()","v":"2018-12-13"}]
[null,"Introduction"]
[null,"\nThis annual return is for fiduciary license holders forming, managing or advising on Pension Schemes or Gratuity Schemes. The return is essential to enable the Commission to regulate Pension Schemes and Gratuity Schemes and should be submitted within 6 months of the reporting period end.\n\nIf you wish to submit a return for a single Scheme, please use the form \"127a - Fiduciary - Pension Scheme or Gratuity Scheme Annual Return\" which can be found on the timeline of the licensee's homepage.\n\nWhere numerical answers are required, please ensure that they are entered in full, without commas or full stops. For example, one million should be entered 1000000.\n\nAll fields are mandatory unless otherwise indicated."]
[]
[]
[]
[]
[null,"Pension Provider for the Scheme(s)"]
[]
[null,"Provider's GFSC Reference"]
[]
[null,"Reporting Period End Date"]
[]
[null,"Validation Check",null,null,null,{"$f":"IF(F8=\"\",\"Please enter licensee name\",IF(F10=\"\",\"Please enter the GFSC Reference\",IF(F12=\"\",\"Please enter a Reporting Period End Date\",\"OK\")))","v":"Please enter licensee name"}]
[]
[]
[]
[null,1,"The Regulation of Fiduciaries, Administration Businesses and Company Directors, etc (Bailiwick of Guernsey) Law, 2000, as amended"]
[null,2,"The Pension Licensees Conduct of Business & Domestic and International Pension Scheme and Gratuity Scheme Rules (No.2) 2017"]
[null,3,"Pensions Returns - Further Details"]

{"sheet":"Scheme and Member Information","index":4,"n_rows":723,"n_cols":54,"rows_kept":723,"cut":false,"hidden":false,"merged":[[1,1,1,15],[5,38,5,52],[2,1,2,6],[3,1,3,6],[2,7,2,15]]}
[null,null,null,null,null,null,null,null,null,null,null,null,null,null,null,null,null,null,null,"Today:",null,null,null,null,null,null,null,null,null,null,null,null,null,{"$f":"TODAY()","v":"2018-12-13"}]
[null,"SCHEME DETAILS",null,null,null,null,null,null,null,null,null,null,null,null,null,null,null,null,null,"Validation checks (hidden)"]
[null,"\nPlease confirm the following Pension Scheme or Gratuity Scheme details, as they were at the Reporting Period End.\n\n1. Enter the Pension Scheme or Gratuity Scheme Name that was notified to the Commission and appears on the Pension / Gratuity Scheme Connections Screen.          \n\n2. Enter the GFSC Reference as it  appears on the Pension / Gratuity Scheme Connections Screen. \n\n3. State the Scheme classification. For Pension Schemes the lettering A, B or C corresponds to the lettering used to define a \"pension scheme\" in s.2(1)(e) of the Law.\n\n4. State whether the Scheme description is Define Contribution (DC), Defined Benefit (DB) or a Hybrid of DC and DB (H). This question is not applicable to Gratuity Schemes.\n\n5. State whether the Scheme Type is Occupational or Personal.\n\n6. State whether the Scheme is a Retirement Annuity Trust.\n\n7. State the Scheme Investment Direction. Member Directed (MD), Provider Directed (PD), Third Party Directed (TD), Combination: Member/Provider Directed (MPD), Combination: Member/Third Party Directed (MTD), Combination: Provider/Third Party Directed (PTD), Combination: Member/Provider/Third Party Directed (MPTD)\n\n\n",null,null,null,null,null,"8. State the Total number of members in the Scheme at the reporting period end using the latest available figures. This should be equal to the sum of 9,10 and 11. \n\n9. State the number of Active members in the Scheme at the reporting period end using the latest available figures. An active member is a member who is making contributions (and/or on behalf of whom contributions are being made) and is accruing benefits. \n\n10. State the number of Deferred members in the Scheme at the reporting period end using the latest available figures. A deferred member is a member who no longer contributes to or accrues benefits from the plan but has not yet begun to receive retirement benefits from that plan other than a retirement lump sum. \n\n11. State the number of Pensioner members in the Scheme at the reporting period end using the latest available figures.  A pensioner member is a member who is currently receiving payment of a pension from the Scheme.\n\n12. Is the Scheme open to new members?\n\n13. What services are you providing to the Scheme?\n\n14. State the number of Member transfers from the Scheme, taking longer than 6 months from the agreement of the transfer value to complete.\n\n15. State the number of instances of employer/third party contributions not received within 60 days of the date agreed in the contribution schedule."]
[]
[null,null,null,null,null,null,null,null,null,null,null,null,null,null,null,null,null,{"$f":"IF(COUNTA(R8:R717) - COUNTIF(R8:R717,\"OK\") - COUNTIF(R8:R717,\"\") = 0, \"Validation Check Passed\", \"Validation error on row \" & R6)","v":"Validation Check Passed"}]
[null,1,2,3,4,5,6,7,8,9,10,11,12,13,14,15,null,{"$f":"IFERROR(ROW(INDEX(R8:R717,MATCH(TRUE,BB8:BB717,0),0)),0)","v":0},null,null,null,null,null,null,null,null,null,null,null,null,null,null,null,null,null,null,null,null,"Cell Formatting Checks"]
[null,"Pension Scheme or Gratuity Scheme Name","GFSC Reference (of the Scheme)","Scheme\nClassification","Scheme\nDescription","Scheme Type","RAT","Investment\nDirection","Total\nMembers","Active\nMembers","Deferred\nMembers","Pensioner\nMembers","Open to New\nMembers","Services","Transfers Taking\n6+ months","Contributions Taking 60+ days",null,"Validation Check",null,"Has Scheme (Fund) Name","GFSC Ref","Scheme\nClassification","Scheme\nDescription","Scheme\nType","RAT","Investment\nDirection","Total No. of Members","Active members","Deferred Members","Pensioner members","Check total members","Open to New\nMembers","Services","Transfers\nTaking 6+\nMonths","Contributions\nTaking\n60+ days","Validation OK","Formatting error","Sum of Active, Deferred and Retired Members","GFSC Name format valid","GFSC Reference format valid?","Scheme\nClassification\nformat valid","Scheme\nDescription\nformat valid","Scheme Type\nformat valid","RAT\nformat valid","Investment\nDirection\nformat valid","Total number of members format valid?","Active members format valid?","Deferrred Members format valid?","Pensioner members format valid?","Open to New Members\nformat valid","Services\nformat valid","Transfers Taking 6+ Months\nformat valid","Contributions Taking\n60+ Days\nformat valid","Error status"]
[null,null,null,null,null,null,null,null,null,null,null,null,null,null,null,null,null,{"$f":"IF(T8,VLOOKUP(MIN(U8:AK8),'Data Validation (hidden)'!$B$2:$C$19,2,FALSE),IF(COUNTA(C8:P8)>0,\"'Scheme Name' missing but values entered in other columns\",\"\"))","v":""},null,{"$f":"B8<>\"\"","v":false},{"$f":"IF(C8=\"\",1,\"\")","v":1},{"$f":"IF(D8=\"\",2,\"\")","v":2},{"$f":"IF(E8=\"\",IF(D8=\"Gratuity\",\"\",3),\"\")","v":3},{"$f":"IF(F8=\"\",4,\"\")","v":4},{"$f":"IF(G8=\"\",5,\"\")","v":5},{"$f":"IF(H8=\"\",6,\"\")","v":6},{"$f":"IF(I8=\"\",7,\"\")","v":7},{"$f":"IF(J8=\"\",8,\"\")","v":8},{"$f":"IF(K8=\"\",9,\"\")","v":9},{"$f":"IF(L8=\"\",10,\"\")","v":10},{"$f":"IF((AL8=I8),\"\",11)","v":""},{"$f":"IF(M8=\"\",12,\"\")","v":12},{"$f":"IF(N8=\"\",13,\"\")","v":13},{"$f":"IF(O8=\"\",14,\"\")","v":14},{"$f":"IF(P8=\"\",15,\"\")","v":15},{"$f":"IF(COUNT(U8:AI8)=0,\"10\",\"\")","v":""},{"$f":"IF(AND(AM8,AN8,AO8,AP8,AQ8,AR8,AS8,AT8,AU8,AV8,AW8,AX8,AY8,AZ8,BA8)=TRUE,\"\",16)","v":16},{"$f":"SUM(J8:L8)","v":0},{"$f":"IF(CELL(\"format\", B8) = \"G\",TRUE,FALSE)","v":true},{"$f":"IF(CELL(\"format\", C8) = \"F0\",TRUE,FALSE)","v":true},{"$f":"OR(D8=\"A\",D8=\"B\",D8=\"C\",D8=\"Gratuity\")","v":false},{"$f":"OR(E8=\"DC\",E8=\"DB\",E8=\"H\",D8=\"Gratuity\")","v":false},{"$f":"OR(F8=\"Occupational\",F8=\"Personal\")","v":false},{"$f":"OR(G8=\"Yes\",G8=\"No\")","v":false},{"$f":"OR(H8=\"MD\",H8=\"PD\",H8=\"TD\",H8=\"MPD\",H8=\"MTD\",H8=\"PTD\",H8=\"MPTD\")","v":false},{"$f":"IF( CELL(\"format\",I8) = \"F0\",TRUE,FALSE)","v":true},{"$f":"IF( CELL(\"format\",J8) = \"F0\",TRUE,FALSE)","v":true},{"$f":"IF( CELL(\"format\",K8) = \"F0\",TRUE,FALSE)","v":true},{"$f":"IF( CELL(\"format\",L8) = \"F0\",TRUE,FALSE)","v":true},{"$f":"OR(M8=\"Yes\",M8=\"No\")","v":false},{"$f":"OR(N8=\"Trustee\",N8=\"Administrator\",N8=\"Both\")","v":false},{"$f":"IF( CELL(\"format\",O8) = \"F0\",TRUE,FALSE)","v":true},{"$f":"IF( CELL(\"format\",P8) = \"F0\",TRUE,FALSE)","v":true},{"$f":"IF(R8=\"\",FALSE,IF(R8=\"OK\",FALSE,TRUE))","v":false}]
[null,null,null,null,null,null,null,null,null,null,null,null,null,null,null,null,null,{"$f":"IF(T9,VLOOKUP(MIN(U9:AK9),'Data Validation (hidden)'!$B$2:$C$19,2,FALSE),IF(COUNTA(C9:P9)>0,\"'Scheme Name' missing but values entered in other columns\",\"\"))","v":""},null,false,1,{"$f":"IF(D9=\"\",2,\"\")","v":2},{"$f":"IF(E9=\"\",IF(D9=\"Gratuity\",\"\",3),\"\")","v":3},{"$f":"IF(F9=\"\",4,\"\")","v":4},{"$f":"IF(G9=\"\",5,\"\")","v":5},{"$f":"IF(H9=\"\",6,\"\")","v":6},{"$f":"IF(I9=\"\",7,\"\")","v":7},{"$f":"IF(J9=\"\",8,\"\")","v":8},{"$f":"IF(K9=\"\",9,\"\")","v":9},{"$f":"IF(L9=\"\",10,\"\")","v":10},{"$f":"IF((AL9=I9),\"\",11)","v":""},12,13,14,15,null,{"$f":"IF(AND(AM9,AN9,AO9,AP9,AQ9,AR9,AS9,AT9,AU9,AV9,AW9,AX9,AY9,AZ9,BA9)=TRUE,\"\",16)","v":16},0,{"$f":"IF(CELL(\"format\", B9) = \"G\",TRUE,FALSE)","v":true},{"$f":"IF(CELL(\"format\", C9) = \"F0\",TRUE,FALSE)","v":true},{"$f":"OR(D9=\"A\",D9=\"B\",D9=\"C\",D9=\"Gratuity\")","v":false},{"$f":"OR(E9=\"DC\",E9=\"DB\",E9=\"H\",D9=\"Gratuity\")","v":false},{"$f":"OR(F9=\"Occupational\",F9=\"Personal\")","v":false},{"$f":"OR(G9=\"Yes\",G9=\"No\")","v":false},{"$f":"OR(H9=\"MD\",H9=\"PD\",H9=\"TD\",H9=\"MPD\",H9=\"MTD\",H9=\"PTD\",H9=\"MPTD\")","v":false},{"$f":"IF( CELL(\"format\",I9) = \"F0\",TRUE,FALSE)","v":true},{"$f":"IF( CELL(\"format\",J9) = \"F0\",TRUE,FALSE)","v":true},{"$f":"IF( CELL(\"format\",K9) = \"F0\",TRUE,FALSE)","v":true},{"$f":"IF( CELL(\"format\",L9) = \"F0\",TRUE,FALSE)","v":true},{"$f":"OR(M9=\"Yes\",M9=\"No\")","v":false},{"$f":"OR(N9=\"Trustee\",N9=\"Administrator\",N9=\"Both\")","v":false},true,true,false]
[null,null,null,null,null,null,null,null,null,null,null,null,null,null,null,null,null,{"$f":"IF(T10,VLOOKUP(MIN(U10:AK10),'Data Validation (hidden)'!$B$2:$C$19,2,FALSE),IF(COUNTA(C10:P10)>0,\"'Scheme Name' missing but values entered in other columns\",\"\"))","v":""},null,false,1,2,3,4,5,6,7,8,9,10,"",12,13,14,15,null,16,0,true,true,false,false,false,false,false,true,true,true,true,false,false,true,true,false]
[null,null,null,null,null,null,null,null,null,null,null,null,null,null,null,null,null,{"$f":"IF(T11,VLOOKUP(MIN(U11:AK11),'Data Validation (hidden)'!$B$2:$C$19,2,FALSE),IF(COUNTA(C11:P11)>0,\"'Scheme Name' missing but values entered in other columns\",\"\"))","v":""},null,false,1,2,3,4,5,6,7,8,9,10,"",12,13,14,15,null,16,0,true,true,false,false,false,false,false,true,true,true,true,false,false,true,true,false]
[null,null,null,null,null,null,null,null,null,null,null,null,null,null,null,null,null,{"$f":"IF(T12,VLOOKUP(MIN(U12:AK12),'Data Validation (hidden)'!$B$2:$C$19,2,FALSE),IF(COUNTA(C12:P12)>0,\"'Scheme Name' missing but values entered in other columns\",\"\"))","v":""},null,false,1,2,3,4,5,6,7,8,9,10,"",12,13,14,15,null,16,0,true,true,false,false,false,false,false,true,true,true,true,false,false,true,true,false]
[null,null,null,null,null,null,null,null,null,null,null,null,null,null,null,null,null,{"$f":"IF(T13,VLOOKUP(MIN(U13:AK13),'Data Validation (hidden)'!$B$2:$C$19,2,FALSE),IF(COUNTA(C13:P13)>0,\"'Scheme Name' missing but values entered in other columns\",\"\"))","v":""},null,false,1,2,3,4,5,6,7,8,9,10,"",12,13,14,15,null,16,0,true,true,false,false,false,false,false,true,true,true,true,false,false,true,true,false]
[null,null,null,null,null,null,null,null,null,null,null,null,null,null,null,null,null,{"$f":"IF(T14,VLOOKUP(MIN(U14:AK14),'Data Validation (hidden)'!$B$2:$C$19,2,FALSE),IF(COUNTA(C14:P14)>0,\"'Scheme Name' missing but values entered in other columns\",\"\"))","v":""},null,false,1,2,3,4,5,6,7,8,9,10,"",12,13,14,15,null,16,0,true,true,false,false,false,false,false,true,true,true,true,false,false,true,true,false]
[null,null,null,null,null,null,null,null,null,null,null,null,null,null,null,null,null,{"$f":"IF(T15,VLOOKUP(MIN(U15:AK15),'Data Validation (hidden)'!$B$2:$C$19,2,FALSE),IF(COUNTA(C15:P15)>0,\"'Scheme Name' missing but values entered in other columns\",\"\"))","v":""},null,false,1,2,3,4,5,6,7,8,9,10,"",12,13,14,15,null,16,0,true,true,false,false,false,false,false,true,true,true,true,false,false,true,true,false]
[null,null,null,null,null,null,null,null,null,null,null,null,null,null,null,null,null,{"$f":"IF(T16,VLOOKUP(MIN(U16:AK16),'Data Validation (hidden)'!$B$2:$C$19,2,FALSE),IF(COUNTA(C16:P16)>0,\"'Scheme Name' missing but values entered in other columns\",\"\"))","v":""},null,false,1,2,3,4,5,6,7,8,9,10,"",12,13,14,15,null,16,0,true,true,false,false,false,false,false,true,true,true,true,false,false,true,true,false]
[null,null,null,null,null,null,null,null,null,null,null,null,null,null,null,null,null,{"$f":"IF(T17,VLOOKUP(MIN(U17:AK17),'Data Validation (hidden)'!$B$2:$C$19,2,FALSE),IF(COUNTA(C17:P17)>0,\"'Scheme Name' missing but values entered in other columns\",\"\"))","v":""},null,false,1,2,3,4,5,6,7,8,9,10,"",12,13,14,15,null,16,0,true,true,false,false,false,false,false,true,true,true,true,false,false,true,true,false]
[null,null,null,null,null,null,null,null,null,null,null,null,null,null,null,null,null,{"$f":"IF(T18,VLOOKUP(MIN(U18:AK18),'Data Validation (hidden)'!$B$2:$C$19,2,FALSE),IF(COUNTA(C18:P18)>0,\"'Scheme Name' missing but values entered in other columns\",\"\"))","v":""},null,false,1,2,3,4,5,6,7,8,9,10,"",12,13,14,15,null,16,0,true,true,false,false,false,false,false,true,true,true,true,false,false,true,true,false]
[null,null,null,null,null,null,null,null,null,null,null,null,null,null,null,null,null,{"$f":"IF(T19,VLOOKUP(MIN(U19:AK19),'Data Validation (hidden)'!$B$2:$C$19,2,FALSE),IF(COUNTA(C19:P19)>0,\"'Scheme Name' missing but values entered in other columns\",\"\"))","v":""},null,false,1,2,3,4,5,6,7,8,9,10,"",12,13,14,15,null,16,0,true,true,false,false,false,false,false,true,true,true,true,false,false,true,true,false]
[null,null,null,null,null,null,null,null,null,null,null,null,null,null,null,null,null,{"$f":"IF(T20,VLOOKUP(MIN(U20:AK20),'Data Validation (hidden)'!$B$2:$C$19,2,FALSE),IF(COUNTA(C20:P20)>0,\"'Scheme Name' missing but values entered in other columns\",\"\"))","v":""},null,false,1,2,3,4,5,6,7,8,9,10,"",12,13,14,15,null,16,0,true,true,false,false,false,false,false,true,true,true,true,false,false,true,true,false]
[null,null,null,null,null,null,null,null,null,null,null,null,null,null,null,null,null,{"$f":"IF(T21,VLOOKUP(MIN(U21:AK21),'Data Validation (hidden)'!$B$2:$C$19,2,FALSE),IF(COUNTA(C21:P21)>0,\"'Scheme Name' missing but values entered in other columns\",\"\"))","v":""},null,false,1,2,3,4,5,6,7,8,9,10,"",12,13,14,15,null,16,0,true,true,false,false,false,false,false,true,true,true,true,false,false,true,true,false]
[null,null,null,null,null,null,null,null,null,null,null,null,null,null,null,null,null,{"$f":"IF(T22,VLOOKUP(MIN(U22:AK22),'Data Validation (hidden)'!$B$2:$C$19,2,FALSE),IF(COUNTA(C22:P22)>0,\"'Scheme Name' missing but values entered in other columns\",\"\"))","v":""},null,false,1,2,3,4,5,6,7,8,9,10,"",12,13,14,15,null,16,0,true,true,false,false,false,false,false,true,true,true,true,false,false,true,true,false]
[null,null,null,null,null,null,null,null,null,null,null,null,null,null,null,null,null,{"$f":"IF(T23,VLOOKUP(MIN(U23:AK23),'Data Validation (hidden)'!$B$2:$C$19,2,FALSE),IF(COUNTA(C23:P23)>0,\"'Scheme Name' missing but values entered in other columns\",\"\"))","v":""},null,false,1,2,3,4,5,6,7,8,9,10,"",12,13,14,15,null,16,0,true,true,false,false,false,false,false,true,true,true,true,false,false,true,true,false]
[null,null,null,null,null,null,null,null,null,null,null,null,null,null,null,null,null,{"$f":"IF(T24,VLOOKUP(MIN(U24:AK24),'Data Validation (hidden)'!$B$2:$C$19,2,FALSE),IF(COUNTA(C24:P24)>0,\"'Scheme Name' missing but values entered in other columns\",\"\"))","v":""},null,false,1,2,3,4,5,6,7,8,9,10,"",12,13,14,15,null,16,0,true,true,false,false,false,false,false,true,true,true,true,false,false,true,true,false]
[null,null,null,null,null,null,null,null,null,null,null,null,null,null,null,null,null,{"$f":"IF(T25,VLOOKUP(MIN(U25:AK25),'Data Validation (hidden)'!$B$2:$C$19,2,FALSE),IF(COUNTA(C25:P25)>0,\"'Scheme Name' missing but values entered in other columns\",\"\"))","v":""},null,false,1,2,3,4,5,6,7,8,9,10,"",12,13,14,15,null,16,0,true,true,false,false,false,false,false,true,true,true,true,false,false,true,true,false]
[null,null,null,null,null,null,null,null,null,null,null,null,null,null,null,null,null,{"$f":"IF(T26,VLOOKUP(MIN(U26:AK26),'Data Validation (hidden)'!$B$2:$C$19,2,FALSE),IF(COUNTA(C26:P26)>0,\"'Scheme Name' missing but values entered in other columns\",\"\"))","v":""},null,false,1,2,3,4,5,6,7,8,9,10,"",12,13,14,15,null,16,0,true,true,false,false,false,false,false,true,true,true,true,false,false,true,true,false]
[null,null,null,null,null,null,null,null,null,null,null,null,null,null,null,null,null,{"$f":"IF(T27,VLOOKUP(MIN(U27:AK27),'Data Validation (hidden)'!$B$2:$C$19,2,FALSE),IF(COUNTA(C27:P27)>0,\"'Scheme Name' missing but values entered in other columns\",\"\"))","v":""},null,false,1,2,3,4,5,6,7,8,9,10,"",12,13,14,15,null,16,0,true,true,false,false,false,false,false,true,true,true,true,false,false,true,true,false]
[null,null,null,null,null,null,null,null,null,null,null,null,null,null,null,null,null,{"$f":"IF(T28,VLOOKUP(MIN(U28:AK28),'Data Validation (hidden)'!$B$2:$C$19,2,FALSE),IF(COUNTA(C28:P28)>0,\"'Scheme Name' missing but values entered in other columns\",\"\"))","v":""},null,false,1,2,3,4,5,6,7,8,9,10,"",12,13,14,15,null,16,0,true,true,false,false,false,false,false,true,true,true,true,false,false,true,true,false]
[null,null,null,null,null,null,null,null,null,null,null,null,null,null,null,null,null,{"$f":"IF(T29,VLOOKUP(MIN(U29:AK29),'Data Validation (hidden)'!$B$2:$C$19,2,FALSE),IF(COUNTA(C29:P29)>0,\"'Scheme Name' missing but values entered in other columns\",\"\"))","v":""},null,false,1,2,3,4,5,6,7,8,9,10,"",12,13,14,15,null,16,0,true,true,false,false,false,false,false,true,true,true,true,false,false,true,true,false]
[null,null,null,null,null,null,null,null,null,null,null,null,null,null,null,null,null,{"$f":"IF(T30,VLOOKUP(MIN(U30:AK30),'Data Validation (hidden)'!$B$2:$C$19,2,FALSE),IF(COUNTA(C30:P30)>0,\"'Scheme Name' missing but values entered in other columns\",\"\"))","v":""},null,false,1,2,3,4,5,6,7,8,9,10,"",12,13,14,15,null,16,0,true,true,false,false,false,false,false,true,true,true,true,false,false,true,true,false]
[null,null,null,null,null,null,null,null,null,null,null,null,null,null,null,null,null,{"$f":"IF(T31,VLOOKUP(MIN(U31:AK31),'Data Validation (hidden)'!$B$2:$C$19,2,FALSE),IF(COUNTA(C31:P31)>0,\"'Scheme Name' missing but values entered in other columns\",\"\"))","v":""},null,false,1,2,3,4,5,6,7,8,9,10,"",12,13,14,15,null,16,0,true,true,false,false,false,false,false,true,true,true,true,false,false,true,true,false]
[null,null,null,null,null,null,null,null,null,null,null,null,null,null,null,null,null,{"$f":"IF(T32,VLOOKUP(MIN(U32:AK32),'Data Validation (hidden)'!$B$2:$C$19,2,FALSE),IF(COUNTA(C32:P32)>0,\"'Scheme Name' missing but values entered in other columns\",\"\"))","v":""},null,false,1,2,3,4,5,6,7,8,9,10,"",12,13,14,15,null,16,0,true,true,false,false,false,false,false,true,true,true,true,false,false,true,true,false]
[null,null,null,null,null,null,null,null,null,null,null,null,null,null,null,null,null,{"$f":"IF(T33,VLOOKUP(MIN(U33:AK33),'Data Validation (hidden)'!$B$2:$C$19,2,FALSE),IF(COUNTA(C33:P33)>0,\"'Scheme Name' missing but values entered in other columns\",\"\"))","v":""},null,false,1,2,3,4,5,6,7,8,9,10,"",12,13,14,15,null,16,0,true,true,false,false,false,false,false,true,true,true,true,false,false,true,true,false]
[null,null,null,null,null,null,null,null,null,null,null,null,null,null,null,null,null,{"$f":"IF(T34,VLOOKUP(MIN(U34:AK34),'Data Validation (hidden)'!$B$2:$C$19,2,FALSE),IF(COUNTA(C34:P34)>0,\"'Scheme Name' missing but values entered in other columns\",\"\"))","v":""},null,false,1,2,3,4,5,6,7,8,9,10,"",12,13,14,15,null,16,0,true,true,false,false,false,false,false,true,true,true,true,false,false,true,true,false]
[null,null,null,null,null,null,null,null,null,null,null,null,null,null,null,null,null,{"$f":"IF(T35,VLOOKUP(MIN(U35:AK35),'Data Validation (hidden)'!$B$2:$C$19,2,FALSE),IF(COUNTA(C35:P35)>0,\"'Scheme Name' missing but values entered in other columns\",\"\"))","v":""},null,false,1,2,3,4,5,6,7,8,9,10,"",12,13,14,15,null,16,0,true,true,false,false,false,false,false,true,true,true,true,false,false,true,true,false]
[null,null,null,null,null,null,null,null,null,null,null,null,null,null,null,null,null,{"$f":"IF(T36,VLOOKUP(MIN(U36:AK36),'Data Validation (hidden)'!$B$2:$C$19,2,FALSE),IF(COUNTA(C36:P36)>0,\"'Scheme Name' missing but values entered in other columns\",\"\"))","v":""},null,false,1,2,3,4,5,6,7,8,9,10,"",12,13,14,15,null,16,0,true,true,false,false,false,false,false,true,true,true,true,false,false,true,true,false]
[null,null,null,null,null,null,null,null,null,null,null,null,null,null,null,null,null,{"$f":"IF(T37,VLOOKUP(MIN(U37:AK37),'Data Validation (hidden)'!$B$2:$C$19,2,FALSE),IF(COUNTA(C37:P37)>0,\"'Scheme Name' missing but values entered in other columns\",\"\"))","v":""},null,false,1,2,3,4,5,6,7,8,9,10,"",12,13,14,15,null,16,0,true,true,false,false,false,false,false,true,true,true,true,false,false,true,true,false]
[null,null,null,null,null,null,null,null,null,null,null,null,null,null,null,null,null,{"$f":"IF(T38,VLOOKUP(MIN(U38:AK38),'Data Validation (hidden)'!$B$2:$C$19,2,FALSE),IF(COUNTA(C38:P38)>0,\"'Scheme Name' missing but values entered in other columns\",\"\"))","v":""},null,false,1,2,3,4,5,6,7,8,9,10,"",12,13,14,15,null,16,0,true,true,false,false,false,false,false,true,true,true,true,false,false,true,true,false]
[null,null,null,null,null,null,null,null,null,null,null,null,null,null,null,null,null,{"$f":"IF(T39,VLOOKUP(MIN(U39:AK39),'Data Validation (hidden)'!$B$2:$C$19,2,FALSE),IF(COUNTA(C39:P39)>0,\"'Scheme Name' missing but values entered in other columns\",\"\"))","v":""},null,false,1,2,3,4,5,6,7,8,9,10,"",12,13,14,15,null,16,0,true,true,false,false,false,false,false,true,true,true,true,false,false,true,true,false]
[null,null,null,null,null,null,null,null,null,null,null,null,null,null,null,null,null,{"$f":"IF(T40,VLOOKUP(MIN(U40:AK40),'Data Validation (hidden)'!$B$2:$C$19,2,FALSE),IF(COUNTA(C40:P40)>0,\"'Scheme Name' missing but values entered in other columns\",\"\"))","v":""},null,false,1,2,3,4,5,6,7,8,9,10,"",12,13,14,15,null,16,0,true,true,false,false,false,false,false,true,true,true,true,false,false,true,true,false]
[null,null,null,null,null,null,null,null,null,null,null,null,null,null,null,null,null,{"$f":"IF(T41,VLOOKUP(MIN(U41:AK41),'Data Validation (hidden)'!$B$2:$C$19,2,FALSE),IF(COUNTA(C41:P41)>0,\"'Scheme Name' missing but values entered in other columns\",\"\"))","v":""},null,false,1,2,3,4,5,6,7,8,9,10,"",12,13,14,15,null,16,0,true,true,false,false,false,false,false,true,true,true,true,false,false,true,true,false]
[null,null,null,null,null,null,null,null,null,null,null,null,null,null,null,null,null,{"$f":"IF(T42,VLOOKUP(MIN(U42:AK42),'Data Validation (hidden)'!$B$2:$C$19,2,FALSE),IF(COUNTA(C42:P42)>0,\"'Scheme Name' missing but values entered in other columns\",\"\"))","v":""},null,false,1,2,3,4,5,6,7,8,9,10,"",12,13,14,15,null,16,0,true,true,false,false,false,false,false,true,true,true,true,false,false,true,true,false]
[null,null,null,null,null,null,null,null,null,null,null,null,null,null,null,null,null,{"$f":"IF(T43,VLOOKUP(MIN(U43:AK43),'Data Validation (hidden)'!$B$2:$C$19,2,FALSE),IF(COUNTA(C43:P43)>0,\"'Scheme Name' missing but values entered in other columns\",\"\"))","v":""},null,false,1,2,3,4,5,6,7,8,9,10,"",12,13,14,15,null,16,0,true,true,false,false,false,false,false,true,true,true,true,false,false,true,true,false]
[null,null,null,null,null,null,null,null,null,null,null,null,null,null,null,null,null,{"$f":"IF(T44,VLOOKUP(MIN(U44:AK44),'Data Validation (hidden)'!$B$2:$C$19,2,FALSE),IF(COUNTA(C44:P44)>0,\"'Scheme Name' missing but values entered in other columns\",\"\"))","v":""},null,false,1,2,3,4,5,6,7,8,9,10,"",12,13,14,15,null,16,0,true,true,false,false,false,false,false,true,true,true,true,false,false,true,true,false]
[null,null,null,null,null,null,null,null,null,null,null,null,null,null,null,null,null,{"$f":"IF(T45,VLOOKUP(MIN(U45:AK45),'Data Validation (hidden)'!$B$2:$C$19,2,FALSE),IF(COUNTA(C45:P45)>0,\"'Scheme Name' missing but values entered in other columns\",\"\"))","v":""},null,false,1,2,3,4,5,6,7,8,9,10,"",12,13,14,15,null,16,0,true,true,false,false,false,false,false,true,true,true,true,false,false,true,true,false]
[null,null,null,null,null,null,null,null,null,null,null,null,null,null,null,null,null,{"$f":"IF(T46,VLOOKUP(MIN(U46:AK46),'Data Validation (hidden)'!$B$2:$C$19,2,FALSE),IF(COUNTA(C46:P46)>0,\"'Scheme Name' missing but values entered in other columns\",\"\"))","v":""},null,false,1,2,3,4,5,6,7,8,9,10,"",12,13,14,15,null,16,0,true,true,false,false,false,false,false,true,true,true,true,false,false,true,true,false]
[null,null,null,null,null,null,null,null,null,null,null,null,null,null,null,null,null,{"$f":"IF(T47,VLOOKUP(MIN(U47:AK47),'Data Validation (hidden)'!$B$2:$C$19,2,FALSE),IF(COUNTA(C47:P47)>0,\"'Scheme Name' missing but values entered in other columns\",\"\"))","v":""},null,false,1,2,3,4,5,6,7,8,9,10,"",12,13,14,15,null,16,0,true,true,false,false,false,false,false,true,true,true,true,false,false,true,true,false]
[null,null,null,null,null,null,null,null,null,null,null,null,null,null,null,null,null,{"$f":"IF(T48,VLOOKUP(MIN(U48:AK48),'Data Validation (hidden)'!$B$2:$C$19,2,FALSE),IF(COUNTA(C48:P48)>0,\"'Scheme Name' missing but values entered in other columns\",\"\"))","v":""},null,false,1,2,3,4,5,6,7,8,9,10,"",12,13,14,15,null,16,0,true,true,false,false,false,false,false,true,true,true,true,false,false,true,true,false]
[null,null,null,null,null,null,null,null,null,null,null,null,null,null,null,null,null,{"$f":"IF(T49,VLOOKUP(MIN(U49:AK49),'Data Validation (hidden)'!$B$2:$C$19,2,FALSE),IF(COUNTA(C49:P49)>0,\"'Scheme Name' missing but values entered in other columns\",\"\"))","v":""},null,false,1,2,3,4,5,6,7,8,9,10,"",12,13,14,15,null,16,0,true,true,false,false,false,false,false,true,true,true,true,false,false,true,true,false]
[null,null,null,null,null,null,null,null,null,null,null,null,null,null,null,null,null,{"$f":"IF(T50,VLOOKUP(MIN(U50:AK50),'Data Validation (hidden)'!$B$2:$C$19,2,FALSE),IF(COUNTA(C50:P50)>0,\"'Scheme Name' missing but values entered in other columns\",\"\"))","v":""},null,false,1,2,3,4,5,6,7,8,9,10,"",12,13,14,15,null,16,0,true,true,false,false,false,false,false,true,true,true,true,false,false,true,true,false]
[null,null,null,null,null,null,null,null,null,null,null,null,null,null,null,null,null,{"$f":"IF(T51,VLOOKUP(MIN(U51:AK51),'Data Validation (hidden)'!$B$2:$C$19,2,FALSE),IF(COUNTA(C51:P51)>0,\"'Scheme Name' missing but values entered in other columns\",\"\"))","v":""},null,false,1,2,3,4,5,6,7,8,9,10,"",12,13,14,15,null,16,0,true,true,false,false,false,false,false,true,true,true,true,false,false,true,true,false]
[null,null,null,null,null,null,null,null,null,null,null,null,null,null,null,null,null,{"$f":"IF(T52,VLOOKUP(MIN(U52:AK52),'Data Validation (hidden)'!$B$2:$C$19,2,FALSE),IF(COUNTA(C52:P52)>0,\"'Scheme Name' missing but values entered in other columns\",\"\"))","v":""},null,false,1,2,3,4,5,6,7,8,9,10,"",12,13,14,15,null,16,0,true,true,false,false,false,false,false,true,true,true,true,false,false,true,true,false]
[null,null,null,null,null,null,null,null,null,null,null,null,null,null,null,null,null,{"$f":"IF(T53,VLOOKUP(MIN(U53:AK53),'Data Validation (hidden)'!$B$2:$C$19,2,FALSE),IF(COUNTA(C53:P53)>0,\"'Scheme Name' missing but values entered in other columns\",\"\"))","v":""},null,false,1,2,3,4,5,6,7,8,9,10,"",12,13,14,15,null,16,0,true,true,false,false,false,false,false,true,true,true,true,false,false,true,true,false]
[null,null,null,null,null,null,null,null,null,null,null,null,null,null,null,null,null,{"$f":"IF(T54,VLOOKUP(MIN(U54:AK54),'Data Validation (hidden)'!$B$2:$C$19,2,FALSE),IF(COUNTA(C54:P54)>0,\"'Scheme Name' missing but values entered in other columns\",\"\"))","v":""},null,false,1,2,3,4,5,6,7,8,9,10,"",12,13,14,15,null,16,0,true,true,false,false,false,false,false,true,true,true,true,false,false,true,true,false]
[null,null,null,null,null,null,null,null,null,null,null,null,null,null,null,null,null,{"$f":"IF(T55,VLOOKUP(MIN(U55:AK55),'Data Validation (hidden)'!$B$2:$C$19,2,FALSE),IF(COUNTA(C55:P55)>0,\"'Scheme Name' missing but values entered in other columns\",\"\"))","v":""},null,false,1,2,3,4,5,6,7,8,9,10,"",12,13,14,15,null,16,0,true,true,false,false,false,false,false,true,true,true,true,false,false,true,true,false]
[null,null,null,null,null,null,null,null,null,null,null,null,null,null,null,null,null,{"$f":"IF(T56,VLOOKUP(MIN(U56:AK56),'Data Validation (hidden)'!$B$2:$C$19,2,FALSE),IF(COUNTA(C56:P56)>0,\"'Scheme Name' missing but values entered in other columns\",\"\"))","v":""},null,false,1,2,3,4,5,6,7,8,9,10,"",12,13,14,15,null,16,0,true,true,false,false,false,false,false,true,true,true,true,false,false,true,true,false]
[null,null,null,null,null,null,null,null,null,null,null,null,null,null,null,null,null,{"$f":"IF(T57,VLOOKUP(MIN(U57:AK57),'Data Validation (hidden)'!$B$2:$C$19,2,FALSE),IF(COUNTA(C57:P57)>0,\"'Scheme Name' missing but values entered in other columns\",\"\"))","v":""},null,false,1,2,3,4,5,6,7,8,9,10,"",12,13,14,15,null,16,0,true,true,false,false,false,false,false,true,true,true,true,false,false,true,true,false]
[null,null,null,null,null,null,null,null,null,null,null,null,null,null,null,null,null,{"$f":"IF(T58,VLOOKUP(MIN(U58:AK58),'Data Validation (hidden)'!$B$2:$C$19,2,FALSE),IF(COUNTA(C58:P58)>0,\"'Scheme Name' missing but values entered in other columns\",\"\"))","v":""},null,false,1,2,3,4,5,6,7,8,9,10,"",12,13,14,15,null,16,0,true,true,false,false,false,false,false,true,true,true,true,false,false,true,true,false]
[null,null,null,null,null,null,null,null,null,null,null,null,null,null,null,null,null,{"$f":"IF(T59,VLOOKUP(MIN(U59:AK59),'Data Validation (hidden)'!$B$2:$C$19,2,FALSE),IF(COUNTA(C59:P59)>0,\"'Scheme Name' missing but values entered in other columns\",\"\"))","v":""},null,false,1,2,3,4,5,6,7,8,9,10,"",12,13,14,15,null,16,0,true,true,false,false,false,false,false,true,true,true,true,false,false,true,true,false]
[null,null,null,null,null,null,null,null,null,null,null,null,null,null,null,null,null,{"$f":"IF(T60,VLOOKUP(MIN(U60:AK60),'Data Validation (hidden)'!$B$2:$C$19,2,FALSE),IF(COUNTA(C60:P60)>0,\"'Scheme Name' missing but values entered in other columns\",\"\"))","v":""},null,false,1,2,3,4,5,6,7,8,9,10,"",12,13,14,15,null,16,0,true,true,false,false,false,false,false,true,true,true,true,false,false,true,true,false]
[null,null,null,null,null,null,null,null,null,null,null,null,null,null,null,null,null,{"$f":"IF(T61,VLOOKUP(MIN(U61:AK61),'Data Validation (hidden)'!$B$2:$C$19,2,FALSE),IF(COUNTA(C61:P61)>0,\"'Scheme Name' missing but values entered in other columns\",\"\"))","v":""},null,false,1,2,3,4,5,6,7,8,9,10,"",12,13,14,15,null,16,0,true,true,false,false,false,false,false,true,true,true,true,false,false,true,true,false]
[null,null,null,null,null,null,null,null,null,null,null,null,null,null,null,null,null,{"$f":"IF(T62,VLOOKUP(MIN(U62:AK62),'Data Validation (hidden)'!$B$2:$C$19,2,FALSE),IF(COUNTA(C62:P62)>0,\"'Scheme Name' missing but values entered in other columns\",\"\"))","v":""},null,false,1,2,3,4,5,6,7,8,9,10,"",12,13,14,15,null,16,0,true,true,false,false,false,false,false,true,true,true,true,false,false,true,true,false]
[null,null,null,null,null,null,null,null,null,null,null,null,null,null,null,null,null,{"$f":"IF(T63,VLOOKUP(MIN(U63:AK63),'Data Validation (hidden)'!$B$2:$C$19,2,FALSE),IF(COUNTA(C63:P63)>0,\"'Scheme Name' missing but values entered in other columns\",\"\"))","v":""},null,false,1,2,3,4,5,6,7,8,9,10,"",12,13,14,15,null,16,0,true,true,false,false,false,false,false,true,true,true,true,false,false,true,true,false]
[null,null,null,null,null,null,null,null,null,null,null,null,null,null,null,null,null,{"$f":"IF(T64,VLOOKUP(MIN(U64:AK64),'Data Validation (hidden)'!$B$2:$C$19,2,FALSE),IF(COUNTA(C64:P64)>0,\"'Scheme Name' missing but values entered in other columns\",\"\"))","v":""},null,false,1,2,3,4,5,6,7,8,9,10,"",12,13,14,15,null,16,0,true,true,false,false,false,false,false,true,true,true,true,false,false,true,true,false]
[null,null,null,null,null,null,null,null,null,null,null,null,null,null,null,null,null,{"$f":"IF(T65,VLOOKUP(MIN(U65:AK65),'Data Validation (hidden)'!$B$2:$C$19,2,FALSE),IF(COUNTA(C65:P65)>0,\"'Scheme Name' missing but values entered in other columns\",\"\"))","v":""},null,false,1,2,3,4,5,6,7,8,9,10,"",12,13,14,15,null,16,0,true,true,false,false,false,false,false,true,true,true,true,false,false,true,true,false]
[null,null,null,null,null,null,null,null,null,null,null,null,null,null,null,null,null,{"$f":"IF(T66,VLOOKUP(MIN(U66:AK66),'Data Validation (hidden)'!$B$2:$C$19,2,FALSE),IF(COUNTA(C66:P66)>0,\"'Scheme Name' missing but values entered in other columns\",\"\"))","v":""},null,false,1,2,3,4,5,6,7,8,9,10,"",12,13,14,15,null,16,0,true,true,false,false,false,false,false,true,true,true,true,false,false,true,true,false]
[null,null,null,null,null,null,null,null,null,null,null,null,null,null,null,null,null,{"$f":"IF(T67,VLOOKUP(MIN(U67:AK67),'Data Validation (hidden)'!$B$2:$C$19,2,FALSE),IF(COUNTA(C67:P67)>0,\"'Scheme Name' missing but values entered in other columns\",\"\"))","v":""},null,false,1,2,3,4,5,6,7,8,9,10,"",12,13,14,15,null,16,0,true,true,false,false,false,false,false,true,true,true,true,false,false,true,true,false]
[null,null,null,null,null,null,null,null,null,null,null,null,null,null,null,null,null,{"$f":"IF(T68,VLOOKUP(MIN(U68:AK68),'Data Validation (hidden)'!$B$2:$C$19,2,FALSE),IF(COUNTA(C68:P68)>0,\"'Scheme Name' missing but values entered in other columns\",\"\"))","v":""},null,false,1,2,3,4,5,6,7,8,9,10,"",12,13,14,15,null,16,0,true,true,false,false,false,false,false,true,true,true,true,false,false,true,true,false]
[null,null,null,null,null,null,null,null,null,null,null,null,null,null,null,null,null,{"$f":"IF(T69,VLOOKUP(MIN(U69:AK69),'Data Validation (hidden)'!$B$2:$C$19,2,FALSE),IF(COUNTA(C69:P69)>0,\"'Scheme Name' missing but values entered in other columns\",\"\"))","v":""},null,false,1,2,3,4,5,6,7,8,9,10,"",12,13,14,15,null,16,0,true,true,false,false,false,false,false,true,true,true,true,false,false,true,true,false]
[null,null,null,null,null,null,null,null,null,null,null,null,null,null,null,null,null,{"$f":"IF(T70,VLOOKUP(MIN(U70:AK70),'Data Validation (hidden)'!$B$2:$C$19,2,FALSE),IF(COUNTA(C70:P70)>0,\"'Scheme Name' missing but values entered in other columns\",\"\"))","v":""},null,false,1,2,3,4,5,6,7,8,9,10,"",12,13,14,15,null,16,0,true,true,false,false,false,false,false,true,true,true,true,false,false,true,true,false]
[null,null,null,null,null,null,null,null,null,null,null,null,null,null,null,null,null,{"$f":"IF(T71,VLOOKUP(MIN(U71:AK71),'Data Validation (hidden)'!$B$2:$C$19,2,FALSE),IF(COUNTA(C71:P71)>0,\"'Scheme Name' missing but values entered in other columns\",\"\"))","v":""},null,false,1,2,3,4,5,6,7,8,9,10,"",12,13,14,15,null,16,0,true,true,false,false,false,false,false,true,true,true,true,false,false,true,true,false]
[null,null,null,null,null,null,null,null,null,null,null,null,null,null,null,null,null,{"$f":"IF(T72,VLOOKUP(MIN(U72:AK72),'Data Validation (hidden)'!$B$2:$C$19,2,FALSE),IF(COUNTA(C72:P72)>0,\"'Scheme Name' missing but values entered in other columns\",\"\"))","v":""},null,{"$f":"B72<>\"\"","v":false},{"$f":"IF(C72=\"\",1,\"\")","v":1},2,3,4,5,6,7,8,9,10,"",{"$f":"IF(M72=\"\",12,\"\")","v":12},{"$f":"IF(N72=\"\",13,\"\")","v":13},{"$f":"IF(O72=\"\",14,\"\")","v":14},{"$f":"IF(P72=\"\",15,\"\")","v":15},null,16,{"$f":"SUM(J72:L72)","v":0},true,true,false,false,false,false,false,true,true,true,true,false,false,{"$f":"IF( CELL(\"format\",O72) = \"F0\",TRUE,FALSE)","v":true},{"$f":"IF( CELL(\"format\",P72) = \"F0\",TRUE,FALSE)","v":true},{"$f":"IF(R72=\"\",FALSE,IF(R72=\"OK\",FALSE,TRUE))","v":false}]
[null,null,null,null,null,null,null,null,null,null,null,null,null,null,null,null,null,{"$f":"IF(T73,VLOOKUP(MIN(U73:AK73),'Data Validation (hidden)'!$B$2:$C$19,2,FALSE),IF(COUNTA(C73:P73)>0,\"'Scheme Name' missing but values entered in other columns\",\"\"))","v":""},null,false,1,{"$f":"IF(D73=\"\",2,\"\")","v":2},{"$f":"IF(E73=\"\",IF(D73=\"Gratuity\",\"\",3),\"\")","v":3},{"$f":"IF(F73=\"\",4,\"\")","v":4},{"$f":"IF(G73=\"\",5,\"\")","v":5},{"$f":"IF(H73=\"\",6,\"\")","v":6},{"$f":"IF(I73=\"\",7,\"\")","v":7},{"$f":"IF(J73=\"\",8,\"\")","v":8},{"$f":"IF(K73=\"\",9,\"\")","v":9},{"$f":"IF(L73=\"\",10,\"\")","v":10},{"$f":"IF((AL73=I73),\"\",11)","v":""},12,13,14,15,null,{"$f":"IF(AND(AM73,AN73,AO73,AP73,AQ73,AR73,AS73,AT73,AU73,AV73,AW73,AX73,AY73,AZ73,BA73)=TRUE,\"\",16)","v":16},0,{"$f":"IF(CELL(\"format\", B73) = \"G\",TRUE,FALSE)","v":true},{"$f":"IF(CELL(\"format\", C73) = \"F0\",TRUE,FALSE)","v":true},{"$f":"OR(D73=\"A\",D73=\"B\",D73=\"C\",D73=\"Gratuity\")","v":false},{"$f":"OR(E73=\"DC\",E73=\"DB\",E73=\"H\",D73=\"Gratuity\")","v":false},{"$f":"OR(F73=\"Occupational\",F73=\"Personal\")","v":false},{"$f":"OR(G73=\"Yes\",G73=\"No\")","v":false},{"$f":"OR(H73=\"MD\",H73=\"PD\",H73=\"TD\",H73=\"MPD\",H73=\"MTD\",H73=\"PTD\",H73=\"MPTD\")","v":false},{"$f":"IF( CELL(\"format\",I73) = \"F0\",TRUE,FALSE)","v":true},{"$f":"IF( CELL(\"format\",J73) = \"F0\",TRUE,FALSE)","v":true},{"$f":"IF( CELL(\"format\",K73) = \"F0\",TRUE,FALSE)","v":true},{"$f":"IF( CELL(\"format\",L73) = \"F0\",TRUE,FALSE)","v":true},{"$f":"OR(M73=\"Yes\",M73=\"No\")","v":false},{"$f":"OR(N73=\"Trustee\",N73=\"Administrator\",N73=\"Both\")","v":false},true,true,false]
[null,null,null,null,null,null,null,null,null,null,null,null,null,null,null,null,null,{"$f":"IF(T74,VLOOKUP(MIN(U74:AK74),'Data Validation (hidden)'!$B$2:$C$19,2,FALSE),IF(COUNTA(C74:P74)>0,\"'Scheme Name' missing but values entered in other columns\",\"\"))","v":""},null,false,1,2,3,4,5,6,7,8,9,10,"",12,13,14,15,null,16,0,true,true,false,false,false,false,false,true,true,true,true,false,false,true,true,false]
[null,null,null,null,null,null,null,null,null,null,null,null,null,null,null,null,null,{"$f":"IF(T75,VLOOKUP(MIN(U75:AK75),'Data Validation (hidden)'!$B$2:$C$19,2,FALSE),IF(COUNTA(C75:P75)>0,\"'Scheme Name' missing but values entered in other columns\",\"\"))","v":""},null,false,1,2,3,4,5,6,7,8,9,10,"",12,13,14,15,null,16,0,true,true,false,false,false,false,false,true,true,true,true,false,false,true,true,false]
[null,null,null,null,null,null,null,null,null,null,null,null,null,null,null,null,null,{"$f":"IF(T76,VLOOKUP(MIN(U76:AK76),'Data Validation (hidden)'!$B$2:$C$19,2,FALSE),IF(COUNTA(C76:P76)>0,\"'Scheme Name' missing but values entered in other columns\",\"\"))","v":""},null,false,1,2,3,4,5,6,7,8,9,10,"",12,13,14,15,null,16,0,true,true,false,false,false,false,false,true,true,true,true,false,false,true,true,false]
[null,null,null,null,null,null,null,null,null,null,null,null,null,null,null,null,null,{"$f":"IF(T77,VLOOKUP(MIN(U77:AK77),'Data Validation (hidden)'!$B$2:$C$19,2,FALSE),IF(COUNTA(C77:P77)>0,\"'Scheme Name' missing but values entered in other columns\",\"\"))","v":""},null,false,1,2,3,4,5,6,7,8,9,10,"",12,13,14,15,null,16,0,true,true,false,false,false,false,false,true,true,true,true,false,false,true,true,false]
[null,null,null,null,null,null,null,null,null,null,null,null,null,null,null,null,null,{"$f":"IF(T78,VLOOKUP(MIN(U78:AK78),'Data Validation (hidden)'!$B$2:$C$19,2,FALSE),IF(COUNTA(C78:P78)>0,\"'Scheme Name' missing but values entered in other columns\",\"\"))","v":""},null,false,1,2,3,4,5,6,7,8,9,10,"",12,13,14,15,null,16,0,true,true,false,false,false,false,false,true,true,true,true,false,false,true,true,false]
[null,null,null,null,null,null,null,null,null,null,null,null,null,null,null,null,null,{"$f":"IF(T79,VLOOKUP(MIN(U79:AK79),'Data Validation (hidden)'!$B$2:$C$19,2,FALSE),IF(COUNTA(C79:P79)>0,\"'Scheme Name' missing but values entered in other columns\",\"\"))","v":""},null,false,1,2,3,4,5,6,7,8,9,10,"",12,13,14,15,null,16,0,true,true,false,false,false,false,false,true,true,true,true,false,false,true,true,false]
[null,null,null,null,null,null,null,null,null,null,null,null,null,null,null,null,null,{"$f":"IF(T80,VLOOKUP(MIN(U80:AK80),'Data Validation (hidden)'!$B$2:$C$19,2,FALSE),IF(COUNTA(C80:P80)>0,\"'Scheme Name' missing but values entered in other columns\",\"\"))","v":""},null,false,1,2,3,4,5,6,7,8,9,10,"",12,13,14,15,null,16,0,true,true,false,false,false,false,false,true,true,true,true,false,false,true,true,false]
[null,null,null,null,null,null,null,null,null,null,null,null,null,null,null,null,null,{"$f":"IF(T81,VLOOKUP(MIN(U81:AK81),'Data Validation (hidden)'!$B$2:$C$19,2,FALSE),IF(COUNTA(C81:P81)>0,\"'Scheme Name' missing but values entered in other columns\",\"\"))","v":""},null,false,1,2,3,4,5,6,7,8,9,10,"",12,13,14,15,null,16,0,true,true,false,false,false,false,false,true,true,true,true,false,false,true,true,false]
[null,null,null,null,null,null,null,null,null,null,null,null,null,null,null,null,null,{"$f":"IF(T82,VLOOKUP(MIN(U82:AK82),'Data Validation (hidden)'!$B$2:$C$19,2,FALSE),IF(COUNTA(C82:P82)>0,\"'Scheme Name' missing but values entered in other columns\",\"\"))","v":""},null,false,1,2,3,4,5,6,7,8,9,10,"",12,13,14,15,null,16,0,true,true,false,false,false,false,false,true,true,true,true,false,false,true,true,false]
[null,null,null,null,null,null,null,null,null,null,null,null,null,null,null,null,null,{"$f":"IF(T83,VLOOKUP(MIN(U83:AK83),'Data Validation (hidden)'!$B$2:$C$19,2,FALSE),IF(COUNTA(C83:P83)>0,\"'Scheme Name' missing but values entered in other columns\",\"\"))","v":""},null,false,1,2,3,4,5,6,7,8,9,10,"",12,13,14,15,null,16,0,true,true,false,false,false,false,false,true,true,true,true,false,false,true,true,false]
[null,null,null,null,null,null,null,null,null,null,null,null,null,null,null,null,null,{"$f":"IF(T84,VLOOKUP(MIN(U84:AK84),'Data Validation (hidden)'!$B$2:$C$19,2,FALSE),IF(COUNTA(C84:P84)>0,\"'Scheme Name' missing but values entered in other columns\",\"\"))","v":""},null,false,1,2,3,4,5,6,7,8,9,10,"",12,13,14,15,null,16,0,true,true,false,false,false,false,false,true,true,true,true,false,false,true,true,false]
[null,null,null,null,null,null,null,null,null,null,null,null,null,null,null,null,null,{"$f":"IF(T85,VLOOKUP(MIN(U85:AK85),'Data Validation (hidden)'!$B$2:$C$19,2,FALSE),IF(COUNTA(C85:P85)>0,\"'Scheme Name' missing but values entered in other columns\",\"\"))","v":""},null,false,1,2,3,4,5,6,7,8,9,10,"",12,13,14,15,null,16,0,true,true,false,false,false,false,false,true,true,true,true,false,false,true,true,false]
[null,null,null,null,null,null,null,null,null,null,null,null,null,null,null,null,null,{"$f":"IF(T86,VLOOKUP(MIN(U86:AK86),'Data Validation (hidden)'!$B$2:$C$19,2,FALSE),IF(COUNTA(C86:P86)>0,\"'Scheme Name' missing but values entered in other columns\",\"\"))","v":""},null,false,1,2,3,4,5,6,7,8,9,10,"",12,13,14,15,null,16,0,true,true,false,false,false,false,false,true,true,true,true,false,false,true,true,false]
[null,null,null,null,null,null,null,null,null,null,null,null,null,null,null,null,null,{"$f":"IF(T87,VLOOKUP(MIN(U87:AK87),'Data Validation (hidden)'!$B$2:$C$19,2,FALSE),IF(COUNTA(C87:P87)>0,\"'Scheme Name' missing but values entered in other columns\",\"\"))","v":""},null,false,1,2,3,4,5,6,7,8,9,10,"",12,13,14,15,null,16,0,true,true,false,false,false,false,false,true,true,true,true,false,false,true,true,false]
[null,null,null,null,null,null,null,null,null,null,null,null,null,null,null,null,null,{"$f":"IF(T88,VLOOKUP(MIN(U88:AK88),'Data Validation (hidden)'!$B$2:$C$19,2,FALSE),IF(COUNTA(C88:P88)>0,\"'Scheme Name' missing but values entered in other columns\",\"\"))","v":""},null,false,1,2,3,4,5,6,7,8,9,10,"",12,13,14,15,null,16,0,true,true,false,false,false,false,false,true,true,true,true,false,false,true,true,false]
[null,null,null,null,null,null,null,null,null,null,null,null,null,null,null,null,null,{"$f":"IF(T89,VLOOKUP(MIN(U89:AK89),'Data Validation (hidden)'!$B$2:$C$19,2,FALSE),IF(COUNTA(C89:P89)>0,\"'Scheme Name' missing but values entered in other columns\",\"\"))","v":""},null,false,1,2,3,4,5,6,7,8,9,10,"",12,13,14,15,null,16,0,true,true,false,false,false,false,false,true,true,true,true,false,false,true,true,false]
[null,null,null,null,null,null,null,null,null,null,null,null,null,null,null,null,null,{"$f":"IF(T90,VLOOKUP(MIN(U90:AK90),'Data Validation (hidden)'!$B$2:$C$19,2,FALSE),IF(COUNTA(C90:P90)>0,\"'Scheme Name' missing but values entered in other columns\",\"\"))","v":""},null,false,1,2,3,4,5,6,7,8,9,10,"",12,13,14,15,null,16,0,true,true,false,false,false,false,false,true,true,true,true,false,false,true,true,false]
[null,null,null,null,null,null,null,null,null,null,null,null,null,null,null,null,null,{"$f":"IF(T91,VLOOKUP(MIN(U91:AK91),'Data Validation (hidden)'!$B$2:$C$19,2,FALSE),IF(COUNTA(C91:P91)>0,\"'Scheme Name' missing but values entered in other columns\",\"\"))","v":""},null,false,1,2,3,4,5,6,7,8,9,10,"",12,13,14,15,null,16,0,true,true,false,false,false,false,false,true,true,true,true,false,false,true,true,false]
[null,null,null,null,null,null,null,null,null,null,null,null,null,null,null,null,null,{"$f":"IF(T92,VLOOKUP(MIN(U92:AK92),'Data Validation (hidden)'!$B$2:$C$19,2,FALSE),IF(COUNTA(C92:P92)>0,\"'Scheme Name' missing but values entered in other columns\",\"\"))","v":""},null,false,1,2,3,4,5,6,7,8,9,10,"",12,13,14,15,null,16,0,true,true,false,false,false,false,false,true,true,true,true,false,false,true,true,false]
[null,null,null,null,null,null,null,null,null,null,null,null,null,null,null,null,null,{"$f":"IF(T93,VLOOKUP(MIN(U93:AK93),'Data Validation (hidden)'!$B$2:$C$19,2,FALSE),IF(COUNTA(C93:P93)>0,\"'Scheme Name' missing but values entered in other columns\",\"\"))","v":""},null,false,1,2,3,4,5,6,7,8,9,10,"",12,13,14,15,null,16,0,true,true,false,false,false,false,false,true,true,true,true,false,false,true,true,false]
[null,null,null,null,null,null,null,null,null,null,null,null,null,null,null,null,null,{"$f":"IF(T94,VLOOKUP(MIN(U94:AK94),'Data Validation (hidden)'!$B$2:$C$19,2,FALSE),IF(COUNTA(C94:P94)>0,\"'Scheme Name' missing but values entered in other columns\",\"\"))","v":""},null,false,1,2,3,4,5,6,7,8,9,10,"",12,13,14,15,null,16,0,true,true,false,false,false,false,false,true,true,true,true,false,false,true,true,false]
[null,null,null,null,null,null,null,null,null,null,null,null,null,null,null,null,null,{"$f":"IF(T95,VLOOKUP(MIN(U95:AK95),'Data Validation (hidden)'!$B$2:$C$19,2,FALSE),IF(COUNTA(C95:P95)>0,\"'Scheme Name' missing but values entered in other columns\",\"\"))","v":""},null,false,1,2,3,4,5,6,7,8,9,10,"",12,13,14,15,null,16,0,true,true,false,false,false,false,false,true,true,true,true,false,false,true,true,false]
[null,null,null,null,null,null,null,null,null,null,null,null,null,null,null,null,null,{"$f":"IF(T96,VLOOKUP(MIN(U96:AK96),'Data Validation (hidden)'!$B$2:$C$19,2,FALSE),IF(COUNTA(C96:P96)>0,\"'Scheme Name' missing but values entered in other columns\",\"\"))","v":""},null,false,1,2,3,4,5,6,7,8,9,10,"",12,13,14,15,null,16,0,true,true,false,false,false,false,false,true,true,true,true,false,false,true,true,false]
[null,null,null,null,null,null,null,null,null,null,null,null,null,null,null,null,null,{"$f":"IF(T97,VLOOKUP(MIN(U97:AK97),'Data Validation (hidden)'!$B$2:$C$19,2,FALSE),IF(COUNTA(C97:P97)>0,\"'Scheme Name' missing but values entered in other columns\",\"\"))","v":""},null,false,1,2,3,4,5,6,7,8,9,10,"",12,13,14,15,null,16,0,true,true,false,false,false,false,false,true,true,true,true,false,false,true,true,false]
[null,null,null,null,null,null,null,null,null,null,null,null,null,null,null,null,null,{"$f":"IF(T98,VLOOKUP(MIN(U98:AK98),'Data Validation (hidden)'!$B$2:$C$19,2,FALSE),IF(COUNTA(C98:P98)>0,\"'Scheme Name' missing but values entered in other columns\",\"\"))","v":""},null,false,1,2,3,4,5,6,7,8,9,10,"",12,13,14,15,null,16,0,true,true,false,false,false,false,false,true,true,true,true,false,false,true,true,false]
[null,null,null,null,null,null,null,null,null,null,null,null,null,null,null,null,null,{"$f":"IF(T99,VLOOKUP(MIN(U99:AK99),'Data Validation (hidden)'!$B$2:$C$19,2,FALSE),IF(COUNTA(C99:P99)>0,\"'Scheme Name' missing but values entered in other columns\",\"\"))","v":""},null,false,1,2,3,4,5,6,7,8,9,10,"",12,13,14,15,null,16,0,true,true,false,false,false,false,false,true,true,true,true,false,false,true,true,false]
[null,null,null,null,null,null,null,null,null,null,null,null,null,null,null,null,null,{"$f":"IF(T100,VLOOKUP(MIN(U100:AK100),'Data Validation (hidden)'!$B$2:$C$19,2,FALSE),IF(COUNTA(C100:P100)>0,\"'Scheme Name' missing but values entered in other columns\",\"\"))","v":""},null,false,1,2,3,4,5,6,7,8,9,10,"",12,13,14,15,null,16,0,true,true,false,false,false,false,false,true,true,true,true,false,false,true,true,false]
[null,null,null,null,null,null,null,null,null,null,null,null,null,null,null,null,null,{"$f":"IF(T101,VLOOKUP(MIN(U101:AK101),'Data Validation (hidden)'!$B$2:$C$19,2,FALSE),IF(COUNTA(C101:P101)>0,\"'Scheme Name' missing but values entered in other columns\",\"\"))","v":""},null,false,1,2,3,4,5,6,7,8,9,10,"",12,13,14,15,null,16,0,true,true,false,false,false,false,false,true,true,true,true,false,false,true,true,false]
[null,null,null,null,null,null,null,null,null,null,null,null,null,null,null,null,null,{"$f":"IF(T102,VLOOKUP(MIN(U102:AK102),'Data Validation (hidden)'!$B$2:$C$19,2,FALSE),IF(COUNTA(C102:P102)>0,\"'Scheme Name' missing but values entered in other columns\",\"\"))","v":""},null,false,1,2,3,4,5,6,7,8,9,10,"",12,13,14,15,null,16,0,true,true,false,false,false,false,false,true,true,true,true,false,false,true,true,false]
[null,null,null,null,null,null,null,null,null,null,null,null,null,null,null,null,null,{"$f":"IF(T103,VLOOKUP(MIN(U103:AK103),'Data Validation (hidden)'!$B$2:$C$19,2,FALSE),IF(COUNTA(C103:P103)>0,\"'Scheme Name' missing but values entered in other columns\",\"\"))","v":""},null,false,1,2,3,4,5,6,7,8,9,10,"",12,13,14,15,null,16,0,true,true,false,false,false,false,false,true,true,true,true,false,false,true,true,false]
[null,null,null,null,null,null,null,null,null,null,null,null,null,null,null,null,null,{"$f":"IF(T104,VLOOKUP(MIN(U104:AK104),'Data Validation (hidden)'!$B$2:$C$19,2,FALSE),IF(COUNTA(C104:P104)>0,\"'Scheme Name' missing but values entered in other columns\",\"\"))","v":""},null,false,1,2,3,4,5,6,7,8,9,10,"",12,13,14,15,null,16,0,true,true,false,false,false,false,false,true,true,true,true,false,false,true,true,false]
[null,null,null,null,null,null,null,null,null,null,null,null,null,null,null,null,null,{"$f":"IF(T105,VLOOKUP(MIN(U105:AK105),'Data Validation (hidden)'!$B$2:$C$19,2,FALSE),IF(COUNTA(C105:P105)>0,\"'Scheme Name' missing but values entered in other columns\",\"\"))","v":""},null,false,1,2,3,4,5,6,7,8,9,10,"",12,13,14,15,null,16,0,true,true,false,false,false,false,false,true,true,true,true,false,false,true,true,false]
[null,null,null,null,null,null,null,null,null,null,null,null,null,null,null,null,null,{"$f":"IF(T106,VLOOKUP(MIN(U106:AK106),'Data Validation (hidden)'!$B$2:$C$19,2,FALSE),IF(COUNTA(C106:P106)>0,\"'Scheme Name' missing but values entered in other columns\",\"\"))","v":""},null,false,1,2,3,4,5,6,7,8,9,10,"",12,13,14,15,null,16,0,true,true,false,false,false,false,false,true,true,true,true,false,false,true,true,false]
[null,null,null,null,null,null,null,null,null,null,null,null,null,null,null,null,null,{"$f":"IF(T107,VLOOKUP(MIN(U107:AK107),'Data Validation (hidden)'!$B$2:$C$19,2,FALSE),IF(COUNTA(C107:P107)>0,\"'Scheme Name' missing but values entered in other columns\",\"\"))","v":""},null,false,1,2,3,4,5,6,7,8,9,10,"",12,13,14,15,null,16,0,true,true,false,false,false,false,false,true,true,true,true,false,false,true,true,false]
[null,null,null,null,null,null,null,null,null,null,null,null,null,null,null,null,null,{"$f":"IF(T108,VLOOKUP(MIN(U108:AK108),'Data Validation (hidden)'!$B$2:$C$19,2,FALSE),IF(COUNTA(C108:P108)>0,\"'Scheme Name' missing but values entered in other columns\",\"\"))","v":""},null,false,1,2,3,4,5,6,7,8,9,10,"",12,13,14,15,null,16,0,true,true,false,false,false,false,false,true,true,true,true,false,false,true,true,false]
[null,null,null,null,null,null,null,null,null,null,null,null,null,null,null,null,null,{"$f":"IF(T109,VLOOKUP(MIN(U109:AK109),'Data Validation (hidden)'!$B$2:$C$19,2,FALSE),IF(COUNTA(C109:P109)>0,\"'Scheme Name' missing but values entered in other columns\",\"\"))","v":""},null,false,1,2,3,4,5,6,7,8,9,10,"",12,13,14,15,null,16,0,true,true,false,false,false,false,false,true,true,true,true,false,false,true,true,false]
[null,null,null,null,null,null,null,null,null,null,null,null,null,null,null,null,null,{"$f":"IF(T110,VLOOKUP(MIN(U110:AK110),'Data Validation (hidden)'!$B$2:$C$19,2,FALSE),IF(COUNTA(C110:P110)>0,\"'Scheme Name' missing but values entered in other columns\",\"\"))","v":""},null,false,1,2,3,4,5,6,7,8,9,10,"",12,13,14,15,null,16,0,true,true,false,false,false,false,false,true,true,true,true,false,false,true,true,false]
[null,null,null,null,null,null,null,null,null,null,null,null,null,null,null,null,null,{"$f":"IF(T111,VLOOKUP(MIN(U111:AK111),'Data Validation (hidden)'!$B$2:$C$19,2,FALSE),IF(COUNTA(C111:P111)>0,\"'Scheme Name' missing but values entered in other columns\",\"\"))","v":""},null,false,1,2,3,4,5,6,7,8,9,10,"",12,13,14,15,null,16,0,true,true,false,false,false,false,false,true,true,true,true,false,false,true,true,false]
[null,null,null,null,null,null,null,null,null,null,null,null,null,null,null,null,null,{"$f":"IF(T112,VLOOKUP(MIN(U112:AK112),'Data Validation (hidden)'!$B$2:$C$19,2,FALSE),IF(COUNTA(C112:P112)>0,\"'Scheme Name' missing but values entered in other columns\",\"\"))","v":""},null,false,1,2,3,4,5,6,7,8,9,10,"",12,13,14,15,null,16,0,true,true,false,false,false,false,false,true,true,true,true,false,false,true,true,false]
[null,null,null,null,null,null,null,null,null,null,null,null,null,null,null,null,null,{"$f":"IF(T113,VLOOKUP(MIN(U113:AK113),'Data Validation (hidden)'!$B$2:$C$19,2,FALSE),IF(COUNTA(C113:P113)>0,\"'Scheme Name' missing but values entered in other columns\",\"\"))","v":""},null,false,1,2,3,4,5,6,7,8,9,10,"",12,13,14,15,null,16,0,true,true,false,false,false,false,false,true,true,true,true,false,false,true,true,false]
[null,null,null,null,null,null,null,null,null,null,null,null,null,null,null,null,null,{"$f":"IF(T114,VLOOKUP(MIN(U114:AK114),'Data Validation (hidden)'!$B$2:$C$19,2,FALSE),IF(COUNTA(C114:P114)>0,\"'Scheme Name' missing but values entered in other columns\",\"\"))","v":""},null,false,1,2,3,4,5,6,7,8,9,10,"",12,13,14,15,null,16,0,true,true,false,false,false,false,false,true,true,true,true,false,false,true,true,false]
[null,null,null,null,null,null,null,null,null,null,null,null,null,null,null,null,null,{"$f":"IF(T115,VLOOKUP(MIN(U115:AK115),'Data Validation (hidden)'!$B$2:$C$19,2,FALSE),IF(COUNTA(C115:P115)>0,\"'Scheme Name' missing but values entered in other columns\",\"\"))","v":""},null,false,1,2,3,4,5,6,7,8,9,10,"",12,13,14,15,null,16,0,true,true,false,false,false,false,false,true,true,true,true,false,false,true,true,false]
[null,null,null,null,null,null,null,null,null,null,null,null,null,null,null,null,null,{"$f":"IF(T116,VLOOKUP(MIN(U116:AK116),'Data Validation (hidden)'!$B$2:$C$19,2,FALSE),IF(COUNTA(C116:P116)>0,\"'Scheme Name' missing but values entered in other columns\",\"\"))","v":""},null,false,1,2,3,4,5,6,7,8,9,10,"",12,13,14,15,null,16,0,true,true,false,false,false,false,false,true,true,true,true,false,false,true,true,false]
[null,null,null,null,null,null,null,null,null,null,null,null,null,null,null,null,null,{"$f":"IF(T117,VLOOKUP(MIN(U117:AK117),'Data Validation (hidden)'!$B$2:$C$19,2,FALSE),IF(COUNTA(C117:P117)>0,\"'Scheme Name' missing but values entered in other columns\",\"\"))","v":""},null,false,1,2,3,4,5,6,7,8,9,10,"",12,13,14,15,null,16,0,true,true,false,false,false,false,false,true,true,true,true,false,false,true,true,false]
[null,null,null,null,null,null,null,null,null,null,null,null,null,null,null,null,null,{"$f":"IF(T118,VLOOKUP(MIN(U118:AK118),'Data Validation (hidden)'!$B$2:$C$19,2,FALSE),IF(COUNTA(C118:P118)>0,\"'Scheme Name' missing but values entered in other columns\",\"\"))","v":""},null,false,1,2,3,4,5,6,7,8,9,10,"",12,13,14,15,null,16,0,true,true,false,false,false,false,false,true,true,true,true,false,false,true,true,false]
[null,null,null,null,null,null,null,null,null,null,null,null,null,null,null,null,null,{"$f":"IF(T119,VLOOKUP(MIN(U119:AK119),'Data Validation (hidden)'!$B$2:$C$19,2,FALSE),IF(COUNTA(C119:P119)>0,\"'Scheme Name' missing but values entered in other columns\",\"\"))","v":""},null,false,1,2,3,4,5,6,7,8,9,10,"",12,13,14,15,null,16,0,true,true,false,false,false,false,false,true,true,true,true,false,false,true,true,false]
[null,null,null,null,null,null,null,null,null,null,null,null,null,null,null,null,null,{"$f":"IF(T120,VLOOKUP(MIN(U120:AK120),'Data Validation (hidden)'!$B$2:$C$19,2,FALSE),IF(COUNTA(C120:P120)>0,\"'Scheme Name' missing but values entered in other columns\",\"\"))","v":""},null,false,1,2,3,4,5,6,7,8,9,10,"",12,13,14,15,null,16,0,true,true,false,false,false,false,false,true,true,true,true,false,false,true,true,false]
[null,null,null,null,null,null,null,null,null,null,null,null,null,null,null,null,null,{"$f":"IF(T121,VLOOKUP(MIN(U121:AK121),'Data Validation (hidden)'!$B$2:$C$19,2,FALSE),IF(COUNTA(C121:P121)>0,\"'Scheme Name' missing but values entered in other columns\",\"\"))","v":""},null,false,1,2,3,4,5,6,7,8,9,10,"",12,13,14,15,null,16,0,true,true,false,false,false,false,false,true,true,true,true,false,false,true,true,false]
[null,null,null,null,null,null,null,null,null,null,null,null,null,null,null,null,null,{"$f":"IF(T122,VLOOKUP(MIN(U122:AK122),'Data Validation (hidden)'!$B$2:$C$19,2,FALSE),IF(COUNTA(C122:P122)>0,\"'Scheme Name' missing but values entered in other columns\",\"\"))","v":""},null,false,1,2,3,4,5,6,7,8,9,10,"",12,13,14,15,null,16,0,true,true,false,false,false,false,false,true,true,true,true,false,false,true,true,false]
[null,null,null,null,null,null,null,null,null,null,null,null,null,null,null,null,null,{"$f":"IF(T123,VLOOKUP(MIN(U123:AK123),'Data Validation (hidden)'!$B$2:$C$19,2,FALSE),IF(COUNTA(C123:P123)>0,\"'Scheme Name' missing but values entered in other columns\",\"\"))","v":""},null,false,1,2,3,4,5,6,7,8,9,10,"",12,13,14,15,null,16,0,true,true,false,false,false,false,false,true,true,true,true,false,false,true,true,false]
[null,null,null,null,null,null,null,null,null,null,null,null,null,null,null,null,null,{"$f":"IF(T124,VLOOKUP(MIN(U124:AK124),'Data Validation (hidden)'!$B$2:$C$19,2,FALSE),IF(COUNTA(C124:P124)>0,\"'Scheme Name' missing but values entered in other columns\",\"\"))","v":""},null,false,1,2,3,4,5,6,7,8,9,10,"",12,13,14,15,null,16,0,true,true,false,false,false,false,false,true,true,true,true,false,false,true,true,false]
[null,null,null,null,null,null,null,null,null,null,null,null,null,null,null,null,null,{"$f":"IF(T125,VLOOKUP(MIN(U125:AK125),'Data Validation (hidden)'!$B$2:$C$19,2,FALSE),IF(COUNTA(C125:P125)>0,\"'Scheme Name' missing but values entered in other columns\",\"\"))","v":""},null,false,1,2,3,4,5,6,7,8,9,10,"",12,13,14,15,null,16,0,true,true,false,false,false,false,false,true,true,true,true,false,false,true,true,false]
[null,null,null,null,null,null,null,null,null,null,null,null,null,null,null,null,null,{"$f":"IF(T126,VLOOKUP(MIN(U126:AK126),'Data Validation (hidden)'!$B$2:$C$19,2,FALSE),IF(COUNTA(C126:P126)>0,\"'Scheme Name' missing but values entered in other columns\",\"\"))","v":""},null,false,1,2,3,4,5,6,7,8,9,10,"",12,13,14,15,null,16,0,true,true,false,false,false,false,false,true,true,true,true,false,false,true,true,false]
[null,null,null,null,null,null,null,null,null,null,null,null,null,null,null,null,null,{"$f":"IF(T127,VLOOKUP(MIN(U127:AK127),'Data Validation (hidden)'!$B$2:$C$19,2,FALSE),IF(COUNTA(C127:P127)>0,\"'Scheme Name' missing but values entered in other columns\",\"\"))","v":""},null,false,1,2,3,4,5,6,7,8,9,10,"",12,13,14,15,null,16,0,true,true,false,false,false,false,false,true,true,true,true,false,false,true,true,false]
[null,null,null,null,null,null,null,null,null,null,null,null,null,null,null,null,null,{"$f":"IF(T128,VLOOKUP(MIN(U128:AK128),'Data Validation (hidden)'!$B$2:$C$19,2,FALSE),IF(COUNTA(C128:P128)>0,\"'Scheme Name' missing but values entered in other columns\",\"\"))","v":""},null,false,1,2,3,4,5,6,7,8,9,10,"",12,13,14,15,null,16,0,true,true,false,false,false,false,false,true,true,true,true,false,false,true,true,false]
[null,null,null,null,null,null,null,null,null,null,null,null,null,null,null,null,null,{"$f":"IF(T129,VLOOKUP(MIN(U129:AK129),'Data Validation (hidden)'!$B$2:$C$19,2,FALSE),IF(COUNTA(C129:P129)>0,\"'Scheme Name' missing but values entered in other columns\",\"\"))","v":""},null,false,1,2,3,4,5,6,7,8,9,10,"",12,13,14,15,null,16,0,true,true,false,false,false,false,false,true,true,true,true,false,false,true,true,false]
[null,null,null,null,null,null,null,null,null,null,null,null,null,null,null,null,null,{"$f":"IF(T130,VLOOKUP(MIN(U130:AK130),'Data Validation (hidden)'!$B$2:$C$19,2,FALSE),IF(COUNTA(C130:P130)>0,\"'Scheme Name' missing but values entered in other columns\",\"\"))","v":""},null,false,1,2,3,4,5,6,7,8,9,10,"",12,13,14,15,null,16,0,true,true,false,false,false,false,false,true,true,true,true,false,false,true,true,false]
[null,null,null,null,null,null,null,null,null,null,null,null,null,null,null,null,null,{"$f":"IF(T131,VLOOKUP(MIN(U131:AK131),'Data Validation (hidden)'!$B$2:$C$19,2,FALSE),IF(COUNTA(C131:P131)>0,\"'Scheme Name' missing but values entered in other columns\",\"\"))","v":""},null,false,1,2,3,4,5,6,7,8,9,10,"",12,13,14,15,null,16,0,true,true,false,false,false,false,false,true,true,true,true,false,false,true,true,false]
[null,null,null,null,null,null,null,null,null,null,null,null,null,null,null,null,null,{"$f":"IF(T132,VLOOKUP(MIN(U132:AK132),'Data Validation (hidden)'!$B$2:$C$19,2,FALSE),IF(COUNTA(C132:P132)>0,\"'Scheme Name' missing but values entered in other columns\",\"\"))","v":""},null,false,1,2,3,4,5,6,7,8,9,10,"",12,13,14,15,null,16,0,true,true,false,false,false,false,false,true,true,true,true,false,false,true,true,false]
[null,null,null,null,null,null,null,null,null,null,null,null,null,null,null,null,null,{"$f":"IF(T133,VLOOKUP(MIN(U133:AK133),'Data Validation (hidden)'!$B$2:$C$19,2,FALSE),IF(COUNTA(C133:P133)>0,\"'Scheme Name' missing but values entered in other columns\",\"\"))","v":""},null,false,1,2,3,4,5,6,7,8,9,10,"",12,13,14,15,null,16,0,true,true,false,false,false,false,false,true,true,true,true,false,false,true,true,false]
[null,null,null,null,null,null,null,null,null,null,null,null,null,null,null,null,null,{"$f":"IF(T134,VLOOKUP(MIN(U134:AK134),'Data Validation (hidden)'!$B$2:$C$19,2,FALSE),IF(COUNTA(C134:P134)>0,\"'Scheme Name' missing but values entered in other columns\",\"\"))","v":""},null,false,1,2,3,4,5,6,7,8,9,10,"",12,13,14,15,null,16,0,true,true,false,false,false,false,false,true,true,true,true,false,false,true,true,false]
[null,null,null,null,null,null,null,null,null,null,null,null,null,null,null,null,null,{"$f":"IF(T135,VLOOKUP(MIN(U135:AK135),'Data Validation (hidden)'!$B$2:$C$19,2,FALSE),IF(COUNTA(C135:P135)>0,\"'Scheme Name' missing but values entered in other columns\",\"\"))","v":""},null,false,1,2,3,4,5,6,7,8,9,10,"",12,13,14,15,null,16,0,true,true,false,false,false,false,false,true,true,true,true,false,false,true,true,false]
[null,null,null,null,null,null,null,null,null,null,null,null,null,null,null,null,null,{"$f":"IF(T136,VLOOKUP(MIN(U136:AK136),'Data Validation (hidden)'!$B$2:$C$19,2,FALSE),IF(COUNTA(C136:P136)>0,\"'Scheme Name' missing but values entered in other columns\",\"\"))","v":""},null,{"$f":"B136<>\"\"","v":false},{"$f":"IF(C136=\"\",1,\"\")","v":1},2,3,4,5,6,7,8,9,10,"",{"$f":"IF(M136=\"\",12,\"\")","v":12},{"$f":"IF(N136=\"\",13,\"\")","v":13},{"$f":"IF(O136=\"\",14,\"\")","v":14},{"$f":"IF(P136=\"\",15,\"\")","v":15},null,16,{"$f":"SUM(J136:L136)","v":0},true,true,false,false,false,false,false,true,true,true,true,false,false,{"$f":"IF( CELL(\"format\",O136) = \"F0\",TRUE,FALSE)","v":true},{"$f":"IF( CELL(\"format\",P136) = \"F0\",TRUE,FALSE)","v":true},{"$f":"IF(R136=\"\",FALSE,IF(R136=\"OK\",FALSE,TRUE))","v":false}]
[null,null,null,null,null,null,null,null,null,null,null,null,null,null,null,null,null,{"$f":"IF(T137,VLOOKUP(MIN(U137:AK137),'Data Validation (hidden)'!$B$2:$C$19,2,FALSE),IF(COUNTA(C137:P137)>0,\"'Scheme Name' missing but values entered in other columns\",\"\"))","v":""},null,false,1,{"$f":"IF(D137=\"\",2,\"\")","v":2},{"$f":"IF(E137=\"\",IF(D137=\"Gratuity\",\"\",3),\"\")","v":3},{"$f":"IF(F137=\"\",4,\"\")","v":4},{"$f":"IF(G137=\"\",5,\"\")","v":5},{"$f":"IF(H137=\"\",6,\"\")","v":6},{"$f":"IF(I137=\"\",7,\"\")","v":7},{"$f":"IF(J137=\"\",8,\"\")","v":8},{"$f":"IF(K137=\"\",9,\"\")","v":9},{"$f":"IF(L137=\"\",10,\"\")","v":10},{"$f":"IF((AL137=I137),\"\",11)","v":""},12,13,14,15,null,{"$f":"IF(AND(AM137,AN137,AO137,AP137,AQ137,AR137,AS137,AT137,AU137,AV137,AW137,AX137,AY137,AZ137,BA137)=TRUE,\"\",16)","v":16},0,{"$f":"IF(CELL(\"format\", B137) = \"G\",TRUE,FALSE)","v":true},{"$f":"IF(CELL(\"format\", C137) = \"F0\",TRUE,FALSE)","v":true},{"$f":"OR(D137=\"A\",D137=\"B\",D137=\"C\",D137=\"Gratuity\")","v":false},{"$f":"OR(E137=\"DC\",E137=\"DB\",E137=\"H\",D137=\"Gratuity\")","v":false},{"$f":"OR(F137=\"Occupational\",F137=\"Personal\")","v":false},{"$f":"OR(G137=\"Yes\",G137=\"No\")","v":false},{"$f":"OR(H137=\"MD\",H137=\"PD\",H137=\"TD\",H137=\"MPD\",H137=\"MTD\",H137=\"PTD\",H137=\"MPTD\")","v":false},{"$f":"IF( CELL(\"format\",I137) = \"F0\",TRUE,FALSE)","v":true},{"$f":"IF( CELL(\"format\",J137) = \"F0\",TRUE,FALSE)","v":true},{"$f":"IF( CELL(\"format\",K137) = \"F0\",TRUE,FALSE)","v":true},{"$f":"IF( CELL(\"format\",L137) = \"F0\",TRUE,FALSE)","v":true},{"$f":"OR(M137=\"Yes\",M137=\"No\")","v":false},{"$f":"OR(N137=\"Trustee\",N137=\"Administrator\",N137=\"Both\")","v":false},true,true,false]
[null,null,null,null,null,null,null,null,null,null,null,null,null,null,null,null,null,{"$f":"IF(T138,VLOOKUP(MIN(U138:AK138),'Data Validation (hidden)'!$B$2:$C$19,2,FALSE),IF(COUNTA(C138:P138)>0,\"'Scheme Name' missing but values entered in other columns\",\"\"))","v":""},null,false,1,2,3,4,5,6,7,8,9,10,"",12,13,14,15,null,16,0,true,true,false,false,false,false,false,true,true,true,true,false,false,true,true,false]
[null,null,null,null,null,null,null,null,null,null,null,null,null,null,null,null,null,{"$f":"IF(T139,VLOOKUP(MIN(U139:AK139),'Data Validation (hidden)'!$B$2:$C$19,2,FALSE),IF(COUNTA(C139:P139)>0,\"'Scheme Name' missing but values entered in other columns\",\"\"))","v":""},null,false,1,2,3,4,5,6,7,8,9,10,"",12,13,14,15,null,16,0,true,true,false,false,false,false,false,true,true,true,true,false,false,true,true,false]
[null,null,null,null,null,null,null,null,null,null,null,null,null,null,null,null,null,{"$f":"IF(T140,VLOOKUP(MIN(U140:AK140),'Data Validation (hidden)'!$B$2:$C$19,2,FALSE),IF(COUNTA(C140:P140)>0,\"'Scheme Name' missing but values entered in other columns\",\"\"))","v":""},null,false,1,2,3,4,5,6,7,8,9,10,"",12,13,14,15,null,16,0,true,true,false,false,false,false,false,true,true,true,true,false,false,true,true,false]
[null,null,null,null,null,null,null,null,null,null,null,null,null,null,null,null,null,{"$f":"IF(T141,VLOOKUP(MIN(U141:AK141),'Data Validation (hidden)'!$B$2:$C$19,2,FALSE),IF(COUNTA(C141:P141)>0,\"'Scheme Name' missing but values entered in other columns\",\"\"))","v":""},null,false,1,2,3,4,5,6,7,8,9,10,"",12,13,14,15,null,16,0,true,true,false,false,false,false,false,true,true,true,true,false,false,true,true,false]
[null,null,null,null,null,null,null,null,null,null,null,null,null,null,null,null,null,{"$f":"IF(T142,VLOOKUP(MIN(U142:AK142),'Data Validation (hidden)'!$B$2:$C$19,2,FALSE),IF(COUNTA(C142:P142)>0,\"'Scheme Name' missing but values entered in other columns\",\"\"))","v":""},null,false,1,2,3,4,5,6,7,8,9,10,"",12,13,14,15,null,16,0,true,true,false,false,false,false,false,true,true,true,true,false,false,true,true,false]
[null,null,null,null,null,null,null,null,null,null,null,null,null,null,null,null,null,{"$f":"IF(T143,VLOOKUP(MIN(U143:AK143),'Data Validation (hidden)'!$B$2:$C$19,2,FALSE),IF(COUNTA(C143:P143)>0,\"'Scheme Name' missing but values entered in other columns\",\"\"))","v":""},null,false,1,2,3,4,5,6,7,8,9,10,"",12,13,14,15,null,16,0,true,true,false,false,false,false,false,true,true,true,true,false,false,true,true,false]
[null,null,null,null,null,null,null,null,null,null,null,null,null,null,null,null,null,{"$f":"IF(T144,VLOOKUP(MIN(U144:AK144),'Data Validation (hidden)'!$B$2:$C$19,2,FALSE),IF(COUNTA(C144:P144)>0,\"'Scheme Name' missing but values entered in other columns\",\"\"))","v":""},null,false,1,2,3,4,5,6,7,8,9,10,"",12,13,14,15,null,16,0,true,true,false,false,false,false,false,true,true,true,true,false,false,true,true,false]
[null,null,null,null,null,null,null,null,null,null,null,null,null,null,null,null,null,{"$f":"IF(T145,VLOOKUP(MIN(U145:AK145),'Data Validation (hidden)'!$B$2:$C$19,2,FALSE),IF(COUNTA(C145:P145)>0,\"'Scheme Name' missing but values entered in other columns\",\"\"))","v":""},null,false,1,2,3,4,5,6,7,8,9,10,"",12,13,14,15,null,16,0,true,true,false,false,false,false,false,true,true,true,true,false,false,true,true,false]
[null,null,null,null,null,null,null,null,null,null,null,null,null,null,null,null,null,{"$f":"IF(T146,VLOOKUP(MIN(U146:AK146),'Data Validation (hidden)'!$B$2:$C$19,2,FALSE),IF(COUNTA(C146:P146)>0,\"'Scheme Name' missing but values entered in other columns\",\"\"))","v":""},null,false,1,2,3,4,5,6,7,8,9,10,"",12,13,14,15,null,16,0,true,true,false,false,false,false,false,true,true,true,true,false,false,true,true,false]
[null,null,null,null,null,null,null,null,null,null,null,null,null,null,null,null,null,{"$f":"IF(T147,VLOOKUP(MIN(U147:AK147),'Data Validation (hidden)'!$B$2:$C$19,2,FALSE),IF(COUNTA(C147:P147)>0,\"'Scheme Name' missing but values entered in other columns\",\"\"))","v":""},null,false,1,2,3,4,5,6,7,8,9,10,"",12,13,14,15,null,16,0,true,true,false,false,false,false,false,true,true,true,true,false,false,true,true,false]
[null,null,null,null,null,null,null,null,null,null,null,null,null,null,null,null,null,{"$f":"IF(T148,VLOOKUP(MIN(U148:AK148),'Data Validation (hidden)'!$B$2:$C$19,2,FALSE),IF(COUNTA(C148:P148)>0,\"'Scheme Name' missing but values entered in other columns\",\"\"))","v":""},null,false,1,2,3,4,5,6,7,8,9,10,"",12,13,14,15,null,16,0,true,true,false,false,false,false,false,true,true,true,true,false,false,true,true,false]
[null,null,null,null,null,null,null,null,null,null,null,null,null,null,null,null,null,{"$f":"IF(T149,VLOOKUP(MIN(U149:AK149),'Data Validation (hidden)'!$B$2:$C$19,2,FALSE),IF(COUNTA(C149:P149)>0,\"'Scheme Name' missing but values entered in other columns\",\"\"))","v":""},null,false,1,2,3,4,5,6,7,8,9,10,"",12,13,14,15,null,16,0,true,true,false,false,false,false,false,true,true,true,true,false,false,true,true,false]
[null,null,null,null,null,null,null,null,null,null,null,null,null,null,null,null,null,{"$f":"IF(T150,VLOOKUP(MIN(U150:AK150),'Data Validation (hidden)'!$B$2:$C$19,2,FALSE),IF(COUNTA(C150:P150)>0,\"'Scheme Name' missing but values entered in other columns\",\"\"))","v":""},null,false,1,2,3,4,5,6,7,8,9,10,"",12,13,14,15,null,16,0,true,true,false,false,false,false,false,true,true,true,true,false,false,true,true,false]
[null,null,null,null,null,null,null,null,null,null,null,null,null,null,null,null,null,{"$f":"IF(T151,VLOOKUP(MIN(U151:AK151),'Data Validation (hidden)'!$B$2:$C$19,2,FALSE),IF(COUNTA(C151:P151)>0,\"'Scheme Name' missing but values entered in other columns\",\"\"))","v":""},null,false,1,2,3,4,5,6,7,8,9,10,"",12,13,14,15,null,16,0,true,true,false,false,false,false,false,true,true,true,true,false,false,true,true,false]
[null,null,null,null,null,null,null,null,null,null,null,null,null,null,null,null,null,{"$f":"IF(T152,VLOOKUP(MIN(U152:AK152),'Data Validation (hidden)'!$B$2:$C$19,2,FALSE),IF(COUNTA(C152:P152)>0,\"'Scheme Name' missing but values entered in other columns\",\"\"))","v":""},null,false,1,2,3,4,5,6,7,8,9,10,"",12,13,14,15,null,16,0,true,true,false,false,false,false,false,true,true,true,true,false,false,true,true,false]
[null,null,null,null,null,null,null,null,null,null,null,null,null,null,null,null,null,{"$f":"IF(T153,VLOOKUP(MIN(U153:AK153),'Data Validation (hidden)'!$B$2:$C$19,2,FALSE),IF(COUNTA(C153:P153)>0,\"'Scheme Name' missing but values entered in other columns\",\"\"))","v":""},null,false,1,2,3,4,5,6,7,8,9,10,"",12,13,14,15,null,16,0,true,true,false,false,false,false,false,true,true,true,true,false,false,true,true,false]
[null,null,null,null,null,null,null,null,null,null,null,null,null,null,null,null,null,{"$f":"IF(T154,VLOOKUP(MIN(U154:AK154),'Data Validation (hidden)'!$B$2:$C$19,2,FALSE),IF(COUNTA(C154:P154)>0,\"'Scheme Name' missing but values entered in other columns\",\"\"))","v":""},null,false,1,2,3,4,5,6,7,8,9,10,"",12,13,14,15,null,16,0,true,true,false,false,false,false,false,true,true,true,true,false,false,true,true,false]
[null,null,null,null,null,null,null,null,null,null,null,null,null,null,null,null,null,{"$f":"IF(T155,VLOOKUP(MIN(U155:AK155),'Data Validation (hidden)'!$B$2:$C$19,2,FALSE),IF(COUNTA(C155:P155)>0,\"'Scheme Name' missing but values entered in other columns\",\"\"))","v":""},null,false,1,2,3,4,5,6,7,8,9,10,"",12,13,14,15,null,16,0,true,true,false,false,false,false,false,true,true,true,true,false,false,true,true,false]
[null,null,null,null,null,null,null,null,null,null,null,null,null,null,null,null,null,{"$f":"IF(T156,VLOOKUP(MIN(U156:AK156),'Data Validation (hidden)'!$B$2:$C$19,2,FALSE),IF(COUNTA(C156:P156)>0,\"'Scheme Name' missing but values entered in other columns\",\"\"))","v":""},null,false,1,2,3,4,5,6,7,8,9,10,"",12,13,14,15,null,16,0,true,true,false,false,false,false,false,true,true,true,true,false,false,true,true,false]
[null,null,null,null,null,null,null,null,null,null,null,null,null,null,null,null,null,{"$f":"IF(T157,VLOOKUP(MIN(U157:AK157),'Data Validation (hidden)'!$B$2:$C$19,2,FALSE),IF(COUNTA(C157:P157)>0,\"'Scheme Name' missing but values entered in other columns\",\"\"))","v":""},null,false,1,2,3,4,5,6,7,8,9,10,"",12,13,14,15,null,16,0,true,true,false,false,false,false,false,true,true,true,true,false,false,true,true,false]
[null,null,null,null,null,null,null,null,null,null,null,null,null,null,null,null,null,{"$f":"IF(T158,VLOOKUP(MIN(U158:AK158),'Data Validation (hidden)'!$B$2:$C$19,2,FALSE),IF(COUNTA(C158:P158)>0,\"'Scheme Name' missing but values entered in other columns\",\"\"))","v":""},null,false,1,2,3,4,5,6,7,8,9,10,"",12,13,14,15,null,16,0,true,true,false,false,false,false,false,true,true,true,true,false,false,true,true,false]
[null,null,null,null,null,null,null,null,null,null,null,null,null,null,null,null,null,{"$f":"IF(T159,VLOOKUP(MIN(U159:AK159),'Data Validation (hidden)'!$B$2:$C$19,2,FALSE),IF(COUNTA(C159:P159)>0,\"'Scheme Name' missing but values entered in other columns\",\"\"))","v":""},null,false,1,2,3,4,5,6,7,8,9,10,"",12,13,14,15,null,16,0,true,true,false,false,false,false,false,true,true,true,true,false,false,true,true,false]
[null,null,null,null,null,null,null,null,null,null,null,null,null,null,null,null,null,{"$f":"IF(T160,VLOOKUP(MIN(U160:AK160),'Data Validation (hidden)'!$B$2:$C$19,2,FALSE),IF(COUNTA(C160:P160)>0,\"'Scheme Name' missing but values entered in other columns\",\"\"))","v":""},null,false,1,2,3,4,5,6,7,8,9,10,"",12,13,14,15,null,16,0,true,true,false,false,false,false,false,true,true,true,true,false,false,true,true,false]
[null,null,null,null,null,null,null,null,null,null,null,null,null,null,null,null,null,{"$f":"IF(T161,VLOOKUP(MIN(U161:AK161),'Data Validation (hidden)'!$B$2:$C$19,2,FALSE),IF(COUNTA(C161:P161)>0,\"'Scheme Name' missing but values entered in other columns\",\"\"))","v":""},null,false,1,2,3,4,5,6,7,8,9,10,"",12,13,14,15,null,16,0,true,true,false,false,false,false,false,true,true,true,true,false,false,true,true,false]
[null,null,null,null,null,null,null,null,null,null,null,null,null,null,null,null,null,{"$f":"IF(T162,VLOOKUP(MIN(U162:AK162),'Data Validation (hidden)'!$B$2:$C$19,2,FALSE),IF(COUNTA(C162:P162)>0,\"'Scheme Name' missing but values entered in other columns\",\"\"))","v":""},null,false,1,2,3,4,5,6,7,8,9,10,"",12,13,14,15,null,16,0,true,true,false,false,false,false,false,true,true,true,true,false,false,true,true,false]
[null,null,null,null,null,null,null,null,null,null,null,null,null,null,null,null,null,{"$f":"IF(T163,VLOOKUP(MIN(U163:AK163),'Data Validation (hidden)'!$B$2:$C$19,2,FALSE),IF(COUNTA(C163:P163)>0,\"'Scheme Name' missing but values entered in other columns\",\"\"))","v":""},null,false,1,2,3,4,5,6,7,8,9,10,"",12,13,14,15,null,16,0,true,true,false,false,false,false,false,true,true,true,true,false,false,true,true,false]
[null,null,null,null,null,null,null,null,null,null,null,null,null,null,null,null,null,{"$f":"IF(T164,VLOOKUP(MIN(U164:AK164),'Data Validation (hidden)'!$B$2:$C$19,2,FALSE),IF(COUNTA(C164:P164)>0,\"'Scheme Name' missing but values entered in other columns\",\"\"))","v":""},null,false,1,2,3,4,5,6,7,8,9,10,"",12,13,14,15,null,16,0,true,true,false,false,false,false,false,true,true,true,true,false,false,true,true,false]
[null,null,null,null,null,null,null,null,null,null,null,null,null,null,null,null,null,{"$f":"IF(T165,VLOOKUP(MIN(U165:AK165),'Data Validation (hidden)'!$B$2:$C$19,2,FALSE),IF(COUNTA(C165:P165)>0,\"'Scheme Name' missing but values entered in other columns\",\"\"))","v":""},null,false,1,2,3,4,5,6,7,8,9,10,"",12,13,14,15,null,16,0,true,true,false,false,false,false,false,true,true,true,true,false,false,true,true,false]
[null,null,null,null,null,null,null,null,null,null,null,null,null,null,null,null,null,{"$f":"IF(T166,VLOOKUP(MIN(U166:AK166),'Data Validation (hidden)'!$B$2:$C$19,2,FALSE),IF(COUNTA(C166:P166)>0,\"'Scheme Name' missing but values entered in other columns\",\"\"))","v":""},null,false,1,2,3,4,5,6,7,8,9,10,"",12,13,14,15,null,16,0,true,true,false,false,false,false,false,true,true,true,true,false,false,true,true,false]
[null,null,null,null,null,null,null,null,null,null,null,null,null,null,null,null,null,{"$f":"IF(T167,VLOOKUP(MIN(U167:AK167),'Data Validation (hidden)'!$B$2:$C$19,2,FALSE),IF(COUNTA(C167:P167)>0,\"'Scheme Name' missing but values entered in other columns\",\"\"))","v":""},null,false,1,2,3,4,5,6,7,8,9,10,"",12,13,14,15,null,16,0,true,true,false,false,false,false,false,true,true,true,true,false,false,true,true,false]
[null,null,null,null,null,null,null,null,null,null,null,null,null,null,null,null,null,{"$f":"IF(T168,VLOOKUP(MIN(U168:AK168),'Data Validation (hidden)'!$B$2:$C$19,2,FALSE),IF(COUNTA(C168:P168)>0,\"'Scheme Name' missing but values entered in other columns\",\"\"))","v":""},null,false,1,2,3,4,5,6,7,8,9,10,"",12,13,14,15,null,16,0,true,true,false,false,false,false,false,true,true,true,true,false,false,true,true,false]
[null,null,null,null,null,null,null,null,null,null,null,null,null,null,null,null,null,{"$f":"IF(T169,VLOOKUP(MIN(U169:AK169),'Data Validation (hidden)'!$B$2:$C$19,2,FALSE),IF(COUNTA(C169:P169)>0,\"'Scheme Name' missing but values entered in other columns\",\"\"))","v":""},null,false,1,2,3,4,5,6,7,8,9,10,"",12,13,14,15,null,16,0,true,true,false,false,false,false,false,true,true,true,true,false,false,true,true,false]
[null,null,null,null,null,null,null,null,null,null,null,null,null,null,null,null,null,{"$f":"IF(T170,VLOOKUP(MIN(U170:AK170),'Data Validation (hidden)'!$B$2:$C$19,2,FALSE),IF(COUNTA(C170:P170)>0,\"'Scheme Name' missing but values entered in other columns\",\"\"))","v":""},null,false,1,2,3,4,5,6,7,8,9,10,"",12,13,14,15,null,16,0,true,true,false,false,false,false,false,true,true,true,true,false,false,true,true,false]
[null,null,null,null,null,null,null,null,null,null,null,null,null,null,null,null,null,{"$f":"IF(T171,VLOOKUP(MIN(U171:AK171),'Data Validation (hidden)'!$B$2:$C$19,2,FALSE),IF(COUNTA(C171:P171)>0,\"'Scheme Name' missing but values entered in other columns\",\"\"))","v":""},null,false,1,2,3,4,5,6,7,8,9,10,"",12,13,14,15,null,16,0,true,true,false,false,false,false,false,true,true,true,true,false,false,true,true,false]
[null,null,null,null,null,null,null,null,null,null,null,null,null,null,null,null,null,{"$f":"IF(T172,VLOOKUP(MIN(U172:AK172),'Data Validation (hidden)'!$B$2:$C$19,2,FALSE),IF(COUNTA(C172:P172)>0,\"'Scheme Name' missing but values entered in other columns\",\"\"))","v":""},null,false,1,2,3,4,5,6,7,8,9,10,"",12,13,14,15,null,16,0,true,true,false,false,false,false,false,true,true,true,true,false,false,true,true,false]
[null,null,null,null,null,null,null,null,null,null,null,null,null,null,null,null,null,{"$f":"IF(T173,VLOOKUP(MIN(U173:AK173),'Data Validation (hidden)'!$B$2:$C$19,2,FALSE),IF(COUNTA(C173:P173)>0,\"'Scheme Name' missing but values entered in other columns\",\"\"))","v":""},null,false,1,2,3,4,5,6,7,8,9,10,"",12,13,14,15,null,16,0,true,true,false,false,false,false,false,true,true,true,true,false,false,true,true,false]
[null,null,null,null,null,null,null,null,null,null,null,null,null,null,null,null,null,{"$f":"IF(T174,VLOOKUP(MIN(U174:AK174),'Data Validation (hidden)'!$B$2:$C$19,2,FALSE),IF(COUNTA(C174:P174)>0,\"'Scheme Name' missing but values entered in other columns\",\"\"))","v":""},null,false,1,2,3,4,5,6,7,8,9,10,"",12,13,14,15,null,16,0,true,true,false,false,false,false,false,true,true,true,true,false,false,true,true,false]
[null,null,null,null,null,null,null,null,null,null,null,null,null,null,null,null,null,{"$f":"IF(T175,VLOOKUP(MIN(U175:AK175),'Data Validation (hidden)'!$B$2:$C$19,2,FALSE),IF(COUNTA(C175:P175)>0,\"'Scheme Name' missing but values entered in other columns\",\"\"))","v":""},null,false,1,2,3,4,5,6,7,8,9,10,"",12,13,14,15,null,16,0,true,true,false,false,false,false,false,true,true,true,true,false,false,true,true,false]
[null,null,null,null,null,null,null,null,null,null,null,null,null,null,null,null,null,{"$f":"IF(T176,VLOOKUP(MIN(U176:AK176),'Data Validation (hidden)'!$B$2:$C$19,2,FALSE),IF(COUNTA(C176:P176)>0,\"'Scheme Name' missing but values entered in other columns\",\"\"))","v":""},null,false,1,2,3,4,5,6,7,8,9,10,"",12,13,14,15,null,16,0,true,true,false,false,false,false,false,true,true,true,true,false,false,true,true,false]
[null,null,null,null,null,null,null,null,null,null,null,null,null,null,null,null,null,{"$f":"IF(T177,VLOOKUP(MIN(U177:AK177),'Data Validation (hidden)'!$B$2:$C$19,2,FALSE),IF(COUNTA(C177:P177)>0,\"'Scheme Name' missing but values entered in other columns\",\"\"))","v":""},null,false,1,2,3,4,5,6,7,8,9,10,"",12,13,14,15,null,16,0,true,true,false,false,false,false,false,true,true,true,true,false,false,true,true,false]
[null,null,null,null,null,null,null,null,null,null,null,null,null,null,null,null,null,{"$f":"IF(T178,VLOOKUP(MIN(U178:AK178),'Data Validation (hidden)'!$B$2:$C$19,2,FALSE),IF(COUNTA(C178:P178)>0,\"'Scheme Name' missing but values entered in other columns\",\"\"))","v":""},null,false,1,2,3,4,5,6,7,8,9,10,"",12,13,14,15,null,16,0,true,true,false,false,false,false,false,true,true,true,true,false,false,true,true,false]
[null,null,null,null,null,null,null,null,null,null,null,null,null,null,null,null,null,{"$f":"IF(T179,VLOOKUP(MIN(U179:AK179),'Data Validation (hidden)'!$B$2:$C$19,2,FALSE),IF(COUNTA(C179:P179)>0,\"'Scheme Name' missing but values entered in other columns\",\"\"))","v":""},null,false,1,2,3,4,5,6,7,8,9,10,"",12,13,14,15,null,16,0,true,true,false,false,false,false,false,true,true,true,true,false,false,true,true,false]
[null,null,null,null,null,null,null,null,null,null,null,null,null,null,null,null,null,{"$f":"IF(T180,VLOOKUP(MIN(U180:AK180),'Data Validation (hidden)'!$B$2:$C$19,2,FALSE),IF(COUNTA(C180:P180)>0,\"'Scheme Name' missing but values entered in other columns\",\"\"))","v":""},null,false,1,2,3,4,5,6,7,8,9,10,"",12,13,14,15,null,16,0,true,true,false,false,false,false,false,true,true,true,true,false,false,true,true,false]
[null,null,null,null,null,null,null,null,null,null,null,null,null,null,null,null,null,{"$f":"IF(T181,VLOOKUP(MIN(U181:AK181),'Data Validation (hidden)'!$B$2:$C$19,2,FALSE),IF(COUNTA(C181:P181)>0,\"'Scheme Name' missing but values entered in other columns\",\"\"))","v":""},null,false,1,2,3,4,5,6,7,8,9,10,"",12,13,14,15,null,16,0,true,true,false,false,false,false,false,true,true,true,true,false,false,true,true,false]
[null,null,null,null,null,null,null,null,null,null,null,null,null,null,null,null,null,{"$f":"IF(T182,VLOOKUP(MIN(U182:AK182),'Data Validation (hidden)'!$B$2:$C$19,2,FALSE),IF(COUNTA(C182:P182)>0,\"'Scheme Name' missing but values entered in other columns\",\"\"))","v":""},null,false,1,2,3,4,5,6,7,8,9,10,"",12,13,14,15,null,16,0,true,true,false,false,false,false,false,true,true,true,true,false,false,true,true,false]
[null,null,null,null,null,null,null,null,null,null,null,null,null,null,null,null,null,{"$f":"IF(T183,VLOOKUP(MIN(U183:AK183),'Data Validation (hidden)'!$B$2:$C$19,2,FALSE),IF(COUNTA(C183:P183)>0,\"'Scheme Name' missing but values entered in other columns\",\"\"))","v":""},null,false,1,2,3,4,5,6,7,8,9,10,"",12,13,14,15,null,16,0,true,true,false,false,false,false,false,true,true,true,true,false,false,true,true,false]
[null,null,null,null,null,null,null,null,null,null,null,null,null,null,null,null,null,{"$f":"IF(T184,VLOOKUP(MIN(U184:AK184),'Data Validation (hidden)'!$B$2:$C$19,2,FALSE),IF(COUNTA(C184:P184)>0,\"'Scheme Name' missing but values entered in other columns\",\"\"))","v":""},null,false,1,2,3,4,5,6,7,8,9,10,"",12,13,14,15,null,16,0,true,true,false,false,false,false,false,true,true,true,true,false,false,true,true,false]
[null,null,null,null,null,null,null,null,null,null,null,null,null,null,null,null,null,{"$f":"IF(T185,VLOOKUP(MIN(U185:AK185),'Data Validation (hidden)'!$B$2:$C$19,2,FALSE),IF(COUNTA(C185:P185)>0,\"'Scheme Name' missing but values entered in other columns\",\"\"))","v":""},null,false,1,2,3,4,5,6,7,8,9,10,"",12,13,14,15,null,16,0,true,true,false,false,false,false,false,true,true,true,true,false,false,true,true,false]
[null,null,null,null,null,null,null,null,null,null,null,null,null,null,null,null,null,{"$f":"IF(T186,VLOOKUP(MIN(U186:AK186),'Data Validation (hidden)'!$B$2:$C$19,2,FALSE),IF(COUNTA(C186:P186)>0,\"'Scheme Name' missing but values entered in other columns\",\"\"))","v":""},null,false,1,2,3,4,5,6,7,8,9,10,"",12,13,14,15,null,16,0,true,true,false,false,false,false,false,true,true,true,true,false,false,true,true,false]
[null,null,null,null,null,null,null,null,null,null,null,null,null,null,null,null,null,{"$f":"IF(T187,VLOOKUP(MIN(U187:AK187),'Data Validation (hidden)'!$B$2:$C$19,2,FALSE),IF(COUNTA(C187:P187)>0,\"'Scheme Name' missing but values entered in other columns\",\"\"))","v":""},null,false,1,2,3,4,5,6,7,8,9,10,"",12,13,14,15,null,16,0,true,true,false,false,false,false,false,true,true,true,true,false,false,true,true,false]
[null,null,null,null,null,null,null,null,null,null,null,null,null,null,null,null,null,{"$f":"IF(T188,VLOOKUP(MIN(U188:AK188),'Data Validation (hidden)'!$B$2:$C$19,2,FALSE),IF(COUNTA(C188:P188)>0,\"'Scheme Name' missing but values entered in other columns\",\"\"))","v":""},null,false,1,2,3,4,5,6,7,8,9,10,"",12,13,14,15,null,16,0,true,true,false,false,false,false,false,true,true,true,true,false,false,true,true,false]
[null,null,null,null,null,null,null,null,null,null,null,null,null,null,null,null,null,{"$f":"IF(T189,VLOOKUP(MIN(U189:AK189),'Data Validation (hidden)'!$B$2:$C$19,2,FALSE),IF(COUNTA(C189:P189)>0,\"'Scheme Name' missing but values entered in other columns\",\"\"))","v":""},null,false,1,2,3,4,5,6,7,8,9,10,"",12,13,14,15,null,16,0,true,true,false,false,false,false,false,true,true,true,true,false,false,true,true,false]
[null,null,null,null,null,null,null,null,null,null,null,null,null,null,null,null,null,{"$f":"IF(T190,VLOOKUP(MIN(U190:AK190),'Data Validation (hidden)'!$B$2:$C$19,2,FALSE),IF(COUNTA(C190:P190)>0,\"'Scheme Name' missing but values entered in other columns\",\"\"))","v":""},null,false,1,2,3,4,5,6,7,8,9,10,"",12,13,14,15,null,16,0,true,true,false,false,false,false,false,true,true,true,true,false,false,true,true,false]
[null,null,null,null,null,null,null,null,null,null,null,null,null,null,null,null,null,{"$f":"IF(T191,VLOOKUP(MIN(U191:AK191),'Data Validation (hidden)'!$B$2:$C$19,2,FALSE),IF(COUNTA(C191:P191)>0,\"'Scheme Name' missing but values entered in other columns\",\"\"))","v":""},null,false,1,2,3,4,5,6,7,8,9,10,"",12,13,14,15,null,16,0,true,true,false,false,false,false,false,true,true,true,true,false,false,true,true,false]
[null,null,null,null,null,null,null,null,null,null,null,null,null,null,null,null,null,{"$f":"IF(T192,VLOOKUP(MIN(U192:AK192),'Data Validation (hidden)'!$B$2:$C$19,2,FALSE),IF(COUNTA(C192:P192)>0,\"'Scheme Name' missing but values entered in other columns\",\"\"))","v":""},null,false,1,2,3,4,5,6,7,8,9,10,"",12,13,14,15,null,16,0,true,true,false,false,false,false,false,true,true,true,true,false,false,true,true,false]
[null,null,null,null,null,null,null,null,null,null,null,null,null,null,null,null,null,{"$f":"IF(T193,VLOOKUP(MIN(U193:AK193),'Data Validation (hidden)'!$B$2:$C$19,2,FALSE),IF(COUNTA(C193:P193)>0,\"'Scheme Name' missing but values entered in other columns\",\"\"))","v":""},null,false,1,2,3,4,5,6,7,8,9,10,"",12,13,14,15,null,16,0,true,true,false,false,false,false,false,true,true,true,true,false,false,true,true,false]
[null,null,null,null,null,null,null,null,null,null,null,null,null,null,null,null,null,{"$f":"IF(T194,VLOOKUP(MIN(U194:AK194),'Data Validation (hidden)'!$B$2:$C$19,2,FALSE),IF(COUNTA(C194:P194)>0,\"'Scheme Name' missing but values entered in other columns\",\"\"))","v":""},null,false,1,2,3,4,5,6,7,8,9,10,"",12,13,14,15,null,16,0,true,true,false,false,false,false,false,true,true,true,true,false,false,true,true,false]
[null,null,null,null,null,null,null,null,null,null,null,null,null,null,null,null,null,{"$f":"IF(T195,VLOOKUP(MIN(U195:AK195),'Data Validation (hidden)'!$B$2:$C$19,2,FALSE),IF(COUNTA(C195:P195)>0,\"'Scheme Name' missing but values entered in other columns\",\"\"))","v":""},null,false,1,2,3,4,5,6,7,8,9,10,"",12,13,14,15,null,16,0,true,true,false,false,false,false,false,true,true,true,true,false,false,true,true,false]
[null,null,null,null,null,null,null,null,null,null,null,null,null,null,null,null,null,{"$f":"IF(T196,VLOOKUP(MIN(U196:AK196),'Data Validation (hidden)'!$B$2:$C$19,2,FALSE),IF(COUNTA(C196:P196)>0,\"'Scheme Name' missing but values entered in other columns\",\"\"))","v":""},null,false,1,2,3,4,5,6,7,8,9,10,"",12,13,14,15,null,16,0,true,true,false,false,false,false,false,true,true,true,true,false,false,true,true,false]
[null,null,null,null,null,null,null,null,null,null,null,null,null,null,null,null,null,{"$f":"IF(T197,VLOOKUP(MIN(U197:AK197),'Data Validation (hidden)'!$B$2:$C$19,2,FALSE),IF(COUNTA(C197:P197)>0,\"'Scheme Name' missing but values entered in other columns\",\"\"))","v":""},null,false,1,2,3,4,5,6,7,8,9,10,"",12,13,14,15,null,16,0,true,true,false,false,false,false,false,true,true,true,true,false,false,true,true,false]
[null,null,null,null,null,null,null,null,null,null,null,null,null,null,null,null,null,{"$f":"IF(T198,VLOOKUP(MIN(U198:AK198),'Data Validation (hidden)'!$B$2:$C$19,2,FALSE),IF(COUNTA(C198:P198)>0,\"'Scheme Name' missing but values entered in other columns\",\"\"))","v":""},null,false,1,2,3,4,5,6,7,8,9,10,"",12,13,14,15,null,16,0,true,true,false,false,false,false,false,true,true,true,true,false,false,true,true,false]
[null,null,null,null,null,null,null,null,null,null,null,null,null,null,null,null,null,{"$f":"IF(T199,VLOOKUP(MIN(U199:AK199),'Data Validation (hidden)'!$B$2:$C$19,2,FALSE),IF(COUNTA(C199:P199)>0,\"'Scheme Name' missing but values entered in other columns\",\"\"))","v":""},null,false,1,2,3,4,5,6,7,8,9,10,"",12,13,14,15,null,16,0,true,true,false,false,false,false,false,true,true,true,true,false,false,true,true,false]
[null,null,null,null,null,null,null,null,null,null,null,null,null,null,null,null,null,{"$f":"IF(T200,VLOOKUP(MIN(U200:AK200),'Data Validation (hidden)'!$B$2:$C$19,2,FALSE),IF(COUNTA(C200:P200)>0,\"'Scheme Name' missing but values entered in other columns\",\"\"))","v":""},null,{"$f":"B200<>\"\"","v":false},{"$f":"IF(C200=\"\",1,\"\")","v":1},2,3,4,5,6,7,8,9,10,"",{"$f":"IF(M200=\"\",12,\"\")","v":12},{"$f":"IF(N200=\"\",13,\"\")","v":13},{"$f":"IF(O200=\"\",14,\"\")","v":14},{"$f":"IF(P200=\"\",15,\"\")","v":15},null,16,{"$f":"SUM(J200:L200)","v":0},true,true,false,false,false,false,false,true,true,true,true,false,false,{"$f":"IF( CELL(\"format\",O200) = \"F0\",TRUE,FALSE)","v":true},{"$f":"IF( CELL(\"format\",P200) = \"F0\",TRUE,FALSE)","v":true},{"$f":"IF(R200=\"\",FALSE,IF(R200=\"OK\",FALSE,TRUE))","v":false}]
[null,null,null,null,null,null,null,null,null,null,null,null,null,null,null,null,null,{"$f":"IF(T201,VLOOKUP(MIN(U201:AK201),'Data Validation (hidden)'!$B$2:$C$19,2,FALSE),IF(COUNTA(C201:P201)>0,\"'Scheme Name' missing but values entered in other columns\",\"\"))","v":""},null,false,1,{"$f":"IF(D201=\"\",2,\"\")","v":2},{"$f":"IF(E201=\"\",IF(D201=\"Gratuity\",\"\",3),\"\")","v":3},{"$f":"IF(F201=\"\",4,\"\")","v":4},{"$f":"IF(G201=\"\",5,\"\")","v":5},{"$f":"IF(H201=\"\",6,\"\")","v":6},{"$f":"IF(I201=\"\",7,\"\")","v":7},{"$f":"IF(J201=\"\",8,\"\")","v":8},{"$f":"IF(K201=\"\",9,\"\")","v":9},{"$f":"IF(L201=\"\",10,\"\")","v":10},{"$f":"IF((AL201=I201),\"\",11)","v":""},12,13,14,15,null,{"$f":"IF(AND(AM201,AN201,AO201,AP201,AQ201,AR201,AS201,AT201,AU201,AV201,AW201,AX201,AY201,AZ201,BA201)=TRUE,\"\",16)","v":16},0,{"$f":"IF(CELL(\"format\", B201) = \"G\",TRUE,FALSE)","v":true},{"$f":"IF(CELL(\"format\", C201) = \"F0\",TRUE,FALSE)","v":true},{"$f":"OR(D201=\"A\",D201=\"B\",D201=\"C\",D201=\"Gratuity\")","v":false},{"$f":"OR(E201=\"DC\",E201=\"DB\",E201=\"H\",D201=\"Gratuity\")","v":false},{"$f":"OR(F201=\"Occupational\",F201=\"Personal\")","v":false},{"$f":"OR(G201=\"Yes\",G201=\"No\")","v":false},{"$f":"OR(H201=\"MD\",H201=\"PD\",H201=\"TD\",H201=\"MPD\",H201=\"MTD\",H201=\"PTD\",H201=\"MPTD\")","v":false},{"$f":"IF( CELL(\"format\",I201) = \"F0\",TRUE,FALSE)","v":true},{"$f":"IF( CELL(\"format\",J201) = \"F0\",TRUE,FALSE)","v":true},{"$f":"IF( CELL(\"format\",K201) = \"F0\",TRUE,FALSE)","v":true},{"$f":"IF( CELL(\"format\",L201) = \"F0\",TRUE,FALSE)","v":true},{"$f":"OR(M201=\"Yes\",M201=\"No\")","v":false},{"$f":"OR(N201=\"Trustee\",N201=\"Administrator\",N201=\"Both\")","v":false},true,true,false]
[null,null,null,null,null,null,null,null,null,null,null,null,null,null,null,null,null,{"$f":"IF(T202,VLOOKUP(MIN(U202:AK202),'Data Validation (hidden)'!$B$2:$C$19,2,FALSE),IF(COUNTA(C202:P202)>0,\"'Scheme Name' missing but values entered in other columns\",\"\"))","v":""},null,false,1,2,3,4,5,6,7,8,9,10,"",12,13,14,15,null,16,0,true,true,false,false,false,false,false,true,true,true,true,false,false,true,true,false]
[null,null,null,null,null,null,null,null,null,null,null,null,null,null,null,null,null,{"$f":"IF(T203,VLOOKUP(MIN(U203:AK203),'Data Validation (hidden)'!$B$2:$C$19,2,FALSE),IF(COUNTA(C203:P203)>0,\"'Scheme Name' missing but values entered in other columns\",\"\"))","v":""},null,false,1,2,3,4,5,6,7,8,9,10,"",12,13,14,15,null,16,0,true,true,false,false,false,false,false,true,true,true,true,false,false,true,true,false]
[null,null,null,null,null,null,null,null,null,null,null,null,null,null,null,null,null,{"$f":"IF(T204,VLOOKUP(MIN(U204:AK204),'Data Validation (hidden)'!$B$2:$C$19,2,FALSE),IF(COUNTA(C204:P204)>0,\"'Scheme Name' missing but values entered in other columns\",\"\"))","v":""},null,false,1,2,3,4,5,6,7,8,9,10,"",12,13,14,15,null,16,0,true,true,false,false,false,false,false,true,true,true,true,false,false,true,true,false]
[null,null,null,null,null,null,null,null,null,null,null,null,null,null,null,null,null,{"$f":"IF(T205,VLOOKUP(MIN(U205:AK205),'Data Validation (hidden)'!$B$2:$C$19,2,FALSE),IF(COUNTA(C205:P205)>0,\"'Scheme Name' missing but values entered in other columns\",\"\"))","v":""},null,false,1,2,3,4,5,6,7,8,9,10,"",12,13,14,15,null,16,0,true,true,false,false,false,false,false,true,true,true,true,false,false,true,true,false]
[null,null,null,null,null,null,null,null,null,null,null,null,null,null,null,null,null,{"$f":"IF(T206,VLOOKUP(MIN(U206:AK206),'Data Validation (hidden)'!$B$2:$C$19,2,FALSE),IF(COUNTA(C206:P206)>0,\"'Scheme Name' missing but values entered in other columns\",\"\"))","v":""},null,false,1,2,3,4,5,6,7,8,9,10,"",12,13,14,15,null,16,0,true,true,false,false,false,false,false,true,true,true,true,false,false,true,true,false]
[null,null,null,null,null,null,null,null,null,null,null,null,null,null,null,null,null,{"$f":"IF(T207,VLOOKUP(MIN(U207:AK207),'Data Validation (hidden)'!$B$2:$C$19,2,FALSE),IF(COUNTA(C207:P207)>0,\"'Scheme Name' missing but values entered in other columns\",\"\"))","v":""},null,false,1,2,3,4,5,6,7,8,9,10,"",12,13,14,15,null,16,0,true,true,false,false,false,false,false,true,true,true,true,false,false,true,true,false]
[null,null,null,null,null,null,null,null,null,null,null,null,null,null,null,null,null,{"$f":"IF(T208,VLOOKUP(MIN(U208:AK208),'Data Validation (hidden)'!$B$2:$C$19,2,FALSE),IF(COUNTA(C208:P208)>0,\"'Scheme Name' missing but values entered in other columns\",\"\"))","v":""},null,false,1,2,3,4,5,6,7,8,9,10,"",12,13,14,15,null,16,0,true,true,false,false,false,false,false,true,true,true,true,false,false,true,true,false]
[null,null,null,null,null,null,null,null,null,null,null,null,null,null,null,null,null,{"$f":"IF(T209,VLOOKUP(MIN(U209:AK209),'Data Validation (hidden)'!$B$2:$C$19,2,FALSE),IF(COUNTA(C209:P209)>0,\"'Scheme Name' missing but values entered in other columns\",\"\"))","v":""},null,false,1,2,3,4,5,6,7,8,9,10,"",12,13,14,15,null,16,0,true,true,false,false,false,false,false,true,true,true,true,false,false,true,true,false]
[null,null,null,null,null,null,null,null,null,null,null,null,null,null,null,null,null,{"$f":"IF(T210,VLOOKUP(MIN(U210:AK210),'Data Validation (hidden)'!$B$2:$C$19,2,FALSE),IF(COUNTA(C210:P210)>0,\"'Scheme Name' missing but values entered in other columns\",\"\"))","v":""},null,false,1,2,3,4,5,6,7,8,9,10,"",12,13,14,15,null,16,0,true,true,false,false,false,false,false,true,true,true,true,false,false,true,true,false]
[null,null,null,null,null,null,null,null,null,null,null,null,null,null,null,null,null,{"$f":"IF(T211,VLOOKUP(MIN(U211:AK211),'Data Validation (hidden)'!$B$2:$C$19,2,FALSE),IF(COUNTA(C211:P211)>0,\"'Scheme Name' missing but values entered in other columns\",\"\"))","v":""},null,false,1,2,3,4,5,6,7,8,9,10,"",12,13,14,15,null,16,0,true,true,false,false,false,false,false,true,true,true,true,false,false,true,true,false]
[null,null,null,null,null,null,null,null,null,null,null,null,null,null,null,null,null,{"$f":"IF(T212,VLOOKUP(MIN(U212:AK212),'Data Validation (hidden)'!$B$2:$C$19,2,FALSE),IF(COUNTA(C212:P212)>0,\"'Scheme Name' missing but values entered in other columns\",\"\"))","v":""},null,false,1,2,3,4,5,6,7,8,9,10,"",12,13,14,15,null,16,0,true,true,false,false,false,false,false,true,true,true,true,false,false,true,true,false]
[null,null,null,null,null,null,null,null,null,null,null,null,null,null,null,null,null,{"$f":"IF(T213,VLOOKUP(MIN(U213:AK213),'Data Validation (hidden)'!$B$2:$C$19,2,FALSE),IF(COUNTA(C213:P213)>0,\"'Scheme Name' missing but values entered in other columns\",\"\"))","v":""},null,false,1,2,3,4,5,6,7,8,9,10,"",12,13,14,15,null,16,0,true,true,false,false,false,false,false,true,true,true,true,false,false,true,true,false]
[null,null,null,null,null,null,null,null,null,null,null,null,null,null,null,null,null,{"$f":"IF(T214,VLOOKUP(MIN(U214:AK214),'Data Validation (hidden)'!$B$2:$C$19,2,FALSE),IF(COUNTA(C214:P214)>0,\"'Scheme Name' missing but values entered in other columns\",\"\"))","v":""},null,false,1,2,3,4,5,6,7,8,9,10,"",12,13,14,15,null,16,0,true,true,false,false,false,false,false,true,true,true,true,false,false,true,true,false]
[null,null,null,null,null,null,null,null,null,null,null,null,null,null,null,null,null,{"$f":"IF(T215,VLOOKUP(MIN(U215:AK215),'Data Validation (hidden)'!$B$2:$C$19,2,FALSE),IF(COUNTA(C215:P215)>0,\"'Scheme Name' missing but values entered in other columns\",\"\"))","v":""},null,false,1,2,3,4,5,6,7,8,9,10,"",12,13,14,15,null,16,0,true,true,false,false,false,false,false,true,true,true,true,false,false,true,true,false]
[null,null,null,null,null,null,null,null,null,null,null,null,null,null,null,null,null,{"$f":"IF(T216,VLOOKUP(MIN(U216:AK216),'Data Validation (hidden)'!$B$2:$C$19,2,FALSE),IF(COUNTA(C216:P216)>0,\"'Scheme Name' missing but values entered in other columns\",\"\"))","v":""},null,false,1,2,3,4,5,6,7,8,9,10,"",12,13,14,15,null,16,0,true,true,false,false,false,false,false,true,true,true,true,false,false,true,true,false]
[null,null,null,null,null,null,null,null,null,null,null,null,null,null,null,null,null,{"$f":"IF(T217,VLOOKUP(MIN(U217:AK217),'Data Validation (hidden)'!$B$2:$C$19,2,FALSE),IF(COUNTA(C217:P217)>0,\"'Scheme Name' missing but values entered in other columns\",\"\"))","v":""},null,false,1,2,3,4,5,6,7,8,9,10,"",12,13,14,15,null,16,0,true,true,false,false,false,false,false,true,true,true,true,false,false,true,true,false]
[null,null,null,null,null,null,null,null,null,null,null,null,null,null,null,null,null,{"$f":"IF(T218,VLOOKUP(MIN(U218:AK218),'Data Validation (hidden)'!$B$2:$C$19,2,FALSE),IF(COUNTA(C218:P218)>0,\"'Scheme Name' missing but values entered in other columns\",\"\"))","v":""},null,false,1,2,3,4,5,6,7,8,9,10,"",12,13,14,15,null,16,0,true,true,false,false,false,false,false,true,true,true,true,false,false,true,true,false]
[null,null,null,null,null,null,null,null,null,null,null,null,null,null,null,null,null,{"$f":"IF(T219,VLOOKUP(MIN(U219:AK219),'Data Validation (hidden)'!$B$2:$C$19,2,FALSE),IF(COUNTA(C219:P219)>0,\"'Scheme Name' missing but values entered in other columns\",\"\"))","v":""},null,false,1,2,3,4,5,6,7,8,9,10,"",12,13,14,15,null,16,0,true,true,false,false,false,false,false,true,true,true,true,false,false,true,true,false]
[null,null,null,null,null,null,null,null,null,null,null,null,null,null,null,null,null,{"$f":"IF(T220,VLOOKUP(MIN(U220:AK220),'Data Validation (hidden)'!$B$2:$C$19,2,FALSE),IF(COUNTA(C220:P220)>0,\"'Scheme Name' missing but values entered in other columns\",\"\"))","v":""},null,false,1,2,3,4,5,6,7,8,9,10,"",12,13,14,15,null,16,0,true,true,false,false,false,false,false,true,true,true,true,false,false,true,true,false]
[null,null,null,null,null,null,null,null,null,null,null,null,null,null,null,null,null,{"$f":"IF(T221,VLOOKUP(MIN(U221:AK221),'Data Validation (hidden)'!$B$2:$C$19,2,FALSE),IF(COUNTA(C221:P221)>0,\"'Scheme Name' missing but values entered in other columns\",\"\"))","v":""},null,false,1,2,3,4,5,6,7,8,9,10,"",12,13,14,15,null,16,0,true,true,false,false,false,false,false,true,true,true,true,false,false,true,true,false]
[null,null,null,null,null,null,null,null,null,null,null,null,null,null,null,null,null,{"$f":"IF(T222,VLOOKUP(MIN(U222:AK222),'Data Validation (hidden)'!$B$2:$C$19,2,FALSE),IF(COUNTA(C222:P222)>0,\"'Scheme Name' missing but values entered in other columns\",\"\"))","v":""},null,false,1,2,3,4,5,6,7,8,9,10,"",12,13,14,15,null,16,0,true,true,false,false,false,false,false,true,true,true,true,false,false,true,true,false]
[null,null,null,null,null,null,null,null,null,null,null,null,null,null,null,null,null,{"$f":"IF(T223,VLOOKUP(MIN(U223:AK223),'Data Validation (hidden)'!$B$2:$C$19,2,FALSE),IF(COUNTA(C223:P223)>0,\"'Scheme Name' missing but values entered in other columns\",\"\"))","v":""},null,false,1,2,3,4,5,6,7,8,9,10,"",12,13,14,15,null,16,0,true,true,false,false,false,false,false,true,true,true,true,false,false,true,true,false]
[null,null,null,null,null,null,null,null,null,null,null,null,null,null,null,null,null,{"$f":"IF(T224,VLOOKUP(MIN(U224:AK224),'Data Validation (hidden)'!$B$2:$C$19,2,FALSE),IF(COUNTA(C224:P224)>0,\"'Scheme Name' missing but values entered in other columns\",\"\"))","v":""},null,false,1,2,3,4,5,6,7,8,9,10,"",12,13,14,15,null,16,0,true,true,false,false,false,false,false,true,true,true,true,false,false,true,true,false]
[null,null,null,null,null,null,null,null,null,null,null,null,null,null,null,null,null,{"$f":"IF(T225,VLOOKUP(MIN(U225:AK225),'Data Validation (hidden)'!$B$2:$C$19,2,FALSE),IF(COUNTA(C225:P225)>0,\"'Scheme Name' missing but values entered in other columns\",\"\"))","v":""},null,false,1,2,3,4,5,6,7,8,9,10,"",12,13,14,15,null,16,0,true,true,false,false,false,false,false,true,true,true,true,false,false,true,true,false]
[null,null,null,null,null,null,null,null,null,null,null,null,null,null,null,null,null,{"$f":"IF(T226,VLOOKUP(MIN(U226:AK226),'Data Validation (hidden)'!$B$2:$C$19,2,FALSE),IF(COUNTA(C226:P226)>0,\"'Scheme Name' missing but values entered in other columns\",\"\"))","v":""},null,false,1,2,3,4,5,6,7,8,9,10,"",12,13,14,15,null,16,0,true,true,false,false,false,false,false,true,true,true,true,false,false,true,true,false]
[null,null,null,null,null,null,null,null,null,null,null,null,null,null,null,null,null,{"$f":"IF(T227,VLOOKUP(MIN(U227:AK227),'Data Validation (hidden)'!$B$2:$C$19,2,FALSE),IF(COUNTA(C227:P227)>0,\"'Scheme Name' missing but values entered in other columns\",\"\"))","v":""},null,false,1,2,3,4,5,6,7,8,9,10,"",12,13,14,15,null,16,0,true,true,false,false,false,false,false,true,true,true,true,false,false,true,true,false]
[null,null,null,null,null,null,null,null,null,null,null,null,null,null,null,null,null,{"$f":"IF(T228,VLOOKUP(MIN(U228:AK228),'Data Validation (hidden)'!$B$2:$C$19,2,FALSE),IF(COUNTA(C228:P228)>0,\"'Scheme Name' missing but values entered in other columns\",\"\"))","v":""},null,false,1,2,3,4,5,6,7,8,9,10,"",12,13,14,15,null,16,0,true,true,false,false,false,false,false,true,true,true,true,false,false,true,true,false]
[null,null,null,null,null,null,null,null,null,null,null,null,null,null,null,null,null,{"$f":"IF(T229,VLOOKUP(MIN(U229:AK229),'Data Validation (hidden)'!$B$2:$C$19,2,FALSE),IF(COUNTA(C229:P229)>0,\"'Scheme Name' missing but values entered in other columns\",\"\"))","v":""},null,false,1,2,3,4,5,6,7,8,9,10,"",12,13,14,15,null,16,0,true,true,false,false,false,false,false,true,true,true,true,false,false,true,true,false]
[null,null,null,null,null,null,null,null,null,null,null,null,null,null,null,null,null,{"$f":"IF(T230,VLOOKUP(MIN(U230:AK230),'Data Validation (hidden)'!$B$2:$C$19,2,FALSE),IF(COUNTA(C230:P230)>0,\"'Scheme Name' missing but values entered in other columns\",\"\"))","v":""},null,false,1,2,3,4,5,6,7,8,9,10,"",12,13,14,15,null,16,0,true,true,false,false,false,false,false,true,true,true,true,false,false,true,true,false]
[null,null,null,null,null,null,null,null,null,null,null,null,null,null,null,null,null,{"$f":"IF(T231,VLOOKUP(MIN(U231:AK231),'Data Validation (hidden)'!$B$2:$C$19,2,FALSE),IF(COUNTA(C231:P231)>0,\"'Scheme Name' missing but values entered in other columns\",\"\"))","v":""},null,false,1,2,3,4,5,6,7,8,9,10,"",12,13,14,15,null,16,0,true,true,false,false,false,false,false,true,true,true,true,false,false,true,true,false]
[null,null,null,null,null,null,null,null,null,null,null,null,null,null,null,null,null,{"$f":"IF(T232,VLOOKUP(MIN(U232:AK232),'Data Validation (hidden)'!$B$2:$C$19,2,FALSE),IF(COUNTA(C232:P232)>0,\"'Scheme Name' missing but values entered in other columns\",\"\"))","v":""},null,false,1,2,3,4,5,6,7,8,9,10,"",12,13,14,15,null,16,0,true,true,false,false,false,false,false,true,true,true,true,false,false,true,true,false]
[null,null,null,null,null,null,null,null,null,null,null,null,null,null,null,null,null,{"$f":"IF(T233,VLOOKUP(MIN(U233:AK233),'Data Validation (hidden)'!$B$2:$C$19,2,FALSE),IF(COUNTA(C233:P233)>0,\"'Scheme Name' missing but values entered in other columns\",\"\"))","v":""},null,false,1,2,3,4,5,6,7,8,9,10,"",12,13,14,15,null,16,0,true,true,false,false,false,false,false,true,true,true,true,false,false,true,true,false]
[null,null,null,null,null,null,null,null,null,null,null,null,null,null,null,null,null,{"$f":"IF(T234,VLOOKUP(MIN(U234:AK234),'Data Validation (hidden)'!$B$2:$C$19,2,FALSE),IF(COUNTA(C234:P234)>0,\"'Scheme Name' missing but values entered in other columns\",\"\"))","v":""},null,false,1,2,3,4,5,6,7,8,9,10,"",12,13,14,15,null,16,0,true,true,false,false,false,false,false,true,true,true,true,false,false,true,true,false]
[null,null,null,null,null,null,null,null,null,null,null,null,null,null,null,null,null,{"$f":"IF(T235,VLOOKUP(MIN(U235:AK235),'Data Validation (hidden)'!$B$2:$C$19,2,FALSE),IF(COUNTA(C235:P235)>0,\"'Scheme Name' missing but values entered in other columns\",\"\"))","v":""},null,false,1,2,3,4,5,6,7,8,9,10,"",12,13,14,15,null,16,0,true,true,false,false,false,false,false,true,true,true,true,false,false,true,true,false]
[null,null,null,null,null,null,null,null,null,null,null,null,null,null,null,null,null,{"$f":"IF(T236,VLOOKUP(MIN(U236:AK236),'Data Validation (hidden)'!$B$2:$C$19,2,FALSE),IF(COUNTA(C236:P236)>0,\"'Scheme Name' missing but values entered in other columns\",\"\"))","v":""},null,false,1,2,3,4,5,6,7,8,9,10,"",12,13,14,15,null,16,0,true,true,false,false,false,false,false,true,true,true,true,false,false,true,true,false]
[null,null,null,null,null,null,null,null,null,null,null,null,null,null,null,null,null,{"$f":"IF(T237,VLOOKUP(MIN(U237:AK237),'Data Validation (hidden)'!$B$2:$C$19,2,FALSE),IF(COUNTA(C237:P237)>0,\"'Scheme Name' missing but values entered in other columns\",\"\"))","v":""},null,false,1,2,3,4,5,6,7,8,9,10,"",12,13,14,15,null,16,0,true,true,false,false,false,false,false,true,true,true,true,false,false,true,true,false]
[null,null,null,null,null,null,null,null,null,null,null,null,null,null,null,null,null,{"$f":"IF(T238,VLOOKUP(MIN(U238:AK238),'Data Validation (hidden)'!$B$2:$C$19,2,FALSE),IF(COUNTA(C238:P238)>0,\"'Scheme Name' missing but values entered in other columns\",\"\"))","v":""},null,false,1,2,3,4,5,6,7,8,9,10,"",12,13,14,15,null,16,0,true,true,false,false,false,false,false,true,true,true,true,false,false,true,true,false]
[null,null,null,null,null,null,null,null,null,null,null,null,null,null,null,null,null,{"$f":"IF(T239,VLOOKUP(MIN(U239:AK239),'Data Validation (hidden)'!$B$2:$C$19,2,FALSE),IF(COUNTA(C239:P239)>0,\"'Scheme Name' missing but values entered in other columns\",\"\"))","v":""},null,false,1,2,3,4,5,6,7,8,9,10,"",12,13,14,15,null,16,0,true,true,false,false,false,false,false,true,true,true,true,false,false,true,true,false]
[null,null,null,null,null,null,null,null,null,null,null,null,null,null,null,null,null,{"$f":"IF(T240,VLOOKUP(MIN(U240:AK240),'Data Validation (hidden)'!$B$2:$C$19,2,FALSE),IF(COUNTA(C240:P240)>0,\"'Scheme Name' missing but values entered in other columns\",\"\"))","v":""},null,false,1,2,3,4,5,6,7,8,9,10,"",12,13,14,15,null,16,0,true,true,false,false,false,false,false,true,true,true,true,false,false,true,true,false]
[null,null,null,null,null,null,null,null,null,null,null,null,null,null,null,null,null,{"$f":"IF(T241,VLOOKUP(MIN(U241:AK241),'Data Validation (hidden)'!$B$2:$C$19,2,FALSE),IF(COUNTA(C241:P241)>0,\"'Scheme Name' missing but values entered in other columns\",\"\"))","v":""},null,false,1,2,3,4,5,6,7,8,9,10,"",12,13,14,15,null,16,0,true,true,false,false,false,false,false,true,true,true,true,false,false,true,true,false]
[null,null,null,null,null,null,null,null,null,null,null,null,null,null,null,null,null,{"$f":"IF(T242,VLOOKUP(MIN(U242:AK242),'Data Validation (hidden)'!$B$2:$C$19,2,FALSE),IF(COUNTA(C242:P242)>0,\"'Scheme Name' missing but values entered in other columns\",\"\"))","v":""},null,false,1,2,3,4,5,6,7,8,9,10,"",12,13,14,15,null,16,0,true,true,false,false,false,false,false,true,true,true,true,false,false,true,true,false]
[null,null,null,null,null,null,null,null,null,null,null,null,null,null,null,null,null,{"$f":"IF(T243,VLOOKUP(MIN(U243:AK243),'Data Validation (hidden)'!$B$2:$C$19,2,FALSE),IF(COUNTA(C243:P243)>0,\"'Scheme Name' missing but values entered in other columns\",\"\"))","v":""},null,false,1,2,3,4,5,6,7,8,9,10,"",12,13,14,15,null,16,0,true,true,false,false,false,false,false,true,true,true,true,false,false,true,true,false]
[null,null,null,null,null,null,null,null,null,null,null,null,null,null,null,null,null,{"$f":"IF(T244,VLOOKUP(MIN(U244:AK244),'Data Validation (hidden)'!$B$2:$C$19,2,FALSE),IF(COUNTA(C244:P244)>0,\"'Scheme Name' missing but values entered in other columns\",\"\"))","v":""},null,false,1,2,3,4,5,6,7,8,9,10,"",12,13,14,15,null,16,0,true,true,false,false,false,false,false,true,true,true,true,false,false,true,true,false]
[null,null,null,null,null,null,null,null,null,null,null,null,null,null,null,null,null,{"$f":"IF(T245,VLOOKUP(MIN(U245:AK245),'Data Validation (hidden)'!$B$2:$C$19,2,FALSE),IF(COUNTA(C245:P245)>0,\"'Scheme Name' missing but values entered in other columns\",\"\"))","v":""},null,false,1,2,3,4,5,6,7,8,9,10,"",12,13,14,15,null,16,0,true,true,false,false,false,false,false,true,true,true,true,false,false,true,true,false]
[null,null,null,null,null,null,null,null,null,null,null,null,null,null,null,null,null,{"$f":"IF(T246,VLOOKUP(MIN(U246:AK246),'Data Validation (hidden)'!$B$2:$C$19,2,FALSE),IF(COUNTA(C246:P246)>0,\"'Scheme Name' missing but values entered in other columns\",\"\"))","v":""},null,false,1,2,3,4,5,6,7,8,9,10,"",12,13,14,15,null,16,0,true,true,false,false,false,false,false,true,true,true,true,false,false,true,true,false]
[null,null,null,null,null,null,null,null,null,null,null,null,null,null,null,null,null,{"$f":"IF(T247,VLOOKUP(MIN(U247:AK247),'Data Validation (hidden)'!$B$2:$C$19,2,FALSE),IF(COUNTA(C247:P247)>0,\"'Scheme Name' missing but values entered in other columns\",\"\"))","v":""},null,false,1,2,3,4,5,6,7,8,9,10,"",12,13,14,15,null,16,0,true,true,false,false,false,false,false,true,true,true,true,false,false,true,true,false]
[null,null,null,null,null,null,null,null,null,null,null,null,null,null,null,null,null,{"$f":"IF(T248,VLOOKUP(MIN(U248:AK248),'Data Validation (hidden)'!$B$2:$C$19,2,FALSE),IF(COUNTA(C248:P248)>0,\"'Scheme Name' missing but values entered in other columns\",\"\"))","v":""},null,false,1,2,3,4,5,6,7,8,9,10,"",12,13,14,15,null,16,0,true,true,false,false,false,false,false,true,true,true,true,false,false,true,true,false]
[null,null,null,null,null,null,null,null,null,null,null,null,null,null,null,null,null,{"$f":"IF(T249,VLOOKUP(MIN(U249:AK249),'Data Validation (hidden)'!$B$2:$C$19,2,FALSE),IF(COUNTA(C249:P249)>0,\"'Scheme Name' missing but values entered in other columns\",\"\"))","v":""},null,false,1,2,3,4,5,6,7,8,9,10,"",12,13,14,15,null,16,0,true,true,false,false,false,false,false,true,true,true,true,false,false,true,true,false]
[null,null,null,null,null,null,null,null,null,null,null,null,null,null,null,null,null,{"$f":"IF(T250,VLOOKUP(MIN(U250:AK250),'Data Validation (hidden)'!$B$2:$C$19,2,FALSE),IF(COUNTA(C250:P250)>0,\"'Scheme Name' missing but values entered in other columns\",\"\"))","v":""},null,false,1,2,3,4,5,6,7,8,9,10,"",12,13,14,15,null,16,0,true,true,false,false,false,false,false,true,true,true,true,false,false,true,true,false]
[null,null,null,null,null,null,null,null,null,null,null,null,null,null,null,null,null,{"$f":"IF(T251,VLOOKUP(MIN(U251:AK251),'Data Validation (hidden)'!$B$2:$C$19,2,FALSE),IF(COUNTA(C251:P251)>0,\"'Scheme Name' missing but values entered in other columns\",\"\"))","v":""},null,false,1,2,3,4,5,6,7,8,9,10,"",12,13,14,15,null,16,0,true,true,false,false,false,false,false,true,true,true,true,false,false,true,true,false]
[null,null,null,null,null,null,null,null,null,null,null,null,null,null,null,null,null,{"$f":"IF(T252,VLOOKUP(MIN(U252:AK252),'Data Validation (hidden)'!$B$2:$C$19,2,FALSE),IF(COUNTA(C252:P252)>0,\"'Scheme Name' missing but values entered in other columns\",\"\"))","v":""},null,false,1,2,3,4,5,6,7,8,9,10,"",12,13,14,15,null,16,0,true,true,false,false,false,false,false,true,true,true,true,false,false,true,true,false]
[null,null,null,null,null,null,null,null,null,null,null,null,null,null,null,null,null,{"$f":"IF(T253,VLOOKUP(MIN(U253:AK253),'Data Validation (hidden)'!$B$2:$C$19,2,FALSE),IF(COUNTA(C253:P253)>0,\"'Scheme Name' missing but values entered in other columns\",\"\"))","v":""},null,false,1,2,3,4,5,6,7,8,9,10,"",12,13,14,15,null,16,0,true,true,false,false,false,false,false,true,true,true,true,false,false,true,true,false]
[null,null,null,null,null,null,null,null,null,null,null,null,null,null,null,null,null,{"$f":"IF(T254,VLOOKUP(MIN(U254:AK254),'Data Validation (hidden)'!$B$2:$C$19,2,FALSE),IF(COUNTA(C254:P254)>0,\"'Scheme Name' missing but values entered in other columns\",\"\"))","v":""},null,false,1,2,3,4,5,6,7,8,9,10,"",12,13,14,15,null,16,0,true,true,false,false,false,false,false,true,true,true,true,false,false,true,true,false]
[null,null,null,null,null,null,null,null,null,null,null,null,null,null,null,null,null,{"$f":"IF(T255,VLOOKUP(MIN(U255:AK255),'Data Validation (hidden)'!$B$2:$C$19,2,FALSE),IF(COUNTA(C255:P255)>0,\"'Scheme Name' missing but values entered in other columns\",\"\"))","v":""},null,false,1,2,3,4,5,6,7,8,9,10,"",12,13,14,15,null,16,0,true,true,false,false,false,false,false,true,true,true,true,false,false,true,true,false]
[null,null,null,null,null,null,null,null,null,null,null,null,null,null,null,null,null,{"$f":"IF(T256,VLOOKUP(MIN(U256:AK256),'Data Validation (hidden)'!$B$2:$C$19,2,FALSE),IF(COUNTA(C256:P256)>0,\"'Scheme Name' missing but values entered in other columns\",\"\"))","v":""},null,false,1,2,3,4,5,6,7,8,9,10,"",12,13,14,15,null,16,0,true,true,false,false,false,false,false,true,true,true,true,false,false,true,true,false]
[null,null,null,null,null,null,null,null,null,null,null,null,null,null,null,null,null,{"$f":"IF(T257,VLOOKUP(MIN(U257:AK257),'Data Validation (hidden)'!$B$2:$C$19,2,FALSE),IF(COUNTA(C257:P257)>0,\"'Scheme Name' missing but values entered in other columns\",\"\"))","v":""},null,false,1,2,3,4,5,6,7,8,9,10,"",12,13,14,15,null,16,0,true,true,false,false,false,false,false,true,true,true,true,false,false,true,true,false]
[null,null,null,null,null,null,null,null,null,null,null,null,null,null,null,null,null,{"$f":"IF(T258,VLOOKUP(MIN(U258:AK258),'Data Validation (hidden)'!$B$2:$C$19,2,FALSE),IF(COUNTA(C258:P258)>0,\"'Scheme Name' missing but values entered in other columns\",\"\"))","v":""},null,false,1,2,3,4,5,6,7,8,9,10,"",12,13,14,15,null,16,0,true,true,false,false,false,false,false,true,true,true,true,false,false,true,true,false]
[null,null,null,null,null,null,null,null,null,null,null,null,null,null,null,null,null,{"$f":"IF(T259,VLOOKUP(MIN(U259:AK259),'Data Validation (hidden)'!$B$2:$C$19,2,FALSE),IF(COUNTA(C259:P259)>0,\"'Scheme Name' missing but values entered in other columns\",\"\"))","v":""},null,false,1,2,3,4,5,6,7,8,9,10,"",12,13,14,15,null,16,0,true,true,false,false,false,false,false,true,true,true,true,false,false,true,true,false]
[null,null,null,null,null,null,null,null,null,null,null,null,null,null,null,null,null,{"$f":"IF(T260,VLOOKUP(MIN(U260:AK260),'Data Validation (hidden)'!$B$2:$C$19,2,FALSE),IF(COUNTA(C260:P260)>0,\"'Scheme Name' missing but values entered in other columns\",\"\"))","v":""},null,false,1,2,3,4,5,6,7,8,9,10,"",12,13,14,15,null,16,0,true,true,false,false,false,false,false,true,true,true,true,false,false,true,true,false]
[null,null,null,null,null,null,null,null,null,null,null,null,null,null,null,null,null,{"$f":"IF(T261,VLOOKUP(MIN(U261:AK261),'Data Validation (hidden)'!$B$2:$C$19,2,FALSE),IF(COUNTA(C261:P261)>0,\"'Scheme Name' missing but values entered in other columns\",\"\"))","v":""},null,false,1,2,3,4,5,6,7,8,9,10,"",12,13,14,15,null,16,0,true,true,false,false,false,false,false,true,true,true,true,false,false,true,true,false]
[null,null,null,null,null,null,null,null,null,null,null,null,null,null,null,null,null,{"$f":"IF(T262,VLOOKUP(MIN(U262:AK262),'Data Validation (hidden)'!$B$2:$C$19,2,FALSE),IF(COUNTA(C262:P262)>0,\"'Scheme Name' missing but values entered in other columns\",\"\"))","v":""},null,false,1,2,3,4,5,6,7,8,9,10,"",12,13,14,15,null,16,0,true,true,false,false,false,false,false,true,true,true,true,false,false,true,true,false]
[null,null,null,null,null,null,null,null,null,null,null,null,null,null,null,null,null,{"$f":"IF(T263,VLOOKUP(MIN(U263:AK263),'Data Validation (hidden)'!$B$2:$C$19,2,FALSE),IF(COUNTA(C263:P263)>0,\"'Scheme Name' missing but values entered in other columns\",\"\"))","v":""},null,false,1,2,3,4,5,6,7,8,9,10,"",12,13,14,15,null,16,0,true,true,false,false,false,false,false,true,true,true,true,false,false,true,true,false]
[null,null,null,null,null,null,null,null,null,null,null,null,null,null,null,null,null,{"$f":"IF(T264,VLOOKUP(MIN(U264:AK264),'Data Validation (hidden)'!$B$2:$C$19,2,FALSE),IF(COUNTA(C264:P264)>0,\"'Scheme Name' missing but values entered in other columns\",\"\"))","v":""},null,{"$f":"B264<>\"\"","v":false},{"$f":"IF(C264=\"\",1,\"\")","v":1},2,3,4,5,6,7,8,9,10,"",{"$f":"IF(M264=\"\",12,\"\")","v":12},{"$f":"IF(N264=\"\",13,\"\")","v":13},{"$f":"IF(O264=\"\",14,\"\")","v":14},{"$f":"IF(P264=\"\",15,\"\")","v":15},null,16,{"$f":"SUM(J264:L264)","v":0},true,true,false,false,false,false,false,true,true,true,true,false,false,{"$f":"IF( CELL(\"format\",O264) = \"F0\",TRUE,FALSE)","v":true},{"$f":"IF( CELL(\"format\",P264) = \"F0\",TRUE,FALSE)","v":true},{"$f":"IF(R264=\"\",FALSE,IF(R264=\"OK\",FALSE,TRUE))","v":false}]
[null,null,null,null,null,null,null,null,null,null,null,null,null,null,null,null,null,{"$f":"IF(T265,VLOOKUP(MIN(U265:AK265),'Data Validation (hidden)'!$B$2:$C$19,2,FALSE),IF(COUNTA(C265:P265)>0,\"'Scheme Name' missing but values entered in other columns\",\"\"))","v":""},null,false,1,{"$f":"IF(D265=\"\",2,\"\")","v":2},{"$f":"IF(E265=\"\",IF(D265=\"Gratuity\",\"\",3),\"\")","v":3},{"$f":"IF(F265=\"\",4,\"\")","v":4},{"$f":"IF(G265=\"\",5,\"\")","v":5},{"$f":"IF(H265=\"\",6,\"\")","v":6},{"$f":"IF(I265=\"\",7,\"\")","v":7},{"$f":"IF(J265=\"\",8,\"\")","v":8},{"$f":"IF(K265=\"\",9,\"\")","v":9},{"$f":"IF(L265=\"\",10,\"\")","v":10},{"$f":"IF((AL265=I265),\"\",11)","v":""},12,13,14,15,null,{"$f":"IF(AND(AM265,AN265,AO265,AP265,AQ265,AR265,AS265,AT265,AU265,AV265,AW265,AX265,AY265,AZ265,BA265)=TRUE,\"\",16)","v":16},0,{"$f":"IF(CELL(\"format\", B265) = \"G\",TRUE,FALSE)","v":true},{"$f":"IF(CELL(\"format\", C265) = \"F0\",TRUE,FALSE)","v":true},{"$f":"OR(D265=\"A\",D265=\"B\",D265=\"C\",D265=\"Gratuity\")","v":false},{"$f":"OR(E265=\"DC\",E265=\"DB\",E265=\"H\",D265=\"Gratuity\")","v":false},{"$f":"OR(F265=\"Occupational\",F265=\"Personal\")","v":false},{"$f":"OR(G265=\"Yes\",G265=\"No\")","v":false},{"$f":"OR(H265=\"MD\",H265=\"PD\",H265=\"TD\",H265=\"MPD\",H265=\"MTD\",H265=\"PTD\",H265=\"MPTD\")","v":false},{"$f":"IF( CELL(\"format\",I265) = \"F0\",TRUE,FALSE)","v":true},{"$f":"IF( CELL(\"format\",J265) = \"F0\",TRUE,FALSE)","v":true},{"$f":"IF( CELL(\"format\",K265) = \"F0\",TRUE,FALSE)","v":true},{"$f":"IF( CELL(\"format\",L265) = \"F0\",TRUE,FALSE)","v":true},{"$f":"OR(M265=\"Yes\",M265=\"No\")","v":false},{"$f":"OR(N265=\"Trustee\",N265=\"Administrator\",N265=\"Both\")","v":false},true,true,false]
[null,null,null,null,null,null,null,null,null,null,null,null,null,null,null,null,null,{"$f":"IF(T266,VLOOKUP(MIN(U266:AK266),'Data Validation (hidden)'!$B$2:$C$19,2,FALSE),IF(COUNTA(C266:P266)>0,\"'Scheme Name' missing but values entered in other columns\",\"\"))","v":""},null,false,1,2,3,4,5,6,7,8,9,10,"",12,13,14,15,null,16,0,true,true,false,false,false,false,false,true,true,true,true,false,false,true,true,false]
[null,null,null,null,null,null,null,null,null,null,null,null,null,null,null,null,null,{"$f":"IF(T267,VLOOKUP(MIN(U267:AK267),'Data Validation (hidden)'!$B$2:$C$19,2,FALSE),IF(COUNTA(C267:P267)>0,\"'Scheme Name' missing but values entered in other columns\",\"\"))","v":""},null,false,1,2,3,4,5,6,7,8,9,10,"",12,13,14,15,null,16,0,true,true,false,false,false,false,false,true,true,true,true,false,false,true,true,false]
[null,null,null,null,null,null,null,null,null,null,null,null,null,null,null,null,null,{"$f":"IF(T268,VLOOKUP(MIN(U268:AK268),'Data Validation (hidden)'!$B$2:$C$19,2,FALSE),IF(COUNTA(C268:P268)>0,\"'Scheme Name' missing but values entered in other columns\",\"\"))","v":""},null,false,1,2,3,4,5,6,7,8,9,10,"",12,13,14,15,null,16,0,true,true,false,false,false,false,false,true,true,true,true,false,false,true,true,false]
[null,null,null,null,null,null,null,null,null,null,null,null,null,null,null,null,null,{"$f":"IF(T269,VLOOKUP(MIN(U269:AK269),'Data Validation (hidden)'!$B$2:$C$19,2,FALSE),IF(COUNTA(C269:P269)>0,\"'Scheme Name' missing but values entered in other columns\",\"\"))","v":""},null,false,1,2,3,4,5,6,7,8,9,10,"",12,13,14,15,null,16,0,true,true,false,false,false,false,false,true,true,true,true,false,false,true,true,false]
[null,null,null,null,null,null,null,null,null,null,null,null,null,null,null,null,null,{"$f":"IF(T270,VLOOKUP(MIN(U270:AK270),'Data Validation (hidden)'!$B$2:$C$19,2,FALSE),IF(COUNTA(C270:P270)>0,\"'Scheme Name' missing but values entered in other columns\",\"\"))","v":""},null,false,1,2,3,4,5,6,7,8,9,10,"",12,13,14,15,null,16,0,true,true,false,false,false,false,false,true,true,true,true,false,false,true,true,false]
[null,null,null,null,null,null,null,null,null,null,null,null,null,null,null,null,null,{"$f":"IF(T271,VLOOKUP(MIN(U271:AK271),'Data Validation (hidden)'!$B$2:$C$19,2,FALSE),IF(COUNTA(C271:P271)>0,\"'Scheme Name' missing but values entered in other columns\",\"\"))","v":""},null,false,1,2,3,4,5,6,7,8,9,10,"",12,13,14,15,null,16,0,true,true,false,false,false,false,false,true,true,true,true,false,false,true,true,false]
[null,null,null,null,null,null,null,null,null,null,null,null,null,null,null,null,null,{"$f":"IF(T272,VLOOKUP(MIN(U272:AK272),'Data Validation (hidden)'!$B$2:$C$19,2,FALSE),IF(COUNTA(C272:P272)>0,\"'Scheme Name' missing but values entered in other columns\",\"\"))","v":""},null,false,1,2,3,4,5,6,7,8,9,10,"",12,13,14,15,null,16,0,true,true,false,false,false,false,false,true,true,true,true,false,false,true,true,false]
[null,null,null,null,null,null,null,null,null,null,null,null,null,null,null,null,null,{"$f":"IF(T273,VLOOKUP(MIN(U273:AK273),'Data Validation (hidden)'!$B$2:$C$19,2,FALSE),IF(COUNTA(C273:P273)>0,\"'Scheme Name' missing but values entered in other columns\",\"\"))","v":""},null,false,1,2,3,4,5,6,7,8,9,10,"",12,13,14,15,null,16,0,true,true,false,false,false,false,false,true,true,true,true,false,false,true,true,false]
[null,null,null,null,null,null,null,null,null,null,null,null,null,null,null,null,null,{"$f":"IF(T274,VLOOKUP(MIN(U274:AK274),'Data Validation (hidden)'!$B$2:$C$19,2,FALSE),IF(COUNTA(C274:P274)>0,\"'Scheme Name' missing but values entered in other columns\",\"\"))","v":""},null,false,1,2,3,4,5,6,7,8,9,10,"",12,13,14,15,null,16,0,true,true,false,false,false,false,false,true,true,true,true,false,false,true,true,false]
[null,null,null,null,null,null,null,null,null,null,null,null,null,null,null,null,null,{"$f":"IF(T275,VLOOKUP(MIN(U275:AK275),'Data Validation (hidden)'!$B$2:$C$19,2,FALSE),IF(COUNTA(C275:P275)>0,\"'Scheme Name' missing but values entered in other columns\",\"\"))","v":""},null,false,1,2,3,4,5,6,7,8,9,10,"",12,13,14,15,null,16,0,true,true,false,false,false,false,false,true,true,true,true,false,false,true,true,false]
[null,null,null,null,null,null,null,null,null,null,null,null,null,null,null,null,null,{"$f":"IF(T276,VLOOKUP(MIN(U276:AK276),'Data Validation (hidden)'!$B$2:$C$19,2,FALSE),IF(COUNTA(C276:P276)>0,\"'Scheme Name' missing but values entered in other columns\",\"\"))","v":""},null,false,1,2,3,4,5,6,7,8,9,10,"",12,13,14,15,null,16,0,true,true,false,false,false,false,false,true,true,true,true,false,false,true,true,false]
[null,null,null,null,null,null,null,null,null,null,null,null,null,null,null,null,null,{"$f":"IF(T277,VLOOKUP(MIN(U277:AK277),'Data Validation (hidden)'!$B$2:$C$19,2,FALSE),IF(COUNTA(C277:P277)>0,\"'Scheme Name' missing but values entered in other columns\",\"\"))","v":""},null,false,1,2,3,4,5,6,7,8,9,10,"",12,13,14,15,null,16,0,true,true,false,false,false,false,false,true,true,true,true,false,false,true,true,false]
[null,null,null,null,null,null,null,null,null,null,null,null,null,null,null,null,null,{"$f":"IF(T278,VLOOKUP(MIN(U278:AK278),'Data Validation (hidden)'!$B$2:$C$19,2,FALSE),IF(COUNTA(C278:P278)>0,\"'Scheme Name' missing but values entered in other columns\",\"\"))","v":""},null,false,1,2,3,4,5,6,7,8,9,10,"",12,13,14,15,null,16,0,true,true,false,false,false,false,false,true,true,true,true,false,false,true,true,false]
[null,null,null,null,null,null,null,null,null,null,null,null,null,null,null,null,null,{"$f":"IF(T279,VLOOKUP(MIN(U279:AK279),'Data Validation (hidden)'!$B$2:$C$19,2,FALSE),IF(COUNTA(C279:P279)>0,\"'Scheme Name' missing but values entered in other columns\",\"\"))","v":""},null,false,1,2,3,4,5,6,7,8,9,10,"",12,13,14,15,null,16,0,true,true,false,false,false,false,false,true,true,true,true,false,false,true,true,false]
[null,null,null,null,null,null,null,null,null,null,null,null,null,null,null,null,null,{"$f":"IF(T280,VLOOKUP(MIN(U280:AK280),'Data Validation (hidden)'!$B$2:$C$19,2,FALSE),IF(COUNTA(C280:P280)>0,\"'Scheme Name' missing but values entered in other columns\",\"\"))","v":""},null,false,1,2,3,4,5,6,7,8,9,10,"",12,13,14,15,null,16,0,true,true,false,false,false,false,false,true,true,true,true,false,false,true,true,false]
[null,null,null,null,null,null,null,null,null,null,null,null,null,null,null,null,null,{"$f":"IF(T281,VLOOKUP(MIN(U281:AK281),'Data Validation (hidden)'!$B$2:$C$19,2,FALSE),IF(COUNTA(C281:P281)>0,\"'Scheme Name' missing but values entered in other columns\",\"\"))","v":""},null,false,1,2,3,4,5,6,7,8,9,10,"",12,13,14,15,null,16,0,true,true,false,false,false,false,false,true,true,true,true,false,false,true,true,false]
[null,null,null,null,null,null,null,null,null,null,null,null,null,null,null,null,null,{"$f":"IF(T282,VLOOKUP(MIN(U282:AK282),'Data Validation (hidden)'!$B$2:$C$19,2,FALSE),IF(COUNTA(C282:P282)>0,\"'Scheme Name' missing but values entered in other columns\",\"\"))","v":""},null,false,1,2,3,4,5,6,7,8,9,10,"",12,13,14,15,null,16,0,true,true,false,false,false,false,false,true,true,true,true,false,false,true,true,false]
[null,null,null,null,null,null,null,null,null,null,null,null,null,null,null,null,null,{"$f":"IF(T283,VLOOKUP(MIN(U283:AK283),'Data Validation (hidden)'!$B$2:$C$19,2,FALSE),IF(COUNTA(C283:P283)>0,\"'Scheme Name' missing but values entered in other columns\",\"\"))","v":""},null,false,1,2,3,4,5,6,7,8,9,10,"",12,13,14,15,null,16,0,true,true,false,false,false,false,false,true,true,true,true,false,false,true,true,false]
[null,null,null,null,null,null,null,null,null,null,null,null,null,null,null,null,null,{"$f":"IF(T284,VLOOKUP(MIN(U284:AK284),'Data Validation (hidden)'!$B$2:$C$19,2,FALSE),IF(COUNTA(C284:P284)>0,\"'Scheme Name' missing but values entered in other columns\",\"\"))","v":""},null,false,1,2,3,4,5,6,7,8,9,10,"",12,13,14,15,null,16,0,true,true,false,false,false,false,false,true,true,true,true,false,false,true,true,false]
[null,null,null,null,null,null,null,null,null,null,null,null,null,null,null,null,null,{"$f":"IF(T285,VLOOKUP(MIN(U285:AK285),'Data Validation (hidden)'!$B$2:$C$19,2,FALSE),IF(COUNTA(C285:P285)>0,\"'Scheme Name' missing but values entered in other columns\",\"\"))","v":""},null,false,1,2,3,4,5,6,7,8,9,10,"",12,13,14,15,null,16,0,true,true,false,false,false,false,false,true,true,true,true,false,false,true,true,false]
[null,null,null,null,null,null,null,null,null,null,null,null,null,null,null,null,null,{"$f":"IF(T286,VLOOKUP(MIN(U286:AK286),'Data Validation (hidden)'!$B$2:$C$19,2,FALSE),IF(COUNTA(C286:P286)>0,\"'Scheme Name' missing but values entered in other columns\",\"\"))","v":""},null,false,1,2,3,4,5,6,7,8,9,10,"",12,13,14,15,null,16,0,true,true,false,false,false,false,false,true,true,true,true,false,false,true,true,false]
[null,null,null,null,null,null,null,null,null,null,null,null,null,null,null,null,null,{"$f":"IF(T287,VLOOKUP(MIN(U287:AK287),'Data Validation (hidden)'!$B$2:$C$19,2,FALSE),IF(COUNTA(C287:P287)>0,\"'Scheme Name' missing but values entered in other columns\",\"\"))","v":""},null,false,1,2,3,4,5,6,7,8,9,10,"",12,13,14,15,null,16,0,true,true,false,false,false,false,false,true,true,true,true,false,false,true,true,false]
[null,null,null,null,null,null,null,null,null,null,null,null,null,null,null,null,null,{"$f":"IF(T288,VLOOKUP(MIN(U288:AK288),'Data Validation (hidden)'!$B$2:$C$19,2,FALSE),IF(COUNTA(C288:P288)>0,\"'Scheme Name' missing but values entered in other columns\",\"\"))","v":""},null,false,1,2,3,4,5,6,7,8,9,10,"",12,13,14,15,null,16,0,true,true,false,false,false,false,false,true,true,true,true,false,false,true,true,false]
[null,null,null,null,null,null,null,null,null,null,null,null,null,null,null,null,null,{"$f":"IF(T289,VLOOKUP(MIN(U289:AK289),'Data Validation (hidden)'!$B$2:$C$19,2,FALSE),IF(COUNTA(C289:P289)>0,\"'Scheme Name' missing but values entered in other columns\",\"\"))","v":""},null,false,1,2,3,4,5,6,7,8,9,10,"",12,13,14,15,null,16,0,true,true,false,false,false,false,false,true,true,true,true,false,false,true,true,false]
[null,null,null,null,null,null,null,null,null,null,null,null,null,null,null,null,null,{"$f":"IF(T290,VLOOKUP(MIN(U290:AK290),'Data Validation (hidden)'!$B$2:$C$19,2,FALSE),IF(COUNTA(C290:P290)>0,\"'Scheme Name' missing but values entered in other columns\",\"\"))","v":""},null,false,1,2,3,4,5,6,7,8,9,10,"",12,13,14,15,null,16,0,true,true,false,false,false,false,false,true,true,true,true,false,false,true,true,false]
[null,null,null,null,null,null,null,null,null,null,null,null,null,null,null,null,null,{"$f":"IF(T291,VLOOKUP(MIN(U291:AK291),'Data Validation (hidden)'!$B$2:$C$19,2,FALSE),IF(COUNTA(C291:P291)>0,\"'Scheme Name' missing but values entered in other columns\",\"\"))","v":""},null,false,1,2,3,4,5,6,7,8,9,10,"",12,13,14,15,null,16,0,true,true,false,false,false,false,false,true,true,true,true,false,false,true,true,false]
[null,null,null,null,null,null,null,null,null,null,null,null,null,null,null,null,null,{"$f":"IF(T292,VLOOKUP(MIN(U292:AK292),'Data Validation (hidden)'!$B$2:$C$19,2,FALSE),IF(COUNTA(C292:P292)>0,\"'Scheme Name' missing but values entered in other columns\",\"\"))","v":""},null,false,1,2,3,4,5,6,7,8,9,10,"",12,13,14,15,null,16,0,true,true,false,false,false,false,false,true,true,true,true,false,false,true,true,false]
[null,null,null,null,null,null,null,null,null,null,null,null,null,null,null,null,null,{"$f":"IF(T293,VLOOKUP(MIN(U293:AK293),'Data Validation (hidden)'!$B$2:$C$19,2,FALSE),IF(COUNTA(C293:P293)>0,\"'Scheme Name' missing but values entered in other columns\",\"\"))","v":""},null,false,1,2,3,4,5,6,7,8,9,10,"",12,13,14,15,null,16,0,true,true,false,false,false,false,false,true,true,true,true,false,false,true,true,false]
[null,null,null,null,null,null,null,null,null,null,null,null,null,null,null,null,null,{"$f":"IF(T294,VLOOKUP(MIN(U294:AK294),'Data Validation (hidden)'!$B$2:$C$19,2,FALSE),IF(COUNTA(C294:P294)>0,\"'Scheme Name' missing but values entered in other columns\",\"\"))","v":""},null,false,1,2,3,4,5,6,7,8,9,10,"",12,13,14,15,null,16,0,true,true,false,false,false,false,false,true,true,true,true,false,false,true,true,false]
[null,null,null,null,null,null,null,null,null,null,null,null,null,null,null,null,null,{"$f":"IF(T295,VLOOKUP(MIN(U295:AK295),'Data Validation (hidden)'!$B$2:$C$19,2,FALSE),IF(COUNTA(C295:P295)>0,\"'Scheme Name' missing but values entered in other columns\",\"\"))","v":""},null,false,1,2,3,4,5,6,7,8,9,10,"",12,13,14,15,null,16,0,true,true,false,false,false,false,false,true,true,true,true,false,false,true,true,false]
[null,null,null,null,null,null,null,null,null,null,null,null,null,null,null,null,null,{"$f":"IF(T296,VLOOKUP(MIN(U296:AK296),'Data Validation (hidden)'!$B$2:$C$19,2,FALSE),IF(COUNTA(C296:P296)>0,\"'Scheme Name' missing but values entered in other columns\",\"\"))","v":""},null,false,1,2,3,4,5,6,7,8,9,10,"",12,13,14,15,null,16,0,true,true,false,false,false,false,false,true,true,true,true,false,false,true,true,false]
[null,null,null,null,null,null,null,null,null,null,null,null,null,null,null,null,null,{"$f":"IF(T297,VLOOKUP(MIN(U297:AK297),'Data Validation (hidden)'!$B$2:$C$19,2,FALSE),IF(COUNTA(C297:P297)>0,\"'Scheme Name' missing but values entered in other columns\",\"\"))","v":""},null,false,1,2,3,4,5,6,7,8,9,10,"",12,13,14,15,null,16,0,true,true,false,false,false,false,false,true,true,true,true,false,false,true,true,false]
[null,null,null,null,null,null,null,null,null,null,null,null,null,null,null,null,null,{"$f":"IF(T298,VLOOKUP(MIN(U298:AK298),'Data Validation (hidden)'!$B$2:$C$19,2,FALSE),IF(COUNTA(C298:P298)>0,\"'Scheme Name' missing but values entered in other columns\",\"\"))","v":""},null,false,1,2,3,4,5,6,7,8,9,10,"",12,13,14,15,null,16,0,true,true,false,false,false,false,false,true,true,true,true,false,false,true,true,false]
[null,null,null,null,null,null,null,null,null,null,null,null,null,null,null,null,null,{"$f":"IF(T299,VLOOKUP(MIN(U299:AK299),'Data Validation (hidden)'!$B$2:$C$19,2,FALSE),IF(COUNTA(C299:P299)>0,\"'Scheme Name' missing but values entered in other columns\",\"\"))","v":""},null,false,1,2,3,4,5,6,7,8,9,10,"",12,13,14,15,null,16,0,true,true,false,false,false,false,false,true,true,true,true,false,false,true,true,false]
[null,null,null,null,null,null,null,null,null,null,null,null,null,null,null,null,null,{"$f":"IF(T300,VLOOKUP(MIN(U300:AK300),'Data Validation (hidden)'!$B$2:$C$19,2,FALSE),IF(COUNTA(C300:P300)>0,\"'Scheme Name' missing but values entered in other columns\",\"\"))","v":""},null,false,1,2,3,4,5,6,7,8,9,10,"",12,13,14,15,null,16,0,true,true,false,false,false,false,false,true,true,true,true,false,false,true,true,false]
[null,null,null,null,null,null,null,null,null,null,null,null,null,null,null,null,null,{"$f":"IF(T301,VLOOKUP(MIN(U301:AK301),'Data Validation (hidden)'!$B$2:$C$19,2,FALSE),IF(COUNTA(C301:P301)>0,\"'Scheme Name' missing but values entered in other columns\",\"\"))","v":""},null,false,1,2,3,4,5,6,7,8,9,10,"",12,13,14,15,null,16,0,true,true,false,false,false,false,false,true,true,true,true,false,false,true,true,false]
[null,null,null,null,null,null,null,null,null,null,null,null,null,null,null,null,null,{"$f":"IF(T302,VLOOKUP(MIN(U302:AK302),'Data Validation (hidden)'!$B$2:$C$19,2,FALSE),IF(COUNTA(C302:P302)>0,\"'Scheme Name' missing but values entered in other columns\",\"\"))","v":""},null,false,1,2,3,4,5,6,7,8,9,10,"",12,13,14,15,null,16,0,true,true,false,false,false,false,false,true,true,true,true,false,false,true,true,false]
[null,null,null,null,null,null,null,null,null,null,null,null,null,null,null,null,null,{"$f":"IF(T303,VLOOKUP(MIN(U303:AK303),'Data Validation (hidden)'!$B$2:$C$19,2,FALSE),IF(COUNTA(C303:P303)>0,\"'Scheme Name' missing but values entered in other columns\",\"\"))","v":""},null,false,1,2,3,4,5,6,7,8,9,10,"",12,13,14,15,null,16,0,true,true,false,false,false,false,false,true,true,true,true,false,false,true,true,false]
[null,null,null,null,null,null,null,null,null,null,null,null,null,null,null,null,null,{"$f":"IF(T304,VLOOKUP(MIN(U304:AK304),'Data Validation (hidden)'!$B$2:$C$19,2,FALSE),IF(COUNTA(C304:P304)>0,\"'Scheme Name' missing but values entered in other columns\",\"\"))","v":""},null,false,1,2,3,4,5,6,7,8,9,10,"",12,13,14,15,null,16,0,true,true,false,false,false,false,false,true,true,true,true,false,false,true,true,false]
[null,null,null,null,null,null,null,null,null,null,null,null,null,null,null,null,null,{"$f":"IF(T305,VLOOKUP(MIN(U305:AK305),'Data Validation (hidden)'!$B$2:$C$19,2,FALSE),IF(COUNTA(C305:P305)>0,\"'Scheme Name' missing but values entered in other columns\",\"\"))","v":""},null,false,1,2,3,4,5,6,7,8,9,10,"",12,13,14,15,null,16,0,true,true,false,false,false,false,false,true,true,true,true,false,false,true,true,false]
[null,null,null,null,null,null,null,null,null,null,null,null,null,null,null,null,null,{"$f":"IF(T306,VLOOKUP(MIN(U306:AK306),'Data Validation (hidden)'!$B$2:$C$19,2,FALSE),IF(COUNTA(C306:P306)>0,\"'Scheme Name' missing but values entered in other columns\",\"\"))","v":""},null,false,1,2,3,4,5,6,7,8,9,10,"",12,13,14,15,null,16,0,true,true,false,false,false,false,false,true,true,true,true,false,false,true,true,false]
[null,null,null,null,null,null,null,null,null,null,null,null,null,null,null,null,null,{"$f":"IF(T307,VLOOKUP(MIN(U307:AK307),'Data Validation (hidden)'!$B$2:$C$19,2,FALSE),IF(COUNTA(C307:P307)>0,\"'Scheme Name' missing but values entered in other columns\",\"\"))","v":""},null,false,1,2,3,4,5,6,7,8,9,10,"",12,13,14,15,null,16,0,true,true,false,false,false,false,false,true,true,true,true,false,false,true,true,false]
[null,null,null,null,null,null,null,null,null,null,null,null,null,null,null,null,null,{"$f":"IF(T308,VLOOKUP(MIN(U308:AK308),'Data Validation (hidden)'!$B$2:$C$19,2,FALSE),IF(COUNTA(C308:P308)>0,\"'Scheme Name' missing but values entered in other columns\",\"\"))","v":""},null,false,1,2,3,4,5,6,7,8,9,10,"",12,13,14,15,null,16,0,true,true,false,false,false,false,false,true,true,true,true,false,false,true,true,false]
[null,null,null,null,null,null,null,null,null,null,null,null,null,null,null,null,null,{"$f":"IF(T309,VLOOKUP(MIN(U309:AK309),'Data Validation (hidden)'!$B$2:$C$19,2,FALSE),IF(COUNTA(C309:P309)>0,\"'Scheme Name' missing but values entered in other columns\",\"\"))","v":""},null,false,1,2,3,4,5,6,7,8,9,10,"",12,13,14,15,null,16,0,true,true,false,false,false,false,false,true,true,true,true,false,false,true,true,false]
[null,null,null,null,null,null,null,null,null,null,null,null,null,null,null,null,null,{"$f":"IF(T310,VLOOKUP(MIN(U310:AK310),'Data Validation (hidden)'!$B$2:$C$19,2,FALSE),IF(COUNTA(C310:P310)>0,\"'Scheme Name' missing but values entered in other columns\",\"\"))","v":""},null,false,1,2,3,4,5,6,7,8,9,10,"",12,13,14,15,null,16,0,true,true,false,false,false,false,false,true,true,true,true,false,false,true,true,false]
[null,null,null,null,null,null,null,null,null,null,null,null,null,null,null,null,null,{"$f":"IF(T311,VLOOKUP(MIN(U311:AK311),'Data Validation (hidden)'!$B$2:$C$19,2,FALSE),IF(COUNTA(C311:P311)>0,\"'Scheme Name' missing but values entered in other columns\",\"\"))","v":""},null,false,1,2,3,4,5,6,7,8,9,10,"",12,13,14,15,null,16,0,true,true,false,false,false,false,false,true,true,true,true,false,false,true,true,false]
[null,null,null,null,null,null,null,null,null,null,null,null,null,null,null,null,null,{"$f":"IF(T312,VLOOKUP(MIN(U312:AK312),'Data Validation (hidden)'!$B$2:$C$19,2,FALSE),IF(COUNTA(C312:P312)>0,\"'Scheme Name' missing but values entered in other columns\",\"\"))","v":""},null,false,1,2,3,4,5,6,7,8,9,10,"",12,13,14,15,null,16,0,true,true,false,false,false,false,false,true,true,true,true,false,false,true,true,false]
[null,null,null,null,null,null,null,null,null,null,null,null,null,null,null,null,null,{"$f":"IF(T313,VLOOKUP(MIN(U313:AK313),'Data Validation (hidden)'!$B$2:$C$19,2,FALSE),IF(COUNTA(C313:P313)>0,\"'Scheme Name' missing but values entered in other columns\",\"\"))","v":""},null,false,1,2,3,4,5,6,7,8,9,10,"",12,13,14,15,null,16,0,true,true,false,false,false,false,false,true,true,true,true,false,false,true,true,false]
[null,null,null,null,null,null,null,null,null,null,null,null,null,null,null,null,null,{"$f":"IF(T314,VLOOKUP(MIN(U314:AK314),'Data Validation (hidden)'!$B$2:$C$19,2,FALSE),IF(COUNTA(C314:P314)>0,\"'Scheme Name' missing but values entered in other columns\",\"\"))","v":""},null,false,1,2,3,4,5,6,7,8,9,10,"",12,13,14,15,null,16,0,true,true,false,false,false,false,false,true,true,true,true,false,false,true,true,false]
[null,null,null,null,null,null,null,null,null,null,null,null,null,null,null,null,null,{"$f":"IF(T315,VLOOKUP(MIN(U315:AK315),'Data Validation (hidden)'!$B$2:$C$19,2,FALSE),IF(COUNTA(C315:P315)>0,\"'Scheme Name' missing but values entered in other columns\",\"\"))","v":""},null,false,1,2,3,4,5,6,7,8,9,10,"",12,13,14,15,null,16,0,true,true,false,false,false,false,false,true,true,true,true,false,false,true,true,false]
[null,null,null,null,null,null,null,null,null,null,null,null,null,null,null,null,null,{"$f":"IF(T316,VLOOKUP(MIN(U316:AK316),'Data Validation (hidden)'!$B$2:$C$19,2,FALSE),IF(COUNTA(C316:P316)>0,\"'Scheme Name' missing but values entered in other columns\",\"\"))","v":""},null,false,1,2,3,4,5,6,7,8,9,10,"",12,13,14,15,null,16,0,true,true,false,false,false,false,false,true,true,true,true,false,false,true,true,false]
[null,null,null,null,null,null,null,null,null,null,null,null,null,null,null,null,null,{"$f":"IF(T317,VLOOKUP(MIN(U317:AK317),'Data Validation (hidden)'!$B$2:$C$19,2,FALSE),IF(COUNTA(C317:P317)>0,\"'Scheme Name' missing but values entered in other columns\",\"\"))","v":""},null,false,1,2,3,4,5,6,7,8,9,10,"",12,13,14,15,null,16,0,true,true,false,false,false,false,false,true,true,true,true,false,false,true,true,false]
[null,null,null,null,null,null,null,null,null,null,null,null,null,null,null,null,null,{"$f":"IF(T318,VLOOKUP(MIN(U318:AK318),'Data Validation (hidden)'!$B$2:$C$19,2,FALSE),IF(COUNTA(C318:P318)>0,\"'Scheme Name' missing but values entered in other columns\",\"\"))","v":""},null,false,1,2,3,4,5,6,7,8,9,10,"",12,13,14,15,null,16,0,true,true,false,false,false,false,false,true,true,true,true,false,false,true,true,false]
[null,null,null,null,null,null,null,null,null,null,null,null,null,null,null,null,null,{"$f":"IF(T319,VLOOKUP(MIN(U319:AK319),'Data Validation (hidden)'!$B$2:$C$19,2,FALSE),IF(COUNTA(C319:P319)>0,\"'Scheme Name' missing but values entered in other columns\",\"\"))","v":""},null,false,1,2,3,4,5,6,7,8,9,10,"",12,13,14,15,null,16,0,true,true,false,false,false,false,false,true,true,true,true,false,false,true,true,false]
[null,null,null,null,null,null,null,null,null,null,null,null,null,null,null,null,null,{"$f":"IF(T320,VLOOKUP(MIN(U320:AK320),'Data Validation (hidden)'!$B$2:$C$19,2,FALSE),IF(COUNTA(C320:P320)>0,\"'Scheme Name' missing but values entered in other columns\",\"\"))","v":""},null,false,1,2,3,4,5,6,7,8,9,10,"",12,13,14,15,null,16,0,true,true,false,false,false,false,false,true,true,true,true,false,false,true,true,false]
[null,null,null,null,null,null,null,null,null,null,null,null,null,null,null,null,null,{"$f":"IF(T321,VLOOKUP(MIN(U321:AK321),'Data Validation (hidden)'!$B$2:$C$19,2,FALSE),IF(COUNTA(C321:P321)>0,\"'Scheme Name' missing but values entered in other columns\",\"\"))","v":""},null,false,1,2,3,4,5,6,7,8,9,10,"",12,13,14,15,null,16,0,true,true,false,false,false,false,false,true,true,true,true,false,false,true,true,false]
[null,null,null,null,null,null,null,null,null,null,null,null,null,null,null,null,null,{"$f":"IF(T322,VLOOKUP(MIN(U322:AK322),'Data Validation (hidden)'!$B$2:$C$19,2,FALSE),IF(COUNTA(C322:P322)>0,\"'Scheme Name' missing but values entered in other columns\",\"\"))","v":""},null,false,1,2,3,4,5,6,7,8,9,10,"",12,13,14,15,null,16,0,true,true,false,false,false,false,false,true,true,true,true,false,false,true,true,false]
[null,null,null,null,null,null,null,null,null,null,null,null,null,null,null,null,null,{"$f":"IF(T323,VLOOKUP(MIN(U323:AK323),'Data Validation (hidden)'!$B$2:$C$19,2,FALSE),IF(COUNTA(C323:P323)>0,\"'Scheme Name' missing but values entered in other columns\",\"\"))","v":""},null,false,1,2,3,4,5,6,7,8,9,10,"",12,13,14,15,null,16,0,true,true,false,false,false,false,false,true,true,true,true,false,false,true,true,false]
[null,null,null,null,null,null,null,null,null,null,null,null,null,null,null,null,null,{"$f":"IF(T324,VLOOKUP(MIN(U324:AK324),'Data Validation (hidden)'!$B$2:$C$19,2,FALSE),IF(COUNTA(C324:P324)>0,\"'Scheme Name' missing but values entered in other columns\",\"\"))","v":""},null,false,1,2,3,4,5,6,7,8,9,10,"",12,13,14,15,null,16,0,true,true,false,false,false,false,false,true,true,true,true,false,false,true,true,false]
[null,null,null,null,null,null,null,null,null,null,null,null,null,null,null,null,null,{"$f":"IF(T325,VLOOKUP(MIN(U325:AK325),'Data Validation (hidden)'!$B$2:$C$19,2,FALSE),IF(COUNTA(C325:P325)>0,\"'Scheme Name' missing but values entered in other columns\",\"\"))","v":""},null,false,1,2,3,4,5,6,7,8,9,10,"",12,13,14,15,null,16,0,true,true,false,false,false,false,false,true,true,true,true,false,false,true,true,false]
[null,null,null,null,null,null,null,null,null,null,null,null,null,null,null,null,null,{"$f":"IF(T326,VLOOKUP(MIN(U326:AK326),'Data Validation (hidden)'!$B$2:$C$19,2,FALSE),IF(COUNTA(C326:P326)>0,\"'Scheme Name' missing but values entered in other columns\",\"\"))","v":""},null,false,1,2,3,4,5,6,7,8,9,10,"",12,13,14,15,null,16,0,true,true,false,false,false,false,false,true,true,true,true,false,false,true,true,false]
[null,null,null,null,null,null,null,null,null,null,null,null,null,null,null,null,null,{"$f":"IF(T327,VLOOKUP(MIN(U327:AK327),'Data Validation (hidden)'!$B$2:$C$19,2,FALSE),IF(COUNTA(C327:P327)>0,\"'Scheme Name' missing but values entered in other columns\",\"\"))","v":""},null,false,1,2,3,4,5,6,7,8,9,10,"",12,13,14,15,null,16,0,true,true,false,false,false,false,false,true,true,true,true,false,false,true,true,false]
[null,null,null,null,null,null,null,null,null,null,null,null,null,null,null,null,null,{"$f":"IF(T328,VLOOKUP(MIN(U328:AK328),'Data Validation (hidden)'!$B$2:$C$19,2,FALSE),IF(COUNTA(C328:P328)>0,\"'Scheme Name' missing but values entered in other columns\",\"\"))","v":""},null,{"$f":"B328<>\"\"","v":false},{"$f":"IF(C328=\"\",1,\"\")","v":1},2,3,4,5,6,7,8,9,10,"",{"$f":"IF(M328=\"\",12,\"\")","v":12},{"$f":"IF(N328=\"\",13,\"\")","v":13},{"$f":"IF(O328=\"\",14,\"\")","v":14},{"$f":"IF(P328=\"\",15,\"\")","v":15},null,16,{"$f":"SUM(J328:L328)","v":0},true,true,false,false,false,false,false,true,true,true,true,false,false,{"$f":"IF( CELL(\"format\",O328) = \"F0\",TRUE,FALSE)","v":true},{"$f":"IF( CELL(\"format\",P328) = \"F0\",TRUE,FALSE)","v":true},{"$f":"IF(R328=\"\",FALSE,IF(R328=\"OK\",FALSE,TRUE))","v":false}]
[null,null,null,null,null,null,null,null,null,null,null,null,null,null,null,null,null,{"$f":"IF(T329,VLOOKUP(MIN(U329:AK329),'Data Validation (hidden)'!$B$2:$C$19,2,FALSE),IF(COUNTA(C329:P329)>0,\"'Scheme Name' missing but values entered in other columns\",\"\"))","v":""},null,false,1,{"$f":"IF(D329=\"\",2,\"\")","v":2},{"$f":"IF(E329=\"\",IF(D329=\"Gratuity\",\"\",3),\"\")","v":3},{"$f":"IF(F329=\"\",4,\"\")","v":4},{"$f":"IF(G329=\"\",5,\"\")","v":5},{"$f":"IF(H329=\"\",6,\"\")","v":6},{"$f":"IF(I329=\"\",7,\"\")","v":7},{"$f":"IF(J329=\"\",8,\"\")","v":8},{"$f":"IF(K329=\"\",9,\"\")","v":9},{"$f":"IF(L329=\"\",10,\"\")","v":10},{"$f":"IF((AL329=I329),\"\",11)","v":""},12,13,14,15,null,{"$f":"IF(AND(AM329,AN329,AO329,AP329,AQ329,AR329,AS329,AT329,AU329,AV329,AW329,AX329,AY329,AZ329,BA329)=TRUE,\"\",16)","v":16},0,{"$f":"IF(CELL(\"format\", B329) = \"G\",TRUE,FALSE)","v":true},{"$f":"IF(CELL(\"format\", C329) = \"F0\",TRUE,FALSE)","v":true},{"$f":"OR(D329=\"A\",D329=\"B\",D329=\"C\",D329=\"Gratuity\")","v":false},{"$f":"OR(E329=\"DC\",E329=\"DB\",E329=\"H\",D329=\"Gratuity\")","v":false},{"$f":"OR(F329=\"Occupational\",F329=\"Personal\")","v":false},{"$f":"OR(G329=\"Yes\",G329=\"No\")","v":false},{"$f":"OR(H329=\"MD\",H329=\"PD\",H329=\"TD\",H329=\"MPD\",H329=\"MTD\",H329=\"PTD\",H329=\"MPTD\")","v":false},{"$f":"IF( CELL(\"format\",I329) = \"F0\",TRUE,FALSE)","v":true},{"$f":"IF( CELL(\"format\",J329) = \"F0\",TRUE,FALSE)","v":true},{"$f":"IF( CELL(\"format\",K329) = \"F0\",TRUE,FALSE)","v":true},{"$f":"IF( CELL(\"format\",L329) = \"F0\",TRUE,FALSE)","v":true},{"$f":"OR(M329=\"Yes\",M329=\"No\")","v":false},{"$f":"OR(N329=\"Trustee\",N329=\"Administrator\",N329=\"Both\")","v":false},true,true,false]
[null,null,null,null,null,null,null,null,null,null,null,null,null,null,null,null,null,{"$f":"IF(T330,VLOOKUP(MIN(U330:AK330),'Data Validation (hidden)'!$B$2:$C$19,2,FALSE),IF(COUNTA(C330:P330)>0,\"'Scheme Name' missing but values entered in other columns\",\"\"))","v":""},null,false,1,2,3,4,5,6,7,8,9,10,"",12,13,14,15,null,16,0,true,true,false,false,false,false,false,true,true,true,true,false,false,true,true,false]
[null,null,null,null,null,null,null,null,null,null,null,null,null,null,null,null,null,{"$f":"IF(T331,VLOOKUP(MIN(U331:AK331),'Data Validation (hidden)'!$B$2:$C$19,2,FALSE),IF(COUNTA(C331:P331)>0,\"'Scheme Name' missing but values entered in other columns\",\"\"))","v":""},null,false,1,2,3,4,5,6,7,8,9,10,"",12,13,14,15,null,16,0,true,true,false,false,false,false,false,true,true,true,true,false,false,true,true,false]
[null,null,null,null,null,null,null,null,null,null,null,null,null,null,null,null,null,{"$f":"IF(T332,VLOOKUP(MIN(U332:AK332),'Data Validation (hidden)'!$B$2:$C$19,2,FALSE),IF(COUNTA(C332:P332)>0,\"'Scheme Name' missing but values entered in other columns\",\"\"))","v":""},null,false,1,2,3,4,5,6,7,8,9,10,"",12,13,14,15,null,16,0,true,true,false,false,false,false,false,true,true,true,true,false,false,true,true,false]
[null,null,null,null,null,null,null,null,null,null,null,null,null,null,null,null,null,{"$f":"IF(T333,VLOOKUP(MIN(U333:AK333),'Data Validation (hidden)'!$B$2:$C$19,2,FALSE),IF(COUNTA(C333:P333)>0,\"'Scheme Name' missing but values entered in other columns\",\"\"))","v":""},null,false,1,2,3,4,5,6,7,8,9,10,"",12,13,14,15,null,16,0,true,true,false,false,false,false,false,true,true,true,true,false,false,true,true,false]
[null,null,null,null,null,null,null,null,null,null,null,null,null,null,null,null,null,{"$f":"IF(T334,VLOOKUP(MIN(U334:AK334),'Data Validation (hidden)'!$B$2:$C$19,2,FALSE),IF(COUNTA(C334:P334)>0,\"'Scheme Name' missing but values entered in other columns\",\"\"))","v":""},null,false,1,2,3,4,5,6,7,8,9,10,"",12,13,14,15,null,16,0,true,true,false,false,false,false,false,true,true,true,true,false,false,true,true,false]
[null,null,null,null,null,null,null,null,null,null,null,null,null,null,null,null,null,{"$f":"IF(T335,VLOOKUP(MIN(U335:AK335),'Data Validation (hidden)'!$B$2:$C$19,2,FALSE),IF(COUNTA(C335:P335)>0,\"'Scheme Name' missing but values entered in other columns\",\"\"))","v":""},null,false,1,2,3,4,5,6,7,8,9,10,"",12,13,14,15,null,16,0,true,true,false,false,false,false,false,true,true,true,true,false,false,true,true,false]
[null,null,null,null,null,null,null,null,null,null,null,null,null,null,null,null,null,{"$f":"IF(T336,VLOOKUP(MIN(U336:AK336),'Data Validation (hidden)'!$B$2:$C$19,2,FALSE),IF(COUNTA(C336:P336)>0,\"'Scheme Name' missing but values entered in other columns\",\"\"))","v":""},null,false,1,2,3,4,5,6,7,8,9,10,"",12,13,14,15,null,16,0,true,true,false,false,false,false,false,true,true,true,true,false,false,true,true,false]
[null,null,null,null,null,null,null,null,null,null,null,null,null,null,null,null,null,{"$f":"IF(T337,VLOOKUP(MIN(U337:AK337),'Data Validation (hidden)'!$B$2:$C$19,2,FALSE),IF(COUNTA(C337:P337)>0,\"'Scheme Name' missing but values entered in other columns\",\"\"))","v":""},null,false,1,2,3,4,5,6,7,8,9,10,"",12,13,14,15,null,16,0,true,true,false,false,false,false,false,true,true,true,true,false,false,true,true,false]
[null,null,null,null,null,null,null,null,null,null,null,null,null,null,null,null,null,{"$f":"IF(T338,VLOOKUP(MIN(U338:AK338),'Data Validation (hidden)'!$B$2:$C$19,2,FALSE),IF(COUNTA(C338:P338)>0,\"'Scheme Name' missing but values entered in other columns\",\"\"))","v":""},null,false,1,2,3,4,5,6,7,8,9,10,"",12,13,14,15,null,16,0,true,true,false,false,false,false,false,true,true,true,true,false,false,true,true,false]
[null,null,null,null,null,null,null,null,null,null,null,null,null,null,null,null,null,{"$f":"IF(T339,VLOOKUP(MIN(U339:AK339),'Data Validation (hidden)'!$B$2:$C$19,2,FALSE),IF(COUNTA(C339:P339)>0,\"'Scheme Name' missing but values entered in other columns\",\"\"))","v":""},null,false,1,2,3,4,5,6,7,8,9,10,"",12,13,14,15,null,16,0,true,true,false,false,false,false,false,true,true,true,true,false,false,true,true,false]
[null,null,null,null,null,null,null,null,null,null,null,null,null,null,null,null,null,{"$f":"IF(T340,VLOOKUP(MIN(U340:AK340),'Data Validation (hidden)'!$B$2:$C$19,2,FALSE),IF(COUNTA(C340:P340)>0,\"'Scheme Name' missing but values entered in other columns\",\"\"))","v":""},null,false,1,2,3,4,5,6,7,8,9,10,"",12,13,14,15,null,16,0,true,true,false,false,false,false,false,true,true,true,true,false,false,true,true,false]
[null,null,null,null,null,null,null,null,null,null,null,null,null,null,null,null,null,{"$f":"IF(T341,VLOOKUP(MIN(U341:AK341),'Data Validation (hidden)'!$B$2:$C$19,2,FALSE),IF(COUNTA(C341:P341)>0,\"'Scheme Name' missing but values entered in other columns\",\"\"))","v":""},null,false,1,2,3,4,5,6,7,8,9,10,"",12,13,14,15,null,16,0,true,true,false,false,false,false,false,true,true,true,true,false,false,true,true,false]
[null,null,null,null,null,null,null,null,null,null,null,null,null,null,null,null,null,{"$f":"IF(T342,VLOOKUP(MIN(U342:AK342),'Data Validation (hidden)'!$B$2:$C$19,2,FALSE),IF(COUNTA(C342:P342)>0,\"'Scheme Name' missing but values entered in other columns\",\"\"))","v":""},null,false,1,2,3,4,5,6,7,8,9,10,"",12,13,14,15,null,16,0,true,true,false,false,false,false,false,true,true,true,true,false,false,true,true,false]
[null,null,null,null,null,null,null,null,null,null,null,null,null,null,null,null,null,{"$f":"IF(T343,VLOOKUP(MIN(U343:AK343),'Data Validation (hidden)'!$B$2:$C$19,2,FALSE),IF(COUNTA(C343:P343)>0,\"'Scheme Name' missing but values entered in other columns\",\"\"))","v":""},null,false,1,2,3,4,5,6,7,8,9,10,"",12,13,14,15,null,16,0,true,true,false,false,false,false,false,true,true,true,true,false,false,true,true,false]
[null,null,null,null,null,null,null,null,null,null,null,null,null,null,null,null,null,{"$f":"IF(T344,VLOOKUP(MIN(U344:AK344),'Data Validation (hidden)'!$B$2:$C$19,2,FALSE),IF(COUNTA(C344:P344)>0,\"'Scheme Name' missing but values entered in other columns\",\"\"))","v":""},null,false,1,2,3,4,5,6,7,8,9,10,"",12,13,14,15,null,16,0,true,true,false,false,false,false,false,true,true,true,true,false,false,true,true,false]
[null,null,null,null,null,null,null,null,null,null,null,null,null,null,null,null,null,{"$f":"IF(T345,VLOOKUP(MIN(U345:AK345),'Data Validation (hidden)'!$B$2:$C$19,2,FALSE),IF(COUNTA(C345:P345)>0,\"'Scheme Name' missing but values entered in other columns\",\"\"))","v":""},null,false,1,2,3,4,5,6,7,8,9,10,"",12,13,14,15,null,16,0,true,true,false,false,false,false,false,true,true,true,true,false,false,true,true,false]
[null,null,null,null,null,null,null,null,null,null,null,null,null,null,null,null,null,{"$f":"IF(T346,VLOOKUP(MIN(U346:AK346),'Data Validation (hidden)'!$B$2:$C$19,2,FALSE),IF(COUNTA(C346:P346)>0,\"'Scheme Name' missing but values entered in other columns\",\"\"))","v":""},null,false,1,2,3,4,5,6,7,8,9,10,"",12,13,14,15,null,16,0,true,true,false,false,false,false,false,true,true,true,true,false,false,true,true,false]
[null,null,null,null,null,null,null,null,null,null,null,null,null,null,null,null,null,{"$f":"IF(T347,VLOOKUP(MIN(U347:AK347),'Data Validation (hidden)'!$B$2:$C$19,2,FALSE),IF(COUNTA(C347:P347)>0,\"'Scheme Name' missing but values entered in other columns\",\"\"))","v":""},null,false,1,2,3,4,5,6,7,8,9,10,"",12,13,14,15,null,16,0,true,true,false,false,false,false,false,true,true,true,true,false,false,true,true,false]
[null,null,null,null,null,null,null,null,null,null,null,null,null,null,null,null,null,{"$f":"IF(T348,VLOOKUP(MIN(U348:AK348),'Data Validation (hidden)'!$B$2:$C$19,2,FALSE),IF(COUNTA(C348:P348)>0,\"'Scheme Name' missing but values entered in other columns\",\"\"))","v":""},null,false,1,2,3,4,5,6,7,8,9,10,"",12,13,14,15,null,16,0,true,true,false,false,false,false,false,true,true,true,true,false,false,true,true,false]
[null,null,null,null,null,null,null,null,null,null,null,null,null,null,null,null,null,{"$f":"IF(T349,VLOOKUP(MIN(U349:AK349),'Data Validation (hidden)'!$B$2:$C$19,2,FALSE),IF(COUNTA(C349:P349)>0,\"'Scheme Name' missing but values entered in other columns\",\"\"))","v":""},null,false,1,2,3,4,5,6,7,8,9,10,"",12,13,14,15,null,16,0,true,true,false,false,false,false,false,true,true,true,true,false,false,true,true,false]
[null,null,null,null,null,null,null,null,null,null,null,null,null,null,null,null,null,{"$f":"IF(T350,VLOOKUP(MIN(U350:AK350),'Data Validation (hidden)'!$B$2:$C$19,2,FALSE),IF(COUNTA(C350:P350)>0,\"'Scheme Name' missing but values entered in other columns\",\"\"))","v":""},null,false,1,2,3,4,5,6,7,8,9,10,"",12,13,14,15,null,16,0,true,true,false,false,false,false,false,true,true,true,true,false,false,true,true,false]
[null,null,null,null,null,null,null,null,null,null,null,null,null,null,null,null,null,{"$f":"IF(T351,VLOOKUP(MIN(U351:AK351),'Data Validation (hidden)'!$B$2:$C$19,2,FALSE),IF(COUNTA(C351:P351)>0,\"'Scheme Name' missing but values entered in other columns\",\"\"))","v":""},null,false,1,2,3,4,5,6,7,8,9,10,"",12,13,14,15,null,16,0,true,true,false,false,false,false,false,true,true,true,true,false,false,true,true,false]
[null,null,null,null,null,null,null,null,null,null,null,null,null,null,null,null,null,{"$f":"IF(T352,VLOOKUP(MIN(U352:AK352),'Data Validation (hidden)'!$B$2:$C$19,2,FALSE),IF(COUNTA(C352:P352)>0,\"'Scheme Name' missing but values entered in other columns\",\"\"))","v":""},null,false,1,2,3,4,5,6,7,8,9,10,"",12,13,14,15,null,16,0,true,true,false,false,false,false,false,true,true,true,true,false,false,true,true,false]
[null,null,null,null,null,null,null,null,null,null,null,null,null,null,null,null,null,{"$f":"IF(T353,VLOOKUP(MIN(U353:AK353),'Data Validation (hidden)'!$B$2:$C$19,2,FALSE),IF(COUNTA(C353:P353)>0,\"'Scheme Name' missing but values entered in other columns\",\"\"))","v":""},null,false,1,2,3,4,5,6,7,8,9,10,"",12,13,14,15,null,16,0,true,true,false,false,false,false,false,true,true,true,true,false,false,true,true,false]
[null,null,null,null,null,null,null,null,null,null,null,null,null,null,null,null,null,{"$f":"IF(T354,VLOOKUP(MIN(U354:AK354),'Data Validation (hidden)'!$B$2:$C$19,2,FALSE),IF(COUNTA(C354:P354)>0,\"'Scheme Name' missing but values entered in other columns\",\"\"))","v":""},null,false,1,2,3,4,5,6,7,8,9,10,"",12,13,14,15,null,16,0,true,true,false,false,false,false,false,true,true,true,true,false,false,true,true,false]
[null,null,null,null,null,null,null,null,null,null,null,null,null,null,null,null,null,{"$f":"IF(T355,VLOOKUP(MIN(U355:AK355),'Data Validation (hidden)'!$B$2:$C$19,2,FALSE),IF(COUNTA(C355:P355)>0,\"'Scheme Name' missing but values entered in other columns\",\"\"))","v":""},null,false,1,2,3,4,5,6,7,8,9,10,"",12,13,14,15,null,16,0,true,true,false,false,false,false,false,true,true,true,true,false,false,true,true,false]
[null,null,null,null,null,null,null,null,null,null,null,null,null,null,null,null,null,{"$f":"IF(T356,VLOOKUP(MIN(U356:AK356),'Data Validation (hidden)'!$B$2:$C$19,2,FALSE),IF(COUNTA(C356:P356)>0,\"'Scheme Name' missing but values entered in other columns\",\"\"))","v":""},null,false,1,2,3,4,5,6,7,8,9,10,"",12,13,14,15,null,16,0,true,true,false,false,false,false,false,true,true,true,true,false,false,true,true,false]
[null,null,null,null,null,null,null,null,null,null,null,null,null,null,null,null,null,{"$f":"IF(T357,VLOOKUP(MIN(U357:AK357),'Data Validation (hidden)'!$B$2:$C$19,2,FALSE),IF(COUNTA(C357:P357)>0,\"'Scheme Name' missing but values entered in other columns\",\"\"))","v":""},null,false,1,2,3,4,5,6,7,8,9,10,"",12,13,14,15,null,16,0,true,true,false,false,false,false,false,true,true,true,true,false,false,true,true,false]
[null,null,null,null,null,null,null,null,null,null,null,null,null,null,null,null,null,{"$f":"IF(T358,VLOOKUP(MIN(U358:AK358),'Data Validation (hidden)'!$B$2:$C$19,2,FALSE),IF(COUNTA(C358:P358)>0,\"'Scheme Name' missing but values entered in other columns\",\"\"))","v":""},null,false,1,2,3,4,5,6,7,8,9,10,"",12,13,14,15,null,16,0,true,true,false,false,false,false,false,true,true,true,true,false,false,true,true,false]
[null,null,null,null,null,null,null,null,null,null,null,null,null,null,null,null,null,{"$f":"IF(T359,VLOOKUP(MIN(U359:AK359),'Data Validation (hidden)'!$B$2:$C$19,2,FALSE),IF(COUNTA(C359:P359)>0,\"'Scheme Name' missing but values entered in other columns\",\"\"))","v":""},null,false,1,2,3,4,5,6,7,8,9,10,"",12,13,14,15,null,16,0,true,true,false,false,false,false,false,true,true,true,true,false,false,true,true,false]
[null,null,null,null,null,null,null,null,null,null,null,null,null,null,null,null,null,{"$f":"IF(T360,VLOOKUP(MIN(U360:AK360),'Data Validation (hidden)'!$B$2:$C$19,2,FALSE),IF(COUNTA(C360:P360)>0,\"'Scheme Name' missing but values entered in other columns\",\"\"))","v":""},null,false,1,2,3,4,5,6,7,8,9,10,"",12,13,14,15,null,16,0,true,true,false,false,false,false,false,true,true,true,true,false,false,true,true,false]
[null,null,null,null,null,null,null,null,null,null,null,null,null,null,null,null,null,{"$f":"IF(T361,VLOOKUP(MIN(U361:AK361),'Data Validation (hidden)'!$B$2:$C$19,2,FALSE),IF(COUNTA(C361:P361)>0,\"'Scheme Name' missing but values entered in other columns\",\"\"))","v":""},null,false,1,2,3,4,5,6,7,8,9,10,"",12,13,14,15,null,16,0,true,true,false,false,false,false,false,true,true,true,true,false,false,true,true,false]
[null,null,null,null,null,null,null,null,null,null,null,null,null,null,null,null,null,{"$f":"IF(T362,VLOOKUP(MIN(U362:AK362),'Data Validation (hidden)'!$B$2:$C$19,2,FALSE),IF(COUNTA(C362:P362)>0,\"'Scheme Name' missing but values entered in other columns\",\"\"))","v":""},null,false,1,2,3,4,5,6,7,8,9,10,"",12,13,14,15,null,16,0,true,true,false,false,false,false,false,true,true,true,true,false,false,true,true,false]
[null,null,null,null,null,null,null,null,null,null,null,null,null,null,null,null,null,{"$f":"IF(T363,VLOOKUP(MIN(U363:AK363),'Data Validation (hidden)'!$B$2:$C$19,2,FALSE),IF(COUNTA(C363:P363)>0,\"'Scheme Name' missing but values entered in other columns\",\"\"))","v":""},null,false,1,2,3,4,5,6,7,8,9,10,"",12,13,14,15,null,16,0,true,true,false,false,false,false,false,true,true,true,true,false,false,true,true,false]
[null,null,null,null,null,null,null,null,null,null,null,null,null,null,null,null,null,{"$f":"IF(T364,VLOOKUP(MIN(U364:AK364),'Data Validation (hidden)'!$B$2:$C$19,2,FALSE),IF(COUNTA(C364:P364)>0,\"'Scheme Name' missing but values entered in other columns\",\"\"))","v":""},null,false,1,2,3,4,5,6,7,8,9,10,"",12,13,14,15,null,16,0,true,true,false,false,false,false,false,true,true,true,true,false,false,true,true,false]
[null,null,null,null,null,null,null,null,null,null,null,null,null,null,null,null,null,{"$f":"IF(T365,VLOOKUP(MIN(U365:AK365),'Data Validation (hidden)'!$B$2:$C$19,2,FALSE),IF(COUNTA(C365:P365)>0,\"'Scheme Name' missing but values entered in other columns\",\"\"))","v":""},null,false,1,2,3,4,5,6,7,8,9,10,"",12,13,14,15,null,16,0,true,true,false,false,false,false,false,true,true,true,true,false,false,true,true,false]
[null,null,null,null,null,null,null,null,null,null,null,null,null,null,null,null,null,{"$f":"IF(T366,VLOOKUP(MIN(U366:AK366),'Data Validation (hidden)'!$B$2:$C$19,2,FALSE),IF(COUNTA(C366:P366)>0,\"'Scheme Name' missing but values entered in other columns\",\"\"))","v":""},null,false,1,2,3,4,5,6,7,8,9,10,"",12,13,14,15,null,16,0,true,true,false,false,false,false,false,true,true,true,true,false,false,true,true,false]
[null,null,null,null,null,null,null,null,null,null,null,null,null,null,null,null,null,{"$f":"IF(T367,VLOOKUP(MIN(U367:AK367),'Data Validation (hidden)'!$B$2:$C$19,2,FALSE),IF(COUNTA(C367:P367)>0,\"'Scheme Name' missing but values entered in other columns\",\"\"))","v":""},null,false,1,2,3,4,5,6,7,8,9,10,"",12,13,14,15,null,16,0,true,true,false,false,false,false,false,true,true,true,true,false,false,true,true,false]
[null,null,null,null,null,null,null,null,null,null,null,null,null,null,null,null,null,{"$f":"IF(T368,VLOOKUP(MIN(U368:AK368),'Data Validation (hidden)'!$B$2:$C$19,2,FALSE),IF(COUNTA(C368:P368)>0,\"'Scheme Name' missing but values entered in other columns\",\"\"))","v":""},null,false,1,2,3,4,5,6,7,8,9,10,"",12,13,14,15,null,16,0,true,true,false,false,false,false,false,true,true,true,true,false,false,true,true,false]
[null,null,null,null,null,null,null,null,null,null,null,null,null,null,null,null,null,{"$f":"IF(T369,VLOOKUP(MIN(U369:AK369),'Data Validation (hidden)'!$B$2:$C$19,2,FALSE),IF(COUNTA(C369:P369)>0,\"'Scheme Name' missing but values entered in other columns\",\"\"))","v":""},null,false,1,2,3,4,5,6,7,8,9,10,"",12,13,14,15,null,16,0,true,true,false,false,false,false,false,true,true,true,true,false,false,true,true,false]
[null,null,null,null,null,null,null,null,null,null,null,null,null,null,null,null,null,{"$f":"IF(T370,VLOOKUP(MIN(U370:AK370),'Data Validation (hidden)'!$B$2:$C$19,2,FALSE),IF(COUNTA(C370:P370)>0,\"'Scheme Name' missing but values entered in other columns\",\"\"))","v":""},null,false,1,2,3,4,5,6,7,8,9,10,"",12,13,14,15,null,16,0,true,true,false,false,false,false,false,true,true,true,true,false,false,true,true,false]
[null,null,null,null,null,null,null,null,null,null,null,null,null,null,null,null,null,{"$f":"IF(T371,VLOOKUP(MIN(U371:AK371),'Data Validation (hidden)'!$B$2:$C$19,2,FALSE),IF(COUNTA(C371:P371)>0,\"'Scheme Name' missing but values entered in other columns\",\"\"))","v":""},null,false,1,2,3,4,5,6,7,8,9,10,"",12,13,14,15,null,16,0,true,true,false,false,false,false,false,true,true,true,true,false,false,true,true,false]
[null,null,null,null,null,null,null,null,null,null,null,null,null,null,null,null,null,{"$f":"IF(T372,VLOOKUP(MIN(U372:AK372),'Data Validation (hidden)'!$B$2:$C$19,2,FALSE),IF(COUNTA(C372:P372)>0,\"'Scheme Name' missing but values entered in other columns\",\"\"))","v":""},null,false,1,2,3,4,5,6,7,8,9,10,"",12,13,14,15,null,16,0,true,true,false,false,false,false,false,true,true,true,true,false,false,true,true,false]
[null,null,null,null,null,null,null,null,null,null,null,null,null,null,null,null,null,{"$f":"IF(T373,VLOOKUP(MIN(U373:AK373),'Data Validation (hidden)'!$B$2:$C$19,2,FALSE),IF(COUNTA(C373:P373)>0,\"'Scheme Name' missing but values entered in other columns\",\"\"))","v":""},null,false,1,2,3,4,5,6,7,8,9,10,"",12,13,14,15,null,16,0,true,true,false,false,false,false,false,true,true,true,true,false,false,true,true,false]
[null,null,null,null,null,null,null,null,null,null,null,null,null,null,null,null,null,{"$f":"IF(T374,VLOOKUP(MIN(U374:AK374),'Data Validation (hidden)'!$B$2:$C$19,2,FALSE),IF(COUNTA(C374:P374)>0,\"'Scheme Name' missing but values entered in other columns\",\"\"))","v":""},null,false,1,2,3,4,5,6,7,8,9,10,"",12,13,14,15,null,16,0,true,true,false,false,false,false,false,true,true,true,true,false,false,true,true,false]
[null,null,null,null,null,null,null,null,null,null,null,null,null,null,null,null,null,{"$f":"IF(T375,VLOOKUP(MIN(U375:AK375),'Data Validation (hidden)'!$B$2:$C$19,2,FALSE),IF(COUNTA(C375:P375)>0,\"'Scheme Name' missing but values entered in other columns\",\"\"))","v":""},null,false,1,2,3,4,5,6,7,8,9,10,"",12,13,14,15,null,16,0,true,true,false,false,false,false,false,true,true,true,true,false,false,true,true,false]
[null,null,null,null,null,null,null,null,null,null,null,null,null,null,null,null,null,{"$f":"IF(T376,VLOOKUP(MIN(U376:AK376),'Data Validation (hidden)'!$B$2:$C$19,2,FALSE),IF(COUNTA(C376:P376)>0,\"'Scheme Name' missing but values entered in other columns\",\"\"))","v":""},null,false,1,2,3,4,5,6,7,8,9,10,"",12,13,14,15,null,16,0,true,true,false,false,false,false,false,true,true,true,true,false,false,true,true,false]
[null,null,null,null,null,null,null,null,null,null,null,null,null,null,null,null,null,{"$f":"IF(T377,VLOOKUP(MIN(U377:AK377),'Data Validation (hidden)'!$B$2:$C$19,2,FALSE),IF(COUNTA(C377:P377)>0,\"'Scheme Name' missing but values entered in other columns\",\"\"))","v":""},null,false,1,2,3,4,5,6,7,8,9,10,"",12,13,14,15,null,16,0,true,true,false,false,false,false,false,true,true,true,true,false,false,true,true,false]
[null,null,null,null,null,null,null,null,null,null,null,null,null,null,null,null,null,{"$f":"IF(T378,VLOOKUP(MIN(U378:AK378),'Data Validation (hidden)'!$B$2:$C$19,2,FALSE),IF(COUNTA(C378:P378)>0,\"'Scheme Name' missing but values entered in other columns\",\"\"))","v":""},null,false,1,2,3,4,5,6,7,8,9,10,"",12,13,14,15,null,16,0,true,true,false,false,false,false,false,true,true,true,true,false,false,true,true,false]
[null,null,null,null,null,null,null,null,null,null,null,null,null,null,null,null,null,{"$f":"IF(T379,VLOOKUP(MIN(U379:AK379),'Data Validation (hidden)'!$B$2:$C$19,2,FALSE),IF(COUNTA(C379:P379)>0,\"'Scheme Name' missing but values entered in other columns\",\"\"))","v":""},null,false,1,2,3,4,5,6,7,8,9,10,"",12,13,14,15,null,16,0,true,true,false,false,false,false,false,true,true,true,true,false,false,true,true,false]
[null,null,null,null,null,null,null,null,null,null,null,null,null,null,null,null,null,{"$f":"IF(T380,VLOOKUP(MIN(U380:AK380),'Data Validation (hidden)'!$B$2:$C$19,2,FALSE),IF(COUNTA(C380:P380)>0,\"'Scheme Name' missing but values entered in other columns\",\"\"))","v":""},null,false,1,2,3,4,5,6,7,8,9,10,"",12,13,14,15,null,16,0,true,true,false,false,false,false,false,true,true,true,true,false,false,true,true,false]
[null,null,null,null,null,null,null,null,null,null,null,null,null,null,null,null,null,{"$f":"IF(T381,VLOOKUP(MIN(U381:AK381),'Data Validation (hidden)'!$B$2:$C$19,2,FALSE),IF(COUNTA(C381:P381)>0,\"'Scheme Name' missing but values entered in other columns\",\"\"))","v":""},null,false,1,2,3,4,5,6,7,8,9,10,"",12,13,14,15,null,16,0,true,true,false,false,false,false,false,true,true,true,true,false,false,true,true,false]
[null,null,null,null,null,null,null,null,null,null,null,null,null,null,null,null,null,{"$f":"IF(T382,VLOOKUP(MIN(U382:AK382),'Data Validation (hidden)'!$B$2:$C$19,2,FALSE),IF(COUNTA(C382:P382)>0,\"'Scheme Name' missing but values entered in other columns\",\"\"))","v":""},null,false,1,2,3,4,5,6,7,8,9,10,"",12,13,14,15,null,16,0,true,true,false,false,false,false,false,true,true,true,true,false,false,true,true,false]
[null,null,null,null,null,null,null,null,null,null,null,null,null,null,null,null,null,{"$f":"IF(T383,VLOOKUP(MIN(U383:AK383),'Data Validation (hidden)'!$B$2:$C$19,2,FALSE),IF(COUNTA(C383:P383)>0,\"'Scheme Name' missing but values entered in other columns\",\"\"))","v":""},null,false,1,2,3,4,5,6,7,8,9,10,"",12,13,14,15,null,16,0,true,true,false,false,false,false,false,true,true,true,true,false,false,true,true,false]
[null,null,null,null,null,null,null,null,null,null,null,null,null,null,null,null,null,{"$f":"IF(T384,VLOOKUP(MIN(U384:AK384),'Data Validation (hidden)'!$B$2:$C$19,2,FALSE),IF(COUNTA(C384:P384)>0,\"'Scheme Name' missing but values entered in other columns\",\"\"))","v":""},null,false,1,2,3,4,5,6,7,8,9,10,"",12,13,14,15,null,16,0,true,true,false,false,false,false,false,true,true,true,true,false,false,true,true,false]
[null,null,null,null,null,null,null,null,null,null,null,null,null,null,null,null,null,{"$f":"IF(T385,VLOOKUP(MIN(U385:AK385),'Data Validation (hidden)'!$B$2:$C$19,2,FALSE),IF(COUNTA(C385:P385)>0,\"'Scheme Name' missing but values entered in other columns\",\"\"))","v":""},null,false,1,2,3,4,5,6,7,8,9,10,"",12,13,14,15,null,16,0,true,true,false,false,false,false,false,true,true,true,true,false,false,true,true,false]
[null,null,null,null,null,null,null,null,null,null,null,null,null,null,null,null,null,{"$f":"IF(T386,VLOOKUP(MIN(U386:AK386),'Data Validation (hidden)'!$B$2:$C$19,2,FALSE),IF(COUNTA(C386:P386)>0,\"'Scheme Name' missing but values entered in other columns\",\"\"))","v":""},null,false,1,2,3,4,5,6,7,8,9,10,"",12,13,14,15,null,16,0,true,true,false,false,false,false,false,true,true,true,true,false,false,true,true,false]
[null,null,null,null,null,null,null,null,null,null,null,null,null,null,null,null,null,{"$f":"IF(T387,VLOOKUP(MIN(U387:AK387),'Data Validation (hidden)'!$B$2:$C$19,2,FALSE),IF(COUNTA(C387:P387)>0,\"'Scheme Name' missing but values entered in other columns\",\"\"))","v":""},null,false,1,2,3,4,5,6,7,8,9,10,"",12,13,14,15,null,16,0,true,true,false,false,false,false,false,true,true,true,true,false,false,true,true,false]
[null,null,null,null,null,null,null,null,null,null,null,null,null,null,null,null,null,{"$f":"IF(T388,VLOOKUP(MIN(U388:AK388),'Data Validation (hidden)'!$B$2:$C$19,2,FALSE),IF(COUNTA(C388:P388)>0,\"'Scheme Name' missing but values entered in other columns\",\"\"))","v":""},null,false,1,2,3,4,5,6,7,8,9,10,"",12,13,14,15,null,16,0,true,true,false,false,false,false,false,true,true,true,true,false,false,true,true,false]
[null,null,null,null,null,null,null,null,null,null,null,null,null,null,null,null,null,{"$f":"IF(T389,VLOOKUP(MIN(U389:AK389),'Data Validation (hidden)'!$B$2:$C$19,2,FALSE),IF(COUNTA(C389:P389)>0,\"'Scheme Name' missing but values entered in other columns\",\"\"))","v":""},null,false,1,2,3,4,5,6,7,8,9,10,"",12,13,14,15,null,16,0,true,true,false,false,false,false,false,true,true,true,true,false,false,true,true,false]
[null,null,null,null,null,null,null,null,null,null,null,null,null,null,null,null,null,{"$f":"IF(T390,VLOOKUP(MIN(U390:AK390),'Data Validation (hidden)'!$B$2:$C$19,2,FALSE),IF(COUNTA(C390:P390)>0,\"'Scheme Name' missing but values entered in other columns\",\"\"))","v":""},null,false,1,2,3,4,5,6,7,8,9,10,"",12,13,14,15,null,16,0,true,true,false,false,false,false,false,true,true,true,true,false,false,true,true,false]
[null,null,null,null,null,null,null,null,null,null,null,null,null,null,null,null,null,{"$f":"IF(T391,VLOOKUP(MIN(U391:AK391),'Data Validation (hidden)'!$B$2:$C$19,2,FALSE),IF(COUNTA(C391:P391)>0,\"'Scheme Name' missing but values entered in other columns\",\"\"))","v":""},null,false,1,2,3,4,5,6,7,8,9,10,"",12,13,14,15,null,16,0,true,true,false,false,false,false,false,true,true,true,true,false,false,true,true,false]
[null,null,null,null,null,null,null,null,null,null,null,null,null,null,null,null,null,{"$f":"IF(T392,VLOOKUP(MIN(U392:AK392),'Data Validation (hidden)'!$B$2:$C$19,2,FALSE),IF(COUNTA(C392:P392)>0,\"'Scheme Name' missing but values entered in other columns\",\"\"))","v":""},null,{"$f":"B392<>\"\"","v":false},{"$f":"IF(C392=\"\",1,\"\")","v":1},2,3,4,5,6,7,8,9,10,"",{"$f":"IF(M392=\"\",12,\"\")","v":12},{"$f":"IF(N392=\"\",13,\"\")","v":13},{"$f":"IF(O392=\"\",14,\"\")","v":14},{"$f":"IF(P392=\"\",15,\"\")","v":15},null,16,{"$f":"SUM(J392:L392)","v":0},true,true,false,false,false,false,false,true,true,true,true,false,false,{"$f":"IF( CELL(\"format\",O392) = \"F0\",TRUE,FALSE)","v":true},{"$f":"IF( CELL(\"format\",P392) = \"F0\",TRUE,FALSE)","v":true},{"$f":"IF(R392=\"\",FALSE,IF(R392=\"OK\",FALSE,TRUE))","v":false}]
[null,null,null,null,null,null,null,null,null,null,null,null,null,null,null,null,null,{"$f":"IF(T393,VLOOKUP(MIN(U393:AK393),'Data Validation (hidden)'!$B$2:$C$19,2,FALSE),IF(COUNTA(C393:P393)>0,\"'Scheme Name' missing but values entered in other columns\",\"\"))","v":""},null,false,1,{"$f":"IF(D393=\"\",2,\"\")","v":2},{"$f":"IF(E393=\"\",IF(D393=\"Gratuity\",\"\",3),\"\")","v":3},{"$f":"IF(F393=\"\",4,\"\")","v":4},{"$f":"IF(G393=\"\",5,\"\")","v":5},{"$f":"IF(H393=\"\",6,\"\")","v":6},{"$f":"IF(I393=\"\",7,\"\")","v":7},{"$f":"IF(J393=\"\",8,\"\")","v":8},{"$f":"IF(K393=\"\",9,\"\")","v":9},{"$f":"IF(L393=\"\",10,\"\")","v":10},{"$f":"IF((AL393=I393),\"\",11)","v":""},12,13,14,15,null,{"$f":"IF(AND(AM393,AN393,AO393,AP393,AQ393,AR393,AS393,AT393,AU393,AV393,AW393,AX393,AY393,AZ393,BA393)=TRUE,\"\",16)","v":16},0,{"$f":"IF(CELL(\"format\", B393) = \"G\",TRUE,FALSE)","v":true},{"$f":"IF(CELL(\"format\", C393) = \"F0\",TRUE,FALSE)","v":true},{"$f":"OR(D393=\"A\",D393=\"B\",D393=\"C\",D393=\"Gratuity\")","v":false},{"$f":"OR(E393=\"DC\",E393=\"DB\",E393=\"H\",D393=\"Gratuity\")","v":false},{"$f":"OR(F393=\"Occupational\",F393=\"Personal\")","v":false},{"$f":"OR(G393=\"Yes\",G393=\"No\")","v":false},{"$f":"OR(H393=\"MD\",H393=\"PD\",H393=\"TD\",H393=\"MPD\",H393=\"MTD\",H393=\"PTD\",H393=\"MPTD\")","v":false},{"$f":"IF( CELL(\"format\",I393) = \"F0\",TRUE,FALSE)","v":true},{"$f":"IF( CELL(\"format\",J393) = \"F0\",TRUE,FALSE)","v":true},{"$f":"IF( CELL(\"format\",K393) = \"F0\",TRUE,FALSE)","v":true},{"$f":"IF( CELL(\"format\",L393) = \"F0\",TRUE,FALSE)","v":true},{"$f":"OR(M393=\"Yes\",M393=\"No\")","v":false},{"$f":"OR(N393=\"Trustee\",N393=\"Administrator\",N393=\"Both\")","v":false},true,true,false]
[null,null,null,null,null,null,null,null,null,null,null,null,null,null,null,null,null,{"$f":"IF(T394,VLOOKUP(MIN(U394:AK394),'Data Validation (hidden)'!$B$2:$C$19,2,FALSE),IF(COUNTA(C394:P394)>0,\"'Scheme Name' missing but values entered in other columns\",\"\"))","v":""},null,false,1,2,3,4,5,6,7,8,9,10,"",12,13,14,15,null,16,0,true,true,false,false,false,false,false,true,true,true,true,false,false,true,true,false]
[null,null,null,null,null,null,null,null,null,null,null,null,null,null,null,null,null,{"$f":"IF(T395,VLOOKUP(MIN(U395:AK395),'Data Validation (hidden)'!$B$2:$C$19,2,FALSE),IF(COUNTA(C395:P395)>0,\"'Scheme Name' missing but values entered in other columns\",\"\"))","v":""},null,false,1,2,3,4,5,6,7,8,9,10,"",12,13,14,15,null,16,0,true,true,false,false,false,false,false,true,true,true,true,false,false,true,true,false]
[null,null,null,null,null,null,null,null,null,null,null,null,null,null,null,null,null,{"$f":"IF(T396,VLOOKUP(MIN(U396:AK396),'Data Validation (hidden)'!$B$2:$C$19,2,FALSE),IF(COUNTA(C396:P396)>0,\"'Scheme Name' missing but values entered in other columns\",\"\"))","v":""},null,false,1,2,3,4,5,6,7,8,9,10,"",12,13,14,15,null,16,0,true,true,false,false,false,false,false,true,true,true,true,false,false,true,true,false]
[null,null,null,null,null,null,null,null,null,null,null,null,null,null,null,null,null,{"$f":"IF(T397,VLOOKUP(MIN(U397:AK397),'Data Validation (hidden)'!$B$2:$C$19,2,FALSE),IF(COUNTA(C397:P397)>0,\"'Scheme Name' missing but values entered in other columns\",\"\"))","v":""},null,false,1,2,3,4,5,6,7,8,9,10,"",12,13,14,15,null,16,0,true,true,false,false,false,false,false,true,true,true,true,false,false,true,true,false]
[null,null,null,null,null,null,null,null,null,null,null,null,null,null,null,null,null,{"$f":"IF(T398,VLOOKUP(MIN(U398:AK398),'Data Validation (hidden)'!$B$2:$C$19,2,FALSE),IF(COUNTA(C398:P398)>0,\"'Scheme Name' missing but values entered in other columns\",\"\"))","v":""},null,false,1,2,3,4,5,6,7,8,9,10,"",12,13,14,15,null,16,0,true,true,false,false,false,false,false,true,true,true,true,false,false,true,true,false]
[null,null,null,null,null,null,null,null,null,null,null,null,null,null,null,null,null,{"$f":"IF(T399,VLOOKUP(MIN(U399:AK399),'Data Validation (hidden)'!$B$2:$C$19,2,FALSE),IF(COUNTA(C399:P399)>0,\"'Scheme Name' missing but values entered in other columns\",\"\"))","v":""},null,false,1,2,3,4,5,6,7,8,9,10,"",12,13,14,15,null,16,0,true,true,false,false,false,false,false,true,true,true,true,false,false,true,true,false]
[null,null,null,null,null,null,null,null,null,null,null,null,null,null,null,null,null,{"$f":"IF(T400,VLOOKUP(MIN(U400:AK400),'Data Validation (hidden)'!$B$2:$C$19,2,FALSE),IF(COUNTA(C400:P400)>0,\"'Scheme Name' missing but values entered in other columns\",\"\"))","v":""},null,false,1,2,3,4,5,6,7,8,9,10,"",12,13,14,15,null,16,0,true,true,false,false,false,false,false,true,true,true,true,false,false,true,true,false]
[null,null,null,null,null,null,null,null,null,null,null,null,null,null,null,null,null,{"$f":"IF(T401,VLOOKUP(MIN(U401:AK401),'Data Validation (hidden)'!$B$2:$C$19,2,FALSE),IF(COUNTA(C401:P401)>0,\"'Scheme Name' missing but values entered in other columns\",\"\"))","v":""},null,false,1,2,3,4,5,6,7,8,9,10,"",12,13,14,15,null,16,0,true,true,false,false,false,false,false,true,true,true,true,false,false,true,true,false]
[null,null,null,null,null,null,null,null,null,null,null,null,null,null,null,null,null,{"$f":"IF(T402,VLOOKUP(MIN(U402:AK402),'Data Validation (hidden)'!$B$2:$C$19,2,FALSE),IF(COUNTA(C402:P402)>0,\"'Scheme Name' missing but values entered in other columns\",\"\"))","v":""},null,false,1,2,3,4,5,6,7,8,9,10,"",12,13,14,15,null,16,0,true,true,false,false,false,false,false,true,true,true,true,false,false,true,true,false]
[null,null,null,null,null,null,null,null,null,null,null,null,null,null,null,null,null,{"$f":"IF(T403,VLOOKUP(MIN(U403:AK403),'Data Validation (hidden)'!$B$2:$C$19,2,FALSE),IF(COUNTA(C403:P403)>0,\"'Scheme Name' missing but values entered in other columns\",\"\"))","v":""},null,false,1,2,3,4,5,6,7,8,9,10,"",12,13,14,15,null,16,0,true,true,false,false,false,false,false,true,true,true,true,false,false,true,true,false]
[null,null,null,null,null,null,null,null,null,null,null,null,null,null,null,null,null,{"$f":"IF(T404,VLOOKUP(MIN(U404:AK404),'Data Validation (hidden)'!$B$2:$C$19,2,FALSE),IF(COUNTA(C404:P404)>0,\"'Scheme Name' missing but values entered in other columns\",\"\"))","v":""},null,false,1,2,3,4,5,6,7,8,9,10,"",12,13,14,15,null,16,0,true,true,false,false,false,false,false,true,true,true,true,false,false,true,true,false]
[null,null,null,null,null,null,null,null,null,null,null,null,null,null,null,null,null,{"$f":"IF(T405,VLOOKUP(MIN(U405:AK405),'Data Validation (hidden)'!$B$2:$C$19,2,FALSE),IF(COUNTA(C405:P405)>0,\"'Scheme Name' missing but values entered in other columns\",\"\"))","v":""},null,false,1,2,3,4,5,6,7,8,9,10,"",12,13,14,15,null,16,0,true,true,false,false,false,false,false,true,true,true,true,false,false,true,true,false]
[null,null,null,null,null,null,null,null,null,null,null,null,null,null,null,null,null,{"$f":"IF(T406,VLOOKUP(MIN(U406:AK406),'Data Validation (hidden)'!$B$2:$C$19,2,FALSE),IF(COUNTA(C406:P406)>0,\"'Scheme Name' missing but values entered in other columns\",\"\"))","v":""},null,false,1,2,3,4,5,6,7,8,9,10,"",12,13,14,15,null,16,0,true,true,false,false,false,false,false,true,true,true,true,false,false,true,true,false]
[null,null,null,null,null,null,null,null,null,null,null,null,null,null,null,null,null,{"$f":"IF(T407,VLOOKUP(MIN(U407:AK407),'Data Validation (hidden)'!$B$2:$C$19,2,FALSE),IF(COUNTA(C407:P407)>0,\"'Scheme Name' missing but values entered in other columns\",\"\"))","v":""},null,false,1,2,3,4,5,6,7,8,9,10,"",12,13,14,15,null,16,0,true,true,false,false,false,false,false,true,true,true,true,false,false,true,true,false]
[null,null,null,null,null,null,null,null,null,null,null,null,null,null,null,null,null,{"$f":"IF(T408,VLOOKUP(MIN(U408:AK408),'Data Validation (hidden)'!$B$2:$C$19,2,FALSE),IF(COUNTA(C408:P408)>0,\"'Scheme Name' missing but values entered in other columns\",\"\"))","v":""},null,false,1,2,3,4,5,6,7,8,9,10,"",12,13,14,15,null,16,0,true,true,false,false,false,false,false,true,true,true,true,false,false,true,true,false]
[null,null,null,null,null,null,null,null,null,null,null,null,null,null,null,null,null,{"$f":"IF(T409,VLOOKUP(MIN(U409:AK409),'Data Validation (hidden)'!$B$2:$C$19,2,FALSE),IF(COUNTA(C409:P409)>0,\"'Scheme Name' missing but values entered in other columns\",\"\"))","v":""},null,false,1,2,3,4,5,6,7,8,9,10,"",12,13,14,15,null,16,0,true,true,false,false,false,false,false,true,true,true,true,false,false,true,true,false]
[null,null,null,null,null,null,null,null,null,null,null,null,null,null,null,null,null,{"$f":"IF(T410,VLOOKUP(MIN(U410:AK410),'Data Validation (hidden)'!$B$2:$C$19,2,FALSE),IF(COUNTA(C410:P410)>0,\"'Scheme Name' missing but values entered in other columns\",\"\"))","v":""},null,false,1,2,3,4,5,6,7,8,9,10,"",12,13,14,15,null,16,0,true,true,false,false,false,false,false,true,true,true,true,false,false,true,true,false]
[null,null,null,null,null,null,null,null,null,null,null,null,null,null,null,null,null,{"$f":"IF(T411,VLOOKUP(MIN(U411:AK411),'Data Validation (hidden)'!$B$2:$C$19,2,FALSE),IF(COUNTA(C411:P411)>0,\"'Scheme Name' missing but values entered in other columns\",\"\"))","v":""},null,false,1,2,3,4,5,6,7,8,9,10,"",12,13,14,15,null,16,0,true,true,false,false,false,false,false,true,true,true,true,false,false,true,true,false]
[null,null,null,null,null,null,null,null,null,null,null,null,null,null,null,null,null,{"$f":"IF(T412,VLOOKUP(MIN(U412:AK412),'Data Validation (hidden)'!$B$2:$C$19,2,FALSE),IF(COUNTA(C412:P412)>0,\"'Scheme Name' missing but values entered in other columns\",\"\"))","v":""},null,false,1,2,3,4,5,6,7,8,9,10,"",12,13,14,15,null,16,0,true,true,false,false,false,false,false,true,true,true,true,false,false,true,true,false]
[null,null,null,null,null,null,null,null,null,null,null,null,null,null,null,null,null,{"$f":"IF(T413,VLOOKUP(MIN(U413:AK413),'Data Validation (hidden)'!$B$2:$C$19,2,FALSE),IF(COUNTA(C413:P413)>0,\"'Scheme Name' missing but values entered in other columns\",\"\"))","v":""},null,false,1,2,3,4,5,6,7,8,9,10,"",12,13,14,15,null,16,0,true,true,false,false,false,false,false,true,true,true,true,false,false,true,true,false]
[null,null,null,null,null,null,null,null,null,null,null,null,null,null,null,null,null,{"$f":"IF(T414,VLOOKUP(MIN(U414:AK414),'Data Validation (hidden)'!$B$2:$C$19,2,FALSE),IF(COUNTA(C414:P414)>0,\"'Scheme Name' missing but values entered in other columns\",\"\"))","v":""},null,false,1,2,3,4,5,6,7,8,9,10,"",12,13,14,15,null,16,0,true,true,false,false,false,false,false,true,true,true,true,false,false,true,true,false]
[null,null,null,null,null,null,null,null,null,null,null,null,null,null,null,null,null,{"$f":"IF(T415,VLOOKUP(MIN(U415:AK415),'Data Validation (hidden)'!$B$2:$C$19,2,FALSE),IF(COUNTA(C415:P415)>0,\"'Scheme Name' missing but values entered in other columns\",\"\"))","v":""},null,false,1,2,3,4,5,6,7,8,9,10,"",12,13,14,15,null,16,0,true,true,false,false,false,false,false,true,true,true,true,false,false,true,true,false]
[null,null,null,null,null,null,null,null,null,null,null,null,null,null,null,null,null,{"$f":"IF(T416,VLOOKUP(MIN(U416:AK416),'Data Validation (hidden)'!$B$2:$C$19,2,FALSE),IF(COUNTA(C416:P416)>0,\"'Scheme Name' missing but values entered in other columns\",\"\"))","v":""},null,false,1,2,3,4,5,6,7,8,9,10,"",12,13,14,15,null,16,0,true,true,false,false,false,false,false,true,true,true,true,false,false,true,true,false]
[null,null,null,null,null,null,null,null,null,null,null,null,null,null,null,null,null,{"$f":"IF(T417,VLOOKUP(MIN(U417:AK417),'Data Validation (hidden)'!$B$2:$C$19,2,FALSE),IF(COUNTA(C417:P417)>0,\"'Scheme Name' missing but values entered in other columns\",\"\"))","v":""},null,false,1,2,3,4,5,6,7,8,9,10,"",12,13,14,15,null,16,0,true,true,false,false,false,false,false,true,true,true,true,false,false,true,true,false]
[null,null,null,null,null,null,null,null,null,null,null,null,null,null,null,null,null,{"$f":"IF(T418,VLOOKUP(MIN(U418:AK418),'Data Validation (hidden)'!$B$2:$C$19,2,FALSE),IF(COUNTA(C418:P418)>0,\"'Scheme Name' missing but values entered in other columns\",\"\"))","v":""},null,false,1,2,3,4,5,6,7,8,9,10,"",12,13,14,15,null,16,0,true,true,false,false,false,false,false,true,true,true,true,false,false,true,true,false]
[null,null,null,null,null,null,null,null,null,null,null,null,null,null,null,null,null,{"$f":"IF(T419,VLOOKUP(MIN(U419:AK419),'Data Validation (hidden)'!$B$2:$C$19,2,FALSE),IF(COUNTA(C419:P419)>0,\"'Scheme Name' missing but values entered in other columns\",\"\"))","v":""},null,false,1,2,3,4,5,6,7,8,9,10,"",12,13,14,15,null,16,0,true,true,false,false,false,false,false,true,true,true,true,false,false,true,true,false]
[null,null,null,null,null,null,null,null,null,null,null,null,null,null,null,null,null,{"$f":"IF(T420,VLOOKUP(MIN(U420:AK420),'Data Validation (hidden)'!$B$2:$C$19,2,FALSE),IF(COUNTA(C420:P420)>0,\"'Scheme Name' missing but values entered in other columns\",\"\"))","v":""},null,false,1,2,3,4,5,6,7,8,9,10,"",12,13,14,15,null,16,0,true,true,false,false,false,false,false,true,true,true,true,false,false,true,true,false]
[null,null,null,null,null,null,null,null,null,null,null,null,null,null,null,null,null,{"$f":"IF(T421,VLOOKUP(MIN(U421:AK421),'Data Validation (hidden)'!$B$2:$C$19,2,FALSE),IF(COUNTA(C421:P421)>0,\"'Scheme Name' missing but values entered in other columns\",\"\"))","v":""},null,false,1,2,3,4,5,6,7,8,9,10,"",12,13,14,15,null,16,0,true,true,false,false,false,false,false,true,true,true,true,false,false,true,true,false]
[null,null,null,null,null,null,null,null,null,null,null,null,null,null,null,null,null,{"$f":"IF(T422,VLOOKUP(MIN(U422:AK422),'Data Validation (hidden)'!$B$2:$C$19,2,FALSE),IF(COUNTA(C422:P422)>0,\"'Scheme Name' missing but values entered in other columns\",\"\"))","v":""},null,false,1,2,3,4,5,6,7,8,9,10,"",12,13,14,15,null,16,0,true,true,false,false,false,false,false,true,true,true,true,false,false,true,true,false]
[null,null,null,null,null,null,null,null,null,null,null,null,null,null,null,null,null,{"$f":"IF(T423,VLOOKUP(MIN(U423:AK423),'Data Validation (hidden)'!$B$2:$C$19,2,FALSE),IF(COUNTA(C423:P423)>0,\"'Scheme Name' missing but values entered in other columns\",\"\"))","v":""},null,false,1,2,3,4,5,6,7,8,9,10,"",12,13,14,15,null,16,0,true,true,false,false,false,false,false,true,true,true,true,false,false,true,true,false]
[null,null,null,null,null,null,null,null,null,null,null,null,null,null,null,null,null,{"$f":"IF(T424,VLOOKUP(MIN(U424:AK424),'Data Validation (hidden)'!$B$2:$C$19,2,FALSE),IF(COUNTA(C424:P424)>0,\"'Scheme Name' missing but values entered in other columns\",\"\"))","v":""},null,false,1,2,3,4,5,6,7,8,9,10,"",12,13,14,15,null,16,0,true,true,false,false,false,false,false,true,true,true,true,false,false,true,true,false]
[null,null,null,null,null,null,null,null,null,null,null,null,null,null,null,null,null,{"$f":"IF(T425,VLOOKUP(MIN(U425:AK425),'Data Validation (hidden)'!$B$2:$C$19,2,FALSE),IF(COUNTA(C425:P425)>0,\"'Scheme Name' missing but values entered in other columns\",\"\"))","v":""},null,false,1,2,3,4,5,6,7,8,9,10,"",12,13,14,15,null,16,0,true,true,false,false,false,false,false,true,true,true,true,false,false,true,true,false]
[null,null,null,null,null,null,null,null,null,null,null,null,null,null,null,null,null,{"$f":"IF(T426,VLOOKUP(MIN(U426:AK426),'Data Validation (hidden)'!$B$2:$C$19,2,FALSE),IF(COUNTA(C426:P426)>0,\"'Scheme Name' missing but values entered in other columns\",\"\"))","v":""},null,false,1,2,3,4,5,6,7,8,9,10,"",12,13,14,15,null,16,0,true,true,false,false,false,false,false,true,true,true,true,false,false,true,true,false]
[null,null,null,null,null,null,null,null,null,null,null,null,null,null,null,null,null,{"$f":"IF(T427,VLOOKUP(MIN(U427:AK427),'Data Validation (hidden)'!$B$2:$C$19,2,FALSE),IF(COUNTA(C427:P427)>0,\"'Scheme Name' missing but values entered in other columns\",\"\"))","v":""},null,false,1,2,3,4,5,6,7,8,9,10,"",12,13,14,15,null,16,0,true,true,false,false,false,false,false,true,true,true,true,false,false,true,true,false]
[null,null,null,null,null,null,null,null,null,null,null,null,null,null,null,null,null,{"$f":"IF(T428,VLOOKUP(MIN(U428:AK428),'Data Validation (hidden)'!$B$2:$C$19,2,FALSE),IF(COUNTA(C428:P428)>0,\"'Scheme Name' missing but values entered in other columns\",\"\"))","v":""},null,false,1,2,3,4,5,6,7,8,9,10,"",12,13,14,15,null,16,0,true,true,false,false,false,false,false,true,true,true,true,false,false,true,true,false]
[null,null,null,null,null,null,null,null,null,null,null,null,null,null,null,null,null,{"$f":"IF(T429,VLOOKUP(MIN(U429:AK429),'Data Validation (hidden)'!$B$2:$C$19,2,FALSE),IF(COUNTA(C429:P429)>0,\"'Scheme Name' missing but values entered in other columns\",\"\"))","v":""},null,false,1,2,3,4,5,6,7,8,9,10,"",12,13,14,15,null,16,0,true,true,false,false,false,false,false,true,true,true,true,false,false,true,true,false]
[null,null,null,null,null,null,null,null,null,null,null,null,null,null,null,null,null,{"$f":"IF(T430,VLOOKUP(MIN(U430:AK430),'Data Validation (hidden)'!$B$2:$C$19,2,FALSE),IF(COUNTA(C430:P430)>0,\"'Scheme Name' missing but values entered in other columns\",\"\"))","v":""},null,false,1,2,3,4,5,6,7,8,9,10,"",12,13,14,15,null,16,0,true,true,false,false,false,false,false,true,true,true,true,false,false,true,true,false]
[null,null,null,null,null,null,null,null,null,null,null,null,null,null,null,null,null,{"$f":"IF(T431,VLOOKUP(MIN(U431:AK431),'Data Validation (hidden)'!$B$2:$C$19,2,FALSE),IF(COUNTA(C431:P431)>0,\"'Scheme Name' missing but values entered in other columns\",\"\"))","v":""},null,false,1,2,3,4,5,6,7,8,9,10,"",12,13,14,15,null,16,0,true,true,false,false,false,false,false,true,true,true,true,false,false,true,true,false]
[null,null,null,null,null,null,null,null,null,null,null,null,null,null,null,null,null,{"$f":"IF(T432,VLOOKUP(MIN(U432:AK432),'Data Validation (hidden)'!$B$2:$C$19,2,FALSE),IF(COUNTA(C432:P432)>0,\"'Scheme Name' missing but values entered in other columns\",\"\"))","v":""},null,false,1,2,3,4,5,6,7,8,9,10,"",12,13,14,15,null,16,0,true,true,false,false,false,false,false,true,true,true,true,false,false,true,true,false]
[null,null,null,null,null,null,null,null,null,null,null,null,null,null,null,null,null,{"$f":"IF(T433,VLOOKUP(MIN(U433:AK433),'Data Validation (hidden)'!$B$2:$C$19,2,FALSE),IF(COUNTA(C433:P433)>0,\"'Scheme Name' missing but values entered in other columns\",\"\"))","v":""},null,false,1,2,3,4,5,6,7,8,9,10,"",12,13,14,15,null,16,0,true,true,false,false,false,false,false,true,true,true,true,false,false,true,true,false]
[null,null,null,null,null,null,null,null,null,null,null,null,null,null,null,null,null,{"$f":"IF(T434,VLOOKUP(MIN(U434:AK434),'Data Validation (hidden)'!$B$2:$C$19,2,FALSE),IF(COUNTA(C434:P434)>0,\"'Scheme Name' missing but values entered in other columns\",\"\"))","v":""},null,false,1,2,3,4,5,6,7,8,9,10,"",12,13,14,15,null,16,0,true,true,false,false,false,false,false,true,true,true,true,false,false,true,true,false]
[null,null,null,null,null,null,null,null,null,null,null,null,null,null,null,null,null,{"$f":"IF(T435,VLOOKUP(MIN(U435:AK435),'Data Validation (hidden)'!$B$2:$C$19,2,FALSE),IF(COUNTA(C435:P435)>0,\"'Scheme Name' missing but values entered in other columns\",\"\"))","v":""},null,false,1,2,3,4,5,6,7,8,9,10,"",12,13,14,15,null,16,0,true,true,false,false,false,false,false,true,true,true,true,false,false,true,true,false]
[null,null,null,null,null,null,null,null,null,null,null,null,null,null,null,null,null,{"$f":"IF(T436,VLOOKUP(MIN(U436:AK436),'Data Validation (hidden)'!$B$2:$C$19,2,FALSE),IF(COUNTA(C436:P436)>0,\"'Scheme Name' missing but values entered in other columns\",\"\"))","v":""},null,false,1,2,3,4,5,6,7,8,9,10,"",12,13,14,15,null,16,0,true,true,false,false,false,false,false,true,true,true,true,false,false,true,true,false]
[null,null,null,null,null,null,null,null,null,null,null,null,null,null,null,null,null,{"$f":"IF(T437,VLOOKUP(MIN(U437:AK437),'Data Validation (hidden)'!$B$2:$C$19,2,FALSE),IF(COUNTA(C437:P437)>0,\"'Scheme Name' missing but values entered in other columns\",\"\"))","v":""},null,false,1,2,3,4,5,6,7,8,9,10,"",12,13,14,15,null,16,0,true,true,false,false,false,false,false,true,true,true,true,false,false,true,true,false]
[null,null,null,null,null,null,null,null,null,null,null,null,null,null,null,null,null,{"$f":"IF(T438,VLOOKUP(MIN(U438:AK438),'Data Validation (hidden)'!$B$2:$C$19,2,FALSE),IF(COUNTA(C438:P438)>0,\"'Scheme Name' missing but values entered in other columns\",\"\"))","v":""},null,false,1,2,3,4,5,6,7,8,9,10,"",12,13,14,15,null,16,0,true,true,false,false,false,false,false,true,true,true,true,false,false,true,true,false]
[null,null,null,null,null,null,null,null,null,null,null,null,null,null,null,null,null,{"$f":"IF(T439,VLOOKUP(MIN(U439:AK439),'Data Validation (hidden)'!$B$2:$C$19,2,FALSE),IF(COUNTA(C439:P439)>0,\"'Scheme Name' missing but values entered in other columns\",\"\"))","v":""},null,false,1,2,3,4,5,6,7,8,9,10,"",12,13,14,15,null,16,0,true,true,false,false,false,false,false,true,true,true,true,false,false,true,true,false]
[null,null,null,null,null,null,null,null,null,null,null,null,null,null,null,null,null,{"$f":"IF(T440,VLOOKUP(MIN(U440:AK440),'Data Validation (hidden)'!$B$2:$C$19,2,FALSE),IF(COUNTA(C440:P440)>0,\"'Scheme Name' missing but values entered in other columns\",\"\"))","v":""},null,false,1,2,3,4,5,6,7,8,9,10,"",12,13,14,15,null,16,0,true,true,false,false,false,false,false,true,true,true,true,false,false,true,true,false]
[null,null,null,null,null,null,null,null,null,null,null,null,null,null,null,null,null,{"$f":"IF(T441,VLOOKUP(MIN(U441:AK441),'Data Validation (hidden)'!$B$2:$C$19,2,FALSE),IF(COUNTA(C441:P441)>0,\"'Scheme Name' missing but values entered in other columns\",\"\"))","v":""},null,false,1,2,3,4,5,6,7,8,9,10,"",12,13,14,15,null,16,0,true,true,false,false,false,false,false,true,true,true,true,false,false,true,true,false]
[null,null,null,null,null,null,null,null,null,null,null,null,null,null,null,null,null,{"$f":"IF(T442,VLOOKUP(MIN(U442:AK442),'Data Validation (hidden)'!$B$2:$C$19,2,FALSE),IF(COUNTA(C442:P442)>0,\"'Scheme Name' missing but values entered in other columns\",\"\"))","v":""},null,false,1,2,3,4,5,6,7,8,9,10,"",12,13,14,15,null,16,0,true,true,false,false,false,false,false,true,true,true,true,false,false,true,true,false]
[null,null,null,null,null,null,null,null,null,null,null,null,null,null,null,null,null,{"$f":"IF(T443,VLOOKUP(MIN(U443:AK443),'Data Validation (hidden)'!$B$2:$C$19,2,FALSE),IF(COUNTA(C443:P443)>0,\"'Scheme Name' missing but values entered in other columns\",\"\"))","v":""},null,false,1,2,3,4,5,6,7,8,9,10,"",12,13,14,15,null,16,0,true,true,false,false,false,false,false,true,true,true,true,false,false,true,true,false]
[null,null,null,null,null,null,null,null,null,null,null,null,null,null,null,null,null,{"$f":"IF(T444,VLOOKUP(MIN(U444:AK444),'Data Validation (hidden)'!$B$2:$C$19,2,FALSE),IF(COUNTA(C444:P444)>0,\"'Scheme Name' missing but values entered in other columns\",\"\"))","v":""},null,false,1,2,3,4,5,6,7,8,9,10,"",12,13,14,15,null,16,0,true,true,false,false,false,false,false,true,true,true,true,false,false,true,true,false]
[null,null,null,null,null,null,null,null,null,null,null,null,null,null,null,null,null,{"$f":"IF(T445,VLOOKUP(MIN(U445:AK445),'Data Validation (hidden)'!$B$2:$C$19,2,FALSE),IF(COUNTA(C445:P445)>0,\"'Scheme Name' missing but values entered in other columns\",\"\"))","v":""},null,false,1,2,3,4,5,6,7,8,9,10,"",12,13,14,15,null,16,0,true,true,false,false,false,false,false,true,true,true,true,false,false,true,true,false]
[null,null,null,null,null,null,null,null,null,null,null,null,null,null,null,null,null,{"$f":"IF(T446,VLOOKUP(MIN(U446:AK446),'Data Validation (hidden)'!$B$2:$C$19,2,FALSE),IF(COUNTA(C446:P446)>0,\"'Scheme Name' missing but values entered in other columns\",\"\"))","v":""},null,false,1,2,3,4,5,6,7,8,9,10,"",12,13,14,15,null,16,0,true,true,false,false,false,false,false,true,true,true,true,false,false,true,true,false]
[null,null,null,null,null,null,null,null,null,null,null,null,null,null,null,null,null,{"$f":"IF(T447,VLOOKUP(MIN(U447:AK447),'Data Validation (hidden)'!$B$2:$C$19,2,FALSE),IF(COUNTA(C447:P447)>0,\"'Scheme Name' missing but values entered in other columns\",\"\"))","v":""},null,false,1,2,3,4,5,6,7,8,9,10,"",12,13,14,15,null,16,0,true,true,false,false,false,false,false,true,true,true,true,false,false,true,true,false]
[null,null,null,null,null,null,null,null,null,null,null,null,null,null,null,null,null,{"$f":"IF(T448,VLOOKUP(MIN(U448:AK448),'Data Validation (hidden)'!$B$2:$C$19,2,FALSE),IF(COUNTA(C448:P448)>0,\"'Scheme Name' missing but values entered in other columns\",\"\"))","v":""},null,false,1,2,3,4,5,6,7,8,9,10,"",12,13,14,15,null,16,0,true,true,false,false,false,false,false,true,true,true,true,false,false,true,true,false]
[null,null,null,null,null,null,null,null,null,null,null,null,null,null,null,null,null,{"$f":"IF(T449,VLOOKUP(MIN(U449:AK449),'Data Validation (hidden)'!$B$2:$C$19,2,FALSE),IF(COUNTA(C449:P449)>0,\"'Scheme Name' missing but values entered in other columns\",\"\"))","v":""},null,false,1,2,3,4,5,6,7,8,9,10,"",12,13,14,15,null,16,0,true,true,false,false,false,false,false,true,true,true,true,false,false,true,true,false]
[null,null,null,null,null,null,null,null,null,null,null,null,null,null,null,null,null,{"$f":"IF(T450,VLOOKUP(MIN(U450:AK450),'Data Validation (hidden)'!$B$2:$C$19,2,FALSE),IF(COUNTA(C450:P450)>0,\"'Scheme Name' missing but values entered in other columns\",\"\"))","v":""},null,false,1,2,3,4,5,6,7,8,9,10,"",12,13,14,15,null,16,0,true,true,false,false,false,false,false,true,true,true,true,false,false,true,true,false]
[null,null,null,null,null,null,null,null,null,null,null,null,null,null,null,null,null,{"$f":"IF(T451,VLOOKUP(MIN(U451:AK451),'Data Validation (hidden)'!$B$2:$C$19,2,FALSE),IF(COUNTA(C451:P451)>0,\"'Scheme Name' missing but values entered in other columns\",\"\"))","v":""},null,false,1,2,3,4,5,6,7,8,9,10,"",12,13,14,15,null,16,0,true,true,false,false,false,false,false,true,true,true,true,false,false,true,true,false]
[null,null,null,null,null,null,null,null,null,null,null,null,null,null,null,null,null,{"$f":"IF(T452,VLOOKUP(MIN(U452:AK452),'Data Validation (hidden)'!$B$2:$C$19,2,FALSE),IF(COUNTA(C452:P452)>0,\"'Scheme Name' missing but values entered in other columns\",\"\"))","v":""},null,false,1,2,3,4,5,6,7,8,9,10,"",12,13,14,15,null,16,0,true,true,false,false,false,false,false,true,true,true,true,false,false,true,true,false]
[null,null,null,null,null,null,null,null,null,null,null,null,null,null,null,null,null,{"$f":"IF(T453,VLOOKUP(MIN(U453:AK453),'Data Validation (hidden)'!$B$2:$C$19,2,FALSE),IF(COUNTA(C453:P453)>0,\"'Scheme Name' missing but values entered in other columns\",\"\"))","v":""},null,false,1,2,3,4,5,6,7,8,9,10,"",12,13,14,15,null,16,0,true,true,false,false,false,false,false,true,true,true,true,false,false,true,true,false]
[null,null,null,null,null,null,null,null,null,null,null,null,null,null,null,null,null,{"$f":"IF(T454,VLOOKUP(MIN(U454:AK454),'Data Validation (hidden)'!$B$2:$C$19,2,FALSE),IF(COUNTA(C454:P454)>0,\"'Scheme Name' missing but values entered in other columns\",\"\"))","v":""},null,false,1,2,3,4,5,6,7,8,9,10,"",12,13,14,15,null,16,0,true,true,false,false,false,false,false,true,true,true,true,false,false,true,true,false]
[null,null,null,null,null,null,null,null,null,null,null,null,null,null,null,null,null,{"$f":"IF(T455,VLOOKUP(MIN(U455:AK455),'Data Validation (hidden)'!$B$2:$C$19,2,FALSE),IF(COUNTA(C455:P455)>0,\"'Scheme Name' missing but values entered in other columns\",\"\"))","v":""},null,false,1,2,3,4,5,6,7,8,9,10,"",12,13,14,15,null,16,0,true,true,false,false,false,false,false,true,true,true,true,false,false,true,true,false]
[null,null,null,null,null,null,null,null,null,null,null,null,null,null,null,null,null,{"$f":"IF(T456,VLOOKUP(MIN(U456:AK456),'Data Validation (hidden)'!$B$2:$C$19,2,FALSE),IF(COUNTA(C456:P456)>0,\"'Scheme Name' missing but values entered in other columns\",\"\"))","v":""},null,{"$f":"B456<>\"\"","v":false},{"$f":"IF(C456=\"\",1,\"\")","v":1},2,3,4,5,6,7,8,9,10,"",{"$f":"IF(M456=\"\",12,\"\")","v":12},{"$f":"IF(N456=\"\",13,\"\")","v":13},{"$f":"IF(O456=\"\",14,\"\")","v":14},{"$f":"IF(P456=\"\",15,\"\")","v":15},null,16,{"$f":"SUM(J456:L456)","v":0},true,true,false,false,false,false,false,true,true,true,true,false,false,{"$f":"IF( CELL(\"format\",O456) = \"F0\",TRUE,FALSE)","v":true},{"$f":"IF( CELL(\"format\",P456) = \"F0\",TRUE,FALSE)","v":true},{"$f":"IF(R456=\"\",FALSE,IF(R456=\"OK\",FALSE,TRUE))","v":false}]
[null,null,null,null,null,null,null,null,null,null,null,null,null,null,null,null,null,{"$f":"IF(T457,VLOOKUP(MIN(U457:AK457),'Data Validation (hidden)'!$B$2:$C$19,2,FALSE),IF(COUNTA(C457:P457)>0,\"'Scheme Name' missing but values entered in other columns\",\"\"))","v":""},null,false,1,{"$f":"IF(D457=\"\",2,\"\")","v":2},{"$f":"IF(E457=\"\",IF(D457=\"Gratuity\",\"\",3),\"\")","v":3},{"$f":"IF(F457=\"\",4,\"\")","v":4},{"$f":"IF(G457=\"\",5,\"\")","v":5},{"$f":"IF(H457=\"\",6,\"\")","v":6},{"$f":"IF(I457=\"\",7,\"\")","v":7},{"$f":"IF(J457=\"\",8,\"\")","v":8},{"$f":"IF(K457=\"\",9,\"\")","v":9},{"$f":"IF(L457=\"\",10,\"\")","v":10},{"$f":"IF((AL457=I457),\"\",11)","v":""},12,13,14,15,null,{"$f":"IF(AND(AM457,AN457,AO457,AP457,AQ457,AR457,AS457,AT457,AU457,AV457,AW457,AX457,AY457,AZ457,BA457)=TRUE,\"\",16)","v":16},0,{"$f":"IF(CELL(\"format\", B457) = \"G\",TRUE,FALSE)","v":true},{"$f":"IF(CELL(\"format\", C457) = \"F0\",TRUE,FALSE)","v":true},{"$f":"OR(D457=\"A\",D457=\"B\",D457=\"C\",D457=\"Gratuity\")","v":false},{"$f":"OR(E457=\"DC\",E457=\"DB\",E457=\"H\",D457=\"Gratuity\")","v":false},{"$f":"OR(F457=\"Occupational\",F457=\"Personal\")","v":false},{"$f":"OR(G457=\"Yes\",G457=\"No\")","v":false},{"$f":"OR(H457=\"MD\",H457=\"PD\",H457=\"TD\",H457=\"MPD\",H457=\"MTD\",H457=\"PTD\",H457=\"MPTD\")","v":false},{"$f":"IF( CELL(\"format\",I457) = \"F0\",TRUE,FALSE)","v":true},{"$f":"IF( CELL(\"format\",J457) = \"F0\",TRUE,FALSE)","v":true},{"$f":"IF( CELL(\"format\",K457) = \"F0\",TRUE,FALSE)","v":true},{"$f":"IF( CELL(\"format\",L457) = \"F0\",TRUE,FALSE)","v":true},{"$f":"OR(M457=\"Yes\",M457=\"No\")","v":false},{"$f":"OR(N457=\"Trustee\",N457=\"Administrator\",N457=\"Both\")","v":false},true,true,false]
[null,null,null,null,null,null,null,null,null,null,null,null,null,null,null,null,null,{"$f":"IF(T458,VLOOKUP(MIN(U458:AK458),'Data Validation (hidden)'!$B$2:$C$19,2,FALSE),IF(COUNTA(C458:P458)>0,\"'Scheme Name' missing but values entered in other columns\",\"\"))","v":""},null,false,1,2,3,4,5,6,7,8,9,10,"",12,13,14,15,null,16,0,true,true,false,false,false,false,false,true,true,true,true,false,false,true,true,false]
[null,null,null,null,null,null,null,null,null,null,null,null,null,null,null,null,null,{"$f":"IF(T459,VLOOKUP(MIN(U459:AK459),'Data Validation (hidden)'!$B$2:$C$19,2,FALSE),IF(COUNTA(C459:P459)>0,\"'Scheme Name' missing but values entered in other columns\",\"\"))","v":""},null,false,1,2,3,4,5,6,7,8,9,10,"",12,13,14,15,null,16,0,true,true,false,false,false,false,false,true,true,true,true,false,false,true,true,false]
[null,null,null,null,null,null,null,null,null,null,null,null,null,null,null,null,null,{"$f":"IF(T460,VLOOKUP(MIN(U460:AK460),'Data Validation (hidden)'!$B$2:$C$19,2,FALSE),IF(COUNTA(C460:P460)>0,\"'Scheme Name' missing but values entered in other columns\",\"\"))","v":""},null,false,1,2,3,4,5,6,7,8,9,10,"",12,13,14,15,null,16,0,true,true,false,false,false,false,false,true,true,true,true,false,false,true,true,false]
[null,null,null,null,null,null,null,null,null,null,null,null,null,null,null,null,null,{"$f":"IF(T461,VLOOKUP(MIN(U461:AK461),'Data Validation (hidden)'!$B$2:$C$19,2,FALSE),IF(COUNTA(C461:P461)>0,\"'Scheme Name' missing but values entered in other columns\",\"\"))","v":""},null,false,1,2,3,4,5,6,7,8,9,10,"",12,13,14,15,null,16,0,true,true,false,false,false,false,false,true,true,true,true,false,false,true,true,false]
[null,null,null,null,null,null,null,null,null,null,null,null,null,null,null,null,null,{"$f":"IF(T462,VLOOKUP(MIN(U462:AK462),'Data Validation (hidden)'!$B$2:$C$19,2,FALSE),IF(COUNTA(C462:P462)>0,\"'Scheme Name' missing but values entered in other columns\",\"\"))","v":""},null,false,1,2,3,4,5,6,7,8,9,10,"",12,13,14,15,null,16,0,true,true,false,false,false,false,false,true,true,true,true,false,false,true,true,false]
[null,null,null,null,null,null,null,null,null,null,null,null,null,null,null,null,null,{"$f":"IF(T463,VLOOKUP(MIN(U463:AK463),'Data Validation (hidden)'!$B$2:$C$19,2,FALSE),IF(COUNTA(C463:P463)>0,\"'Scheme Name' missing but values entered in other columns\",\"\"))","v":""},null,false,1,2,3,4,5,6,7,8,9,10,"",12,13,14,15,null,16,0,true,true,false,false,false,false,false,true,true,true,true,false,false,true,true,false]
[null,null,null,null,null,null,null,null,null,null,null,null,null,null,null,null,null,{"$f":"IF(T464,VLOOKUP(MIN(U464:AK464),'Data Validation (hidden)'!$B$2:$C$19,2,FALSE),IF(COUNTA(C464:P464)>0,\"'Scheme Name' missing but values entered in other columns\",\"\"))","v":""},null,false,1,2,3,4,5,6,7,8,9,10,"",12,13,14,15,null,16,0,true,true,false,false,false,false,false,true,true,true,true,false,false,true,true,false]
[null,null,null,null,null,null,null,null,null,null,null,null,null,null,null,null,null,{"$f":"IF(T465,VLOOKUP(MIN(U465:AK465),'Data Validation (hidden)'!$B$2:$C$19,2,FALSE),IF(COUNTA(C465:P465)>0,\"'Scheme Name' missing but values entered in other columns\",\"\"))","v":""},null,false,1,2,3,4,5,6,7,8,9,10,"",12,13,14,15,null,16,0,true,true,false,false,false,false,false,true,true,true,true,false,false,true,true,false]
[null,null,null,null,null,null,null,null,null,null,null,null,null,null,null,null,null,{"$f":"IF(T466,VLOOKUP(MIN(U466:AK466),'Data Validation (hidden)'!$B$2:$C$19,2,FALSE),IF(COUNTA(C466:P466)>0,\"'Scheme Name' missing but values entered in other columns\",\"\"))","v":""},null,false,1,2,3,4,5,6,7,8,9,10,"",12,13,14,15,null,16,0,true,true,false,false,false,false,false,true,true,true,true,false,false,true,true,false]
[null,null,null,null,null,null,null,null,null,null,null,null,null,null,null,null,null,{"$f":"IF(T467,VLOOKUP(MIN(U467:AK467),'Data Validation (hidden)'!$B$2:$C$19,2,FALSE),IF(COUNTA(C467:P467)>0,\"'Scheme Name' missing but values entered in other columns\",\"\"))","v":""},null,false,1,2,3,4,5,6,7,8,9,10,"",12,13,14,15,null,16,0,true,true,false,false,false,false,false,true,true,true,true,false,false,true,true,false]
[null,null,null,null,null,null,null,null,null,null,null,null,null,null,null,null,null,{"$f":"IF(T468,VLOOKUP(MIN(U468:AK468),'Data Validation (hidden)'!$B$2:$C$19,2,FALSE),IF(COUNTA(C468:P468)>0,\"'Scheme Name' missing but values entered in other columns\",\"\"))","v":""},null,false,1,2,3,4,5,6,7,8,9,10,"",12,13,14,15,null,16,0,true,true,false,false,false,false,false,true,true,true,true,false,false,true,true,false]
[null,null,null,null,null,null,null,null,null,null,null,null,null,null,null,null,null,{"$f":"IF(T469,VLOOKUP(MIN(U469:AK469),'Data Validation (hidden)'!$B$2:$C$19,2,FALSE),IF(COUNTA(C469:P469)>0,\"'Scheme Name' missing but values entered in other columns\",\"\"))","v":""},null,false,1,2,3,4,5,6,7,8,9,10,"",12,13,14,15,null,16,0,true,true,false,false,false,false,false,true,true,true,true,false,false,true,true,false]
[null,null,null,null,null,null,null,null,null,null,null,null,null,null,null,null,null,{"$f":"IF(T470,VLOOKUP(MIN(U470:AK470),'Data Validation (hidden)'!$B$2:$C$19,2,FALSE),IF(COUNTA(C470:P470)>0,\"'Scheme Name' missing but values entered in other columns\",\"\"))","v":""},null,false,1,2,3,4,5,6,7,8,9,10,"",12,13,14,15,null,16,0,true,true,false,false,false,false,false,true,true,true,true,false,false,true,true,false]
[null,null,null,null,null,null,null,null,null,null,null,null,null,null,null,null,null,{"$f":"IF(T471,VLOOKUP(MIN(U471:AK471),'Data Validation (hidden)'!$B$2:$C$19,2,FALSE),IF(COUNTA(C471:P471)>0,\"'Scheme Name' missing but values entered in other columns\",\"\"))","v":""},null,false,1,2,3,4,5,6,7,8,9,10,"",12,13,14,15,null,16,0,true,true,false,false,false,false,false,true,true,true,true,false,false,true,true,false]
[null,null,null,null,null,null,null,null,null,null,null,null,null,null,null,null,null,{"$f":"IF(T472,VLOOKUP(MIN(U472:AK472),'Data Validation (hidden)'!$B$2:$C$19,2,FALSE),IF(COUNTA(C472:P472)>0,\"'Scheme Name' missing but values entered in other columns\",\"\"))","v":""},null,false,1,2,3,4,5,6,7,8,9,10,"",12,13,14,15,null,16,0,true,true,false,false,false,false,false,true,true,true,true,false,false,true,true,false]
[null,null,null,null,null,null,null,null,null,null,null,null,null,null,null,null,null,{"$f":"IF(T473,VLOOKUP(MIN(U473:AK473),'Data Validation (hidden)'!$B$2:$C$19,2,FALSE),IF(COUNTA(C473:P473)>0,\"'Scheme Name' missing but values entered in other columns\",\"\"))","v":""},null,false,1,2,3,4,5,6,7,8,9,10,"",12,13,14,15,null,16,0,true,true,false,false,false,false,false,true,true,true,true,false,false,true,true,false]
[null,null,null,null,null,null,null,null,null,null,null,null,null,null,null,null,null,{"$f":"IF(T474,VLOOKUP(MIN(U474:AK474),'Data Validation (hidden)'!$B$2:$C$19,2,FALSE),IF(COUNTA(C474:P474)>0,\"'Scheme Name' missing but values entered in other columns\",\"\"))","v":""},null,false,1,2,3,4,5,6,7,8,9,10,"",12,13,14,15,null,16,0,true,true,false,false,false,false,false,true,true,true,true,false,false,true,true,false]
[null,null,null,null,null,null,null,null,null,null,null,null,null,null,null,null,null,{"$f":"IF(T475,VLOOKUP(MIN(U475:AK475),'Data Validation (hidden)'!$B$2:$C$19,2,FALSE),IF(COUNTA(C475:P475)>0,\"'Scheme Name' missing but values entered in other columns\",\"\"))","v":""},null,false,1,2,3,4,5,6,7,8,9,10,"",12,13,14,15,null,16,0,true,true,false,false,false,false,false,true,true,true,true,false,false,true,true,false]
[null,null,null,null,null,null,null,null,null,null,null,null,null,null,null,null,null,{"$f":"IF(T476,VLOOKUP(MIN(U476:AK476),'Data Validation (hidden)'!$B$2:$C$19,2,FALSE),IF(COUNTA(C476:P476)>0,\"'Scheme Name' missing but values entered in other columns\",\"\"))","v":""},null,false,1,2,3,4,5,6,7,8,9,10,"",12,13,14,15,null,16,0,true,true,false,false,false,false,false,true,true,true,true,false,false,true,true,false]
[null,null,null,null,null,null,null,null,null,null,null,null,null,null,null,null,null,{"$f":"IF(T477,VLOOKUP(MIN(U477:AK477),'Data Validation (hidden)'!$B$2:$C$19,2,FALSE),IF(COUNTA(C477:P477)>0,\"'Scheme Name' missing but values entered in other columns\",\"\"))","v":""},null,false,1,2,3,4,5,6,7,8,9,10,"",12,13,14,15,null,16,0,true,true,false,false,false,false,false,true,true,true,true,false,false,true,true,false]
[null,null,null,null,null,null,null,null,null,null,null,null,null,null,null,null,null,{"$f":"IF(T478,VLOOKUP(MIN(U478:AK478),'Data Validation (hidden)'!$B$2:$C$19,2,FALSE),IF(COUNTA(C478:P478)>0,\"'Scheme Name' missing but values entered in other columns\",\"\"))","v":""},null,false,1,2,3,4,5,6,7,8,9,10,"",12,13,14,15,null,16,0,true,true,false,false,false,false,false,true,true,true,true,false,false,true,true,false]
[null,null,null,null,null,null,null,null,null,null,null,null,null,null,null,null,null,{"$f":"IF(T479,VLOOKUP(MIN(U479:AK479),'Data Validation (hidden)'!$B$2:$C$19,2,FALSE),IF(COUNTA(C479:P479)>0,\"'Scheme Name' missing but values entered in other columns\",\"\"))","v":""},null,false,1,2,3,4,5,6,7,8,9,10,"",12,13,14,15,null,16,0,true,true,false,false,false,false,false,true,true,true,true,false,false,true,true,false]
[null,null,null,null,null,null,null,null,null,null,null,null,null,null,null,null,null,{"$f":"IF(T480,VLOOKUP(MIN(U480:AK480),'Data Validation (hidden)'!$B$2:$C$19,2,FALSE),IF(COUNTA(C480:P480)>0,\"'Scheme Name' missing but values entered in other columns\",\"\"))","v":""},null,false,1,2,3,4,5,6,7,8,9,10,"",12,13,14,15,null,16,0,true,true,false,false,false,false,false,true,true,true,true,false,false,true,true,false]
[null,null,null,null,null,null,null,null,null,null,null,null,null,null,null,null,null,{"$f":"IF(T481,VLOOKUP(MIN(U481:AK481),'Data Validation (hidden)'!$B$2:$C$19,2,FALSE),IF(COUNTA(C481:P481)>0,\"'Scheme Name' missing but values entered in other columns\",\"\"))","v":""},null,false,1,2,3,4,5,6,7,8,9,10,"",12,13,14,15,null,16,0,true,true,false,false,false,false,false,true,true,true,true,false,false,true,true,false]
[null,null,null,null,null,null,null,null,null,null,null,null,null,null,null,null,null,{"$f":"IF(T482,VLOOKUP(MIN(U482:AK482),'Data Validation (hidden)'!$B$2:$C$19,2,FALSE),IF(COUNTA(C482:P482)>0,\"'Scheme Name' missing but values entered in other columns\",\"\"))","v":""},null,false,1,2,3,4,5,6,7,8,9,10,"",12,13,14,15,null,16,0,true,true,false,false,false,false,false,true,true,true,true,false,false,true,true,false]
[null,null,null,null,null,null,null,null,null,null,null,null,null,null,null,null,null,{"$f":"IF(T483,VLOOKUP(MIN(U483:AK483),'Data Validation (hidden)'!$B$2:$C$19,2,FALSE),IF(COUNTA(C483:P483)>0,\"'Scheme Name' missing but values entered in other columns\",\"\"))","v":""},null,false,1,2,3,4,5,6,7,8,9,10,"",12,13,14,15,null,16,0,true,true,false,false,false,false,false,true,true,true,true,false,false,true,true,false]
[null,null,null,null,null,null,null,null,null,null,null,null,null,null,null,null,null,{"$f":"IF(T484,VLOOKUP(MIN(U484:AK484),'Data Validation (hidden)'!$B$2:$C$19,2,FALSE),IF(COUNTA(C484:P484)>0,\"'Scheme Name' missing but values entered in other columns\",\"\"))","v":""},null,false,1,2,3,4,5,6,7,8,9,10,"",12,13,14,15,null,16,0,true,true,false,false,false,false,false,true,true,true,true,false,false,true,true,false]
[null,null,null,null,null,null,null,null,null,null,null,null,null,null,null,null,null,{"$f":"IF(T485,VLOOKUP(MIN(U485:AK485),'Data Validation (hidden)'!$B$2:$C$19,2,FALSE),IF(COUNTA(C485:P485)>0,\"'Scheme Name' missing but values entered in other columns\",\"\"))","v":""},null,false,1,2,3,4,5,6,7,8,9,10,"",12,13,14,15,null,16,0,true,true,false,false,false,false,false,true,true,true,true,false,false,true,true,false]
[null,null,null,null,null,null,null,null,null,null,null,null,null,null,null,null,null,{"$f":"IF(T486,VLOOKUP(MIN(U486:AK486),'Data Validation (hidden)'!$B$2:$C$19,2,FALSE),IF(COUNTA(C486:P486)>0,\"'Scheme Name' missing but values entered in other columns\",\"\"))","v":""},null,false,1,2,3,4,5,6,7,8,9,10,"",12,13,14,15,null,16,0,true,true,false,false,false,false,false,true,true,true,true,false,false,true,true,false]
[null,null,null,null,null,null,null,null,null,null,null,null,null,null,null,null,null,{"$f":"IF(T487,VLOOKUP(MIN(U487:AK487),'Data Validation (hidden)'!$B$2:$C$19,2,FALSE),IF(COUNTA(C487:P487)>0,\"'Scheme Name' missing but values entered in other columns\",\"\"))","v":""},null,false,1,2,3,4,5,6,7,8,9,10,"",12,13,14,15,null,16,0,true,true,false,false,false,false,false,true,true,true,true,false,false,true,true,false]
[null,null,null,null,null,null,null,null,null,null,null,null,null,null,null,null,null,{"$f":"IF(T488,VLOOKUP(MIN(U488:AK488),'Data Validation (hidden)'!$B$2:$C$19,2,FALSE),IF(COUNTA(C488:P488)>0,\"'Scheme Name' missing but values entered in other columns\",\"\"))","v":""},null,false,1,2,3,4,5,6,7,8,9,10,"",12,13,14,15,null,16,0,true,true,false,false,false,false,false,true,true,true,true,false,false,true,true,false]
[null,null,null,null,null,null,null,null,null,null,null,null,null,null,null,null,null,{"$f":"IF(T489,VLOOKUP(MIN(U489:AK489),'Data Validation (hidden)'!$B$2:$C$19,2,FALSE),IF(COUNTA(C489:P489)>0,\"'Scheme Name' missing but values entered in other columns\",\"\"))","v":""},null,false,1,2,3,4,5,6,7,8,9,10,"",12,13,14,15,null,16,0,true,true,false,false,false,false,false,true,true,true,true,false,false,true,true,false]
[null,null,null,null,null,null,null,null,null,null,null,null,null,null,null,null,null,{"$f":"IF(T490,VLOOKUP(MIN(U490:AK490),'Data Validation (hidden)'!$B$2:$C$19,2,FALSE),IF(COUNTA(C490:P490)>0,\"'Scheme Name' missing but values entered in other columns\",\"\"))","v":""},null,false,1,2,3,4,5,6,7,8,9,10,"",12,13,14,15,null,16,0,true,true,false,false,false,false,false,true,true,true,true,false,false,true,true,false]
[null,null,null,null,null,null,null,null,null,null,null,null,null,null,null,null,null,{"$f":"IF(T491,VLOOKUP(MIN(U491:AK491),'Data Validation (hidden)'!$B$2:$C$19,2,FALSE),IF(COUNTA(C491:P491)>0,\"'Scheme Name' missing but values entered in other columns\",\"\"))","v":""},null,false,1,2,3,4,5,6,7,8,9,10,"",12,13,14,15,null,16,0,true,true,false,false,false,false,false,true,true,true,true,false,false,true,true,false]
[null,null,null,null,null,null,null,null,null,null,null,null,null,null,null,null,null,{"$f":"IF(T492,VLOOKUP(MIN(U492:AK492),'Data Validation (hidden)'!$B$2:$C$19,2,FALSE),IF(COUNTA(C492:P492)>0,\"'Scheme Name' missing but values entered in other columns\",\"\"))","v":""},null,false,1,2,3,4,5,6,7,8,9,10,"",12,13,14,15,null,16,0,true,true,false,false,false,false,false,true,true,true,true,false,false,true,true,false]
[null,null,null,null,null,null,null,null,null,null,null,null,null,null,null,null,null,{"$f":"IF(T493,VLOOKUP(MIN(U493:AK493),'Data Validation (hidden)'!$B$2:$C$19,2,FALSE),IF(COUNTA(C493:P493)>0,\"'Scheme Name' missing but values entered in other columns\",\"\"))","v":""},null,false,1,2,3,4,5,6,7,8,9,10,"",12,13,14,15,null,16,0,true,true,false,false,false,false,false,true,true,true,true,false,false,true,true,false]
[null,null,null,null,null,null,null,null,null,null,null,null,null,null,null,null,null,{"$f":"IF(T494,VLOOKUP(MIN(U494:AK494),'Data Validation (hidden)'!$B$2:$C$19,2,FALSE),IF(COUNTA(C494:P494)>0,\"'Scheme Name' missing but values entered in other columns\",\"\"))","v":""},null,false,1,2,3,4,5,6,7,8,9,10,"",12,13,14,15,null,16,0,true,true,false,false,false,false,false,true,true,true,true,false,false,true,true,false]
[null,null,null,null,null,null,null,null,null,null,null,null,null,null,null,null,null,{"$f":"IF(T495,VLOOKUP(MIN(U495:AK495),'Data Validation (hidden)'!$B$2:$C$19,2,FALSE),IF(COUNTA(C495:P495)>0,\"'Scheme Name' missing but values entered in other columns\",\"\"))","v":""},null,false,1,2,3,4,5,6,7,8,9,10,"",12,13,14,15,null,16,0,true,true,false,false,false,false,false,true,true,true,true,false,false,true,true,false]
[null,null,null,null,null,null,null,null,null,null,null,null,null,null,null,null,null,{"$f":"IF(T496,VLOOKUP(MIN(U496:AK496),'Data Validation (hidden)'!$B$2:$C$19,2,FALSE),IF(COUNTA(C496:P496)>0,\"'Scheme Name' missing but values entered in other columns\",\"\"))","v":""},null,false,1,2,3,4,5,6,7,8,9,10,"",12,13,14,15,null,16,0,true,true,false,false,false,false,false,true,true,true,true,false,false,true,true,false]
[null,null,null,null,null,null,null,null,null,null,null,null,null,null,null,null,null,{"$f":"IF(T497,VLOOKUP(MIN(U497:AK497),'Data Validation (hidden)'!$B$2:$C$19,2,FALSE),IF(COUNTA(C497:P497)>0,\"'Scheme Name' missing but values entered in other columns\",\"\"))","v":""},null,false,1,2,3,4,5,6,7,8,9,10,"",12,13,14,15,null,16,0,true,true,false,false,false,false,false,true,true,true,true,false,false,true,true,false]
[null,null,null,null,null,null,null,null,null,null,null,null,null,null,null,null,null,{"$f":"IF(T498,VLOOKUP(MIN(U498:AK498),'Data Validation (hidden)'!$B$2:$C$19,2,FALSE),IF(COUNTA(C498:P498)>0,\"'Scheme Name' missing but values entered in other columns\",\"\"))","v":""},null,false,1,2,3,4,5,6,7,8,9,10,"",12,13,14,15,null,16,0,true,true,false,false,false,false,false,true,true,true,true,false,false,true,true,false]
[null,null,null,null,null,null,null,null,null,null,null,null,null,null,null,null,null,{"$f":"IF(T499,VLOOKUP(MIN(U499:AK499),'Data Validation (hidden)'!$B$2:$C$19,2,FALSE),IF(COUNTA(C499:P499)>0,\"'Scheme Name' missing but values entered in other columns\",\"\"))","v":""},null,false,1,2,3,4,5,6,7,8,9,10,"",12,13,14,15,null,16,0,true,true,false,false,false,false,false,true,true,true,true,false,false,true,true,false]
[null,null,null,null,null,null,null,null,null,null,null,null,null,null,null,null,null,{"$f":"IF(T500,VLOOKUP(MIN(U500:AK500),'Data Validation (hidden)'!$B$2:$C$19,2,FALSE),IF(COUNTA(C500:P500)>0,\"'Scheme Name' missing but values entered in other columns\",\"\"))","v":""},null,false,1,2,3,4,5,6,7,8,9,10,"",12,13,14,15,null,16,0,true,true,false,false,false,false,false,true,true,true,true,false,false,true,true,false]
[null,null,null,null,null,null,null,null,null,null,null,null,null,null,null,null,null,{"$f":"IF(T501,VLOOKUP(MIN(U501:AK501),'Data Validation (hidden)'!$B$2:$C$19,2,FALSE),IF(COUNTA(C501:P501)>0,\"'Scheme Name' missing but values entered in other columns\",\"\"))","v":""},null,false,1,2,3,4,5,6,7,8,9,10,"",12,13,14,15,null,16,0,true,true,false,false,false,false,false,true,true,true,true,false,false,true,true,false]
[null,null,null,null,null,null,null,null,null,null,null,null,null,null,null,null,null,{"$f":"IF(T502,VLOOKUP(MIN(U502:AK502),'Data Validation (hidden)'!$B$2:$C$19,2,FALSE),IF(COUNTA(C502:P502)>0,\"'Scheme Name' missing but values entered in other columns\",\"\"))","v":""},null,false,1,2,3,4,5,6,7,8,9,10,"",12,13,14,15,null,16,0,true,true,false,false,false,false,false,true,true,true,true,false,false,true,true,false]
[null,null,null,null,null,null,null,null,null,null,null,null,null,null,null,null,null,{"$f":"IF(T503,VLOOKUP(MIN(U503:AK503),'Data Validation (hidden)'!$B$2:$C$19,2,FALSE),IF(COUNTA(C503:P503)>0,\"'Scheme Name' missing but values entered in other columns\",\"\"))","v":""},null,false,1,2,3,4,5,6,7,8,9,10,"",12,13,14,15,null,16,0,true,true,false,false,false,false,false,true,true,true,true,false,false,true,true,false]
[null,null,null,null,null,null,null,null,null,null,null,null,null,null,null,null,null,{"$f":"IF(T504,VLOOKUP(MIN(U504:AK504),'Data Validation (hidden)'!$B$2:$C$19,2,FALSE),IF(COUNTA(C504:P504)>0,\"'Scheme Name' missing but values entered in other columns\",\"\"))","v":""},null,false,1,2,3,4,5,6,7,8,9,10,"",12,13,14,15,null,16,0,true,true,false,false,false,false,false,true,true,true,true,false,false,true,true,false]
[null,null,null,null,null,null,null,null,null,null,null,null,null,null,null,null,null,{"$f":"IF(T505,VLOOKUP(MIN(U505:AK505),'Data Validation (hidden)'!$B$2:$C$19,2,FALSE),IF(COUNTA(C505:P505)>0,\"'Scheme Name' missing but values entered in other columns\",\"\"))","v":""},null,false,1,2,3,4,5,6,7,8,9,10,"",12,13,14,15,null,16,0,true,true,false,false,false,false,false,true,true,true,true,false,false,true,true,false]
[null,null,null,null,null,null,null,null,null,null,null,null,null,null,null,null,null,{"$f":"IF(T506,VLOOKUP(MIN(U506:AK506),'Data Validation (hidden)'!$B$2:$C$19,2,FALSE),IF(COUNTA(C506:P506)>0,\"'Scheme Name' missing but values entered in other columns\",\"\"))","v":""},null,false,1,2,3,4,5,6,7,8,9,10,"",12,13,14,15,null,16,0,true,true,false,false,false,false,false,true,true,true,true,false,false,true,true,false]
[null,null,null,null,null,null,null,null,null,null,null,null,null,null,null,null,null,{"$f":"IF(T507,VLOOKUP(MIN(U507:AK507),'Data Validation (hidden)'!$B$2:$C$19,2,FALSE),IF(COUNTA(C507:P507)>0,\"'Scheme Name' missing but values entered in other columns\",\"\"))","v":""},null,false,1,2,3,4,5,6,7,8,9,10,"",12,13,14,15,null,16,0,true,true,false,false,false,false,false,true,true,true,true,false,false,true,true,false]
[null,null,null,null,null,null,null,null,null,null,null,null,null,null,null,null,null,{"$f":"IF(T508,VLOOKUP(MIN(U508:AK508),'Data Validation (hidden)'!$B$2:$C$19,2,FALSE),IF(COUNTA(C508:P508)>0,\"'Scheme Name' missing but values entered in other columns\",\"\"))","v":""},null,false,1,2,3,4,5,6,7,8,9,10,"",12,13,14,15,null,16,0,true,true,false,false,false,false,false,true,true,true,true,false,false,true,true,false]
[null,null,null,null,null,null,null,null,null,null,null,null,null,null,null,null,null,{"$f":"IF(T509,VLOOKUP(MIN(U509:AK509),'Data Validation (hidden)'!$B$2:$C$19,2,FALSE),IF(COUNTA(C509:P509)>0,\"'Scheme Name' missing but values entered in other columns\",\"\"))","v":""},null,false,1,2,3,4,5,6,7,8,9,10,"",12,13,14,15,null,16,0,true,true,false,false,false,false,false,true,true,true,true,false,false,true,true,false]
[null,null,null,null,null,null,null,null,null,null,null,null,null,null,null,null,null,{"$f":"IF(T510,VLOOKUP(MIN(U510:AK510),'Data Validation (hidden)'!$B$2:$C$19,2,FALSE),IF(COUNTA(C510:P510)>0,\"'Scheme Name' missing but values entered in other columns\",\"\"))","v":""},null,false,1,2,3,4,5,6,7,8,9,10,"",12,13,14,15,null,16,0,true,true,false,false,false,false,false,true,true,true,true,false,false,true,true,false]
[null,null,null,null,null,null,null,null,null,null,null,null,null,null,null,null,null,{"$f":"IF(T511,VLOOKUP(MIN(U511:AK511),'Data Validation (hidden)'!$B$2:$C$19,2,FALSE),IF(COUNTA(C511:P511)>0,\"'Scheme Name' missing but values entered in other columns\",\"\"))","v":""},null,false,1,2,3,4,5,6,7,8,9,10,"",12,13,14,15,null,16,0,true,true,false,false,false,false,false,true,true,true,true,false,false,true,true,false]
[null,null,null,null,null,null,null,null,null,null,null,null,null,null,null,null,null,{"$f":"IF(T512,VLOOKUP(MIN(U512:AK512),'Data Validation (hidden)'!$B$2:$C$19,2,FALSE),IF(COUNTA(C512:P512)>0,\"'Scheme Name' missing but values entered in other columns\",\"\"))","v":""},null,false,1,2,3,4,5,6,7,8,9,10,"",12,13,14,15,null,16,0,true,true,false,false,false,false,false,true,true,true,true,false,false,true,true,false]
[null,null,null,null,null,null,null,null,null,null,null,null,null,null,null,null,null,{"$f":"IF(T513,VLOOKUP(MIN(U513:AK513),'Data Validation (hidden)'!$B$2:$C$19,2,FALSE),IF(COUNTA(C513:P513)>0,\"'Scheme Name' missing but values entered in other columns\",\"\"))","v":""},null,false,1,2,3,4,5,6,7,8,9,10,"",12,13,14,15,null,16,0,true,true,false,false,false,false,false,true,true,true,true,false,false,true,true,false]
[null,null,null,null,null,null,null,null,null,null,null,null,null,null,null,null,null,{"$f":"IF(T514,VLOOKUP(MIN(U514:AK514),'Data Validation (hidden)'!$B$2:$C$19,2,FALSE),IF(COUNTA(C514:P514)>0,\"'Scheme Name' missing but values entered in other columns\",\"\"))","v":""},null,false,1,2,3,4,5,6,7,8,9,10,"",12,13,14,15,null,16,0,true,true,false,false,false,false,false,true,true,true,true,false,false,true,true,false]
[null,null,null,null,null,null,null,null,null,null,null,null,null,null,null,null,null,{"$f":"IF(T515,VLOOKUP(MIN(U515:AK515),'Data Validation (hidden)'!$B$2:$C$19,2,FALSE),IF(COUNTA(C515:P515)>0,\"'Scheme Name' missing but values entered in other columns\",\"\"))","v":""},null,false,1,2,3,4,5,6,7,8,9,10,"",12,13,14,15,null,16,0,true,true,false,false,false,false,false,true,true,true,true,false,false,true,true,false]
[null,null,null,null,null,null,null,null,null,null,null,null,null,null,null,null,null,{"$f":"IF(T516,VLOOKUP(MIN(U516:AK516),'Data Validation (hidden)'!$B$2:$C$19,2,FALSE),IF(COUNTA(C516:P516)>0,\"'Scheme Name' missing but values entered in other columns\",\"\"))","v":""},null,false,1,2,3,4,5,6,7,8,9,10,"",12,13,14,15,null,16,0,true,true,false,false,false,false,false,true,true,true,true,false,false,true,true,false]
[null,null,null,null,null,null,null,null,null,null,null,null,null,null,null,null,null,{"$f":"IF(T517,VLOOKUP(MIN(U517:AK517),'Data Validation (hidden)'!$B$2:$C$19,2,FALSE),IF(COUNTA(C517:P517)>0,\"'Scheme Name' missing but values entered in other columns\",\"\"))","v":""},null,false,1,2,3,4,5,6,7,8,9,10,"",12,13,14,15,null,16,0,true,true,false,false,false,false,false,true,true,true,true,false,false,true,true,false]
[null,null,null,null,null,null,null,null,null,null,null,null,null,null,null,null,null,{"$f":"IF(T518,VLOOKUP(MIN(U518:AK518),'Data Validation (hidden)'!$B$2:$C$19,2,FALSE),IF(COUNTA(C518:P518)>0,\"'Scheme Name' missing but values entered in other columns\",\"\"))","v":""},null,false,1,2,3,4,5,6,7,8,9,10,"",12,13,14,15,null,16,0,true,true,false,false,false,false,false,true,true,true,true,false,false,true,true,false]
[null,null,null,null,null,null,null,null,null,null,null,null,null,null,null,null,null,{"$f":"IF(T519,VLOOKUP(MIN(U519:AK519),'Data Validation (hidden)'!$B$2:$C$19,2,FALSE),IF(COUNTA(C519:P519)>0,\"'Scheme Name' missing but values entered in other columns\",\"\"))","v":""},null,false,1,2,3,4,5,6,7,8,9,10,"",12,13,14,15,null,16,0,true,true,false,false,false,false,false,true,true,true,true,false,false,true,true,false]
[null,null,null,null,null,null,null,null,null,null,null,null,null,null,null,null,null,{"$f":"IF(T520,VLOOKUP(MIN(U520:AK520),'Data Validation (hidden)'!$B$2:$C$19,2,FALSE),IF(COUNTA(C520:P520)>0,\"'Scheme Name' missing but values entered in other columns\",\"\"))","v":""},null,{"$f":"B520<>\"\"","v":false},{"$f":"IF(C520=\"\",1,\"\")","v":1},2,3,4,5,6,7,8,9,10,"",{"$f":"IF(M520=\"\",12,\"\")","v":12},{"$f":"IF(N520=\"\",13,\"\")","v":13},{"$f":"IF(O520=\"\",14,\"\")","v":14},{"$f":"IF(P520=\"\",15,\"\")","v":15},null,16,{"$f":"SUM(J520:L520)","v":0},true,true,false,false,false,false,false,true,true,true,true,false,false,{"$f":"IF( CELL(\"format\",O520) = \"F0\",TRUE,FALSE)","v":true},{"$f":"IF( CELL(\"format\",P520) = \"F0\",TRUE,FALSE)","v":true},{"$f":"IF(R520=\"\",FALSE,IF(R520=\"OK\",FALSE,TRUE))","v":false}]
[null,null,null,null,null,null,null,null,null,null,null,null,null,null,null,null,null,{"$f":"IF(T521,VLOOKUP(MIN(U521:AK521),'Data Validation (hidden)'!$B$2:$C$19,2,FALSE),IF(COUNTA(C521:P521)>0,\"'Scheme Name' missing but values entered in other columns\",\"\"))","v":""},null,false,1,{"$f":"IF(D521=\"\",2,\"\")","v":2},{"$f":"IF(E521=\"\",IF(D521=\"Gratuity\",\"\",3),\"\")","v":3},{"$f":"IF(F521=\"\",4,\"\")","v":4},{"$f":"IF(G521=\"\",5,\"\")","v":5},{"$f":"IF(H521=\"\",6,\"\")","v":6},{"$f":"IF(I521=\"\",7,\"\")","v":7},{"$f":"IF(J521=\"\",8,\"\")","v":8},{"$f":"IF(K521=\"\",9,\"\")","v":9},{"$f":"IF(L521=\"\",10,\"\")","v":10},{"$f":"IF((AL521=I521),\"\",11)","v":""},12,13,14,15,null,{"$f":"IF(AND(AM521,AN521,AO521,AP521,AQ521,AR521,AS521,AT521,AU521,AV521,AW521,AX521,AY521,AZ521,BA521)=TRUE,\"\",16)","v":16},0,{"$f":"IF(CELL(\"format\", B521) = \"G\",TRUE,FALSE)","v":true},{"$f":"IF(CELL(\"format\", C521) = \"F0\",TRUE,FALSE)","v":true},{"$f":"OR(D521=\"A\",D521=\"B\",D521=\"C\",D521=\"Gratuity\")","v":false},{"$f":"OR(E521=\"DC\",E521=\"DB\",E521=\"H\",D521=\"Gratuity\")","v":false},{"$f":"OR(F521=\"Occupational\",F521=\"Personal\")","v":false},{"$f":"OR(G521=\"Yes\",G521=\"No\")","v":false},{"$f":"OR(H521=\"MD\",H521=\"PD\",H521=\"TD\",H521=\"MPD\",H521=\"MTD\",H521=\"PTD\",H521=\"MPTD\")","v":false},{"$f":"IF( CELL(\"format\",I521) = \"F0\",TRUE,FALSE)","v":true},{"$f":"IF( CELL(\"format\",J521) = \"F0\",TRUE,FALSE)","v":true},{"$f":"IF( CELL(\"format\",K521) = \"F0\",TRUE,FALSE)","v":true},{"$f":"IF( CELL(\"format\",L521) = \"F0\",TRUE,FALSE)","v":true},{"$f":"OR(M521=\"Yes\",M521=\"No\")","v":false},{"$f":"OR(N521=\"Trustee\",N521=\"Administrator\",N521=\"Both\")","v":false},true,true,false]
[null,null,null,null,null,null,null,null,null,null,null,null,null,null,null,null,null,{"$f":"IF(T522,VLOOKUP(MIN(U522:AK522),'Data Validation (hidden)'!$B$2:$C$19,2,FALSE),IF(COUNTA(C522:P522)>0,\"'Scheme Name' missing but values entered in other columns\",\"\"))","v":""},null,false,1,2,3,4,5,6,7,8,9,10,"",12,13,14,15,null,16,0,true,true,false,false,false,false,false,true,true,true,true,false,false,true,true,false]
[null,null,null,null,null,null,null,null,null,null,null,null,null,null,null,null,null,{"$f":"IF(T523,VLOOKUP(MIN(U523:AK523),'Data Validation (hidden)'!$B$2:$C$19,2,FALSE),IF(COUNTA(C523:P523)>0,\"'Scheme Name' missing but values entered in other columns\",\"\"))","v":""},null,false,1,2,3,4,5,6,7,8,9,10,"",12,13,14,15,null,16,0,true,true,false,false,false,false,false,true,true,true,true,false,false,true,true,false]
[null,null,null,null,null,null,null,null,null,null,null,null,null,null,null,null,null,{"$f":"IF(T524,VLOOKUP(MIN(U524:AK524),'Data Validation (hidden)'!$B$2:$C$19,2,FALSE),IF(COUNTA(C524:P524)>0,\"'Scheme Name' missing but values entered in other columns\",\"\"))","v":""},null,false,1,2,3,4,5,6,7,8,9,10,"",12,13,14,15,null,16,0,true,true,false,false,false,false,false,true,true,true,true,false,false,true,true,false]
[null,null,null,null,null,null,null,null,null,null,null,null,null,null,null,null,null,{"$f":"IF(T525,VLOOKUP(MIN(U525:AK525),'Data Validation (hidden)'!$B$2:$C$19,2,FALSE),IF(COUNTA(C525:P525)>0,\"'Scheme Name' missing but values entered in other columns\",\"\"))","v":""},null,false,1,2,3,4,5,6,7,8,9,10,"",12,13,14,15,null,16,0,true,true,false,false,false,false,false,true,true,true,true,false,false,true,true,false]
[null,null,null,null,null,null,null,null,null,null,null,null,null,null,null,null,null,{"$f":"IF(T526,VLOOKUP(MIN(U526:AK526),'Data Validation (hidden)'!$B$2:$C$19,2,FALSE),IF(COUNTA(C526:P526)>0,\"'Scheme Name' missing but values entered in other columns\",\"\"))","v":""},null,false,1,2,3,4,5,6,7,8,9,10,"",12,13,14,15,null,16,0,true,true,false,false,false,false,false,true,true,true,true,false,false,true,true,false]
[null,null,null,null,null,null,null,null,null,null,null,null,null,null,null,null,null,{"$f":"IF(T527,VLOOKUP(MIN(U527:AK527),'Data Validation (hidden)'!$B$2:$C$19,2,FALSE),IF(COUNTA(C527:P527)>0,\"'Scheme Name' missing but values entered in other columns\",\"\"))","v":""},null,false,1,2,3,4,5,6,7,8,9,10,"",12,13,14,15,null,16,0,true,true,false,false,false,false,false,true,true,true,true,false,false,true,true,false]
[null,null,null,null,null,null,null,null,null,null,null,null,null,null,null,null,null,{"$f":"IF(T528,VLOOKUP(MIN(U528:AK528),'Data Validation (hidden)'!$B$2:$C$19,2,FALSE),IF(COUNTA(C528:P528)>0,\"'Scheme Name' missing but values entered in other columns\",\"\"))","v":""},null,false,1,null,3,null,null,null,{"$f":"IF(#REF!=\"\",2,\"\")","v":{"$error":"#REF!"}},8,9,10,{"$error":"#REF!"},null,null,{"$f":"IF(#REF!=\"\",7,\"\")","v":{"$error":"#REF!"}},{"$f":"IF(#REF!=\"\",8,\"\")","v":{"$error":"#REF!"}},null,16,{"$f":"SUM(#REF!)","v":{"$error":"#REF!"}},true,true,false,false,false,false,false,true,true,true,true,false,false,true,true,false]
[null,null,null,null,null,null,null,null,null,null,null,null,null,null,null,null,null,{"$f":"IF(T529,VLOOKUP(MIN(U529:AK529),'Data Validation (hidden)'!$B$2:$C$19,2,FALSE),IF(COUNTA(C529:P529)>0,\"'Scheme Name' missing but values entered in other columns\",\"\"))","v":""},null,false,1,{"$f":"IF(D527=\"\",2,\"\")","v":2},3,{"$f":"IF(F527=\"\",4,\"\")","v":4},{"$f":"IF(G527=\"\",5,\"\")","v":5},{"$f":"IF(H527=\"\",6,\"\")","v":6},{"$f":"IF(I527=\"\",7,\"\")","v":7},8,9,10,"",{"$f":"IF(M529=\"\",12,\"\")","v":12},{"$f":"IF(N529=\"\",13,\"\")","v":13},{"$f":"IF(O529=\"\",14,\"\")","v":14},{"$f":"IF(P529=\"\",15,\"\")","v":15},null,16,{"$f":"SUM(J529:L529)","v":0},true,true,false,false,false,false,false,true,true,true,true,false,false,true,true,false]
[null,null,null,null,null,null,null,null,null,null,null,null,null,null,null,null,null,{"$f":"IF(T530,VLOOKUP(MIN(U530:AK530),'Data Validation (hidden)'!$B$2:$C$19,2,FALSE),IF(COUNTA(C530:P530)>0,\"'Scheme Name' missing but values entered in other columns\",\"\"))","v":""},null,false,1,{"$f":"IF(D528=\"\",2,\"\")","v":2},3,{"$f":"IF(F528=\"\",4,\"\")","v":4},{"$f":"IF(G528=\"\",5,\"\")","v":5},{"$f":"IF(H528=\"\",6,\"\")","v":6},{"$f":"IF(I528=\"\",7,\"\")","v":7},8,9,10,"",12,13,14,15,null,16,0,true,true,false,false,false,false,false,true,true,true,true,false,false,true,true,false]
[null,null,null,null,null,null,null,null,null,null,null,null,null,null,null,null,null,{"$f":"IF(T531,VLOOKUP(MIN(U531:AK531),'Data Validation (hidden)'!$B$2:$C$19,2,FALSE),IF(COUNTA(C531:P531)>0,\"'Scheme Name' missing but values entered in other columns\",\"\"))","v":""},null,false,1,2,3,4,5,6,7,8,9,10,"",12,13,14,15,null,16,0,true,true,false,false,false,false,false,true,true,true,true,false,false,true,true,false]
[null,null,null,null,null,null,null,null,null,null,null,null,null,null,null,null,null,{"$f":"IF(T532,VLOOKUP(MIN(U532:AK532),'Data Validation (hidden)'!$B$2:$C$19,2,FALSE),IF(COUNTA(C532:P532)>0,\"'Scheme Name' missing but values entered in other columns\",\"\"))","v":""},null,false,1,2,3,4,5,6,7,8,9,10,"",12,13,14,15,null,16,0,true,true,false,false,false,false,false,true,true,true,true,false,false,true,true,false]
[null,null,null,null,null,null,null,null,null,null,null,null,null,null,null,null,null,{"$f":"IF(T533,VLOOKUP(MIN(U533:AK533),'Data Validation (hidden)'!$B$2:$C$19,2,FALSE),IF(COUNTA(C533:P533)>0,\"'Scheme Name' missing but values entered in other columns\",\"\"))","v":""},null,false,1,2,3,4,5,6,7,8,9,10,"",12,13,14,15,null,16,0,true,true,false,false,false,false,false,true,true,true,true,false,false,true,true,false]
[null,null,null,null,null,null,null,null,null,null,null,null,null,null,null,null,null,{"$f":"IF(T534,VLOOKUP(MIN(U534:AK534),'Data Validation (hidden)'!$B$2:$C$19,2,FALSE),IF(COUNTA(C534:P534)>0,\"'Scheme Name' missing but values entered in other columns\",\"\"))","v":""},null,false,1,2,3,4,5,6,7,8,9,10,"",12,13,14,15,null,16,0,true,true,false,false,false,false,false,true,true,true,true,false,false,true,true,false]
[null,null,null,null,null,null,null,null,null,null,null,null,null,null,null,null,null,{"$f":"IF(T535,VLOOKUP(MIN(U535:AK535),'Data Validation (hidden)'!$B$2:$C$19,2,FALSE),IF(COUNTA(C535:P535)>0,\"'Scheme Name' missing but values entered in other columns\",\"\"))","v":""},null,false,1,2,3,4,5,6,7,8,9,10,"",12,13,14,15,null,16,0,true,true,false,false,false,false,false,true,true,true,true,false,false,true,true,false]
[null,null,null,null,null,null,null,null,null,null,null,null,null,null,null,null,null,{"$f":"IF(T536,VLOOKUP(MIN(U536:AK536),'Data Validation (hidden)'!$B$2:$C$19,2,FALSE),IF(COUNTA(C536:P536)>0,\"'Scheme Name' missing but values entered in other columns\",\"\"))","v":""},null,false,1,2,3,4,5,6,7,8,9,10,"",12,13,14,15,null,16,0,true,true,false,false,false,false,false,true,true,true,true,false,false,true,true,false]
[null,null,null,null,null,null,null,null,null,null,null,null,null,null,null,null,null,{"$f":"IF(T537,VLOOKUP(MIN(U537:AK537),'Data Validation (hidden)'!$B$2:$C$19,2,FALSE),IF(COUNTA(C537:P537)>0,\"'Scheme Name' missing but values entered in other columns\",\"\"))","v":""},null,false,1,2,3,4,5,6,7,8,9,10,"",12,13,14,15,null,16,0,true,true,false,false,false,false,false,true,true,true,true,false,false,true,true,false]
[null,null,null,null,null,null,null,null,null,null,null,null,null,null,null,null,null,{"$f":"IF(T538,VLOOKUP(MIN(U538:AK538),'Data Validation (hidden)'!$B$2:$C$19,2,FALSE),IF(COUNTA(C538:P538)>0,\"'Scheme Name' missing but values entered in other columns\",\"\"))","v":""},null,false,1,2,3,4,5,6,7,8,9,10,"",12,13,14,15,null,16,0,true,true,false,false,false,false,false,true,true,true,true,false,false,true,true,false]
[null,null,null,null,null,null,null,null,null,null,null,null,null,null,null,null,null,{"$f":"IF(T539,VLOOKUP(MIN(U539:AK539),'Data Validation (hidden)'!$B$2:$C$19,2,FALSE),IF(COUNTA(C539:P539)>0,\"'Scheme Name' missing but values entered in other columns\",\"\"))","v":""},null,false,1,2,3,4,5,6,7,8,9,10,"",12,13,14,15,null,16,0,true,true,false,false,false,false,false,true,true,true,true,false,false,true,true,false]
[null,null,null,null,null,null,null,null,null,null,null,null,null,null,null,null,null,{"$f":"IF(T540,VLOOKUP(MIN(U540:AK540),'Data Validation (hidden)'!$B$2:$C$19,2,FALSE),IF(COUNTA(C540:P540)>0,\"'Scheme Name' missing but values entered in other columns\",\"\"))","v":""},null,false,1,2,3,4,5,6,7,8,9,10,"",12,13,14,15,null,16,0,true,true,false,false,false,false,false,true,true,true,true,false,false,true,true,false]
[null,null,null,null,null,null,null,null,null,null,null,null,null,null,null,null,null,{"$f":"IF(T541,VLOOKUP(MIN(U541:AK541),'Data Validation (hidden)'!$B$2:$C$19,2,FALSE),IF(COUNTA(C541:P541)>0,\"'Scheme Name' missing but values entered in other columns\",\"\"))","v":""},null,false,1,2,3,4,5,6,7,8,9,10,"",12,13,14,15,null,16,0,true,true,false,false,false,false,false,true,true,true,true,false,false,true,true,false]
[null,null,null,null,null,null,null,null,null,null,null,null,null,null,null,null,null,{"$f":"IF(T542,VLOOKUP(MIN(U542:AK542),'Data Validation (hidden)'!$B$2:$C$19,2,FALSE),IF(COUNTA(C542:P542)>0,\"'Scheme Name' missing but values entered in other columns\",\"\"))","v":""},null,false,1,2,3,4,5,6,7,8,9,10,"",12,13,14,15,null,16,0,true,true,false,false,false,false,false,true,true,true,true,false,false,true,true,false]
[null,null,null,null,null,null,null,null,null,null,null,null,null,null,null,null,null,{"$f":"IF(T543,VLOOKUP(MIN(U543:AK543),'Data Validation (hidden)'!$B$2:$C$19,2,FALSE),IF(COUNTA(C543:P543)>0,\"'Scheme Name' missing but values entered in other columns\",\"\"))","v":""},null,false,1,2,3,4,5,6,7,8,9,10,"",12,13,14,15,null,16,0,true,true,false,false,false,false,false,true,true,true,true,false,false,true,true,false]
[null,null,null,null,null,null,null,null,null,null,null,null,null,null,null,null,null,{"$f":"IF(T544,VLOOKUP(MIN(U544:AK544),'Data Validation (hidden)'!$B$2:$C$19,2,FALSE),IF(COUNTA(C544:P544)>0,\"'Scheme Name' missing but values entered in other columns\",\"\"))","v":""},null,false,1,2,3,4,5,6,7,8,9,10,"",12,13,14,15,null,16,0,true,true,false,false,false,false,false,true,true,true,true,false,false,true,true,false]
[null,null,null,null,null,null,null,null,null,null,null,null,null,null,null,null,null,{"$f":"IF(T545,VLOOKUP(MIN(U545:AK545),'Data Validation (hidden)'!$B$2:$C$19,2,FALSE),IF(COUNTA(C545:P545)>0,\"'Scheme Name' missing but values entered in other columns\",\"\"))","v":""},null,false,1,2,3,4,5,6,7,8,9,10,"",12,13,14,15,null,16,0,true,true,false,false,false,false,false,true,true,true,true,false,false,true,true,false]
[null,null,null,null,null,null,null,null,null,null,null,null,null,null,null,null,null,{"$f":"IF(T546,VLOOKUP(MIN(U546:AK546),'Data Validation (hidden)'!$B$2:$C$19,2,FALSE),IF(COUNTA(C546:P546)>0,\"'Scheme Name' missing but values entered in other columns\",\"\"))","v":""},null,false,1,2,3,4,5,6,7,8,9,10,"",12,13,14,15,null,16,0,true,true,false,false,false,false,false,true,true,true,true,false,false,true,true,false]
[null,null,null,null,null,null,null,null,null,null,null,null,null,null,null,null,null,{"$f":"IF(T547,VLOOKUP(MIN(U547:AK547),'Data Validation (hidden)'!$B$2:$C$19,2,FALSE),IF(COUNTA(C547:P547)>0,\"'Scheme Name' missing but values entered in other columns\",\"\"))","v":""},null,false,1,2,3,4,5,6,7,8,9,10,"",12,13,14,15,null,16,0,true,true,false,false,false,false,false,true,true,true,true,false,false,true,true,false]
[null,null,null,null,null,null,null,null,null,null,null,null,null,null,null,null,null,{"$f":"IF(T548,VLOOKUP(MIN(U548:AK548),'Data Validation (hidden)'!$B$2:$C$19,2,FALSE),IF(COUNTA(C548:P548)>0,\"'Scheme Name' missing but values entered in other columns\",\"\"))","v":""},null,false,1,2,3,4,5,6,7,8,9,10,"",12,13,14,15,null,16,0,true,true,false,false,false,false,false,true,true,true,true,false,false,true,true,false]
[null,null,null,null,null,null,null,null,null,null,null,null,null,null,null,null,null,{"$f":"IF(T549,VLOOKUP(MIN(U549:AK549),'Data Validation (hidden)'!$B$2:$C$19,2,FALSE),IF(COUNTA(C549:P549)>0,\"'Scheme Name' missing but values entered in other columns\",\"\"))","v":""},null,false,1,2,3,4,5,6,7,8,9,10,"",12,13,14,15,null,16,0,true,true,false,false,false,false,false,true,true,true,true,false,false,true,true,false]
[null,null,null,null,null,null,null,null,null,null,null,null,null,null,null,null,null,{"$f":"IF(T550,VLOOKUP(MIN(U550:AK550),'Data Validation (hidden)'!$B$2:$C$19,2,FALSE),IF(COUNTA(C550:P550)>0,\"'Scheme Name' missing but values entered in other columns\",\"\"))","v":""},null,false,1,2,3,4,5,6,7,8,9,10,"",12,13,14,15,null,16,0,true,true,false,false,false,false,false,true,true,true,true,false,false,true,true,false]
[null,null,null,null,null,null,null,null,null,null,null,null,null,null,null,null,null,{"$f":"IF(T551,VLOOKUP(MIN(U551:AK551),'Data Validation (hidden)'!$B$2:$C$19,2,FALSE),IF(COUNTA(C551:P551)>0,\"'Scheme Name' missing but values entered in other columns\",\"\"))","v":""},null,false,1,2,3,4,5,6,7,8,9,10,"",12,13,14,15,null,16,0,true,true,false,false,false,false,false,true,true,true,true,false,false,true,true,false]
[null,null,null,null,null,null,null,null,null,null,null,null,null,null,null,null,null,{"$f":"IF(T552,VLOOKUP(MIN(U552:AK552),'Data Validation (hidden)'!$B$2:$C$19,2,FALSE),IF(COUNTA(C552:P552)>0,\"'Scheme Name' missing but values entered in other columns\",\"\"))","v":""},null,false,1,2,3,4,5,6,7,8,9,10,"",12,13,14,15,null,16,0,true,true,false,false,false,false,false,true,true,true,true,false,false,true,true,false]
[null,null,null,null,null,null,null,null,null,null,null,null,null,null,null,null,null,{"$f":"IF(T553,VLOOKUP(MIN(U553:AK553),'Data Validation (hidden)'!$B$2:$C$19,2,FALSE),IF(COUNTA(C553:P553)>0,\"'Scheme Name' missing but values entered in other columns\",\"\"))","v":""},null,false,1,2,3,4,5,6,7,8,9,10,"",12,13,14,15,null,16,0,true,true,false,false,false,false,false,true,true,true,true,false,false,true,true,false]
[null,null,null,null,null,null,null,null,null,null,null,null,null,null,null,null,null,{"$f":"IF(T554,VLOOKUP(MIN(U554:AK554),'Data Validation (hidden)'!$B$2:$C$19,2,FALSE),IF(COUNTA(C554:P554)>0,\"'Scheme Name' missing but values entered in other columns\",\"\"))","v":""},null,false,1,2,3,4,5,6,7,8,9,10,"",12,13,14,15,null,16,0,true,true,false,false,false,false,false,true,true,true,true,false,false,true,true,false]
[null,null,null,null,null,null,null,null,null,null,null,null,null,null,null,null,null,{"$f":"IF(T555,VLOOKUP(MIN(U555:AK555),'Data Validation (hidden)'!$B$2:$C$19,2,FALSE),IF(COUNTA(C555:P555)>0,\"'Scheme Name' missing but values entered in other columns\",\"\"))","v":""},null,false,1,2,3,4,5,6,7,8,9,10,"",12,13,14,15,null,16,0,true,true,false,false,false,false,false,true,true,true,true,false,false,true,true,false]
[null,null,null,null,null,null,null,null,null,null,null,null,null,null,null,null,null,{"$f":"IF(T556,VLOOKUP(MIN(U556:AK556),'Data Validation (hidden)'!$B$2:$C$19,2,FALSE),IF(COUNTA(C556:P556)>0,\"'Scheme Name' missing but values entered in other columns\",\"\"))","v":""},null,false,1,2,3,4,5,6,7,8,9,10,"",12,13,14,15,null,16,0,true,true,false,false,false,false,false,true,true,true,true,false,false,true,true,false]
[null,null,null,null,null,null,null,null,null,null,null,null,null,null,null,null,null,{"$f":"IF(T557,VLOOKUP(MIN(U557:AK557),'Data Validation (hidden)'!$B$2:$C$19,2,FALSE),IF(COUNTA(C557:P557)>0,\"'Scheme Name' missing but values entered in other columns\",\"\"))","v":""},null,false,1,2,3,4,5,6,7,8,9,10,"",12,13,14,15,null,16,0,true,true,false,false,false,false,false,true,true,true,true,false,false,true,true,false]
[null,null,null,null,null,null,null,null,null,null,null,null,null,null,null,null,null,{"$f":"IF(T558,VLOOKUP(MIN(U558:AK558),'Data Validation (hidden)'!$B$2:$C$19,2,FALSE),IF(COUNTA(C558:P558)>0,\"'Scheme Name' missing but values entered in other columns\",\"\"))","v":""},null,false,1,2,3,4,5,6,7,8,9,10,"",12,13,14,15,null,16,0,true,true,false,false,false,false,false,true,true,true,true,false,false,true,true,false]
[null,null,null,null,null,null,null,null,null,null,null,null,null,null,null,null,null,{"$f":"IF(T559,VLOOKUP(MIN(U559:AK559),'Data Validation (hidden)'!$B$2:$C$19,2,FALSE),IF(COUNTA(C559:P559)>0,\"'Scheme Name' missing but values entered in other columns\",\"\"))","v":""},null,false,1,2,3,4,5,6,7,8,9,10,"",12,13,14,15,null,16,0,true,true,false,false,false,false,false,true,true,true,true,false,false,true,true,false]
[null,null,null,null,null,null,null,null,null,null,null,null,null,null,null,null,null,{"$f":"IF(T560,VLOOKUP(MIN(U560:AK560),'Data Validation (hidden)'!$B$2:$C$19,2,FALSE),IF(COUNTA(C560:P560)>0,\"'Scheme Name' missing but values entered in other columns\",\"\"))","v":""},null,false,1,2,3,4,5,6,7,8,9,10,"",12,13,14,15,null,16,0,true,true,false,false,false,false,false,true,true,true,true,false,false,true,true,false]
[null,null,null,null,null,null,null,null,null,null,null,null,null,null,null,null,null,{"$f":"IF(T561,VLOOKUP(MIN(U561:AK561),'Data Validation (hidden)'!$B$2:$C$19,2,FALSE),IF(COUNTA(C561:P561)>0,\"'Scheme Name' missing but values entered in other columns\",\"\"))","v":""},null,false,1,2,3,4,5,6,7,8,9,10,"",{"$f":"IF(M561=\"\",12,\"\")","v":12},{"$f":"IF(N561=\"\",13,\"\")","v":13},{"$f":"IF(O561=\"\",14,\"\")","v":14},{"$f":"IF(P561=\"\",15,\"\")","v":15},null,16,{"$f":"SUM(J561:L561)","v":0},true,true,false,false,false,false,false,true,true,true,true,false,false,true,true,false]
[null,null,null,null,null,null,null,null,null,null,null,null,null,null,null,null,null,{"$f":"IF(T562,VLOOKUP(MIN(U562:AK562),'Data Validation (hidden)'!$B$2:$C$19,2,FALSE),IF(COUNTA(C562:P562)>0,\"'Scheme Name' missing but values entered in other columns\",\"\"))","v":""},null,false,1,2,3,4,5,6,7,8,9,10,"",12,13,14,15,null,16,0,true,true,false,false,false,false,false,true,true,true,true,false,false,true,true,false]
[null,null,null,null,null,null,null,null,null,null,null,null,null,null,null,null,null,{"$f":"IF(T563,VLOOKUP(MIN(U563:AK563),'Data Validation (hidden)'!$B$2:$C$19,2,FALSE),IF(COUNTA(C563:P563)>0,\"'Scheme Name' missing but values entered in other columns\",\"\"))","v":""},null,false,1,2,3,4,5,6,7,8,9,10,"",12,13,14,15,null,16,0,true,true,false,false,false,false,false,true,true,true,true,false,false,true,true,false]
[null,null,null,null,null,null,null,null,null,null,null,null,null,null,null,null,null,{"$f":"IF(T564,VLOOKUP(MIN(U564:AK564),'Data Validation (hidden)'!$B$2:$C$19,2,FALSE),IF(COUNTA(C564:P564)>0,\"'Scheme Name' missing but values entered in other columns\",\"\"))","v":""},null,false,1,2,3,4,5,6,7,8,9,10,"",12,13,14,15,null,16,0,true,true,false,false,false,false,false,true,true,true,true,false,false,true,true,false]
[null,null,null,null,null,null,null,null,null,null,null,null,null,null,null,null,null,{"$f":"IF(T565,VLOOKUP(MIN(U565:AK565),'Data Validation (hidden)'!$B$2:$C$19,2,FALSE),IF(COUNTA(C565:P565)>0,\"'Scheme Name' missing but values entered in other columns\",\"\"))","v":""},null,false,1,2,3,4,5,6,7,8,9,10,"",12,13,14,15,null,16,0,true,true,false,false,false,false,false,true,true,true,true,false,false,true,true,false]
[null,null,null,null,null,null,null,null,null,null,null,null,null,null,null,null,null,{"$f":"IF(T566,VLOOKUP(MIN(U566:AK566),'Data Validation (hidden)'!$B$2:$C$19,2,FALSE),IF(COUNTA(C566:P566)>0,\"'Scheme Name' missing but values entered in other columns\",\"\"))","v":""},null,false,1,2,3,4,5,6,7,8,9,10,"",12,13,14,15,null,16,0,true,true,false,false,false,false,false,true,true,true,true,false,false,true,true,false]
[null,null,null,null,null,null,null,null,null,null,null,null,null,null,null,null,null,{"$f":"IF(T567,VLOOKUP(MIN(U567:AK567),'Data Validation (hidden)'!$B$2:$C$19,2,FALSE),IF(COUNTA(C567:P567)>0,\"'Scheme Name' missing but values entered in other columns\",\"\"))","v":""},null,false,1,2,3,4,5,6,7,8,9,10,"",12,13,14,15,null,16,0,true,true,false,false,false,false,false,true,true,true,true,false,false,true,true,false]
[null,null,null,null,null,null,null,null,null,null,null,null,null,null,null,null,null,{"$f":"IF(T568,VLOOKUP(MIN(U568:AK568),'Data Validation (hidden)'!$B$2:$C$19,2,FALSE),IF(COUNTA(C568:P568)>0,\"'Scheme Name' missing but values entered in other columns\",\"\"))","v":""},null,false,1,2,3,4,5,6,7,8,9,10,"",12,13,14,15,null,16,0,true,true,false,false,false,false,false,true,true,true,true,false,false,true,true,false]
[null,null,null,null,null,null,null,null,null,null,null,null,null,null,null,null,null,{"$f":"IF(T569,VLOOKUP(MIN(U569:AK569),'Data Validation (hidden)'!$B$2:$C$19,2,FALSE),IF(COUNTA(C569:P569)>0,\"'Scheme Name' missing but values entered in other columns\",\"\"))","v":""},null,false,1,2,3,4,5,6,7,8,9,10,"",12,13,14,15,null,16,0,true,true,false,false,false,false,false,true,true,true,true,false,false,true,true,false]
[null,null,null,null,null,null,null,null,null,null,null,null,null,null,null,null,null,{"$f":"IF(T570,VLOOKUP(MIN(U570:AK570),'Data Validation (hidden)'!$B$2:$C$19,2,FALSE),IF(COUNTA(C570:P570)>0,\"'Scheme Name' missing but values entered in other columns\",\"\"))","v":""},null,false,1,2,3,4,5,6,7,8,9,10,"",12,13,14,15,null,16,0,true,true,false,false,false,false,false,true,true,true,true,false,false,true,true,false]
[null,null,null,null,null,null,null,null,null,null,null,null,null,null,null,null,null,{"$f":"IF(T571,VLOOKUP(MIN(U571:AK571),'Data Validation (hidden)'!$B$2:$C$19,2,FALSE),IF(COUNTA(C571:P571)>0,\"'Scheme Name' missing but values entered in other columns\",\"\"))","v":""},null,false,1,2,3,4,5,6,7,8,9,10,"",12,13,14,15,null,16,0,true,true,false,false,false,false,false,true,true,true,true,false,false,true,true,false]
[null,null,null,null,null,null,null,null,null,null,null,null,null,null,null,null,null,{"$f":"IF(T572,VLOOKUP(MIN(U572:AK572),'Data Validation (hidden)'!$B$2:$C$19,2,FALSE),IF(COUNTA(C572:P572)>0,\"'Scheme Name' missing but values entered in other columns\",\"\"))","v":""},null,false,1,2,3,4,5,6,7,8,9,10,"",12,13,14,15,null,16,0,true,true,false,false,false,false,false,true,true,true,true,false,false,true,true,false]
[null,null,null,null,null,null,null,null,null,null,null,null,null,null,null,null,null,{"$f":"IF(T573,VLOOKUP(MIN(U573:AK573),'Data Validation (hidden)'!$B$2:$C$19,2,FALSE),IF(COUNTA(C573:P573)>0,\"'Scheme Name' missing but values entered in other columns\",\"\"))","v":""},null,false,1,2,3,4,5,6,7,8,9,10,"",12,13,14,15,null,16,0,true,true,false,false,false,false,false,true,true,true,true,false,false,true,true,false]
[null,null,null,null,null,null,null,null,null,null,null,null,null,null,null,null,null,{"$f":"IF(T574,VLOOKUP(MIN(U574:AK574),'Data Validation (hidden)'!$B$2:$C$19,2,FALSE),IF(COUNTA(C574:P574)>0,\"'Scheme Name' missing but values entered in other columns\",\"\"))","v":""},null,false,1,2,3,4,5,6,7,8,9,10,"",12,13,14,15,null,16,0,true,true,false,false,false,false,false,true,true,true,true,false,false,true,true,false]
[null,null,null,null,null,null,null,null,null,null,null,null,null,null,null,null,null,{"$f":"IF(T575,VLOOKUP(MIN(U575:AK575),'Data Validation (hidden)'!$B$2:$C$19,2,FALSE),IF(COUNTA(C575:P575)>0,\"'Scheme Name' missing but values entered in other columns\",\"\"))","v":""},null,false,1,2,3,4,5,6,7,8,9,10,"",12,13,14,15,null,16,0,true,true,false,false,false,false,false,true,true,true,true,false,false,true,true,false]
[null,null,null,null,null,null,null,null,null,null,null,null,null,null,null,null,null,{"$f":"IF(T576,VLOOKUP(MIN(U576:AK576),'Data Validation (hidden)'!$B$2:$C$19,2,FALSE),IF(COUNTA(C576:P576)>0,\"'Scheme Name' missing but values entered in other columns\",\"\"))","v":""},null,false,1,2,3,4,5,6,7,8,9,10,"",12,13,14,15,null,16,0,true,true,false,false,false,false,false,true,true,true,true,false,false,true,true,false]
[null,null,null,null,null,null,null,null,null,null,null,null,null,null,null,null,null,{"$f":"IF(T577,VLOOKUP(MIN(U577:AK577),'Data Validation (hidden)'!$B$2:$C$19,2,FALSE),IF(COUNTA(C577:P577)>0,\"'Scheme Name' missing but values entered in other columns\",\"\"))","v":""},null,false,1,2,3,4,5,6,7,8,9,10,"",12,13,14,15,null,16,0,true,true,false,false,false,false,false,true,true,true,true,false,false,true,true,false]
[null,null,null,null,null,null,null,null,null,null,null,null,null,null,null,null,null,{"$f":"IF(T578,VLOOKUP(MIN(U578:AK578),'Data Validation (hidden)'!$B$2:$C$19,2,FALSE),IF(COUNTA(C578:P578)>0,\"'Scheme Name' missing but values entered in other columns\",\"\"))","v":""},null,false,1,2,3,4,5,6,7,8,9,10,"",12,13,14,15,null,16,0,true,true,false,false,false,false,false,true,true,true,true,false,false,true,true,false]
[null,null,null,null,null,null,null,null,null,null,null,null,null,null,null,null,null,{"$f":"IF(T579,VLOOKUP(MIN(U579:AK579),'Data Validation (hidden)'!$B$2:$C$19,2,FALSE),IF(COUNTA(C579:P579)>0,\"'Scheme Name' missing but values entered in other columns\",\"\"))","v":""},null,false,1,2,3,4,5,6,7,8,9,10,"",12,13,14,15,null,16,0,true,true,false,false,false,false,false,true,true,true,true,false,false,true,true,false]
[null,null,null,null,null,null,null,null,null,null,null,null,null,null,null,null,null,{"$f":"IF(T580,VLOOKUP(MIN(U580:AK580),'Data Validation (hidden)'!$B$2:$C$19,2,FALSE),IF(COUNTA(C580:P580)>0,\"'Scheme Name' missing but values entered in other columns\",\"\"))","v":""},null,false,1,2,3,4,5,6,7,8,9,10,"",12,13,14,15,null,16,0,true,true,false,false,false,false,false,true,true,true,true,false,false,true,true,false]
[null,null,null,null,null,null,null,null,null,null,null,null,null,null,null,null,null,{"$f":"IF(T581,VLOOKUP(MIN(U581:AK581),'Data Validation (hidden)'!$B$2:$C$19,2,FALSE),IF(COUNTA(C581:P581)>0,\"'Scheme Name' missing but values entered in other columns\",\"\"))","v":""},null,false,1,2,3,4,5,6,7,8,9,10,"",12,13,14,15,null,16,0,true,true,false,false,false,false,false,true,true,true,true,false,false,true,true,false]
[null,null,null,null,null,null,null,null,null,null,null,null,null,null,null,null,null,{"$f":"IF(T582,VLOOKUP(MIN(U582:AK582),'Data Validation (hidden)'!$B$2:$C$19,2,FALSE),IF(COUNTA(C582:P582)>0,\"'Scheme Name' missing but values entered in other columns\",\"\"))","v":""},null,false,1,2,3,4,5,6,7,8,9,10,"",12,13,14,15,null,16,0,true,true,false,false,false,false,false,true,true,true,true,false,false,true,true,false]
[null,null,null,null,null,null,null,null,null,null,null,null,null,null,null,null,null,{"$f":"IF(T583,VLOOKUP(MIN(U583:AK583),'Data Validation (hidden)'!$B$2:$C$19,2,FALSE),IF(COUNTA(C583:P583)>0,\"'Scheme Name' missing but values entered in other columns\",\"\"))","v":""},null,false,1,2,3,4,5,6,7,8,9,10,"",12,13,14,15,null,16,0,true,true,false,false,false,false,false,true,true,true,true,false,false,true,true,false]
[null,null,null,null,null,null,null,null,null,null,null,null,null,null,null,null,null,{"$f":"IF(T584,VLOOKUP(MIN(U584:AK584),'Data Validation (hidden)'!$B$2:$C$19,2,FALSE),IF(COUNTA(C584:P584)>0,\"'Scheme Name' missing but values entered in other columns\",\"\"))","v":""},null,{"$f":"B584<>\"\"","v":false},{"$f":"IF(C584=\"\",1,\"\")","v":1},2,3,4,5,6,7,8,9,10,"",12,13,14,15,null,16,0,true,true,false,false,false,false,false,true,true,true,true,false,false,{"$f":"IF( CELL(\"format\",O584) = \"F0\",TRUE,FALSE)","v":true},{"$f":"IF( CELL(\"format\",P584) = \"F0\",TRUE,FALSE)","v":true},{"$f":"IF(R584=\"\",FALSE,IF(R584=\"OK\",FALSE,TRUE))","v":false}]
[null,null,null,null,null,null,null,null,null,null,null,null,null,null,null,null,null,{"$f":"IF(T585,VLOOKUP(MIN(U585:AK585),'Data Validation (hidden)'!$B$2:$C$19,2,FALSE),IF(COUNTA(C585:P585)>0,\"'Scheme Name' missing but values entered in other columns\",\"\"))","v":""},null,false,1,2,{"$f":"IF(E585=\"\",IF(D585=\"Gratuity\",\"\",3),\"\")","v":3},4,5,6,7,{"$f":"IF(J585=\"\",8,\"\")","v":8},{"$f":"IF(K585=\"\",9,\"\")","v":9},{"$f":"IF(L585=\"\",10,\"\")","v":10},{"$f":"IF((AL585=I585),\"\",11)","v":""},12,13,14,15,null,{"$f":"IF(AND(AM585,AN585,AO585,AP585,AQ585,AR585,AS585,AT585,AU585,AV585,AW585,AX585,AY585,AZ585,BA585)=TRUE,\"\",16)","v":16},0,{"$f":"IF(CELL(\"format\", B585) = \"G\",TRUE,FALSE)","v":true},{"$f":"IF(CELL(\"format\", C585) = \"F0\",TRUE,FALSE)","v":true},{"$f":"OR(D585=\"A\",D585=\"B\",D585=\"C\",D585=\"Gratuity\")","v":false},{"$f":"OR(E585=\"DC\",E585=\"DB\",E585=\"H\",D585=\"Gratuity\")","v":false},{"$f":"OR(F585=\"Occupational\",F585=\"Personal\")","v":false},{"$f":"OR(G585=\"Yes\",G585=\"No\")","v":false},{"$f":"OR(H585=\"MD\",H585=\"PD\",H585=\"TD\",H585=\"MPD\",H585=\"MTD\",H585=\"PTD\",H585=\"MPTD\")","v":false},{"$f":"IF( CELL(\"format\",I585) = \"F0\",TRUE,FALSE)","v":true},{"$f":"IF( CELL(\"format\",J585) = \"F0\",TRUE,FALSE)","v":true},{"$f":"IF( CELL(\"format\",K585) = \"F0\",TRUE,FALSE)","v":true},{"$f":"IF( CELL(\"format\",L585) = \"F0\",TRUE,FALSE)","v":true},{"$f":"OR(M585=\"Yes\",M585=\"No\")","v":false},{"$f":"OR(N585=\"Trustee\",N585=\"Administrator\",N585=\"Both\")","v":false},true,true,false]
[null,null,null,null,null,null,null,null,null,null,null,null,null,null,null,null,null,{"$f":"IF(T586,VLOOKUP(MIN(U586:AK586),'Data Validation (hidden)'!$B$2:$C$19,2,FALSE),IF(COUNTA(C586:P586)>0,\"'Scheme Name' missing but values entered in other columns\",\"\"))","v":""},null,false,1,2,3,4,5,6,7,8,9,10,"",12,13,14,15,null,16,0,true,true,false,false,false,false,false,true,true,true,true,false,false,true,true,false]
[null,null,null,null,null,null,null,null,null,null,null,null,null,null,null,null,null,{"$f":"IF(T587,VLOOKUP(MIN(U587:AK587),'Data Validation (hidden)'!$B$2:$C$19,2,FALSE),IF(COUNTA(C587:P587)>0,\"'Scheme Name' missing but values entered in other columns\",\"\"))","v":""},null,false,1,2,3,4,5,6,7,8,9,10,"",12,13,14,15,null,16,0,true,true,false,false,false,false,false,true,true,true,true,false,false,true,true,false]
[null,null,null,null,null,null,null,null,null,null,null,null,null,null,null,null,null,{"$f":"IF(T588,VLOOKUP(MIN(U588:AK588),'Data Validation (hidden)'!$B$2:$C$19,2,FALSE),IF(COUNTA(C588:P588)>0,\"'Scheme Name' missing but values entered in other columns\",\"\"))","v":""},null,false,1,2,3,4,5,6,7,8,9,10,"",12,13,14,15,null,16,0,true,true,false,false,false,false,false,true,true,true,true,false,false,true,true,false]
[null,null,null,null,null,null,null,null,null,null,null,null,null,null,null,null,null,{"$f":"IF(T589,VLOOKUP(MIN(U589:AK589),'Data Validation (hidden)'!$B$2:$C$19,2,FALSE),IF(COUNTA(C589:P589)>0,\"'Scheme Name' missing but values entered in other columns\",\"\"))","v":""},null,false,1,2,3,4,5,6,7,8,9,10,"",12,13,14,15,null,16,0,true,true,false,false,false,false,false,true,true,true,true,false,false,true,true,false]
[null,null,null,null,null,null,null,null,null,null,null,null,null,null,null,null,null,{"$f":"IF(T590,VLOOKUP(MIN(U590:AK590),'Data Validation (hidden)'!$B$2:$C$19,2,FALSE),IF(COUNTA(C590:P590)>0,\"'Scheme Name' missing but values entered in other columns\",\"\"))","v":""},null,false,1,2,3,4,5,6,7,8,9,10,"",12,13,14,15,null,16,0,true,true,false,false,false,false,false,true,true,true,true,false,false,true,true,false]
[null,null,null,null,null,null,null,null,null,null,null,null,null,null,null,null,null,{"$f":"IF(T591,VLOOKUP(MIN(U591:AK591),'Data Validation (hidden)'!$B$2:$C$19,2,FALSE),IF(COUNTA(C591:P591)>0,\"'Scheme Name' missing but values entered in other columns\",\"\"))","v":""},null,false,1,2,3,4,5,6,7,8,9,10,"",12,13,14,15,null,16,0,true,true,false,false,false,false,false,true,true,true,true,false,false,true,true,false]
[null,null,null,null,null,null,null,null,null,null,null,null,null,null,null,null,null,{"$f":"IF(T592,VLOOKUP(MIN(U592:AK592),'Data Validation (hidden)'!$B$2:$C$19,2,FALSE),IF(COUNTA(C592:P592)>0,\"'Scheme Name' missing but values entered in other columns\",\"\"))","v":""},null,false,1,2,3,4,5,6,7,8,9,10,"",12,13,14,15,null,16,0,true,true,false,false,false,false,false,true,true,true,true,false,false,true,true,false]
[null,null,null,null,null,null,null,null,null,null,null,null,null,null,null,null,null,{"$f":"IF(T593,VLOOKUP(MIN(U593:AK593),'Data Validation (hidden)'!$B$2:$C$19,2,FALSE),IF(COUNTA(C593:P593)>0,\"'Scheme Name' missing but values entered in other columns\",\"\"))","v":""},null,false,1,2,3,4,5,6,7,8,9,10,"",{"$f":"IF(M593=\"\",12,\"\")","v":12},{"$f":"IF(N593=\"\",13,\"\")","v":13},{"$f":"IF(O593=\"\",14,\"\")","v":14},{"$f":"IF(P593=\"\",15,\"\")","v":15},null,16,{"$f":"SUM(J593:L593)","v":0},true,true,false,false,false,false,false,true,true,true,true,false,false,true,true,false]
[null,null,null,null,null,null,null,null,null,null,null,null,null,null,null,null,null,{"$f":"IF(T594,VLOOKUP(MIN(U594:AK594),'Data Validation (hidden)'!$B$2:$C$19,2,FALSE),IF(COUNTA(C594:P594)>0,\"'Scheme Name' missing but values entered in other columns\",\"\"))","v":""},null,false,1,{"$f":"IF(D592=\"\",2,\"\")","v":2},3,{"$f":"IF(F592=\"\",4,\"\")","v":4},{"$f":"IF(G592=\"\",5,\"\")","v":5},{"$f":"IF(H592=\"\",6,\"\")","v":6},{"$f":"IF(I592=\"\",7,\"\")","v":7},8,9,10,"",12,13,14,15,null,16,0,true,true,false,false,false,false,false,true,true,true,true,false,false,true,true,false]
[null,null,null,null,null,null,null,null,null,null,null,null,null,null,null,null,null,{"$f":"IF(T595,VLOOKUP(MIN(U595:AK595),'Data Validation (hidden)'!$B$2:$C$19,2,FALSE),IF(COUNTA(C595:P595)>0,\"'Scheme Name' missing but values entered in other columns\",\"\"))","v":""},null,false,1,2,3,4,5,6,7,8,9,10,"",12,13,14,15,null,16,0,true,true,false,false,false,false,false,true,true,true,true,false,false,true,true,false]
[null,null,null,null,null,null,null,null,null,null,null,null,null,null,null,null,null,{"$f":"IF(T596,VLOOKUP(MIN(U596:AK596),'Data Validation (hidden)'!$B$2:$C$19,2,FALSE),IF(COUNTA(C596:P596)>0,\"'Scheme Name' missing but values entered in other columns\",\"\"))","v":""},null,false,1,2,3,4,5,6,7,8,9,10,"",12,13,14,15,null,16,0,true,true,false,false,false,false,false,true,true,true,true,false,false,true,true,false]
[null,null,null,null,null,null,null,null,null,null,null,null,null,null,null,null,null,{"$f":"IF(T597,VLOOKUP(MIN(U597:AK597),'Data Validation (hidden)'!$B$2:$C$19,2,FALSE),IF(COUNTA(C597:P597)>0,\"'Scheme Name' missing but values entered in other columns\",\"\"))","v":""},null,false,1,2,3,4,5,6,7,8,9,10,"",12,13,14,15,null,16,0,true,true,false,false,false,false,false,true,true,true,true,false,false,true,true,false]
[null,null,null,null,null,null,null,null,null,null,null,null,null,null,null,null,null,{"$f":"IF(T598,VLOOKUP(MIN(U598:AK598),'Data Validation (hidden)'!$B$2:$C$19,2,FALSE),IF(COUNTA(C598:P598)>0,\"'Scheme Name' missing but values entered in other columns\",\"\"))","v":""},null,false,1,2,3,4,5,6,7,8,9,10,"",12,13,14,15,null,16,0,true,true,false,false,false,false,false,true,true,true,true,false,false,true,true,false]
[null,null,null,null,null,null,null,null,null,null,null,null,null,null,null,null,null,{"$f":"IF(T599,VLOOKUP(MIN(U599:AK599),'Data Validation (hidden)'!$B$2:$C$19,2,FALSE),IF(COUNTA(C599:P599)>0,\"'Scheme Name' missing but values entered in other columns\",\"\"))","v":""},null,false,1,2,3,4,5,6,7,8,9,10,"",12,13,14,15,null,16,0,true,true,false,false,false,false,false,true,true,true,true,false,false,true,true,false]
[null,null,null,null,null,null,null,null,null,null,null,null,null,null,null,null,null,{"$f":"IF(T600,VLOOKUP(MIN(U600:AK600),'Data Validation (hidden)'!$B$2:$C$19,2,FALSE),IF(COUNTA(C600:P600)>0,\"'Scheme Name' missing but values entered in other columns\",\"\"))","v":""},null,false,1,2,3,4,5,6,7,8,9,10,"",12,13,14,15,null,16,0,true,true,false,false,false,false,false,true,true,true,true,false,false,true,true,false]
[null,null,null,null,null,null,null,null,null,null,null,null,null,null,null,null,null,{"$f":"IF(T601,VLOOKUP(MIN(U601:AK601),'Data Validation (hidden)'!$B$2:$C$19,2,FALSE),IF(COUNTA(C601:P601)>0,\"'Scheme Name' missing but values entered in other columns\",\"\"))","v":""},null,false,1,2,3,4,5,6,7,8,9,10,"",12,13,14,15,null,16,0,true,true,false,false,false,false,false,true,true,true,true,false,false,true,true,false]
[null,null,null,null,null,null,null,null,null,null,null,null,null,null,null,null,null,{"$f":"IF(T602,VLOOKUP(MIN(U602:AK602),'Data Validation (hidden)'!$B$2:$C$19,2,FALSE),IF(COUNTA(C602:P602)>0,\"'Scheme Name' missing but values entered in other columns\",\"\"))","v":""},null,false,1,2,3,4,5,6,7,8,9,10,"",12,13,14,15,null,16,0,true,true,false,false,false,false,false,true,true,true,true,false,false,true,true,false]
[null,null,null,null,null,null,null,null,null,null,null,null,null,null,null,null,null,{"$f":"IF(T603,VLOOKUP(MIN(U603:AK603),'Data Validation (hidden)'!$B$2:$C$19,2,FALSE),IF(COUNTA(C603:P603)>0,\"'Scheme Name' missing but values entered in other columns\",\"\"))","v":""},null,false,1,2,3,4,5,6,7,8,9,10,"",12,13,14,15,null,16,0,true,true,false,false,false,false,false,true,true,true,true,false,false,true,true,false]
[null,null,null,null,null,null,null,null,null,null,null,null,null,null,null,null,null,{"$f":"IF(T604,VLOOKUP(MIN(U604:AK604),'Data Validation (hidden)'!$B$2:$C$19,2,FALSE),IF(COUNTA(C604:P604)>0,\"'Scheme Name' missing but values entered in other columns\",\"\"))","v":""},null,false,1,2,3,4,5,6,7,8,9,10,"",12,13,14,15,null,16,0,true,true,false,false,false,false,false,true,true,true,true,false,false,true,true,false]
[null,null,null,null,null,null,null,null,null,null,null,null,null,null,null,null,null,{"$f":"IF(T605,VLOOKUP(MIN(U605:AK605),'Data Validation (hidden)'!$B$2:$C$19,2,FALSE),IF(COUNTA(C605:P605)>0,\"'Scheme Name' missing but values entered in other columns\",\"\"))","v":""},null,false,1,2,3,4,5,6,7,8,9,10,"",12,13,14,15,null,16,0,true,true,false,false,false,false,false,true,true,true,true,false,false,true,true,false]
[null,null,null,null,null,null,null,null,null,null,null,null,null,null,null,null,null,{"$f":"IF(T606,VLOOKUP(MIN(U606:AK606),'Data Validation (hidden)'!$B$2:$C$19,2,FALSE),IF(COUNTA(C606:P606)>0,\"'Scheme Name' missing but values entered in other columns\",\"\"))","v":""},null,false,1,2,3,4,5,6,7,8,9,10,"",12,13,14,15,null,16,0,true,true,false,false,false,false,false,true,true,true,true,false,false,true,true,false]
[null,null,null,null,null,null,null,null,null,null,null,null,null,null,null,null,null,{"$f":"IF(T607,VLOOKUP(MIN(U607:AK607),'Data Validation (hidden)'!$B$2:$C$19,2,FALSE),IF(COUNTA(C607:P607)>0,\"'Scheme Name' missing but values entered in other columns\",\"\"))","v":""},null,false,1,2,3,4,5,6,7,8,9,10,"",12,13,14,15,null,16,0,true,true,false,false,false,false,false,true,true,true,true,false,false,true,true,false]
[null,null,null,null,null,null,null,null,null,null,null,null,null,null,null,null,null,{"$f":"IF(T608,VLOOKUP(MIN(U608:AK608),'Data Validation (hidden)'!$B$2:$C$19,2,FALSE),IF(COUNTA(C608:P608)>0,\"'Scheme Name' missing but values entered in other columns\",\"\"))","v":""},null,false,1,2,3,4,5,6,7,8,9,10,"",12,13,14,15,null,16,0,true,true,false,false,false,false,false,true,true,true,true,false,false,true,true,false]
[null,null,null,null,null,null,null,null,null,null,null,null,null,null,null,null,null,{"$f":"IF(T609,VLOOKUP(MIN(U609:AK609),'Data Validation (hidden)'!$B$2:$C$19,2,FALSE),IF(COUNTA(C609:P609)>0,\"'Scheme Name' missing but values entered in other columns\",\"\"))","v":""},null,false,1,2,3,4,5,6,7,8,9,10,"",12,13,14,15,null,16,0,true,true,false,false,false,false,false,true,true,true,true,false,false,true,true,false]
[null,null,null,null,null,null,null,null,null,null,null,null,null,null,null,null,null,{"$f":"IF(T610,VLOOKUP(MIN(U610:AK610),'Data Validation (hidden)'!$B$2:$C$19,2,FALSE),IF(COUNTA(C610:P610)>0,\"'Scheme Name' missing but values entered in other columns\",\"\"))","v":""},null,false,1,2,3,4,5,6,7,8,9,10,"",12,13,14,15,null,16,0,true,true,false,false,false,false,false,true,true,true,true,false,false,true,true,false]
[null,null,null,null,null,null,null,null,null,null,null,null,null,null,null,null,null,{"$f":"IF(T611,VLOOKUP(MIN(U611:AK611),'Data Validation (hidden)'!$B$2:$C$19,2,FALSE),IF(COUNTA(C611:P611)>0,\"'Scheme Name' missing but values entered in other columns\",\"\"))","v":""},null,false,1,2,3,4,5,6,7,8,9,10,"",12,13,14,15,null,16,0,true,true,false,false,false,false,false,true,true,true,true,false,false,true,true,false]
[null,null,null,null,null,null,null,null,null,null,null,null,null,null,null,null,null,{"$f":"IF(T612,VLOOKUP(MIN(U612:AK612),'Data Validation (hidden)'!$B$2:$C$19,2,FALSE),IF(COUNTA(C612:P612)>0,\"'Scheme Name' missing but values entered in other columns\",\"\"))","v":""},null,false,1,2,3,4,5,6,7,8,9,10,"",12,13,14,15,null,16,0,true,true,false,false,false,false,false,true,true,true,true,false,false,true,true,false]
[null,null,null,null,null,null,null,null,null,null,null,null,null,null,null,null,null,{"$f":"IF(T613,VLOOKUP(MIN(U613:AK613),'Data Validation (hidden)'!$B$2:$C$19,2,FALSE),IF(COUNTA(C613:P613)>0,\"'Scheme Name' missing but values entered in other columns\",\"\"))","v":""},null,false,1,2,3,4,5,6,7,8,9,10,"",12,13,14,15,null,16,0,true,true,false,false,false,false,false,true,true,true,true,false,false,true,true,false]
[null,null,null,null,null,null,null,null,null,null,null,null,null,null,null,null,null,{"$f":"IF(T614,VLOOKUP(MIN(U614:AK614),'Data Validation (hidden)'!$B$2:$C$19,2,FALSE),IF(COUNTA(C614:P614)>0,\"'Scheme Name' missing but values entered in other columns\",\"\"))","v":""},null,false,1,2,3,4,5,6,7,8,9,10,"",12,13,14,15,null,16,0,true,true,false,false,false,false,false,true,true,true,true,false,false,true,true,false]
[null,null,null,null,null,null,null,null,null,null,null,null,null,null,null,null,null,{"$f":"IF(T615,VLOOKUP(MIN(U615:AK615),'Data Validation (hidden)'!$B$2:$C$19,2,FALSE),IF(COUNTA(C615:P615)>0,\"'Scheme Name' missing but values entered in other columns\",\"\"))","v":""},null,false,1,2,3,4,5,6,7,8,9,10,"",12,13,14,15,null,16,0,true,true,false,false,false,false,false,true,true,true,true,false,false,true,true,false]
[null,null,null,null,null,null,null,null,null,null,null,null,null,null,null,null,null,{"$f":"IF(T616,VLOOKUP(MIN(U616:AK616),'Data Validation (hidden)'!$B$2:$C$19,2,FALSE),IF(COUNTA(C616:P616)>0,\"'Scheme Name' missing but values entered in other columns\",\"\"))","v":""},null,false,1,2,3,4,5,6,7,8,9,10,"",12,13,14,15,null,16,0,true,true,false,false,false,false,false,true,true,true,true,false,false,true,true,false]
[null,null,null,null,null,null,null,null,null,null,null,null,null,null,null,null,null,{"$f":"IF(T617,VLOOKUP(MIN(U617:AK617),'Data Validation (hidden)'!$B$2:$C$19,2,FALSE),IF(COUNTA(C617:P617)>0,\"'Scheme Name' missing but values entered in other columns\",\"\"))","v":""},null,false,1,2,3,4,5,6,7,8,9,10,"",12,13,14,15,null,16,0,true,true,false,false,false,false,false,true,true,true,true,false,false,true,true,false]
[null,null,null,null,null,null,null,null,null,null,null,null,null,null,null,null,null,{"$f":"IF(T618,VLOOKUP(MIN(U618:AK618),'Data Validation (hidden)'!$B$2:$C$19,2,FALSE),IF(COUNTA(C618:P618)>0,\"'Scheme Name' missing but values entered in other columns\",\"\"))","v":""},null,false,1,2,3,4,5,6,7,8,9,10,"",12,13,14,15,null,16,0,true,true,false,false,false,false,false,true,true,true,true,false,false,true,true,false]
[null,null,null,null,null,null,null,null,null,null,null,null,null,null,null,null,null,{"$f":"IF(T619,VLOOKUP(MIN(U619:AK619),'Data Validation (hidden)'!$B$2:$C$19,2,FALSE),IF(COUNTA(C619:P619)>0,\"'Scheme Name' missing but values entered in other columns\",\"\"))","v":""},null,false,1,2,3,4,5,6,7,8,9,10,"",12,13,14,15,null,16,0,true,true,false,false,false,false,false,true,true,true,true,false,false,true,true,false]
[null,null,null,null,null,null,null,null,null,null,null,null,null,null,null,null,null,{"$f":"IF(T620,VLOOKUP(MIN(U620:AK620),'Data Validation (hidden)'!$B$2:$C$19,2,FALSE),IF(COUNTA(C620:P620)>0,\"'Scheme Name' missing but values entered in other columns\",\"\"))","v":""},null,false,1,2,3,4,5,6,7,8,9,10,"",12,13,14,15,null,16,0,true,true,false,false,false,false,false,true,true,true,true,false,false,true,true,false]
[null,null,null,null,null,null,null,null,null,null,null,null,null,null,null,null,null,{"$f":"IF(T621,VLOOKUP(MIN(U621:AK621),'Data Validation (hidden)'!$B$2:$C$19,2,FALSE),IF(COUNTA(C621:P621)>0,\"'Scheme Name' missing but values entered in other columns\",\"\"))","v":""},null,false,1,2,3,4,5,6,7,8,9,10,"",12,13,14,15,null,16,0,true,true,false,false,false,false,false,true,true,true,true,false,false,true,true,false]
[null,null,null,null,null,null,null,null,null,null,null,null,null,null,null,null,null,{"$f":"IF(T622,VLOOKUP(MIN(U622:AK622),'Data Validation (hidden)'!$B$2:$C$19,2,FALSE),IF(COUNTA(C622:P622)>0,\"'Scheme Name' missing but values entered in other columns\",\"\"))","v":""},null,false,1,2,3,4,5,6,7,8,9,10,"",12,13,14,15,null,16,0,true,true,false,false,false,false,false,true,true,true,true,false,false,true,true,false]
[null,null,null,null,null,null,null,null,null,null,null,null,null,null,null,null,null,{"$f":"IF(T623,VLOOKUP(MIN(U623:AK623),'Data Validation (hidden)'!$B$2:$C$19,2,FALSE),IF(COUNTA(C623:P623)>0,\"'Scheme Name' missing but values entered in other columns\",\"\"))","v":""},null,false,1,2,3,4,5,6,7,8,9,10,"",12,13,14,15,null,16,0,true,true,false,false,false,false,false,true,true,true,true,false,false,true,true,false]
[null,null,null,null,null,null,null,null,null,null,null,null,null,null,null,null,null,{"$f":"IF(T624,VLOOKUP(MIN(U624:AK624),'Data Validation (hidden)'!$B$2:$C$19,2,FALSE),IF(COUNTA(C624:P624)>0,\"'Scheme Name' missing but values entered in other columns\",\"\"))","v":""},null,false,1,2,3,4,5,6,7,8,9,10,"",12,13,14,15,null,16,0,true,true,false,false,false,false,false,true,true,true,true,false,false,true,true,false]
[null,null,null,null,null,null,null,null,null,null,null,null,null,null,null,null,null,{"$f":"IF(T625,VLOOKUP(MIN(U625:AK625),'Data Validation (hidden)'!$B$2:$C$19,2,FALSE),IF(COUNTA(C625:P625)>0,\"'Scheme Name' missing but values entered in other columns\",\"\"))","v":""},null,false,1,2,3,4,5,6,7,8,9,10,"",{"$f":"IF(M625=\"\",12,\"\")","v":12},{"$f":"IF(N625=\"\",13,\"\")","v":13},{"$f":"IF(O625=\"\",14,\"\")","v":14},{"$f":"IF(P625=\"\",15,\"\")","v":15},null,16,{"$f":"SUM(J625:L625)","v":0},true,true,false,false,false,false,false,true,true,true,true,false,false,true,true,false]
[null,null,null,null,null,null,null,null,null,null,null,null,null,null,null,null,null,{"$f":"IF(T626,VLOOKUP(MIN(U626:AK626),'Data Validation (hidden)'!$B$2:$C$19,2,FALSE),IF(COUNTA(C626:P626)>0,\"'Scheme Name' missing but values entered in other columns\",\"\"))","v":""},null,false,1,2,3,4,5,6,7,8,9,10,"",12,13,14,15,null,16,0,true,true,false,false,false,false,false,true,true,true,true,false,false,true,true,false]
[null,null,null,null,null,null,null,null,null,null,null,null,null,null,null,null,null,{"$f":"IF(T627,VLOOKUP(MIN(U627:AK627),'Data Validation (hidden)'!$B$2:$C$19,2,FALSE),IF(COUNTA(C627:P627)>0,\"'Scheme Name' missing but values entered in other columns\",\"\"))","v":""},null,false,1,2,3,4,5,6,7,8,9,10,"",12,13,14,15,null,16,0,true,true,false,false,false,false,false,true,true,true,true,false,false,true,true,false]
[null,null,null,null,null,null,null,null,null,null,null,null,null,null,null,null,null,{"$f":"IF(T628,VLOOKUP(MIN(U628:AK628),'Data Validation (hidden)'!$B$2:$C$19,2,FALSE),IF(COUNTA(C628:P628)>0,\"'Scheme Name' missing but values entered in other columns\",\"\"))","v":""},null,false,1,2,3,4,5,6,7,8,9,10,"",12,13,14,15,null,16,0,true,true,false,false,false,false,false,true,true,true,true,false,false,true,true,false]
[null,null,null,null,null,null,null,null,null,null,null,null,null,null,null,null,null,{"$f":"IF(T629,VLOOKUP(MIN(U629:AK629),'Data Validation (hidden)'!$B$2:$C$19,2,FALSE),IF(COUNTA(C629:P629)>0,\"'Scheme Name' missing but values entered in other columns\",\"\"))","v":""},null,false,1,2,3,4,5,6,7,8,9,10,"",12,13,14,15,null,16,0,true,true,false,false,false,false,false,true,true,true,true,false,false,true,true,false]
[null,null,null,null,null,null,null,null,null,null,null,null,null,null,null,null,null,{"$f":"IF(T630,VLOOKUP(MIN(U630:AK630),'Data Validation (hidden)'!$B$2:$C$19,2,FALSE),IF(COUNTA(C630:P630)>0,\"'Scheme Name' missing but values entered in other columns\",\"\"))","v":""},null,false,1,2,3,4,5,6,7,8,9,10,"",12,13,14,15,null,16,0,true,true,false,false,false,false,false,true,true,true,true,false,false,true,true,false]
[null,null,null,null,null,null,null,null,null,null,null,null,null,null,null,null,null,{"$f":"IF(T631,VLOOKUP(MIN(U631:AK631),'Data Validation (hidden)'!$B$2:$C$19,2,FALSE),IF(COUNTA(C631:P631)>0,\"'Scheme Name' missing but values entered in other columns\",\"\"))","v":""},null,false,1,2,3,4,5,6,7,8,9,10,"",12,13,14,15,null,16,0,true,true,false,false,false,false,false,true,true,true,true,false,false,true,true,false]
[null,null,null,null,null,null,null,null,null,null,null,null,null,null,null,null,null,{"$f":"IF(T632,VLOOKUP(MIN(U632:AK632),'Data Validation (hidden)'!$B$2:$C$19,2,FALSE),IF(COUNTA(C632:P632)>0,\"'Scheme Name' missing but values entered in other columns\",\"\"))","v":""},null,false,1,2,3,4,5,6,7,8,9,10,"",12,13,14,15,null,16,0,true,true,false,false,false,false,false,true,true,true,true,false,false,true,true,false]
[null,null,null,null,null,null,null,null,null,null,null,null,null,null,null,null,null,{"$f":"IF(T633,VLOOKUP(MIN(U633:AK633),'Data Validation (hidden)'!$B$2:$C$19,2,FALSE),IF(COUNTA(C633:P633)>0,\"'Scheme Name' missing but values entered in other columns\",\"\"))","v":""},null,false,1,2,3,4,5,6,7,8,9,10,"",12,13,14,15,null,16,0,true,true,false,false,false,false,false,true,true,true,true,false,false,true,true,false]
[null,null,null,null,null,null,null,null,null,null,null,null,null,null,null,null,null,{"$f":"IF(T634,VLOOKUP(MIN(U634:AK634),'Data Validation (hidden)'!$B$2:$C$19,2,FALSE),IF(COUNTA(C634:P634)>0,\"'Scheme Name' missing but values entered in other columns\",\"\"))","v":""},null,false,1,2,3,4,5,6,7,8,9,10,"",12,13,14,15,null,16,0,true,true,false,false,false,false,false,true,true,true,true,false,false,true,true,false]
[null,null,null,null,null,null,null,null,null,null,null,null,null,null,null,null,null,{"$f":"IF(T635,VLOOKUP(MIN(U635:AK635),'Data Validation (hidden)'!$B$2:$C$19,2,FALSE),IF(COUNTA(C635:P635)>0,\"'Scheme Name' missing but values entered in other columns\",\"\"))","v":""},null,false,1,2,3,4,5,6,7,8,9,10,"",12,13,14,15,null,16,0,true,true,false,false,false,false,false,true,true,true,true,false,false,true,true,false]
[null,null,null,null,null,null,null,null,null,null,null,null,null,null,null,null,null,{"$f":"IF(T636,VLOOKUP(MIN(U636:AK636),'Data Validation (hidden)'!$B$2:$C$19,2,FALSE),IF(COUNTA(C636:P636)>0,\"'Scheme Name' missing but values entered in other columns\",\"\"))","v":""},null,false,1,2,3,4,5,6,7,8,9,10,"",12,13,14,15,null,16,0,true,true,false,false,false,false,false,true,true,true,true,false,false,true,true,false]
[null,null,null,null,null,null,null,null,null,null,null,null,null,null,null,null,null,{"$f":"IF(T637,VLOOKUP(MIN(U637:AK637),'Data Validation (hidden)'!$B$2:$C$19,2,FALSE),IF(COUNTA(C637:P637)>0,\"'Scheme Name' missing but values entered in other columns\",\"\"))","v":""},null,false,1,2,3,4,5,6,7,8,9,10,"",12,13,14,15,null,16,0,true,true,false,false,false,false,false,true,true,true,true,false,false,true,true,false]
[null,null,null,null,null,null,null,null,null,null,null,null,null,null,null,null,null,{"$f":"IF(T638,VLOOKUP(MIN(U638:AK638),'Data Validation (hidden)'!$B$2:$C$19,2,FALSE),IF(COUNTA(C638:P638)>0,\"'Scheme Name' missing but values entered in other columns\",\"\"))","v":""},null,false,1,2,3,4,5,6,7,8,9,10,"",12,13,14,15,null,16,0,true,true,false,false,false,false,false,true,true,true,true,false,false,true,true,false]
[null,null,null,null,null,null,null,null,null,null,null,null,null,null,null,null,null,{"$f":"IF(T639,VLOOKUP(MIN(U639:AK639),'Data Validation (hidden)'!$B$2:$C$19,2,FALSE),IF(COUNTA(C639:P639)>0,\"'Scheme Name' missing but values entered in other columns\",\"\"))","v":""},null,false,1,2,3,4,5,6,7,8,9,10,"",12,13,14,15,null,16,0,true,true,false,false,false,false,false,true,true,true,true,false,false,true,true,false]
[null,null,null,null,null,null,null,null,null,null,null,null,null,null,null,null,null,{"$f":"IF(T640,VLOOKUP(MIN(U640:AK640),'Data Validation (hidden)'!$B$2:$C$19,2,FALSE),IF(COUNTA(C640:P640)>0,\"'Scheme Name' missing but values entered in other columns\",\"\"))","v":""},null,false,1,2,3,4,5,6,7,8,9,10,"",12,13,14,15,null,16,0,true,true,false,false,false,false,false,true,true,true,true,false,false,true,true,false]
[null,null,null,null,null,null,null,null,null,null,null,null,null,null,null,null,null,{"$f":"IF(T641,VLOOKUP(MIN(U641:AK641),'Data Validation (hidden)'!$B$2:$C$19,2,FALSE),IF(COUNTA(C641:P641)>0,\"'Scheme Name' missing but values entered in other columns\",\"\"))","v":""},null,false,1,2,3,4,5,6,7,8,9,10,"",12,13,14,15,null,16,0,true,true,false,false,false,false,false,true,true,true,true,false,false,true,true,false]
[null,null,null,null,null,null,null,null,null,null,null,null,null,null,null,null,null,{"$f":"IF(T642,VLOOKUP(MIN(U642:AK642),'Data Validation (hidden)'!$B$2:$C$19,2,FALSE),IF(COUNTA(C642:P642)>0,\"'Scheme Name' missing but values entered in other columns\",\"\"))","v":""},null,false,1,2,3,4,5,6,7,8,9,10,"",12,13,14,15,null,16,0,true,true,false,false,false,false,false,true,true,true,true,false,false,true,true,false]
[null,null,null,null,null,null,null,null,null,null,null,null,null,null,null,null,null,{"$f":"IF(T643,VLOOKUP(MIN(U643:AK643),'Data Validation (hidden)'!$B$2:$C$19,2,FALSE),IF(COUNTA(C643:P643)>0,\"'Scheme Name' missing but values entered in other columns\",\"\"))","v":""},null,false,1,2,3,4,5,6,7,8,9,10,"",12,13,14,15,null,16,0,true,true,false,false,false,false,false,true,true,true,true,false,false,true,true,false]
[null,null,null,null,null,null,null,null,null,null,null,null,null,null,null,null,null,{"$f":"IF(T644,VLOOKUP(MIN(U644:AK644),'Data Validation (hidden)'!$B$2:$C$19,2,FALSE),IF(COUNTA(C644:P644)>0,\"'Scheme Name' missing but values entered in other columns\",\"\"))","v":""},null,false,1,2,3,4,5,6,7,8,9,10,"",12,13,14,15,null,16,0,true,true,false,false,false,false,false,true,true,true,true,false,false,true,true,false]
[null,null,null,null,null,null,null,null,null,null,null,null,null,null,null,null,null,{"$f":"IF(T645,VLOOKUP(MIN(U645:AK645),'Data Validation (hidden)'!$B$2:$C$19,2,FALSE),IF(COUNTA(C645:P645)>0,\"'Scheme Name' missing but values entered in other columns\",\"\"))","v":""},null,false,1,2,3,4,5,6,7,8,9,10,"",12,13,14,15,null,16,0,true,true,false,false,false,false,false,true,true,true,true,false,false,true,true,false]
[null,null,null,null,null,null,null,null,null,null,null,null,null,null,null,null,null,{"$f":"IF(T646,VLOOKUP(MIN(U646:AK646),'Data Validation (hidden)'!$B$2:$C$19,2,FALSE),IF(COUNTA(C646:P646)>0,\"'Scheme Name' missing but values entered in other columns\",\"\"))","v":""},null,false,1,2,3,4,5,6,7,8,9,10,"",12,13,14,15,null,16,0,true,true,false,false,false,false,false,true,true,true,true,false,false,true,true,false]
[null,null,null,null,null,null,null,null,null,null,null,null,null,null,null,null,null,{"$f":"IF(T647,VLOOKUP(MIN(U647:AK647),'Data Validation (hidden)'!$B$2:$C$19,2,FALSE),IF(COUNTA(C647:P647)>0,\"'Scheme Name' missing but values entered in other columns\",\"\"))","v":""},null,false,1,2,3,4,5,6,7,8,9,10,"",12,13,14,15,null,16,0,true,true,false,false,false,false,false,true,true,true,true,false,false,true,true,false]
[null,null,null,null,null,null,null,null,null,null,null,null,null,null,null,null,null,{"$f":"IF(T648,VLOOKUP(MIN(U648:AK648),'Data Validation (hidden)'!$B$2:$C$19,2,FALSE),IF(COUNTA(C648:P648)>0,\"'Scheme Name' missing but values entered in other columns\",\"\"))","v":""},null,{"$f":"B648<>\"\"","v":false},{"$f":"IF(C648=\"\",1,\"\")","v":1},2,3,4,5,6,7,8,9,10,"",12,13,14,15,null,16,0,true,true,false,false,false,false,false,true,true,true,true,false,false,{"$f":"IF( CELL(\"format\",O648) = \"F0\",TRUE,FALSE)","v":true},{"$f":"IF( CELL(\"format\",P648) = \"F0\",TRUE,FALSE)","v":true},{"$f":"IF(R648=\"\",FALSE,IF(R648=\"OK\",FALSE,TRUE))","v":false}]
[null,null,null,null,null,null,null,null,null,null,null,null,null,null,null,null,null,{"$f":"IF(T649,VLOOKUP(MIN(U649:AK649),'Data Validation (hidden)'!$B$2:$C$19,2,FALSE),IF(COUNTA(C649:P649)>0,\"'Scheme Name' missing but values entered in other columns\",\"\"))","v":""},null,false,1,2,{"$f":"IF(E649=\"\",IF(D649=\"Gratuity\",\"\",3),\"\")","v":3},4,5,6,7,{"$f":"IF(J649=\"\",8,\"\")","v":8},{"$f":"IF(K649=\"\",9,\"\")","v":9},{"$f":"IF(L649=\"\",10,\"\")","v":10},{"$f":"IF((AL649=I649),\"\",11)","v":""},12,13,14,15,null,{"$f":"IF(AND(AM649,AN649,AO649,AP649,AQ649,AR649,AS649,AT649,AU649,AV649,AW649,AX649,AY649,AZ649,BA649)=TRUE,\"\",16)","v":16},0,{"$f":"IF(CELL(\"format\", B649) = \"G\",TRUE,FALSE)","v":true},{"$f":"IF(CELL(\"format\", C649) = \"F0\",TRUE,FALSE)","v":true},{"$f":"OR(D649=\"A\",D649=\"B\",D649=\"C\",D649=\"Gratuity\")","v":false},{"$f":"OR(E649=\"DC\",E649=\"DB\",E649=\"H\",D649=\"Gratuity\")","v":false},{"$f":"OR(F649=\"Occupational\",F649=\"Personal\")","v":false},{"$f":"OR(G649=\"Yes\",G649=\"No\")","v":false},{"$f":"OR(H649=\"MD\",H649=\"PD\",H649=\"TD\",H649=\"MPD\",H649=\"MTD\",H649=\"PTD\",H649=\"MPTD\")","v":false},{"$f":"IF( CELL(\"format\",I649) = \"F0\",TRUE,FALSE)","v":true},{"$f":"IF( CELL(\"format\",J649) = \"F0\",TRUE,FALSE)","v":true},{"$f":"IF( CELL(\"format\",K649) = \"F0\",TRUE,FALSE)","v":true},{"$f":"IF( CELL(\"format\",L649) = \"F0\",TRUE,FALSE)","v":true},{"$f":"OR(M649=\"Yes\",M649=\"No\")","v":false},{"$f":"OR(N649=\"Trustee\",N649=\"Administrator\",N649=\"Both\")","v":false},true,true,false]
[null,null,null,null,null,null,null,null,null,null,null,null,null,null,null,null,null,{"$f":"IF(T650,VLOOKUP(MIN(U650:AK650),'Data Validation (hidden)'!$B$2:$C$19,2,FALSE),IF(COUNTA(C650:P650)>0,\"'Scheme Name' missing but values entered in other columns\",\"\"))","v":""},null,false,1,2,3,4,5,6,7,8,9,10,"",12,13,14,15,null,16,0,true,true,false,false,false,false,false,true,true,true,true,false,false,true,true,false]
[null,null,null,null,null,null,null,null,null,null,null,null,null,null,null,null,null,{"$f":"IF(T651,VLOOKUP(MIN(U651:AK651),'Data Validation (hidden)'!$B$2:$C$19,2,FALSE),IF(COUNTA(C651:P651)>0,\"'Scheme Name' missing but values entered in other columns\",\"\"))","v":""},null,false,1,2,3,4,5,6,7,8,9,10,"",12,13,14,15,null,16,0,true,true,false,false,false,false,false,true,true,true,true,false,false,true,true,false]
[null,null,null,null,null,null,null,null,null,null,null,null,null,null,null,null,null,{"$f":"IF(T652,VLOOKUP(MIN(U652:AK652),'Data Validation (hidden)'!$B$2:$C$19,2,FALSE),IF(COUNTA(C652:P652)>0,\"'Scheme Name' missing but values entered in other columns\",\"\"))","v":""},null,false,1,2,3,4,5,6,7,8,9,10,"",12,13,14,15,null,16,0,true,true,false,false,false,false,false,true,true,true,true,false,false,true,true,false]
[null,null,null,null,null,null,null,null,null,null,null,null,null,null,null,null,null,{"$f":"IF(T653,VLOOKUP(MIN(U653:AK653),'Data Validation (hidden)'!$B$2:$C$19,2,FALSE),IF(COUNTA(C653:P653)>0,\"'Scheme Name' missing but values entered in other columns\",\"\"))","v":""},null,false,1,2,3,4,5,6,7,8,9,10,"",12,13,14,15,null,16,0,true,true,false,false,false,false,false,true,true,true,true,false,false,true,true,false]
[null,null,null,null,null,null,null,null,null,null,null,null,null,null,null,null,null,{"$f":"IF(T654,VLOOKUP(MIN(U654:AK654),'Data Validation (hidden)'!$B$2:$C$19,2,FALSE),IF(COUNTA(C654:P654)>0,\"'Scheme Name' missing but values entered in other columns\",\"\"))","v":""},null,false,1,2,3,4,5,6,7,8,9,10,"",12,13,14,15,null,16,0,true,true,false,false,false,false,false,true,true,true,true,false,false,true,true,false]
[null,null,null,null,null,null,null,null,null,null,null,null,null,null,null,null,null,{"$f":"IF(T655,VLOOKUP(MIN(U655:AK655),'Data Validation (hidden)'!$B$2:$C$19,2,FALSE),IF(COUNTA(C655:P655)>0,\"'Scheme Name' missing but values entered in other columns\",\"\"))","v":""},null,false,1,2,3,4,5,6,7,8,9,10,"",12,13,14,15,null,16,0,true,true,false,false,false,false,false,true,true,true,true,false,false,true,true,false]
[null,null,null,null,null,null,null,null,null,null,null,null,null,null,null,null,null,{"$f":"IF(T656,VLOOKUP(MIN(U656:AK656),'Data Validation (hidden)'!$B$2:$C$19,2,FALSE),IF(COUNTA(C656:P656)>0,\"'Scheme Name' missing but values entered in other columns\",\"\"))","v":""},null,false,1,2,3,4,5,6,7,8,9,10,"",12,13,14,15,null,16,0,true,true,false,false,false,false,false,true,true,true,true,false,false,true,true,false]
[null,null,null,null,null,null,null,null,null,null,null,null,null,null,null,null,null,{"$f":"IF(T657,VLOOKUP(MIN(U657:AK657),'Data Validation (hidden)'!$B$2:$C$19,2,FALSE),IF(COUNTA(C657:P657)>0,\"'Scheme Name' missing but values entered in other columns\",\"\"))","v":""},null,false,1,2,3,4,5,6,7,8,9,10,"",{"$f":"IF(M657=\"\",12,\"\")","v":12},{"$f":"IF(N657=\"\",13,\"\")","v":13},{"$f":"IF(O657=\"\",14,\"\")","v":14},{"$f":"IF(P657=\"\",15,\"\")","v":15},null,16,{"$f":"SUM(J657:L657)","v":0},true,true,false,false,false,false,false,true,true,true,true,false,false,true,true,false]
[null,null,null,null,null,null,null,null,null,null,null,null,null,null,null,null,null,{"$f":"IF(T658,VLOOKUP(MIN(U658:AK658),'Data Validation (hidden)'!$B$2:$C$19,2,FALSE),IF(COUNTA(C658:P658)>0,\"'Scheme Name' missing but values entered in other columns\",\"\"))","v":""},null,false,1,{"$f":"IF(D656=\"\",2,\"\")","v":2},3,{"$f":"IF(F656=\"\",4,\"\")","v":4},{"$f":"IF(G656=\"\",5,\"\")","v":5},{"$f":"IF(H656=\"\",6,\"\")","v":6},{"$f":"IF(I656=\"\",7,\"\")","v":7},8,9,10,"",12,13,14,15,null,16,0,true,true,false,false,false,false,false,true,true,true,true,false,false,true,true,false]
[null,null,null,null,null,null,null,null,null,null,null,null,null,null,null,null,null,{"$f":"IF(T659,VLOOKUP(MIN(U659:AK659),'Data Validation (hidden)'!$B$2:$C$19,2,FALSE),IF(COUNTA(C659:P659)>0,\"'Scheme Name' missing but values entered in other columns\",\"\"))","v":""},null,false,1,2,3,4,5,6,7,8,9,10,"",12,13,14,15,null,16,0,true,true,false,false,false,false,false,true,true,true,true,false,false,true,true,false]
[null,null,null,null,null,null,null,null,null,null,null,null,null,null,null,null,null,{"$f":"IF(T660,VLOOKUP(MIN(U660:AK660),'Data Validation (hidden)'!$B$2:$C$19,2,FALSE),IF(COUNTA(C660:P660)>0,\"'Scheme Name' missing but values entered in other columns\",\"\"))","v":""},null,false,1,2,3,4,5,6,7,8,9,10,"",12,13,14,15,null,16,0,true,true,false,false,false,false,false,true,true,true,true,false,false,true,true,false]
[null,null,null,null,null,null,null,null,null,null,null,null,null,null,null,null,null,{"$f":"IF(T661,VLOOKUP(MIN(U661:AK661),'Data Validation (hidden)'!$B$2:$C$19,2,FALSE),IF(COUNTA(C661:P661)>0,\"'Scheme Name' missing but values entered in other columns\",\"\"))","v":""},null,false,1,2,3,4,5,6,7,8,9,10,"",12,13,14,15,null,16,0,true,true,false,false,false,false,false,true,true,true,true,false,false,true,true,false]
[null,null,null,null,null,null,null,null,null,null,null,null,null,null,null,null,null,{"$f":"IF(T662,VLOOKUP(MIN(U662:AK662),'Data Validation (hidden)'!$B$2:$C$19,2,FALSE),IF(COUNTA(C662:P662)>0,\"'Scheme Name' missing but values entered in other columns\",\"\"))","v":""},null,false,1,2,3,4,5,6,7,8,9,10,"",12,13,14,15,null,16,0,true,true,false,false,false,false,false,true,true,true,true,false,false,true,true,false]
[null,null,null,null,null,null,null,null,null,null,null,null,null,null,null,null,null,{"$f":"IF(T663,VLOOKUP(MIN(U663:AK663),'Data Validation (hidden)'!$B$2:$C$19,2,FALSE),IF(COUNTA(C663:P663)>0,\"'Scheme Name' missing but values entered in other columns\",\"\"))","v":""},null,false,1,2,3,4,5,6,7,8,9,10,"",12,13,14,15,null,16,0,true,true,false,false,false,false,false,true,true,true,true,false,false,true,true,false]
[null,null,null,null,null,null,null,null,null,null,null,null,null,null,null,null,null,{"$f":"IF(T664,VLOOKUP(MIN(U664:AK664),'Data Validation (hidden)'!$B$2:$C$19,2,FALSE),IF(COUNTA(C664:P664)>0,\"'Scheme Name' missing but values entered in other columns\",\"\"))","v":""},null,false,1,2,3,4,5,6,7,8,9,10,"",12,13,14,15,null,16,0,true,true,false,false,false,false,false,true,true,true,true,false,false,true,true,false]
[null,null,null,null,null,null,null,null,null,null,null,null,null,null,null,null,null,{"$f":"IF(T665,VLOOKUP(MIN(U665:AK665),'Data Validation (hidden)'!$B$2:$C$19,2,FALSE),IF(COUNTA(C665:P665)>0,\"'Scheme Name' missing but values entered in other columns\",\"\"))","v":""},null,false,1,2,3,4,5,6,7,8,9,10,"",12,13,14,15,null,16,0,true,true,false,false,false,false,false,true,true,true,true,false,false,true,true,false]
[null,null,null,null,null,null,null,null,null,null,null,null,null,null,null,null,null,{"$f":"IF(T666,VLOOKUP(MIN(U666:AK666),'Data Validation (hidden)'!$B$2:$C$19,2,FALSE),IF(COUNTA(C666:P666)>0,\"'Scheme Name' missing but values entered in other columns\",\"\"))","v":""},null,false,1,2,3,4,5,6,7,8,9,10,"",12,13,14,15,null,16,0,true,true,false,false,false,false,false,true,true,true,true,false,false,true,true,false]
[null,null,null,null,null,null,null,null,null,null,null,null,null,null,null,null,null,{"$f":"IF(T667,VLOOKUP(MIN(U667:AK667),'Data Validation (hidden)'!$B$2:$C$19,2,FALSE),IF(COUNTA(C667:P667)>0,\"'Scheme Name' missing but values entered in other columns\",\"\"))","v":""},null,false,1,2,3,4,5,6,7,8,9,10,"",12,13,14,15,null,16,0,true,true,false,false,false,false,false,true,true,true,true,false,false,true,true,false]
[null,null,null,null,null,null,null,null,null,null,null,null,null,null,null,null,null,{"$f":"IF(T668,VLOOKUP(MIN(U668:AK668),'Data Validation (hidden)'!$B$2:$C$19,2,FALSE),IF(COUNTA(C668:P668)>0,\"'Scheme Name' missing but values entered in other columns\",\"\"))","v":""},null,false,1,2,3,4,5,6,7,8,9,10,"",12,13,14,15,null,16,0,true,true,false,false,false,false,false,true,true,true,true,false,false,true,true,false]
[null,null,null,null,null,null,null,null,null,null,null,null,null,null,null,null,null,{"$f":"IF(T669,VLOOKUP(MIN(U669:AK669),'Data Validation (hidden)'!$B$2:$C$19,2,FALSE),IF(COUNTA(C669:P669)>0,\"'Scheme Name' missing but values entered in other columns\",\"\"))","v":""},null,false,1,2,3,4,5,6,7,8,9,10,"",12,13,14,15,null,16,0,true,true,false,false,false,false,false,true,true,true,true,false,false,true,true,false]
[null,null,null,null,null,null,null,null,null,null,null,null,null,null,null,null,null,{"$f":"IF(T670,VLOOKUP(MIN(U670:AK670),'Data Validation (hidden)'!$B$2:$C$19,2,FALSE),IF(COUNTA(C670:P670)>0,\"'Scheme Name' missing but values entered in other columns\",\"\"))","v":""},null,false,1,2,3,4,5,6,7,8,9,10,"",12,13,14,15,null,16,0,true,true,false,false,false,false,false,true,true,true,true,false,false,true,true,false]
[null,null,null,null,null,null,null,null,null,null,null,null,null,null,null,null,null,{"$f":"IF(T671,VLOOKUP(MIN(U671:AK671),'Data Validation (hidden)'!$B$2:$C$19,2,FALSE),IF(COUNTA(C671:P671)>0,\"'Scheme Name' missing but values entered in other columns\",\"\"))","v":""},null,false,1,2,3,4,5,6,7,8,9,10,"",12,13,14,15,null,16,0,true,true,false,false,false,false,false,true,true,true,true,false,false,true,true,false]
[null,null,null,null,null,null,null,null,null,null,null,null,null,null,null,null,null,{"$f":"IF(T672,VLOOKUP(MIN(U672:AK672),'Data Validation (hidden)'!$B$2:$C$19,2,FALSE),IF(COUNTA(C672:P672)>0,\"'Scheme Name' missing but values entered in other columns\",\"\"))","v":""},null,false,1,2,3,4,5,6,7,8,9,10,"",12,13,14,15,null,16,0,true,true,false,false,false,false,false,true,true,true,true,false,false,true,true,false]
[null,null,null,null,null,null,null,null,null,null,null,null,null,null,null,null,null,{"$f":"IF(T673,VLOOKUP(MIN(U673:AK673),'Data Validation (hidden)'!$B$2:$C$19,2,FALSE),IF(COUNTA(C673:P673)>0,\"'Scheme Name' missing but values entered in other columns\",\"\"))","v":""},null,false,1,2,3,4,5,6,7,8,9,10,"",12,13,14,15,null,16,0,true,true,false,false,false,false,false,true,true,true,true,false,false,true,true,false]
[null,null,null,null,null,null,null,null,null,null,null,null,null,null,null,null,null,{"$f":"IF(T674,VLOOKUP(MIN(U674:AK674),'Data Validation (hidden)'!$B$2:$C$19,2,FALSE),IF(COUNTA(C674:P674)>0,\"'Scheme Name' missing but values entered in other columns\",\"\"))","v":""},null,false,1,2,3,4,5,6,7,8,9,10,"",12,13,14,15,null,16,0,true,true,false,false,false,false,false,true,true,true,true,false,false,true,true,false]
[null,null,null,null,null,null,null,null,null,null,null,null,null,null,null,null,null,{"$f":"IF(T675,VLOOKUP(MIN(U675:AK675),'Data Validation (hidden)'!$B$2:$C$19,2,FALSE),IF(COUNTA(C675:P675)>0,\"'Scheme Name' missing but values entered in other columns\",\"\"))","v":""},null,false,1,2,3,4,5,6,7,8,9,10,"",12,13,14,15,null,16,0,true,true,false,false,false,false,false,true,true,true,true,false,false,true,true,false]
[null,null,null,null,null,null,null,null,null,null,null,null,null,null,null,null,null,{"$f":"IF(T676,VLOOKUP(MIN(U676:AK676),'Data Validation (hidden)'!$B$2:$C$19,2,FALSE),IF(COUNTA(C676:P676)>0,\"'Scheme Name' missing but values entered in other columns\",\"\"))","v":""},null,false,1,2,3,4,5,6,7,8,9,10,"",12,13,14,15,null,16,0,true,true,false,false,false,false,false,true,true,true,true,false,false,true,true,false]
[null,null,null,null,null,null,null,null,null,null,null,null,null,null,null,null,null,{"$f":"IF(T677,VLOOKUP(MIN(U677:AK677),'Data Validation (hidden)'!$B$2:$C$19,2,FALSE),IF(COUNTA(C677:P677)>0,\"'Scheme Name' missing but values entered in other columns\",\"\"))","v":""},null,false,1,2,3,4,5,6,7,8,9,10,"",12,13,14,15,null,16,0,true,true,false,false,false,false,false,true,true,true,true,false,false,true,true,false]
[null,null,null,null,null,null,null,null,null,null,null,null,null,null,null,null,null,{"$f":"IF(T678,VLOOKUP(MIN(U678:AK678),'Data Validation (hidden)'!$B$2:$C$19,2,FALSE),IF(COUNTA(C678:P678)>0,\"'Scheme Name' missing but values entered in other columns\",\"\"))","v":""},null,false,1,2,3,4,5,6,7,8,9,10,"",12,13,14,15,null,16,0,true,true,false,false,false,false,false,true,true,true,true,false,false,true,true,false]
[null,null,null,null,null,null,null,null,null,null,null,null,null,null,null,null,null,{"$f":"IF(T679,VLOOKUP(MIN(U679:AK679),'Data Validation (hidden)'!$B$2:$C$19,2,FALSE),IF(COUNTA(C679:P679)>0,\"'Scheme Name' missing but values entered in other columns\",\"\"))","v":""},null,false,1,2,3,4,5,6,7,8,9,10,"",12,13,14,15,null,16,0,true,true,false,false,false,false,false,true,true,true,true,false,false,true,true,false]
[null,null,null,null,null,null,null,null,null,null,null,null,null,null,null,null,null,{"$f":"IF(T680,VLOOKUP(MIN(U680:AK680),'Data Validation (hidden)'!$B$2:$C$19,2,FALSE),IF(COUNTA(C680:P680)>0,\"'Scheme Name' missing but values entered in other columns\",\"\"))","v":""},null,false,1,2,3,4,5,6,7,8,9,10,"",12,13,14,15,null,16,0,true,true,false,false,false,false,false,true,true,true,true,false,false,true,true,false]
[null,null,null,null,null,null,null,null,null,null,null,null,null,null,null,null,null,{"$f":"IF(T681,VLOOKUP(MIN(U681:AK681),'Data Validation (hidden)'!$B$2:$C$19,2,FALSE),IF(COUNTA(C681:P681)>0,\"'Scheme Name' missing but values entered in other columns\",\"\"))","v":""},null,false,1,2,3,4,5,6,7,8,9,10,"",12,13,14,15,null,16,0,true,true,false,false,false,false,false,true,true,true,true,false,false,true,true,false]
[null,null,null,null,null,null,null,null,null,null,null,null,null,null,null,null,null,{"$f":"IF(T682,VLOOKUP(MIN(U682:AK682),'Data Validation (hidden)'!$B$2:$C$19,2,FALSE),IF(COUNTA(C682:P682)>0,\"'Scheme Name' missing but values entered in other columns\",\"\"))","v":""},null,false,1,2,3,4,5,6,7,8,9,10,"",12,13,14,15,null,16,0,true,true,false,false,false,false,false,true,true,true,true,false,false,true,true,false]
[null,null,null,null,null,null,null,null,null,null,null,null,null,null,null,null,null,{"$f":"IF(T683,VLOOKUP(MIN(U683:AK683),'Data Validation (hidden)'!$B$2:$C$19,2,FALSE),IF(COUNTA(C683:P683)>0,\"'Scheme Name' missing but values entered in other columns\",\"\"))","v":""},null,false,1,2,3,4,5,6,7,8,9,10,"",12,13,14,15,null,16,0,true,true,false,false,false,false,false,true,true,true,true,false,false,true,true,false]
[null,null,null,null,null,null,null,null,null,null,null,null,null,null,null,null,null,{"$f":"IF(T684,VLOOKUP(MIN(U684:AK684),'Data Validation (hidden)'!$B$2:$C$19,2,FALSE),IF(COUNTA(C684:P684)>0,\"'Scheme Name' missing but values entered in other columns\",\"\"))","v":""},null,false,1,2,3,4,5,6,7,8,9,10,"",12,13,14,15,null,16,0,true,true,false,false,false,false,false,true,true,true,true,false,false,true,true,false]
[null,null,null,null,null,null,null,null,null,null,null,null,null,null,null,null,null,{"$f":"IF(T685,VLOOKUP(MIN(U685:AK685),'Data Validation (hidden)'!$B$2:$C$19,2,FALSE),IF(COUNTA(C685:P685)>0,\"'Scheme Name' missing but values entered in other columns\",\"\"))","v":""},null,false,1,2,3,4,5,6,7,8,9,10,"",12,13,14,15,null,16,0,true,true,false,false,false,false,false,true,true,true,true,false,false,true,true,false]
[null,null,null,null,null,null,null,null,null,null,null,null,null,null,null,null,null,{"$f":"IF(T686,VLOOKUP(MIN(U686:AK686),'Data Validation (hidden)'!$B$2:$C$19,2,FALSE),IF(COUNTA(C686:P686)>0,\"'Scheme Name' missing but values entered in other columns\",\"\"))","v":""},null,false,1,2,3,4,5,6,7,8,9,10,"",12,13,14,15,null,16,0,true,true,false,false,false,false,false,true,true,true,true,false,false,true,true,false]
[null,null,null,null,null,null,null,null,null,null,null,null,null,null,null,null,null,{"$f":"IF(T687,VLOOKUP(MIN(U687:AK687),'Data Validation (hidden)'!$B$2:$C$19,2,FALSE),IF(COUNTA(C687:P687)>0,\"'Scheme Name' missing but values entered in other columns\",\"\"))","v":""},null,false,1,2,3,4,5,6,7,8,9,10,"",12,13,14,15,null,16,0,true,true,false,false,false,false,false,true,true,true,true,false,false,true,true,false]
[null,null,null,null,null,null,null,null,null,null,null,null,null,null,null,null,null,{"$f":"IF(T688,VLOOKUP(MIN(U688:AK688),'Data Validation (hidden)'!$B$2:$C$19,2,FALSE),IF(COUNTA(C688:P688)>0,\"'Scheme Name' missing but values entered in other columns\",\"\"))","v":""},null,false,1,2,3,4,5,6,7,8,9,10,"",12,13,14,15,null,16,0,true,true,false,false,false,false,false,true,true,true,true,false,false,true,true,false]
[null,null,null,null,null,null,null,null,null,null,null,null,null,null,null,null,null,{"$f":"IF(T689,VLOOKUP(MIN(U689:AK689),'Data Validation (hidden)'!$B$2:$C$19,2,FALSE),IF(COUNTA(C689:P689)>0,\"'Scheme Name' missing but values entered in other columns\",\"\"))","v":""},null,false,1,2,3,4,5,6,7,8,9,10,"",{"$f":"IF(M689=\"\",12,\"\")","v":12},{"$f":"IF(N689=\"\",13,\"\")","v":13},{"$f":"IF(O689=\"\",14,\"\")","v":14},{"$f":"IF(P689=\"\",15,\"\")","v":15},null,16,{"$f":"SUM(J689:L689)","v":0},true,true,false,false,false,false,false,true,true,true,true,false,false,true,true,false]
[null,null,null,null,null,null,null,null,null,null,null,null,null,null,null,null,null,{"$f":"IF(T690,VLOOKUP(MIN(U690:AK690),'Data Validation (hidden)'!$B$2:$C$19,2,FALSE),IF(COUNTA(C690:P690)>0,\"'Scheme Name' missing but values entered in other columns\",\"\"))","v":""},null,false,1,2,3,4,5,6,7,8,9,10,"",12,13,14,15,null,16,0,true,true,false,false,false,false,false,true,true,true,true,false,false,true,true,false]
[null,null,null,null,null,null,null,null,null,null,null,null,null,null,null,null,null,{"$f":"IF(T691,VLOOKUP(MIN(U691:AK691),'Data Validation (hidden)'!$B$2:$C$19,2,FALSE),IF(COUNTA(C691:P691)>0,\"'Scheme Name' missing but values entered in other columns\",\"\"))","v":""},null,false,1,2,3,4,5,6,7,8,9,10,"",12,13,14,15,null,16,0,true,true,false,false,false,false,false,true,true,true,true,false,false,true,true,false]
[null,null,null,null,null,null,null,null,null,null,null,null,null,null,null,null,null,{"$f":"IF(T692,VLOOKUP(MIN(U692:AK692),'Data Validation (hidden)'!$B$2:$C$19,2,FALSE),IF(COUNTA(C692:P692)>0,\"'Scheme Name' missing but values entered in other columns\",\"\"))","v":""},null,false,1,2,3,4,5,6,7,8,9,10,"",12,13,14,15,null,16,0,true,true,false,false,false,false,false,true,true,true,true,false,false,true,true,false]
[null,null,null,null,null,null,null,null,null,null,null,null,null,null,null,null,null,{"$f":"IF(T693,VLOOKUP(MIN(U693:AK693),'Data Validation (hidden)'!$B$2:$C$19,2,FALSE),IF(COUNTA(C693:P693)>0,\"'Scheme Name' missing but values entered in other columns\",\"\"))","v":""},null,false,1,2,3,4,5,6,7,8,9,10,"",12,13,14,15,null,16,0,true,true,false,false,false,false,false,true,true,true,true,false,false,true,true,false]
[null,null,null,null,null,null,null,null,null,null,null,null,null,null,null,null,null,{"$f":"IF(T694,VLOOKUP(MIN(U694:AK694),'Data Validation (hidden)'!$B$2:$C$19,2,FALSE),IF(COUNTA(C694:P694)>0,\"'Scheme Name' missing but values entered in other columns\",\"\"))","v":""},null,false,1,2,3,4,5,6,7,8,9,10,"",12,13,14,15,null,16,0,true,true,false,false,false,false,false,true,true,true,true,false,false,true,true,false]
[null,null,null,null,null,null,null,null,null,null,null,null,null,null,null,null,null,{"$f":"IF(T695,VLOOKUP(MIN(U695:AK695),'Data Validation (hidden)'!$B$2:$C$19,2,FALSE),IF(COUNTA(C695:P695)>0,\"'Scheme Name' missing but values entered in other columns\",\"\"))","v":""},null,false,1,2,3,4,5,6,7,8,9,10,"",12,13,14,15,null,16,0,true,true,false,false,false,false,false,true,true,true,true,false,false,true,true,false]
[null,null,null,null,null,null,null,null,null,null,null,null,null,null,null,null,null,{"$f":"IF(T696,VLOOKUP(MIN(U696:AK696),'Data Validation (hidden)'!$B$2:$C$19,2,FALSE),IF(COUNTA(C696:P696)>0,\"'Scheme Name' missing but values entered in other columns\",\"\"))","v":""},null,false,1,2,3,4,5,6,7,8,9,10,"",12,13,14,15,null,16,0,true,true,false,false,false,false,false,true,true,true,true,false,false,true,true,false]
[null,null,null,null,null,null,null,null,null,null,null,null,null,null,null,null,null,{"$f":"IF(T697,VLOOKUP(MIN(U697:AK697),'Data Validation (hidden)'!$B$2:$C$19,2,FALSE),IF(COUNTA(C697:P697)>0,\"'Scheme Name' missing but values entered in other columns\",\"\"))","v":""},null,false,1,2,3,4,5,6,7,8,9,10,"",12,13,14,15,null,16,0,true,true,false,false,false,false,false,true,true,true,true,false,false,true,true,false]
[null,null,null,null,null,null,null,null,null,null,null,null,null,null,null,null,null,{"$f":"IF(T698,VLOOKUP(MIN(U698:AK698),'Data Validation (hidden)'!$B$2:$C$19,2,FALSE),IF(COUNTA(C698:P698)>0,\"'Scheme Name' missing but values entered in other columns\",\"\"))","v":""},null,false,1,2,3,4,5,6,7,8,9,10,"",12,13,14,15,null,16,0,true,true,false,false,false,false,false,true,true,true,true,false,false,true,true,false]
[null,null,null,null,null,null,null,null,null,null,null,null,null,null,null,null,null,{"$f":"IF(T699,VLOOKUP(MIN(U699:AK699),'Data Validation (hidden)'!$B$2:$C$19,2,FALSE),IF(COUNTA(C699:P699)>0,\"'Scheme Name' missing but values entered in other columns\",\"\"))","v":""},null,false,1,2,3,4,5,6,7,8,9,10,"",12,13,14,15,null,16,0,true,true,false,false,false,false,false,true,true,true,true,false,false,true,true,false]
[null,null,null,null,null,null,null,null,null,null,null,null,null,null,null,null,null,{"$f":"IF(T700,VLOOKUP(MIN(U700:AK700),'Data Validation (hidden)'!$B$2:$C$19,2,FALSE),IF(COUNTA(C700:P700)>0,\"'Scheme Name' missing but values entered in other columns\",\"\"))","v":""},null,false,1,2,3,4,5,6,7,8,9,10,"",12,13,14,15,null,16,0,true,true,false,false,false,false,false,true,true,true,true,false,false,true,true,false]
[null,null,null,null,null,null,null,null,null,null,null,null,null,null,null,null,null,{"$f":"IF(T701,VLOOKUP(MIN(U701:AK701),'Data Validation (hidden)'!$B$2:$C$19,2,FALSE),IF(COUNTA(C701:P701)>0,\"'Scheme Name' missing but values entered in other columns\",\"\"))","v":""},null,false,1,2,3,4,5,6,7,8,9,10,"",12,13,14,15,null,16,0,true,true,false,false,false,false,false,true,true,true,true,false,false,true,true,false]
[null,null,null,null,null,null,null,null,null,null,null,null,null,null,null,null,null,{"$f":"IF(T702,VLOOKUP(MIN(U702:AK702),'Data Validation (hidden)'!$B$2:$C$19,2,FALSE),IF(COUNTA(C702:P702)>0,\"'Scheme Name' missing but values entered in other columns\",\"\"))","v":""},null,false,1,2,3,4,5,6,7,8,9,10,"",12,13,14,15,null,16,0,true,true,false,false,false,false,false,true,true,true,true,false,false,true,true,false]
[null,null,null,null,null,null,null,null,null,null,null,null,null,null,null,null,null,{"$f":"IF(T703,VLOOKUP(MIN(U703:AK703),'Data Validation (hidden)'!$B$2:$C$19,2,FALSE),IF(COUNTA(C703:P703)>0,\"'Scheme Name' missing but values entered in other columns\",\"\"))","v":""},null,false,1,2,3,4,5,6,7,8,9,10,"",12,13,14,15,null,16,0,true,true,false,false,false,false,false,true,true,true,true,false,false,true,true,false]
[null,null,null,null,null,null,null,null,null,null,null,null,null,null,null,null,null,{"$f":"IF(T704,VLOOKUP(MIN(U704:AK704),'Data Validation (hidden)'!$B$2:$C$19,2,FALSE),IF(COUNTA(C704:P704)>0,\"'Scheme Name' missing but values entered in other columns\",\"\"))","v":""},null,false,1,2,3,4,5,6,7,8,9,10,"",12,13,14,15,null,16,0,true,true,false,false,false,false,false,true,true,true,true,false,false,true,true,false]
[null,null,null,null,null,null,null,null,null,null,null,null,null,null,null,null,null,{"$f":"IF(T705,VLOOKUP(MIN(U705:AK705),'Data Validation (hidden)'!$B$2:$C$19,2,FALSE),IF(COUNTA(C705:P705)>0,\"'Scheme Name' missing but values entered in other columns\",\"\"))","v":""},null,false,1,2,3,4,5,6,7,8,9,10,"",12,13,14,15,null,16,0,true,true,false,false,false,false,false,true,true,true,true,false,false,true,true,false]
[null,null,null,null,null,null,null,null,null,null,null,null,null,null,null,null,null,{"$f":"IF(T706,VLOOKUP(MIN(U706:AK706),'Data Validation (hidden)'!$B$2:$C$19,2,FALSE),IF(COUNTA(C706:P706)>0,\"'Scheme Name' missing but values entered in other columns\",\"\"))","v":""},null,false,1,2,3,4,5,6,7,8,9,10,"",12,13,14,15,null,16,0,true,true,false,false,false,false,false,true,true,true,true,false,false,true,true,false]
[null,null,null,null,null,null,null,null,null,null,null,null,null,null,null,null,null,{"$f":"IF(T707,VLOOKUP(MIN(U707:AK707),'Data Validation (hidden)'!$B$2:$C$19,2,FALSE),IF(COUNTA(C707:P707)>0,\"'Scheme Name' missing but values entered in other columns\",\"\"))","v":""},null,false,1,2,3,4,5,6,7,8,9,10,"",12,13,14,15,null,16,0,true,true,false,false,false,false,false,true,true,true,true,false,false,true,true,false]
[null,null,null,null,null,null,null,null,null,null,null,null,null,null,null,null,null,{"$f":"IF(T708,VLOOKUP(MIN(U708:AK708),'Data Validation (hidden)'!$B$2:$C$19,2,FALSE),IF(COUNTA(C708:P708)>0,\"'Scheme Name' missing but values entered in other columns\",\"\"))","v":""},null,false,1,2,3,4,5,6,7,8,9,10,"",12,13,14,15,null,16,0,true,true,false,false,false,false,false,true,true,true,true,false,false,true,true,false]
[null,null,null,null,null,null,null,null,null,null,null,null,null,null,null,null,null,{"$f":"IF(T709,VLOOKUP(MIN(U709:AK709),'Data Validation (hidden)'!$B$2:$C$19,2,FALSE),IF(COUNTA(C709:P709)>0,\"'Scheme Name' missing but values entered in other columns\",\"\"))","v":""},null,false,1,2,3,4,5,6,7,8,9,10,"",12,13,14,15,null,16,0,true,true,false,false,false,false,false,true,true,true,true,false,false,true,true,false]
[null,null,null,null,null,null,null,null,null,null,null,null,null,null,null,null,null,{"$f":"IF(T710,VLOOKUP(MIN(U710:AK710),'Data Validation (hidden)'!$B$2:$C$19,2,FALSE),IF(COUNTA(C710:P710)>0,\"'Scheme Name' missing but values entered in other columns\",\"\"))","v":""},null,false,1,2,3,4,5,6,7,8,9,10,"",12,13,14,15,null,16,0,true,true,false,false,false,false,false,true,true,true,true,false,false,true,true,false]
[null,null,null,null,null,null,null,null,null,null,null,null,null,null,null,null,null,{"$f":"IF(T711,VLOOKUP(MIN(U711:AK711),'Data Validation (hidden)'!$B$2:$C$19,2,FALSE),IF(COUNTA(C711:P711)>0,\"'Scheme Name' missing but values entered in other columns\",\"\"))","v":""},null,false,1,2,3,4,5,6,7,8,9,10,"",12,13,14,15,null,16,0,true,true,false,false,false,false,false,true,true,true,true,false,false,true,true,false]
[null,null,null,null,null,null,null,null,null,null,null,null,null,null,null,null,null,{"$f":"IF(T712,VLOOKUP(MIN(U712:AK712),'Data Validation (hidden)'!$B$2:$C$19,2,FALSE),IF(COUNTA(C712:P712)>0,\"'Scheme Name' missing but values entered in other columns\",\"\"))","v":""},null,{"$f":"B712<>\"\"","v":false},{"$f":"IF(C712=\"\",1,\"\")","v":1},2,3,4,5,6,7,8,9,10,"",12,13,14,15,null,16,0,true,true,false,false,false,false,false,true,true,true,true,false,false,true,true,false]
[null,null,null,null,null,null,null,null,null,null,null,null,null,null,null,null,null,{"$f":"IF(T713,VLOOKUP(MIN(U713:AK713),'Data Validation (hidden)'!$B$2:$C$19,2,FALSE),IF(COUNTA(C713:P713)>0,\"'Scheme Name' missing but values entered in other columns\",\"\"))","v":""},null,false,1,2,{"$f":"IF(E713=\"\",IF(D713=\"Gratuity\",\"\",3),\"\")","v":3},4,5,6,7,{"$f":"IF(J713=\"\",8,\"\")","v":8},{"$f":"IF(K713=\"\",9,\"\")","v":9},{"$f":"IF(L713=\"\",10,\"\")","v":10},{"$f":"IF((AL713=I713),\"\",11)","v":""},12,13,14,15,null,{"$f":"IF(AND(AM713,AN713,AO713,AP713,AQ713,AR713,AS713,AT713,AU713,AV713,AW713,AX713,AY713,AZ713,BA713)=TRUE,\"\",16)","v":16},0,{"$f":"IF(CELL(\"format\", B713) = \"G\",TRUE,FALSE)","v":true},{"$f":"IF(CELL(\"format\", C713) = \"F0\",TRUE,FALSE)","v":true},{"$f":"OR(D713=\"A\",D713=\"B\",D713=\"C\",D713=\"Gratuity\")","v":false},{"$f":"OR(E713=\"DC\",E713=\"DB\",E713=\"H\",D713=\"Gratuity\")","v":false},{"$f":"OR(F713=\"Occupational\",F713=\"Personal\")","v":false},{"$f":"OR(G713=\"Yes\",G713=\"No\")","v":false},{"$f":"OR(H713=\"MD\",H713=\"PD\",H713=\"TD\",H713=\"MPD\",H713=\"MTD\",H713=\"PTD\",H713=\"MPTD\")","v":false},{"$f":"IF( CELL(\"format\",I713) = \"F0\",TRUE,FALSE)","v":true},{"$f":"IF( CELL(\"format\",J713) = \"F0\",TRUE,FALSE)","v":true},{"$f":"IF( CELL(\"format\",K713) = \"F0\",TRUE,FALSE)","v":true},{"$f":"IF( CELL(\"format\",L713) = \"F0\",TRUE,FALSE)","v":true},{"$f":"OR(M713=\"Yes\",M713=\"No\")","v":false},{"$f":"OR(N713=\"Trustee\",N713=\"Administrator\",N713=\"Both\")","v":false},{"$f":"IF( CELL(\"format\",O713) = \"F0\",TRUE,FALSE)","v":true},true,{"$f":"IF(R713=\"\",FALSE,IF(R713=\"OK\",FALSE,TRUE))","v":false}]
[null,null,null,null,null,null,null,null,null,null,null,null,null,null,null,null,null,{"$f":"IF(T714,VLOOKUP(MIN(U714:AK714),'Data Validation (hidden)'!$B$2:$C$19,2,FALSE),IF(COUNTA(C714:P714)>0,\"'Scheme Name' missing but values entered in other columns\",\"\"))","v":""},null,false,1,2,{"$f":"IF(E714=\"\",IF(D714=\"Gratuity\",\"\",3),\"\")","v":3},4,5,6,7,{"$f":"IF(J714=\"\",8,\"\")","v":8},{"$f":"IF(K714=\"\",9,\"\")","v":9},{"$f":"IF(L714=\"\",10,\"\")","v":10},{"$f":"IF((AL714=I714),\"\",11)","v":""},12,13,14,15,null,{"$f":"IF(AND(AM714,AN714,AO714,AP714,AQ714,AR714,AS714,AT714,AU714,AV714,AW714,AX714,AY714,AZ714,BA714)=TRUE,\"\",16)","v":16},0,true,true,false,false,false,false,false,true,true,true,true,false,false,true,true,{"$f":"IF(R714=\"\",FALSE,IF(R714=\"OK\",FALSE,TRUE))","v":false}]
[null,null,null,null,null,null,null,null,null,null,null,null,null,null,null,null,null,{"$f":"IF(T715,VLOOKUP(MIN(U715:AK715),'Data Validation (hidden)'!$B$2:$C$19,2,FALSE),IF(COUNTA(C715:P715)>0,\"'Scheme Name' missing but values entered in other columns\",\"\"))","v":""},null,false,1,2,{"$f":"IF(E715=\"\",IF(D715=\"Gratuity\",\"\",3),\"\")","v":3},4,5,6,7,{"$f":"IF(J715=\"\",8,\"\")","v":8},{"$f":"IF(K715=\"\",9,\"\")","v":9},{"$f":"IF(L715=\"\",10,\"\")","v":10},{"$f":"IF((AL715=I715),\"\",11)","v":""},12,13,14,15,null,{"$f":"IF(AND(AM715,AN715,AO715,AP715,AQ715,AR715,AS715,AT715,AU715,AV715,AW715,AX715,AY715,AZ715,BA715)=TRUE,\"\",16)","v":16},0,true,true,false,false,false,false,false,true,true,true,true,false,false,true,true,{"$f":"IF(R715=\"\",FALSE,IF(R715=\"OK\",FALSE,TRUE))","v":false}]
[null,null,null,null,null,null,null,null,null,null,null,null,null,null,null,null,null,{"$f":"IF(T716,VLOOKUP(MIN(U716:AK716),'Data Validation (hidden)'!$B$2:$C$19,2,FALSE),IF(COUNTA(C716:P716)>0,\"'Scheme Name' missing but values entered in other columns\",\"\"))","v":""},null,false,1,2,{"$f":"IF(E716=\"\",IF(D716=\"Gratuity\",\"\",3),\"\")","v":3},4,5,6,7,{"$f":"IF(J716=\"\",8,\"\")","v":8},{"$f":"IF(K716=\"\",9,\"\")","v":9},{"$f":"IF(L716=\"\",10,\"\")","v":10},{"$f":"IF((AL716=I716),\"\",11)","v":""},12,13,14,15,null,{"$f":"IF(AND(AM716,AN716,AO716,AP716,AQ716,AR716,AS716,AT716,AU716,AV716,AW716,AX716,AY716,AZ716,BA716)=TRUE,\"\",16)","v":16},0,true,true,false,false,false,false,false,true,true,true,true,false,false,true,true,{"$f":"IF(R716=\"\",FALSE,IF(R716=\"OK\",FALSE,TRUE))","v":false}]
[null,null,null,null,null,null,null,null,null,null,null,null,null,null,null,null,null,{"$f":"IF(T717,VLOOKUP(MIN(U717:AK717),'Data Validation (hidden)'!$B$2:$C$19,2,FALSE),IF(COUNTA(C717:P717)>0,\"'Scheme Name' missing but values entered in other columns\",\"\"))","v":""},null,false,1,2,{"$f":"IF(E717=\"\",IF(D717=\"Gratuity\",\"\",3),\"\")","v":3},4,5,6,7,{"$f":"IF(J717=\"\",8,\"\")","v":8},{"$f":"IF(K717=\"\",9,\"\")","v":9},{"$f":"IF(L717=\"\",10,\"\")","v":10},{"$f":"IF((AL717=I717),\"\",11)","v":""},12,13,14,15,null,{"$f":"IF(AND(AM717,AN717,AO717,AP717,AQ717,AR717,AS717,AT717,AU717,AV717,AW717,AX717,AY717,AZ717,BA717)=TRUE,\"\",16)","v":16},0,true,true,false,false,false,false,false,true,true,true,true,false,false,true,true,{"$f":"IF(R717=\"\",FALSE,IF(R717=\"OK\",FALSE,TRUE))","v":false}]
[]
[null,null,null,null,null,null,null,null,null,null,null,null,null,null,null,null,null,{"$f":"IF(COUNTA(R8:R717) - COUNTIF(R8:R717,\"OK\") - COUNTIF(R8:R717,\"\") = 0, \"Validation Check Passed\", \"Validation error on row \" & R6)","v":"Validation Check Passed"}]
[]
[null,"HIDDEN BELOW"]
[]
[null,"HIDDEN ABOVE"]

{"sheet":"Jurisdictions","index":5,"n_rows":723,"n_cols":274,"rows_kept":281,"cut":true,"hidden":false,"merged":[[2,1,2,23],[5,269,5,272]],"bounds":{"rows_first":125,"rows_last":31,"rows_between":125,"halvings":4}}
[]
[null,"SCHEME MEMBER JURISDICTIONS"]
[null,"\nThe two questions below seek to ascertain whether any of your clients has a connection with any of the jurisdictions listed in sections A, B and C of the relevant Business from Sensitive Sources Notices (\"BSSN\").\n\n1. Did the Scheme have any members in these jurisdictions? Including any jurisdictions that were removed from the list either during or after the end of the reporting period.\n\n2. If you answered 'Yes' to question 1, then please state the number of members in each jurisdiction.\n\n\n",null,null,null,null,null,null,null,null,null,null,null,null,null,null,null,null,null,null,null,null,null,null,"BSSN Members Link"]
[null,null,null,null,null,null,null,null,null,null,null,null,null,null,null,null,null,null,null,null,null,null,null,null,null,null,null,null,null,null,null,null,null,null,null,null,null,null,null,null,null,null,null,null,null,null,null,null,null,null,null,null,null,null,null,null,null,null,null,null,null,null,null,null,null,null,null,null,null,null,null,null,null,null,null,null,null,null,null,null,null,null,null,null,null,null,null,null,null,null,null,null,null,null,null,null,null,null,null,null,null,null,null,null,null,null,null,null,null,null,null,null,null,null,null,null,null,null,null,null,null,null,null,null,null,null,null,null,null,null,null,null,null,null,null,null,null,null,null,null,null,null,null,null,null,null,null,null,null,null,null,null,null,null,null,null,null,null,null,null,null,null,null,null,null,null,null,null,null,null,null,null,null,null,null,null,null,null,null,null,null,null,null,null,null,null,null,null,null,null,null,null,null,null,null,null,null,null,null,null,null,null,null,null,null,null,null,null,null,null,null,null,null,null,null,null,null,null,null,null,null,null,null,null,null,null,null,null,null,null,null,null,null,null,null,null,null,null,null,null,null,null,null,null,null,null,null,null,null,null,null,null,null,null,null,null,null,null,null,null,null,null,null,{"$f":"IF(COUNTA(JC8:JC712)-COUNTIF(JC8:JC712,\"OK\")=0,\"Data input validation check: OK\",\"Validation error on row \" & JD5 & \".\" & \" \" & JD6)","v":"Data input validation check: OK"}]
[null,{"$f":"JD4","v":"Data input validation check: OK"},null,null,null,null,null,null,null,null,null,null,null,null,null,null,null,null,null,null,null,null,null,null,null,null,null,null,null,null,null,null,null,null,null,null,null,null,null,null,null,null,null,null,null,null,null,null,null,null,null,null,null,null,null,null,null,null,null,null,null,null,null,null,null,null,null,null,null,null,null,null,null,null,null,null,null,null,null,null,null,null,null,null,null,null,null,null,null,null,null,null,null,null,null,null,null,null,null,null,null,null,null,null,null,null,null,null,null,null,null,null,null,null,null,null,null,null,null,null,null,null,null,null,null,null,null,null,null,null,null,null,null,null,null,null,null,null,null,null,null,null,null,null,null,null,null,null,null,null,null,null,null,null,null,null,null,null,null,null,null,null,null,null,null,null,null,null,null,null,null,null,null,null,null,null,null,null,null,null,null,null,null,null,null,null,null,null,null,null,null,null,null,null,null,null,null,null,null,null,null,null,null,null,null,null,null,null,null,null,null,null,null,null,null,null,null,null,null,null,null,null,null,null,null,null,null,null,null,null,null,null,null,null,null,null,null,null,null,null,null,null,null,null,null,null,null,null,null,null,null,null,null,null,null,null,null,null,null,null,null,null,null,{"$f":"IFERROR(ROW(INDEX(JC8:JC712,MATCH(TRUE,JN8:JN712,0),0)),0)","v":0}]
[null,null,null,null,1,null,null,2,null,null,null,null,null,null,null,null,null,null,null,null,null,null,null,null,null,null,null,null,null,null,null,null,null,null,null,null,null,null,null,null,null,null,null,null,null,null,null,null,null,null,null,null,null,null,null,null,null,null,null,null,null,null,null,null,null,null,null,null,null,null,null,null,null,null,null,null,null,null,null,null,null,null,null,null,null,null,null,null,null,null,null,null,null,null,null,null,null,null,null,null,null,null,null,null,null,null,null,null,null,null,null,null,null,null,null,null,null,null,null,null,null,null,null,null,null,null,null,null,null,null,null,null,null,null,null,null,null,null,null,null,null,null,null,null,null,null,null,null,null,null,null,null,null,null,null,null,null,null,null,null,null,null,null,null,null,null,null,null,null,null,null,null,null,null,null,null,null,null,null,null,null,null,null,null,null,null,null,null,null,null,null,null,null,null,null,null,null,null,null,null,null,null,null,null,null,null,null,null,null,null,null,null,null,null,null,null,null,null,null,null,null,null,null,null,null,null,null,null,null,null,null,null,null,null,null,null,null,null,null,null,null,null,null,null,null,null,null,null,null,null,null,null,null,null,null,null,null,null,null,null,null,null,null,{"$f":"INDEX(JC:JC,JD5)","v":0},null,null,null,null,null,"Cell Formatting"]
[null,"Pension Scheme or Gratuity Scheme Name","GFSC Reference",null,"BSSN\nMembers","Afghanistan","Åland Islands","Albania","Alderney","Algeria","American Samoa","Andorra","Angola","Anguilla","Antarctica","Antigua and Barbuda","Argentina","Armenia","Aruba","Australia","Austria","Azerbaijan","Bahamas (the)","Bahrain","Bangladesh","Barbados","Belarus","Belgium","Belize","Benin","Bermuda","Bhutan","Bolivia (Plurinational State of)","Bonaire, Sint Eustatius and Saba","Bosnia and Herzegovina","Botswana","Bouvet Island","Brazil","British Indian Ocean Territory (the)","Brunei Darussalam","Bulgaria","Burkina Faso","Burundi","Cabo Verde","Cambodia","Cameroon","Canada","Cayman Islands (the)","Central African Republic (the)","Chad","Chile","China","Christmas Island","Cocos (Keeling) Islands (the)","Colombia","Comoros (the)","Congo (the Democratic Republic of the)","Congo (the)","Cook Islands (the)","Costa Rica","Côte d'Ivoire","Croatia","Cuba","Curaçao","Cyprus","Czech Republic (the)","Denmark","Djibouti","Dominica","Dominican Republic (the)","Ecuador","Egypt","El Salvador","Equatorial Guinea","Eritrea","Estonia","Ethiopia","Falkland Islands (the) [Malvinas]","Faroe Islands (the)","Fiji","Finland","France","French Guiana","French Polynesia","French Southern Territories (the)","Gabon","Gambia (the)","Georgia","Germany","Ghana","Gibraltar","Greece","Greenland","Grenada","Guadeloupe","Guam","Guatemala","Guernsey","Guinea","Guinea-Bissau","Guyana","Haiti","Heard Island and McDonald Islands","Holy See (the)","Honduras","Hong Kong","Hungary","Iceland","India","Indonesia","Iran (Islamic Republic of)","Iraq","Ireland","Isle of Man","Israel","Italy","Jamaica","Japan","Jersey","Jordan","Kazakhstan","Kenya","Kiribati","Korea (the Democratic People's Republic of)","Korea (the Republic of)","Kuwait","Kyrgyzstan","Lao People's Democratic Republic (the)","Latvia","Lebanon","Lesotho","Liberia","Libya","Liechtenstein","Lithuania","Luxembourg","Macao","Macedonia (the former Yugoslav Republic of)","Madagascar","Malawi","Malaysia","Maldives","Mali","Malta","Marshall Islands (the)","Martinique","Mauritania","Mauritius","Mayotte","Mexico","Micronesia (Federated States of)","Moldova (the Republic of)","Monaco","Mongolia","Montenegro","Montserrat","Morocco","Mozambique","Myanmar","Namibia","Nauru","Nepal","Netherlands (the)","New Caledonia","New Zealand","Nicaragua","Niger (the)","Nigeria","Niue","Norfolk Island","Northern Mariana Islands (the)","Norway","Oman","Other","Pakistan","Palau","Palestine, State of","Panama","Papua New Guinea","Paraguay","Peru","Philippines (the)","Pitcairn","Poland","Portugal","Puerto Rico","Qatar","Réunion","Romania","Russian Federation (the)","Rwanda","Saint Barthélemy","Saint Helena, Ascension and Tristan da Cunha","Saint Kitts and Nevis","Saint Lucia","Saint Martin (French part)","Saint Pierre and Miquelon","Saint Vincent and the Grenadines","Samoa","San Marino","Sao Tome and Principe","Sark","Saudi Arabia","Senegal","Serbia","Seychelles","Sierra Leone","Singapore","Sint Maarten (Dutch part)","Slovakia","Slovenia","Solomon Islands","Somalia","South Africa","South Georgia and the South Sandwich Islands","South Sudan","Spain","Sri Lanka","Sudan (the)","Suriname","Svalbard and Jan Mayen","Swaziland","Sweden","Switzerland","Syrian Arab Republic","Taiwan (Province of China)","Tajikistan","Tanzania, United Republic of","Thailand","Timor-Leste","Togo","Tokelau","Tonga","Trinidad and Tobago","Tunisia","Turkey","Turkmenistan","Turks and Caicos Islands (the)","Tuvalu","Uganda","Ukraine","United Arab Emirates (the)","United Kingdom of Great Britain and Northern Ireland (the)","United States Minor Outlying Islands (the)","United States of America (the)","Uruguay","Uzbekistan","Vanuatu","Venezuela (Bolivarian Republic of)","Viet Nam","Virgin Islands (British)","Virgin Islands (U.S.)","Wallis and Futuna","Western Sahara","Yemen","Zambia","Zimbabwe","Total","Validation","message","Validation",null,"Validation Check",null,"Scheme Name","GFSC\nReference","BSSN Members","Total BSSN\nMembers","Formatting\nError","Scheme\nName","GFSC\nReference","BSSN\nMembers","Jurisdictions","Error\nStatus"]
[null,{"$f":"'Scheme and Member Information'!B8","v":0},{"$f":"'Scheme and Member Information'!C8","v":0},null,null,null,null,null,null,null,null,null,null,null,null,null,null,null,null,null,null,null,null,null,null,null,null,null,null,null,null,null,null,null,null,null,null,null,null,null,null,null,null,null,null,null,null,null,null,null,null,null,null,null,null,null,null,null,null,null,null,null,null,null,null,null,null,null,null,null,null,null,null,null,null,null,null,null,null,null,null,null,null,null,null,null,null,null,null,null,null,null,null,null,null,null,null,null,null,null,null,null,null,null,null,null,null,null,null,null,null,null,null,null,null,null,null,null,null,null,null,null,null,null,null,null,null,null,null,null,null,null,null,null,null,null,null,null,null,null,null,null,null,null,null,null,null,null,null,null,null,null,null,null,null,null,null,null,null,null,null,null,null,null,null,null,null,null,null,null,null,null,null,null,null,null,null,null,null,null,null,null,null,null,null,null,null,null,null,null,null,null,null,null,null,null,null,null,null,null,null,null,null,null,null,null,null,null,null,null,null,null,null,null,null,null,null,null,null,null,null,null,null,null,null,null,null,null,null,null,null,null,null,null,null,null,null,null,null,null,null,null,null,null,null,null,null,null,null,null,null,null,null,null,null,null,null,{"$f":"SUM(F8:IW8)","v":0},{"$f":"IF(OR(B8=\"\",B8=0), IF(IX8=0,\"TRUE\", \"FALSE\"), IF(E8=\"No\",\"TRUE\",IF(IX8=0, \"FALSE\", \"TRUE\")))","v":"TRUE"},{"$f":"IF(IY8=\"TRUE\",\"OK\",IF(OR(B8=\"\",B8=0),\"Scheme (Fund) Name' missing but values entered in other columns.\",\"Please state the number of members in the relevant jurisdiction.\"))","v":"OK"},{"$f":"IF(JE8,VLOOKUP(MIN(JF8:JI8),'Data Validation (hidden)'!$G$30:$H$34,2,FALSE),IF(COUNTA(E8:E8)>0,\"'Scheme (Fund) Name' missing but values entered in other columns.\",\"OK\"))","v":"OK"},null,{"$f":"IF(JA8<>\"OK\",JA8,IZ8)","v":"OK"},null,{"$f":"AND(B8<>\"\",B8<>0)","v":false},{"$f":"IF(C8=\"\",1,IF(C8=0,1,\"\"))","v":1},{"$f":"IF(E8<>\"\",\"\",2)","v":2},{"$f":"IF(AND(IX8>'Scheme and Member Information'!I8, E8=\"Yes\"),\"\",\"\")","v":""},{"$f":"IF(AND(JJ8,JK8,JL8,JM8)=TRUE,\"\",4)","v":4},{"$f":"IF(CELL(\"format\",E8)=\"G\",TRUE,FALSE)","v":true},{"$f":"IF(CELL(\"format\",C8)=\"F0\",TRUE,FALSE)","v":true},{"$f":"OR(E8=\"Yes\",E8=\"No\")","v":false},{"$f":"IF(CELL(\"format\",F8:IW8)=\"F0\",TRUE,FALSE)","v":true},{"$f":"IF(JC8=\"OK\",FALSE,TRUE)","v":false}]
[null,{"$f":"'Scheme and Member Information'!B9","v":0},{"$f":"'Scheme and Member Information'!C9","v":0},null,null,null,null,null,null,null,null,null,null,null,null,null,null,null,null,null,null,null,null,null,null,null,null,null,null,null,null,null,null,null,null,null,null,null,null,null,null,null,null,null,null,null,null,null,null,null,null,null,null,null,null,null,null,null,null,null,null,null,null,null,null,null,null,null,null,null,null,null,null,null,null,null,null,null,null,null,null,null,null,null,null,null,null,null,null,null,null,null,null,null,null,null,null,null,null,null,null,null,null,null,null,null,null,null,null,null,null,null,null,null,null,null,null,null,null,null,null,null,null,null,null,null,null,null,null,null,null,null,null,null,null,null,null,null,null,null,null,null,null,null,null,null,null,null,null,null,null,null,null,null,null,null,null,null,null,null,null,null,null,null,null,null,null,null,null,null,null,null,null,null,null,null,null,null,null,null,null,null,null,null,null,null,null,null,null,null,null,null,null,null,null,null,null,null,null,null,null,null,null,null,null,null,null,null,null,null,null,null,null,null,null,null,null,null,null,null,null,null,null,null,null,null,null,null,null,null,null,null,null,null,null,null,null,null,null,null,null,null,null,null,null,null,null,null,null,null,null,null,null,null,null,null,null,0,{"$f":"IF(OR(B9=\"\",B9=0), IF(IX9=0,\"TRUE\", \"FALSE\"), IF(E9=\"No\",\"TRUE\",IF(IX9=0, \"FALSE\", \"TRUE\")))","v":"TRUE"},{"$f":"IF(IY9=\"TRUE\",\"OK\",IF(OR(B9=\"\",B9=0),\"Scheme (Fund) Name' missing but values entered in other columns.\",\"Please state the number of members in the relevant jurisdiction.\"))","v":"OK"},{"$f":"IF(JE9,VLOOKUP(MIN(JF9:JI9),'Data Validation (hidden)'!$G$30:$H$34,2,FALSE),IF(COUNTA(E9:E9)>0,\"'Scheme (Fund) Name' missing but values entered in other columns.\",\"OK\"))","v":"OK"},null,{"$f":"IF(JA9<>\"OK\",JA9,IZ9)","v":"OK"},null,{"$f":"AND(B9<>\"\",B9<>0)","v":false},{"$f":"IF(C9=\"\",1,IF(C9=0,1,\"\"))","v":1},{"$f":"IF(E9<>\"\",\"\",2)","v":2},{"$f":"IF(AND(IX9>'Scheme and Member Information'!I9, E9=\"Yes\"),\"\",\"\")","v":""},{"$f":"IF(AND(JJ9,JK9,JL9,JM9)=TRUE,\"\",4)","v":4},true,true,{"$f":"OR(E9=\"Yes\",E9=\"No\")","v":false},true,{"$f":"IF(JC9=\"OK\",FALSE,TRUE)","v":false}]
[null,{"$f":"'Scheme and Member Information'!B10","v":0},{"$f":"'Scheme and Member Information'!C10","v":0},null,null,null,null,null,null,null,null,null,null,null,null,null,null,null,null,null,null,null,null,null,null,null,null,null,null,null,null,null,null,null,null,null,null,null,null,null,null,null,null,null,null,null,null,null,null,null,null,null,null,null,null,null,null,null,null,null,null,null,null,null,null,null,null,null,null,null,null,null,null,null,null,null,null,null,null,null,null,null,null,null,null,null,null,null,null,null,null,null,null,null,null,null,null,null,null,null,null,null,null,null,null,null,null,null,null,null,null,null,null,null,null,null,null,null,null,null,null,null,null,null,null,null,null,null,null,null,null,null,null,null,null,null,null,null,null,null,null,null,null,null,null,null,null,null,null,null,null,null,null,null,null,null,null,null,null,null,null,null,null,null,null,null,null,null,null,null,null,null,null,null,null,null,null,null,null,null,null,null,null,null,null,null,null,null,null,null,null,null,null,null,null,null,null,null,null,null,null,null,null,null,null,null,null,null,null,null,null,null,null,null,null,null,null,null,null,null,null,null,null,null,null,null,null,null,null,null,null,null,null,null,null,null,null,null,null,null,null,null,null,null,null,null,null,null,null,null,null,null,null,null,null,null,null,0,"TRUE","OK",{"$f":"IF(JE10,VLOOKUP(MIN(JF10:JI10),'Data Validation (hidden)'!$G$30:$H$34,2,FALSE),IF(COUNTA(E10:E10)>0,\"'Scheme (Fund) Name' missing but values entered in other columns.\",\"OK\"))","v":"OK"},null,"OK",null,false,1,2,{"$f":"IF(AND(IX10>'Scheme and Member Information'!I10, E10=\"Yes\"),\"\",\"\")","v":""},4,true,true,false,true,false]
[null,{"$f":"'Scheme and Member Information'!B11","v":0},{"$f":"'Scheme and Member Information'!C11","v":0},null,null,null,null,null,null,null,null,null,null,null,null,null,null,null,null,null,null,null,null,null,null,null,null,null,null,null,null,null,null,null,null,null,null,null,null,null,null,null,null,null,null,null,null,null,null,null,null,null,null,null,null,null,null,null,null,null,null,null,null,null,null,null,null,null,null,null,null,null,null,null,null,null,null,null,null,null,null,null,null,null,null,null,null,null,null,null,null,null,null,null,null,null,null,null,null,null,null,null,null,null,null,null,null,null,null,null,null,null,null,null,null,null,null,null,null,null,null,null,null,null,null,null,null,null,null,null,null,null,null,null,null,null,null,null,null,null,null,null,null,null,null,null,null,null,null,null,null,null,null,null,null,null,null,null,null,null,null,null,null,null,null,null,null,null,null,null,null,null,null,null,null,null,null,null,null,null,null,null,null,null,null,null,null,null,null,null,null,null,null,null,null,null,null,null,null,null,null,null,null,null,null,null,null,null,null,null,null,null,null,null,null,null,null,null,null,null,null,null,null,null,null,null,null,null,null,null,null,null,null,null,null,null,null,null,null,null,null,null,null,null,null,null,null,null,null,null,null,null,null,null,null,null,null,0,"TRUE","OK",{"$f":"IF(JE11,VLOOKUP(MIN(JF11:JI11),'Data Validation (hidden)'!$G$30:$H$34,2,FALSE),IF(COUNTA(E11:E11)>0,\"'Scheme (Fund) Name' missing but values entered in other columns.\",\"OK\"))","v":"OK"},null,{"$f":"IF(JA11<>\"OK\",JA11,IZ11)","v":"OK"},null,false,1,2,{"$f":"IF(AND(IX11>'Scheme and Member Information'!I11, E11=\"Yes\"),\"\",\"\")","v":""},4,true,true,false,true,false]
[null,{"$f":"'Scheme and Member Information'!B12","v":0},{"$f":"'Scheme and Member Information'!C12","v":0},null,null,null,null,null,null,null,null,null,null,null,null,null,null,null,null,null,null,null,null,null,null,null,null,null,null,null,null,null,null,null,null,null,null,null,null,null,null,null,null,null,null,null,null,null,null,null,null,null,null,null,null,null,null,null,null,null,null,null,null,null,null,null,null,null,null,null,null,null,null,null,null,null,null,null,null,null,null,null,null,null,null,null,null,null,null,null,null,null,null,null,null,null,null,null,null,null,null,null,null,null,null,null,null,null,null,null,null,null,null,null,null,null,null,null,null,null,null,null,null,null,null,null,null,null,null,null,null,null,null,null,null,null,null,null,null,null,null,null,null,null,null,null,null,null,null,null,null,null,null,null,null,null,null,null,null,null,null,null,null,null,null,null,null,null,null,null,null,null,null,null,null,null,null,null,null,null,null,null,null,null,null,null,null,null,null,null,null,null,null,null,null,null,null,null,null,null,null,null,null,null,null,null,null,null,null,null,null,null,null,null,null,null,null,null,null,null,null,null,null,null,null,null,null,null,null,null,null,null,null,null,null,null,null,null,null,null,null,null,null,null,null,null,null,null,null,null,null,null,null,null,null,null,null,0,"TRUE","OK",{"$f":"IF(JE12,VLOOKUP(MIN(JF12:JI12),'Data Validation (hidden)'!$G$30:$H$34,2,FALSE),IF(COUNTA(E12:E12)>0,\"'Scheme (Fund) Name' missing but values entered in other columns.\",\"OK\"))","v":"OK"},null,"OK",null,false,1,2,{"$f":"IF(AND(IX12>'Scheme and Member Information'!I12, E12=\"Yes\"),\"\",\"\")","v":""},4,true,true,false,true,false]
[null,{"$f":"'Scheme and Member Information'!B13","v":0},{"$f":"'Scheme and Member Information'!C13","v":0},null,null,null,null,null,null,null,null,null,null,null,null,null,null,null,null,null,null,null,null,null,null,null,null,null,null,null,null,null,null,null,null,null,null,null,null,null,null,null,null,null,null,null,null,null,null,null,null,null,null,null,null,null,null,null,null,null,null,null,null,null,null,null,null,null,null,null,null,null,null,null,null,null,null,null,null,null,null,null,null,null,null,null,null,null,null,null,null,null,null,null,null,null,null,null,null,null,null,null,null,null,null,null,null,null,null,null,null,null,null,null,null,null,null,null,null,null,null,null,null,null,null,null,null,null,null,null,null,null,null,null,null,null,null,null,null,null,null,null,null,null,null,null,null,null,null,null,null,null,null,null,null,null,null,null,null,null,null,null,null,null,null,null,null,null,null,null,null,null,null,null,null,null,null,null,null,null,null,null,null,null,null,null,null,null,null,null,null,null,null,null,null,null,null,null,null,null,null,null,null,null,null,null,null,null,null,null,null,null,null,null,null,null,null,null,null,null,null,null,null,null,null,null,null,null,null,null,null,null,null,null,null,null,null,null,null,null,null,null,null,null,null,null,null,null,null,null,null,null,null,null,null,null,null,0,"TRUE","OK",{"$f":"IF(JE13,VLOOKUP(MIN(JF13:JI13),'Data Validation (hidden)'!$G$30:$H$34,2,FALSE),IF(COUNTA(E13:E13)>0,\"'Scheme (Fund) Name' missing but values entered in other columns.\",\"OK\"))","v":"OK"},null,"OK",null,false,1,2,{"$f":"IF(AND(IX13>'Scheme and Member Information'!I13, E13=\"Yes\"),\"\",\"\")","v":""},4,true,true,false,true,false]
[null,{"$f":"'Scheme and Member Information'!B14","v":0},{"$f":"'Scheme and Member Information'!C14","v":0},null,null,null,null,null,null,null,null,null,null,null,null,null,null,null,null,null,null,null,null,null,null,null,null,null,null,null,null,null,null,null,null,null,null,null,null,null,null,null,null,null,null,null,null,null,null,null,null,null,null,null,null,null,null,null,null,null,null,null,null,null,null,null,null,null,null,null,null,null,null,null,null,null,null,null,null,null,null,null,null,null,null,null,null,null,null,null,null,null,null,null,null,null,null,null,null,null,null,null,null,null,null,null,null,null,null,null,null,null,null,null,null,null,null,null,null,null,null,null,null,null,null,null,null,null,null,null,null,null,null,null,null,null,null,null,null,null,null,null,null,null,null,null,null,null,null,null,null,null,null,null,null,null,null,null,null,null,null,null,null,null,null,null,null,null,null,null,null,null,null,null,null,null,null,null,null,null,null,null,null,null,null,null,null,null,null,null,null,null,null,null,null,null,null,null,null,null,null,null,null,null,null,null,null,null,null,null,null,null,null,null,null,null,null,null,null,null,null,null,null,null,null,null,null,null,null,null,null,null,null,null,null,null,null,null,null,null,null,null,null,null,null,null,null,null,null,null,null,null,null,null,null,null,null,0,"TRUE","OK",{"$f":"IF(JE14,VLOOKUP(MIN(JF14:JI14),'Data Validation (hidden)'!$G$30:$H$34,2,FALSE),IF(COUNTA(E14:E14)>0,\"'Scheme (Fund) Name' missing but values entered in other columns.\",\"OK\"))","v":"OK"},null,"OK",null,false,1,2,{"$f":"IF(AND(IX14>'Scheme and Member Information'!I14, E14=\"Yes\"),\"\",\"\")","v":""},4,true,true,false,true,false]
[null,{"$f":"'Scheme and Member Information'!B15","v":0},{"$f":"'Scheme and Member Information'!C15","v":0},null,null,null,null,null,null,null,null,null,null,null,null,null,null,null,null,null,null,null,null,null,null,null,null,null,null,null,null,null,null,null,null,null,null,null,null,null,null,null,null,null,null,null,null,null,null,null,null,null,null,null,null,null,null,null,null,null,null,null,null,null,null,null,null,null,null,null,null,null,null,null,null,null,null,null,null,null,null,null,null,null,null,null,null,null,null,null,null,null,null,null,null,null,null,null,null,null,null,null,null,null,null,null,null,null,null,null,null,null,null,null,null,null,null,null,null,null,null,null,null,null,null,null,null,null,null,null,null,null,null,null,null,null,null,null,null,null,null,null,null,null,null,null,null,null,null,null,null,null,null,null,null,null,null,null,null,null,null,null,null,null,null,null,null,null,null,null,null,null,null,null,null,null,null,null,null,null,null,null,null,null,null,null,null,null,null,null,null,null,null,null,null,null,null,null,null,null,null,null,null,null,null,null,null,null,null,null,null,null,null,null,null,null,null,null,null,null,null,null,null,null,null,null,null,null,null,null,null,null,null,null,null,null,null,null,null,null,null,null,null,null,null,null,null,null,null,null,null,null,null,null,null,null,null,0,"TRUE","OK",{"$f":"IF(JE15,VLOOKUP(MIN(JF15:JI15),'Data Validation (hidden)'!$G$30:$H$34,2,FALSE),IF(COUNTA(E15:E15)>0,\"'Scheme (Fund) Name' missing but values entered in other columns.\",\"OK\"))","v":"OK"},null,"OK",null,false,1,2,{"$f":"IF(AND(IX15>'Scheme and Member Information'!I15, E15=\"Yes\"),\"\",\"\")","v":""},4,true,true,false,true,false]
[null,{"$f":"'Scheme and Member Information'!B16","v":0},{"$f":"'Scheme and Member Information'!C16","v":0},null,null,null,null,null,null,null,null,null,null,null,null,null,null,null,null,null,null,null,null,null,null,null,null,null,null,null,null,null,null,null,null,null,null,null,null,null,null,null,null,null,null,null,null,null,null,null,null,null,null,null,null,null,null,null,null,null,null,null,null,null,null,null,null,null,null,null,null,null,null,null,null,null,null,null,null,null,null,null,null,null,null,null,null,null,null,null,null,null,null,null,null,null,null,null,null,null,null,null,null,null,null,null,null,null,null,null,null,null,null,null,null,null,null,null,null,null,null,null,null,null,null,null,null,null,null,null,null,null,null,null,null,null,null,null,null,null,null,null,null,null,null,null,null,null,null,null,null,null,null,null,null,null,null,null,null,null,null,null,null,null,null,null,null,null,null,null,null,null,null,null,null,null,null,null,null,null,null,null,null,null,null,null,null,null,null,null,null,null,null,null,null,null,null,null,null,null,null,null,null,null,null,null,null,null,null,null,null,null,null,null,null,null,null,null,null,null,null,null,null,null,null,null,null,null,null,null,null,null,null,null,null,null,null,null,null,null,null,null,null,null,null,null,null,null,null,null,null,null,null,null,null,null,null,0,"TRUE","OK",{"$f":"IF(JE16,VLOOKUP(MIN(JF16:JI16),'Data Validation (hidden)'!$G$30:$H$34,2,FALSE),IF(COUNTA(E16:E16)>0,\"'Scheme (Fund) Name' missing but values entered in other columns.\",\"OK\"))","v":"OK"},null,"OK",null,false,1,2,{"$f":"IF(AND(IX16>'Scheme and Member Information'!I16, E16=\"Yes\"),\"\",\"\")","v":""},4,true,true,false,true,false]
[null,{"$f":"'Scheme and Member Information'!B17","v":0},{"$f":"'Scheme and Member Information'!C17","v":0},null,null,null,null,null,null,null,null,null,null,null,null,null,null,null,null,null,null,null,null,null,null,null,null,null,null,null,null,null,null,null,null,null,null,null,null,null,null,null,null,null,null,null,null,null,null,null,null,null,null,null,null,null,null,null,null,null,null,null,null,null,null,null,null,null,null,null,null,null,null,null,null,null,null,null,null,null,null,null,null,null,null,null,null,null,null,null,null,null,null,null,null,null,null,null,null,null,null,null,null,null,null,null,null,null,null,null,null,null,null,null,null,null,null,null,null,null,null,null,null,null,null,null,null,null,null,null,null,null,null,null,null,null,null,null,null,null,null,null,null,null,null,null,null,null,null,null,null,null,null,null,null,null,null,null,null,null,null,null,null,null,null,null,null,null,null,null,null,null,null,null,null,null,null,null,null,null,null,null,null,null,null,null,null,null,null,null,null,null,null,null,null,null,null,null,null,null,null,null,null,null,null,null,null,null,null,null,null,null,null,null,null,null,null,null,null,null,null,null,null,null,null,null,null,null,null,null,null,null,null,null,null,null,null,null,null,null,null,null,null,null,null,null,null,null,null,null,null,null,null,null,null,null,null,0,"TRUE","OK",{"$f":"IF(JE17,VLOOKUP(MIN(JF17:JI17),'Data Validation (hidden)'!$G$30:$H$34,2,FALSE),IF(COUNTA(E17:E17)>0,\"'Scheme (Fund) Name' missing but values entered in other columns.\",\"OK\"))","v":"OK"},null,"OK",null,false,1,2,{"$f":"IF(AND(IX17>'Scheme and Member Information'!I17, E17=\"Yes\"),\"\",\"\")","v":""},4,true,true,false,true,false]
[null,{"$f":"'Scheme and Member Information'!B18","v":0},{"$f":"'Scheme and Member Information'!C18","v":0},null,null,null,null,null,null,null,null,null,null,null,null,null,null,null,null,null,null,null,null,null,null,null,null,null,null,null,null,null,null,null,null,null,null,null,null,null,null,null,null,null,null,null,null,null,null,null,null,null,null,null,null,null,null,null,null,null,null,null,null,null,null,null,null,null,null,null,null,null,null,null,null,null,null,null,null,null,null,null,null,null,null,null,null,null,null,null,null,null,null,null,null,null,null,null,null,null,null,null,null,null,null,null,null,null,null,null,null,null,null,null,null,null,null,null,null,null,null,null,null,null,null,null,null,null,null,null,null,null,null,null,null,null,null,null,null,null,null,null,null,null,null,null,null,null,null,null,null,null,null,null,null,null,null,null,null,null,null,null,null,null,null,null,null,null,null,null,null,null,null,null,null,null,null,null,null,null,null,null,null,null,null,null,null,null,null,null,null,null,null,null,null,null,null,null,null,null,null,null,null,null,null,null,null,null,null,null,null,null,null,null,null,null,null,null,null,null,null,null,null,null,null,null,null,null,null,null,null,null,null,null,null,null,null,null,null,null,null,null,null,null,null,null,null,null,null,null,null,null,null,null,null,null,null,0,"TRUE","OK",{"$f":"IF(JE18,VLOOKUP(MIN(JF18:JI18),'Data Validation (hidden)'!$G$30:$H$34,2,FALSE),IF(COUNTA(E18:E18)>0,\"'Scheme (Fund) Name' missing but values entered in other columns.\",\"OK\"))","v":"OK"},null,"OK",null,false,1,2,{"$f":"IF(AND(IX18>'Scheme and Member Information'!I18, E18=\"Yes\"),\"\",\"\")","v":""},4,true,true,false,true,false]
[null,{"$f":"'Scheme and Member Information'!B19","v":0},{"$f":"'Scheme and Member Information'!C19","v":0},null,null,null,null,null,null,null,null,null,null,null,null,null,null,null,null,null,null,null,null,null,null,null,null,null,null,null,null,null,null,null,null,null,null,null,null,null,null,null,null,null,null,null,null,null,null,null,null,null,null,null,null,null,null,null,null,null,null,null,null,null,null,null,null,null,null,null,null,null,null,null,null,null,null,null,null,null,null,null,null,null,null,null,null,null,null,null,null,null,null,null,null,null,null,null,null,null,null,null,null,null,null,null,null,null,null,null,null,null,null,null,null,null,null,null,null,null,null,null,null,null,null,null,null,null,null,null,null,null,null,null,null,null,null,null,null,null,null,null,null,null,null,null,null,null,null,null,null,null,null,null,null,null,null,null,null,null,null,null,null,null,null,null,null,null,null,null,null,null,null,null,null,null,null,null,null,null,null,null,null,null,null,null,null,null,null,null,null,null,null,null,null,null,null,null,null,null,null,null,null,null,null,null,null,null,null,null,null,null,null,null,null,null,null,null,null,null,null,null,null,null,null,null,null,null,null,null,null,null,null,null,null,null,null,null,null,null,null,null,null,null,null,null,null,null,null,null,null,null,null,null,null,null,null,0,"TRUE","OK",{"$f":"IF(JE19,VLOOKUP(MIN(JF19:JI19),'Data Validation (hidden)'!$G$30:$H$34,2,FALSE),IF(COUNTA(E19:E19)>0,\"'Scheme (Fund) Name' missing but values entered in other columns.\",\"OK\"))","v":"OK"},null,"OK",null,false,1,2,{"$f":"IF(AND(IX19>'Scheme and Member Information'!I19, E19=\"Yes\"),\"\",\"\")","v":""},4,true,true,false,true,false]
[null,{"$f":"'Scheme and Member Information'!B20","v":0},{"$f":"'Scheme and Member Information'!C20","v":0},null,null,null,null,null,null,null,null,null,null,null,null,null,null,null,null,null,null,null,null,null,null,null,null,null,null,null,null,null,null,null,null,null,null,null,null,null,null,null,null,null,null,null,null,null,null,null,null,null,null,null,null,null,null,null,null,null,null,null,null,null,null,null,null,null,null,null,null,null,null,null,null,null,null,null,null,null,null,null,null,null,null,null,null,null,null,null,null,null,null,null,null,null,null,null,null,null,null,null,null,null,null,null,null,null,null,null,null,null,null,null,null,null,null,null,null,null,null,null,null,null,null,null,null,null,null,null,null,null,null,null,null,null,null,null,null,null,null,null,null,null,null,null,null,null,null,null,null,null,null,null,null,null,null,null,null,null,null,null,null,null,null,null,null,null,null,null,null,null,null,null,null,null,null,null,null,null,null,null,null,null,null,null,null,null,null,null,null,null,null,null,null,null,null,null,null,null,null,null,null,null,null,null,null,null,null,null,null,null,null,null,null,null,null,null,null,null,null,null,null,null,null,null,null,null,null,null,null,null,null,null,null,null,null,null,null,null,null,null,null,null,null,null,null,null,null,null,null,null,null,null,null,null,null,0,"TRUE","OK",{"$f":"IF(JE20,VLOOKUP(MIN(JF20:JI20),'Data Validation (hidden)'!$G$30:$H$34,2,FALSE),IF(COUNTA(E20:E20)>0,\"'Scheme (Fund) Name' missing but values entered in other columns.\",\"OK\"))","v":"OK"},null,"OK",null,false,1,2,{"$f":"IF(AND(IX20>'Scheme and Member Information'!I20, E20=\"Yes\"),\"\",\"\")","v":""},4,true,true,false,true,false]
[null,{"$f":"'Scheme and Member Information'!B21","v":0},{"$f":"'Scheme and Member Information'!C21","v":0},null,null,null,null,null,null,null,null,null,null,null,null,null,null,null,null,null,null,null,null,null,null,null,null,null,null,null,null,null,null,null,null,null,null,null,null,null,null,null,null,null,null,null,null,null,null,null,null,null,null,null,null,null,null,null,null,null,null,null,null,null,null,null,null,null,null,null,null,null,null,null,null,null,null,null,null,null,null,null,null,null,null,null,null,null,null,null,null,null,null,null,null,null,null,null,null,null,null,null,null,null,null,null,null,null,null,null,null,null,null,null,null,null,null,null,null,null,null,null,null,null,null,null,null,null,null,null,null,null,null,null,null,null,null,null,null,null,null,null,null,null,null,null,null,null,null,null,null,null,null,null,null,null,null,null,null,null,null,null,null,null,null,null,null,null,null,null,null,null,null,null,null,null,null,null,null,null,null,null,null,null,null,null,null,null,null,null,null,null,null,null,null,null,null,null,null,null,null,null,null,null,null,null,null,null,null,null,null,null,null,null,null,null,null,null,null,null,null,null,null,null,null,null,null,null,null,null,null,null,null,null,null,null,null,null,null,null,null,null,null,null,null,null,null,null,null,null,null,null,null,null,null,null,null,0,"TRUE","OK",{"$f":"IF(JE21,VLOOKUP(MIN(JF21:JI21),'Data Validation (hidden)'!$G$30:$H$34,2,FALSE),IF(COUNTA(E21:E21)>0,\"'Scheme (Fund) Name' missing but values entered in other columns.\",\"OK\"))","v":"OK"},null,"OK",null,false,1,2,{"$f":"IF(AND(IX21>'Scheme and Member Information'!I21, E21=\"Yes\"),\"\",\"\")","v":""},4,true,true,false,true,false]
[null,{"$f":"'Scheme and Member Information'!B22","v":0},{"$f":"'Scheme and Member Information'!C22","v":0},null,null,null,null,null,null,null,null,null,null,null,null,null,null,null,null,null,null,null,null,null,null,null,null,null,null,null,null,null,null,null,null,null,null,null,null,null,null,null,null,null,null,null,null,null,null,null,null,null,null,null,null,null,null,null,null,null,null,null,null,null,null,null,null,null,null,null,null,null,null,null,null,null,null,null,null,null,null,null,null,null,null,null,null,null,null,null,null,null,null,null,null,null,null,null,null,null,null,null,null,null,null,null,null,null,null,null,null,null,null,null,null,null,null,null,null,null,null,null,null,null,null,null,null,null,null,null,null,null,null,null,null,null,null,null,null,null,null,null,null,null,null,null,null,null,null,null,null,null,null,null,null,null,null,null,null,null,null,null,null,null,null,null,null,null,null,null,null,null,null,null,null,null,null,null,null,null,null,null,null,null,null,null,null,null,null,null,null,null,null,null,null,null,null,null,null,null,null,null,null,null,null,null,null,null,null,null,null,null,null,null,null,null,null,null,null,null,null,null,null,null,null,null,null,null,null,null,null,null,null,null,null,null,null,null,null,null,null,null,null,null,null,null,null,null,null,null,null,null,null,null,null,null,null,0,"TRUE","OK",{"$f":"IF(JE22,VLOOKUP(MIN(JF22:JI22),'Data Validation (hidden)'!$G$30:$H$34,2,FALSE),IF(COUNTA(E22:E22)>0,\"'Scheme (Fund) Name' missing but values entered in other columns.\",\"OK\"))","v":"OK"},null,"OK",null,false,1,2,{"$f":"IF(AND(IX22>'Scheme and Member Information'!I22, E22=\"Yes\"),\"\",\"\")","v":""},4,true,true,false,true,false]
[null,{"$f":"'Scheme and Member Information'!B23","v":0},{"$f":"'Scheme and Member Information'!C23","v":0},null,null,null,null,null,null,null,null,null,null,null,null,null,null,null,null,null,null,null,null,null,null,null,null,null,null,null,null,null,null,null,null,null,null,null,null,null,null,null,null,null,null,null,null,null,null,null,null,null,null,null,null,null,null,null,null,null,null,null,null,null,null,null,null,null,null,null,null,null,null,null,null,null,null,null,null,null,null,null,null,null,null,null,null,null,null,null,null,null,null,null,null,null,null,null,null,null,null,null,null,null,null,null,null,null,null,null,null,null,null,null,null,null,null,null,null,null,null,null,null,null,null,null,null,null,null,null,null,null,null,null,null,null,null,null,null,null,null,null,null,null,null,null,null,null,null,null,null,null,null,null,null,null,null,null,null,null,null,null,null,null,null,null,null,null,null,null,null,null,null,null,null,null,null,null,null,null,null,null,null,null,null,null,null,null,null,null,null,null,null,null,null,null,null,null,null,null,null,null,null,null,null,null,null,null,null,null,null,null,null,null,null,null,null,null,null,null,null,null,null,null,null,null,null,null,null,null,null,null,null,null,null,null,null,null,null,null,null,null,null,null,null,null,null,null,null,null,null,null,null,null,null,null,null,0,"TRUE","OK",{"$f":"IF(JE23,VLOOKUP(MIN(JF23:JI23),'Data Validation (hidden)'!$G$30:$H$34,2,FALSE),IF(COUNTA(E23:E23)>0,\"'Scheme (Fund) Name' missing but values entered in other columns.\",\"OK\"))","v":"OK"},null,"OK",null,false,1,2,{"$f":"IF(AND(IX23>'Scheme and Member Information'!I23, E23=\"Yes\"),\"\",\"\")","v":""},4,true,true,false,true,false]
[null,{"$f":"'Scheme and Member Information'!B24","v":0},{"$f":"'Scheme and Member Information'!C24","v":0},null,null,null,null,null,null,null,null,null,null,null,null,null,null,null,null,null,null,null,null,null,null,null,null,null,null,null,null,null,null,null,null,null,null,null,null,null,null,null,null,null,null,null,null,null,null,null,null,null,null,null,null,null,null,null,null,null,null,null,null,null,null,null,null,null,null,null,null,null,null,null,null,null,null,null,null,null,null,null,null,null,null,null,null,null,null,null,null,null,null,null,null,null,null,null,null,null,null,null,null,null,null,null,null,null,null,null,null,null,null,null,null,null,null,null,null,null,null,null,null,null,null,null,null,null,null,null,null,null,null,null,null,null,null,null,null,null,null,null,null,null,null,null,null,null,null,null,null,null,null,null,null,null,null,null,null,null,null,null,null,null,null,null,null,null,null,null,null,null,null,null,null,null,null,null,null,null,null,null,null,null,null,null,null,null,null,null,null,null,null,null,null,null,null,null,null,null,null,null,null,null,null,null,null,null,null,null,null,null,null,null,null,null,null,null,null,null,null,null,null,null,null,null,null,null,null,null,null,null,null,null,null,null,null,null,null,null,null,null,null,null,null,null,null,null,null,null,null,null,null,null,null,null,null,0,"TRUE","OK",{"$f":"IF(JE24,VLOOKUP(MIN(JF24:JI24),'Data Validation (hidden)'!$G$30:$H$34,2,FALSE),IF(COUNTA(E24:E24)>0,\"'Scheme (Fund) Name' missing but values entered in other columns.\",\"OK\"))","v":"OK"},null,"OK",null,false,1,2,{"$f":"IF(AND(IX24>'Scheme and Member Information'!I24, E24=\"Yes\"),\"\",\"\")","v":""},4,true,true,false,true,false]
[null,{"$f":"'Scheme and Member Information'!B25","v":0},{"$f":"'Scheme and Member Information'!C25","v":0},null,null,null,null,null,null,null,null,null,null,null,null,null,null,null,null,null,null,null,null,null,null,null,null,null,null,null,null,null,null,null,null,null,null,null,null,null,null,null,null,null,null,null,null,null,null,null,null,null,null,null,null,null,null,null,null,null,null,null,null,null,null,null,null,null,null,null,null,null,null,null,null,null,null,null,null,null,null,null,null,null,null,null,null,null,null,null,null,null,null,null,null,null,null,null,null,null,null,null,null,null,null,null,null,null,null,null,null,null,null,null,null,null,null,null,null,null,null,null,null,null,null,null,null,null,null,null,null,null,null,null,null,null,null,null,null,null,null,null,null,null,null,null,null,null,null,null,null,null,null,null,null,null,null,null,null,null,null,null,null,null,null,null,null,null,null,null,null,null,null,null,null,null,null,null,null,null,null,null,null,null,null,null,null,null,null,null,null,null,null,null,null,null,null,null,null,null,null,null,null,null,null,null,null,null,null,null,null,null,null,null,null,null,null,null,null,null,null,null,null,null,null,null,null,null,null,null,null,null,null,null,null,null,null,null,null,null,null,null,null,null,null,null,null,null,null,null,null,null,null,null,null,null,null,0,"TRUE","OK",{"$f":"IF(JE25,VLOOKUP(MIN(JF25:JI25),'Data Validation (hidden)'!$G$30:$H$34,2,FALSE),IF(COUNTA(E25:E25)>0,\"'Scheme (Fund) Name' missing but values entered in other columns.\",\"OK\"))","v":"OK"},null,"OK",null,false,1,2,{"$f":"IF(AND(IX25>'Scheme and Member Information'!I25, E25=\"Yes\"),\"\",\"\")","v":""},4,true,true,false,true,false]
[null,{"$f":"'Scheme and Member Information'!B26","v":0},{"$f":"'Scheme and Member Information'!C26","v":0},null,null,null,null,null,null,null,null,null,null,null,null,null,null,null,null,null,null,null,null,null,null,null,null,null,null,null,null,null,null,null,null,null,null,null,null,null,null,null,null,null,null,null,null,null,null,null,null,null,null,null,null,null,null,null,null,null,null,null,null,null,null,null,null,null,null,null,null,null,null,null,null,null,null,null,null,null,null,null,null,null,null,null,null,null,null,null,null,null,null,null,null,null,null,null,null,null,null,null,null,null,null,null,null,null,null,null,null,null,null,null,null,null,null,null,null,null,null,null,null,null,null,null,null,null,null,null,null,null,null,null,null,null,null,null,null,null,null,null,null,null,null,null,null,null,null,null,null,null,null,null,null,null,null,null,null,null,null,null,null,null,null,null,null,null,null,null,null,null,null,null,null,null,null,null,null,null,null,null,null,null,null,null,null,null,null,null,null,null,null,null,null,null,null,null,null,null,null,null,null,null,null,null,null,null,null,null,null,null,null,null,null,null,null,null,null,null,null,null,null,null,null,null,null,null,null,null,null,null,null,null,null,null,null,null,null,null,null,null,null,null,null,null,null,null,null,null,null,null,null,null,null,null,null,0,"TRUE","OK",{"$f":"IF(JE26,VLOOKUP(MIN(JF26:JI26),'Data Validation (hidden)'!$G$30:$H$34,2,FALSE),IF(COUNTA(E26:E26)>0,\"'Scheme (Fund) Name' missing but values entered in other columns.\",\"OK\"))","v":"OK"},null,"OK",null,false,1,2,{"$f":"IF(AND(IX26>'Scheme and Member Information'!I26, E26=\"Yes\"),\"\",\"\")","v":""},4,true,true,false,true,false]
[null,{"$f":"'Scheme and Member Information'!B27","v":0},{"$f":"'Scheme and Member Information'!C27","v":0},null,null,null,null,null,null,null,null,null,null,null,null,null,null,null,null,null,null,null,null,null,null,null,null,null,null,null,null,null,null,null,null,null,null,null,null,null,null,null,null,null,null,null,null,null,null,null,null,null,null,null,null,null,null,null,null,null,null,null,null,null,null,null,null,null,null,null,null,null,null,null,null,null,null,null,null,null,null,null,null,null,null,null,null,null,null,null,null,null,null,null,null,null,null,null,null,null,null,null,null,null,null,null,null,null,null,null,null,null,null,null,null,null,null,null,null,null,null,null,null,null,null,null,null,null,null,null,null,null,null,null,null,null,null,null,null,null,null,null,null,null,null,null,null,null,null,null,null,null,null,null,null,null,null,null,null,null,null,null,null,null,null,null,null,null,null,null,null,null,null,null,null,null,null,null,null,null,null,null,null,null,null,null,null,null,null,null,null,null,null,null,null,null,null,null,null,null,null,null,null,null,null,null,null,null,null,null,null,null,null,null,null,null,null,null,null,null,null,null,null,null,null,null,null,null,null,null,null,null,null,null,null,null,null,null,null,null,null,null,null,null,null,null,null,null,null,null,null,null,null,null,null,null,null,0,"TRUE","OK",{"$f":"IF(JE27,VLOOKUP(MIN(JF27:JI27),'Data Validation (hidden)'!$G$30:$H$34,2,FALSE),IF(COUNTA(E27:E27)>0,\"'Scheme (Fund) Name' missing but values entered in other columns.\",\"OK\"))","v":"OK"},null,"OK",null,false,1,2,{"$f":"IF(AND(IX27>'Scheme and Member Information'!I27, E27=\"Yes\"),\"\",\"\")","v":""},4,true,true,false,true,false]
[null,{"$f":"'Scheme and Member Information'!B28","v":0},{"$f":"'Scheme and Member Information'!C28","v":0},null,null,null,null,null,null,null,null,null,null,null,null,null,null,null,null,null,null,null,null,null,null,null,null,null,null,null,null,null,null,null,null,null,null,null,null,null,null,null,null,null,null,null,null,null,null,null,null,null,null,null,null,null,null,null,null,null,null,null,null,null,null,null,null,null,null,null,null,null,null,null,null,null,null,null,null,null,null,null,null,null,null,null,null,null,null,null,null,null,null,null,null,null,null,null,null,null,null,null,null,null,null,null,null,null,null,null,null,null,null,null,null,null,null,null,null,null,null,null,null,null,null,null,null,null,null,null,null,null,null,null,null,null,null,null,null,null,null,null,null,null,null,null,null,null,null,null,null,null,null,null,null,null,null,null,null,null,null,null,null,null,null,null,null,null,null,null,null,null,null,null,null,null,null,null,null,null,null,null,null,null,null,null,null,null,null,null,null,null,null,null,null,null,null,null,null,null,null,null,null,null,null,null,null,null,null,null,null,null,null,null,null,null,null,null,null,null,null,null,null,null,null,null,null,null,null,null,null,null,null,null,null,null,null,null,null,null,null,null,null,null,null,null,null,null,null,null,null,null,null,null,null,null,null,0,"TRUE","OK",{"$f":"IF(JE28,VLOOKUP(MIN(JF28:JI28),'Data Validation (hidden)'!$G$30:$H$34,2,FALSE),IF(COUNTA(E28:E28)>0,\"'Scheme (Fund) Name' missing but values entered in other columns.\",\"OK\"))","v":"OK"},null,"OK",null,false,1,2,{"$f":"IF(AND(IX28>'Scheme and Member Information'!I28, E28=\"Yes\"),\"\",\"\")","v":""},4,true,true,false,true,false]
[null,{"$f":"'Scheme and Member Information'!B29","v":0},{"$f":"'Scheme and Member Information'!C29","v":0},null,null,null,null,null,null,null,null,null,null,null,null,null,null,null,null,null,null,null,null,null,null,null,null,null,null,null,null,null,null,null,null,null,null,null,null,null,null,null,null,null,null,null,null,null,null,null,null,null,null,null,null,null,null,null,null,null,null,null,null,null,null,null,null,null,null,null,null,null,null,null,null,null,null,null,null,null,null,null,null,null,null,null,null,null,null,null,null,null,null,null,null,null,null,null,null,null,null,null,null,null,null,null,null,null,null,null,null,null,null,null,null,null,null,null,null,null,null,null,null,null,null,null,null,null,null,null,null,null,null,null,null,null,null,null,null,null,null,null,null,null,null,null,null,null,null,null,null,null,null,null,null,null,null,null,null,null,null,null,null,null,null,null,null,null,null,null,null,null,null,null,null,null,null,null,null,null,null,null,null,null,null,null,null,null,null,null,null,null,null,null,null,null,null,null,null,null,null,null,null,null,null,null,null,null,null,null,null,null,null,null,null,null,null,null,null,null,null,null,null,null,null,null,null,null,null,null,null,null,null,null,null,null,null,null,null,null,null,null,null,null,null,null,null,null,null,null,null,null,null,null,null,null,null,0,"TRUE","OK",{"$f":"IF(JE29,VLOOKUP(MIN(JF29:JI29),'Data Validation (hidden)'!$G$30:$H$34,2,FALSE),IF(COUNTA(E29:E29)>0,\"'Scheme (Fund) Name' missing but values entered in other columns.\",\"OK\"))","v":"OK"},null,"OK",null,false,1,2,{"$f":"IF(AND(IX29>'Scheme and Member Information'!I29, E29=\"Yes\"),\"\",\"\")","v":""},4,true,true,false,true,false]
[null,{"$f":"'Scheme and Member Information'!B30","v":0},{"$f":"'Scheme and Member Information'!C30","v":0},null,null,null,null,null,null,null,null,null,null,null,null,null,null,null,null,null,null,null,null,null,null,null,null,null,null,null,null,null,null,null,null,null,null,null,null,null,null,null,null,null,null,null,null,null,null,null,null,null,null,null,null,null,null,null,null,null,null,null,null,null,null,null,null,null,null,null,null,null,null,null,null,null,null,null,null,null,null,null,null,null,null,null,null,null,null,null,null,null,null,null,null,null,null,null,null,null,null,null,null,null,null,null,null,null,null,null,null,null,null,null,null,null,null,null,null,null,null,null,null,null,null,null,null,null,null,null,null,null,null,null,null,null,null,null,null,null,null,null,null,null,null,null,null,null,null,null,null,null,null,null,null,null,null,null,null,null,null,null,null,null,null,null,null,null,null,null,null,null,null,null,null,null,null,null,null,null,null,null,null,null,null,null,null,null,null,null,null,null,null,null,null,null,null,null,null,null,null,null,null,null,null,null,null,null,null,null,null,null,null,null,null,null,null,null,null,null,null,null,null,null,null,null,null,null,null,null,null,null,null,null,null,null,null,null,null,null,null,null,null,null,null,null,null,null,null,null,null,null,null,null,null,null,null,0,"TRUE","OK",{"$f":"IF(JE30,VLOOKUP(MIN(JF30:JI30),'Data Validation (hidden)'!$G$30:$H$34,2,FALSE),IF(COUNTA(E30:E30)>0,\"'Scheme (Fund) Name' missing but values entered in other columns.\",\"OK\"))","v":"OK"},null,"OK",null,false,1,2,{"$f":"IF(AND(IX30>'Scheme and Member Information'!I30, E30=\"Yes\"),\"\",\"\")","v":""},4,true,true,false,true,false]
[null,{"$f":"'Scheme and Member Information'!B31","v":0},{"$f":"'Scheme and Member Information'!C31","v":0},null,null,null,null,null,null,null,null,null,null,null,null,null,null,null,null,null,null,null,null,null,null,null,null,null,null,null,null,null,null,null,null,null,null,null,null,null,null,null,null,null,null,null,null,null,null,null,null,null,null,null,null,null,null,null,null,null,null,null,null,null,null,null,null,null,null,null,null,null,null,null,null,null,null,null,null,null,null,null,null,null,null,null,null,null,null,null,null,null,null,null,null,null,null,null,null,null,null,null,null,null,null,null,null,null,null,null,null,null,null,null,null,null,null,null,null,null,null,null,null,null,null,null,null,null,null,null,null,null,null,null,null,null,null,null,null,null,null,null,null,null,null,null,null,null,null,null,null,null,null,null,null,null,null,null,null,null,null,null,null,null,null,null,null,null,null,null,null,null,null,null,null,null,null,null,null,null,null,null,null,null,null,null,null,null,null,null,null,null,null,null,null,null,null,null,null,null,null,null,null,null,null,null,null,null,null,null,null,null,null,null,null,null,null,null,null,null,null,null,null,null,null,null,null,null,null,null,null,null,null,null,null,null,null,null,null,null,null,null,null,null,null,null,null,null,null,null,null,null,null,null,null,null,null,0,"TRUE","OK",{"$f":"IF(JE31,VLOOKUP(MIN(JF31:JI31),'Data Validation (hidden)'!$G$30:$H$34,2,FALSE),IF(COUNTA(E31:E31)>0,\"'Scheme (Fund) Name' missing but values entered in other columns.\",\"OK\"))","v":"OK"},null,"OK",null,false,1,2,{"$f":"IF(AND(IX31>'Scheme and Member Information'!I31, E31=\"Yes\"),\"\",\"\")","v":""},4,true,true,false,true,false]
[null,{"$f":"'Scheme and Member Information'!B32","v":0},{"$f":"'Scheme and Member Information'!C32","v":0},null,null,null,null,null,null,null,null,null,null,null,null,null,null,null,null,null,null,null,null,null,null,null,null,null,null,null,null,null,null,null,null,null,null,null,null,null,null,null,null,null,null,null,null,null,null,null,null,null,null,null,null,null,null,null,null,null,null,null,null,null,null,null,null,null,null,null,null,null,null,null,null,null,null,null,null,null,null,null,null,null,null,null,null,null,null,null,null,null,null,null,null,null,null,null,null,null,null,null,null,null,null,null,null,null,null,null,null,null,null,null,null,null,null,null,null,null,null,null,null,null,null,null,null,null,null,null,null,null,null,null,null,null,null,null,null,null,null,null,null,null,null,null,null,null,null,null,null,null,null,null,null,null,null,null,null,null,null,null,null,null,null,null,null,null,null,null,null,null,null,null,null,null,null,null,null,null,null,null,null,null,null,null,null,null,null,null,null,null,null,null,null,null,null,null,null,null,null,null,null,null,null,null,null,null,null,null,null,null,null,null,null,null,null,null,null,null,null,null,null,null,null,null,null,null,null,null,null,null,null,null,null,null,null,null,null,null,null,null,null,null,null,null,null,null,null,null,null,null,null,null,null,null,null,0,"TRUE","OK",{"$f":"IF(JE32,VLOOKUP(MIN(JF32:JI32),'Data Validation (hidden)'!$G$30:$H$34,2,FALSE),IF(COUNTA(E32:E32)>0,\"'Scheme (Fund) Name' missing but values entered in other columns.\",\"OK\"))","v":"OK"},null,"OK",null,false,1,2,{"$f":"IF(AND(IX32>'Scheme and Member Information'!I32, E32=\"Yes\"),\"\",\"\")","v":""},4,true,true,false,true,false]
[null,{"$f":"'Scheme and Member Information'!B33","v":0},{"$f":"'Scheme and Member Information'!C33","v":0},null,null,null,null,null,null,null,null,null,null,null,null,null,null,null,null,null,null,null,null,null,null,null,null,null,null,null,null,null,null,null,null,null,null,null,null,null,null,null,null,null,null,null,null,null,null,null,null,null,null,null,null,null,null,null,null,null,null,null,null,null,null,null,null,null,null,null,null,null,null,null,null,null,null,null,null,null,null,null,null,null,null,null,null,null,null,null,null,null,null,null,null,null,null,null,null,null,null,null,null,null,null,null,null,null,null,null,null,null,null,null,null,null,null,null,null,null,null,null,null,null,null,null,null,null,null,null,null,null,null,null,null,null,null,null,null,null,null,null,null,null,null,null,null,null,null,null,null,null,null,null,null,null,null,null,null,null,null,null,null,null,null,null,null,null,null,null,null,null,null,null,null,null,null,null,null,null,null,null,null,null,null,null,null,null,null,null,null,null,null,null,null,null,null,null,null,null,null,null,null,null,null,null,null,null,null,null,null,null,null,null,null,null,null,null,null,null,null,null,null,null,null,null,null,null,null,null,null,null,null,null,null,null,null,null,null,null,null,null,null,null,null,null,null,null,null,null,null,null,null,null,null,null,null,0,"TRUE","OK",{"$f":"IF(JE33,VLOOKUP(MIN(JF33:JI33),'Data Validation (hidden)'!$G$30:$H$34,2,FALSE),IF(COUNTA(E33:E33)>0,\"'Scheme (Fund) Name' missing but values entered in other columns.\",\"OK\"))","v":"OK"},null,"OK",null,false,1,2,{"$f":"IF(AND(IX33>'Scheme and Member Information'!I33, E33=\"Yes\"),\"\",\"\")","v":""},4,true,true,false,true,false]
[null,{"$f":"'Scheme and Member Information'!B34","v":0},{"$f":"'Scheme and Member Information'!C34","v":0},null,null,null,null,null,null,null,null,null,null,null,null,null,null,null,null,null,null,null,null,null,null,null,null,null,null,null,null,null,null,null,null,null,null,null,null,null,null,null,null,null,null,null,null,null,null,null,null,null,null,null,null,null,null,null,null,null,null,null,null,null,null,null,null,null,null,null,null,null,null,null,null,null,null,null,null,null,null,null,null,null,null,null,null,null,null,null,null,null,null,null,null,null,null,null,null,null,null,null,null,null,null,null,null,null,null,null,null,null,null,null,null,null,null,null,null,null,null,null,null,null,null,null,null,null,null,null,null,null,null,null,null,null,null,null,null,null,null,null,null,null,null,null,null,null,null,null,null,null,null,null,null,null,null,null,null,null,null,null,null,null,null,null,null,null,null,null,null,null,null,null,null,null,null,null,null,null,null,null,null,null,null,null,null,null,null,null,null,null,null,null,null,null,null,null,null,null,null,null,null,null,null,null,null,null,null,null,null,null,null,null,null,null,null,null,null,null,null,null,null,null,null,null,null,null,null,null,null,null,null,null,null,null,null,null,null,null,null,null,null,null,null,null,null,null,null,null,null,null,null,null,null,null,null,0,"TRUE","OK",{"$f":"IF(JE34,VLOOKUP(MIN(JF34:JI34),'Data Validation (hidden)'!$G$30:$H$34,2,FALSE),IF(COUNTA(E34:E34)>0,\"'Scheme (Fund) Name' missing but values entered in other columns.\",\"OK\"))","v":"OK"},null,"OK",null,false,1,2,{"$f":"IF(AND(IX34>'Scheme and Member Information'!I34, E34=\"Yes\"),\"\",\"\")","v":""},4,true,true,false,true,false]
[null,{"$f":"'Scheme and Member Information'!B35","v":0},{"$f":"'Scheme and Member Information'!C35","v":0},null,null,null,null,null,null,null,null,null,null,null,null,null,null,null,null,null,null,null,null,null,null,null,null,null,null,null,null,null,null,null,null,null,null,null,null,null,null,null,null,null,null,null,null,null,null,null,null,null,null,null,null,null,null,null,null,null,null,null,null,null,null,null,null,null,null,null,null,null,null,null,null,null,null,null,null,null,null,null,null,null,null,null,null,null,null,null,null,null,null,null,null,null,null,null,null,null,null,null,null,null,null,null,null,null,null,null,null,null,null,null,null,null,null,null,null,null,null,null,null,null,null,null,null,null,null,null,null,null,null,null,null,null,null,null,null,null,null,null,null,null,null,null,null,null,null,null,null,null,null,null,null,null,null,null,null,null,null,null,null,null,null,null,null,null,null,null,null,null,null,null,null,null,null,null,null,null,null,null,null,null,null,null,null,null,null,null,null,null,null,null,null,null,null,null,null,null,null,null,null,null,null,null,null,null,null,null,null,null,null,null,null,null,null,null,null,null,null,null,null,null,null,null,null,null,null,null,null,null,null,null,null,null,null,null,null,null,null,null,null,null,null,null,null,null,null,null,null,null,null,null,null,null,null,0,"TRUE","OK",{"$f":"IF(JE35,VLOOKUP(MIN(JF35:JI35),'Data Validation (hidden)'!$G$30:$H$34,2,FALSE),IF(COUNTA(E35:E35)>0,\"'Scheme (Fund) Name' missing but values entered in other columns.\",\"OK\"))","v":"OK"},null,"OK",null,false,1,2,{"$f":"IF(AND(IX35>'Scheme and Member Information'!I35, E35=\"Yes\"),\"\",\"\")","v":""},4,true,true,false,true,false]
[null,{"$f":"'Scheme and Member Information'!B36","v":0},{"$f":"'Scheme and Member Information'!C36","v":0},null,null,null,null,null,null,null,null,null,null,null,null,null,null,null,null,null,null,null,null,null,null,null,null,null,null,null,null,null,null,null,null,null,null,null,null,null,null,null,null,null,null,null,null,null,null,null,null,null,null,null,null,null,null,null,null,null,null,null,null,null,null,null,null,null,null,null,null,null,null,null,null,null,null,null,null,null,null,null,null,null,null,null,null,null,null,null,null,null,null,null,null,null,null,null,null,null,null,null,null,null,null,null,null,null,null,null,null,null,null,null,null,null,null,null,null,null,null,null,null,null,null,null,null,null,null,null,null,null,null,null,null,null,null,null,null,null,null,null,null,null,null,null,null,null,null,null,null,null,null,null,null,null,null,null,null,null,null,null,null,null,null,null,null,null,null,null,null,null,null,null,null,null,null,null,null,null,null,null,null,null,null,null,null,null,null,null,null,null,null,null,null,null,null,null,null,null,null,null,null,null,null,null,null,null,null,null,null,null,null,null,null,null,null,null,null,null,null,null,null,null,null,null,null,null,null,null,null,null,null,null,null,null,null,null,null,null,null,null,null,null,null,null,null,null,null,null,null,null,null,null,null,null,null,0,"TRUE","OK",{"$f":"IF(JE36,VLOOKUP(MIN(JF36:JI36),'Data Validation (hidden)'!$G$30:$H$34,2,FALSE),IF(COUNTA(E36:E36)>0,\"'Scheme (Fund) Name' missing but values entered in other columns.\",\"OK\"))","v":"OK"},null,"OK",null,false,1,2,{"$f":"IF(AND(IX36>'Scheme and Member Information'!I36, E36=\"Yes\"),\"\",\"\")","v":""},4,true,true,false,true,false]
[null,{"$f":"'Scheme and Member Information'!B37","v":0},{"$f":"'Scheme and Member Information'!C37","v":0},null,null,null,null,null,null,null,null,null,null,null,null,null,null,null,null,null,null,null,null,null,null,null,null,null,null,null,null,null,null,null,null,null,null,null,null,null,null,null,null,null,null,null,null,null,null,null,null,null,null,null,null,null,null,null,null,null,null,null,null,null,null,null,null,null,null,null,null,null,null,null,null,null,null,null,null,null,null,null,null,null,null,null,null,null,null,null,null,null,null,null,null,null,null,null,null,null,null,null,null,null,null,null,null,null,null,null,null,null,null,null,null,null,null,null,null,null,null,null,null,null,null,null,null,null,null,null,null,null,null,null,null,null,null,null,null,null,null,null,null,null,null,null,null,null,null,null,null,null,null,null,null,null,null,null,null,null,null,null,null,null,null,null,null,null,null,null,null,null,null,null,null,null,null,null,null,null,null,null,null,null,null,null,null,null,null,null,null,null,null,null,null,null,null,null,null,null,null,null,null,null,null,null,null,null,null,null,null,null,null,null,null,null,null,null,null,null,null,null,null,null,null,null,null,null,null,null,null,null,null,null,null,null,null,null,null,null,null,null,null,null,null,null,null,null,null,null,null,null,null,null,null,null,null,0,"TRUE","OK",{"$f":"IF(JE37,VLOOKUP(MIN(JF37:JI37),'Data Validation (hidden)'!$G$30:$H$34,2,FALSE),IF(COUNTA(E37:E37)>0,\"'Scheme (Fund) Name' missing but values entered in other columns.\",\"OK\"))","v":"OK"},null,"OK",null,false,1,2,{"$f":"IF(AND(IX37>'Scheme and Member Information'!I37, E37=\"Yes\"),\"\",\"\")","v":""},4,true,true,false,true,false]
[null,{"$f":"'Scheme and Member Information'!B38","v":0},{"$f":"'Scheme and Member Information'!C38","v":0},null,null,null,null,null,null,null,null,null,null,null,null,null,null,null,null,null,null,null,null,null,null,null,null,null,null,null,null,null,null,null,null,null,null,null,null,null,null,null,null,null,null,null,null,null,null,null,null,null,null,null,null,null,null,null,null,null,null,null,null,null,null,null,null,null,null,null,null,null,null,null,null,null,null,null,null,null,null,null,null,null,null,null,null,null,null,null,null,null,null,null,null,null,null,null,null,null,null,null,null,null,null,null,null,null,null,null,null,null,null,null,null,null,null,null,null,null,null,null,null,null,null,null,null,null,null,null,null,null,null,null,null,null,null,null,null,null,null,null,null,null,null,null,null,null,null,null,null,null,null,null,null,null,null,null,null,null,null,null,null,null,null,null,null,null,null,null,null,null,null,null,null,null,null,null,null,null,null,null,null,null,null,null,null,null,null,null,null,null,null,null,null,null,null,null,null,null,null,null,null,null,null,null,null,null,null,null,null,null,null,null,null,null,null,null,null,null,null,null,null,null,null,null,null,null,null,null,null,null,null,null,null,null,null,null,null,null,null,null,null,null,null,null,null,null,null,null,null,null,null,null,null,null,null,0,"TRUE","OK",{"$f":"IF(JE38,VLOOKUP(MIN(JF38:JI38),'Data Validation (hidden)'!$G$30:$H$34,2,FALSE),IF(COUNTA(E38:E38)>0,\"'Scheme (Fund) Name' missing but values entered in other columns.\",\"OK\"))","v":"OK"},null,"OK",null,false,1,2,{"$f":"IF(AND(IX38>'Scheme and Member Information'!I38, E38=\"Yes\"),\"\",\"\")","v":""},4,true,true,false,true,false]
[null,{"$f":"'Scheme and Member Information'!B39","v":0},{"$f":"'Scheme and Member Information'!C39","v":0},null,null,null,null,null,null,null,null,null,null,null,null,null,null,null,null,null,null,null,null,null,null,null,null,null,null,null,null,null,null,null,null,null,null,null,null,null,null,null,null,null,null,null,null,null,null,null,null,null,null,null,null,null,null,null,null,null,null,null,null,null,null,null,null,null,null,null,null,null,null,null,null,null,null,null,null,null,null,null,null,null,null,null,null,null,null,null,null,null,null,null,null,null,null,null,null,null,null,null,null,null,null,null,null,null,null,null,null,null,null,null,null,null,null,null,null,null,null,null,null,null,null,null,null,null,null,null,null,null,null,null,null,null,null,null,null,null,null,null,null,null,null,null,null,null,null,null,null,null,null,null,null,null,null,null,null,null,null,null,null,null,null,null,null,null,null,null,null,null,null,null,null,null,null,null,null,null,null,null,null,null,null,null,null,null,null,null,null,null,null,null,null,null,null,null,null,null,null,null,null,null,null,null,null,null,null,null,null,null,null,null,null,null,null,null,null,null,null,null,null,null,null,null,null,null,null,null,null,null,null,null,null,null,null,null,null,null,null,null,null,null,null,null,null,null,null,null,null,null,null,null,null,null,null,0,"TRUE","OK",{"$f":"IF(JE39,VLOOKUP(MIN(JF39:JI39),'Data Validation (hidden)'!$G$30:$H$34,2,FALSE),IF(COUNTA(E39:E39)>0,\"'Scheme (Fund) Name' missing but values entered in other columns.\",\"OK\"))","v":"OK"},null,"OK",null,false,1,2,{"$f":"IF(AND(IX39>'Scheme and Member Information'!I39, E39=\"Yes\"),\"\",\"\")","v":""},4,true,true,false,true,false]
[null,{"$f":"'Scheme and Member Information'!B40","v":0},{"$f":"'Scheme and Member Information'!C40","v":0},null,null,null,null,null,null,null,null,null,null,null,null,null,null,null,null,null,null,null,null,null,null,null,null,null,null,null,null,null,null,null,null,null,null,null,null,null,null,null,null,null,null,null,null,null,null,null,null,null,null,null,null,null,null,null,null,null,null,null,null,null,null,null,null,null,null,null,null,null,null,null,null,null,null,null,null,null,null,null,null,null,null,null,null,null,null,null,null,null,null,null,null,null,null,null,null,null,null,null,null,null,null,null,null,null,null,null,null,null,null,null,null,null,null,null,null,null,null,null,null,null,null,null,null,null,null,null,null,null,null,null,null,null,null,null,null,null,null,null,null,null,null,null,null,null,null,null,null,null,null,null,null,null,null,null,null,null,null,null,null,null,null,null,null,null,null,null,null,null,null,null,null,null,null,null,null,null,null,null,null,null,null,null,null,null,null,null,null,null,null,null,null,null,null,null,null,null,null,null,null,null,null,null,null,null,null,null,null,null,null,null,null,null,null,null,null,null,null,null,null,null,null,null,null,null,null,null,null,null,null,null,null,null,null,null,null,null,null,null,null,null,null,null,null,null,null,null,null,null,null,null,null,null,null,0,"TRUE","OK",{"$f":"IF(JE40,VLOOKUP(MIN(JF40:JI40),'Data Validation (hidden)'!$G$30:$H$34,2,FALSE),IF(COUNTA(E40:E40)>0,\"'Scheme (Fund) Name' missing but values entered in other columns.\",\"OK\"))","v":"OK"},null,"OK",null,false,1,2,{"$f":"IF(AND(IX40>'Scheme and Member Information'!I40, E40=\"Yes\"),\"\",\"\")","v":""},4,true,true,false,true,false]
[null,{"$f":"'Scheme and Member Information'!B41","v":0},{"$f":"'Scheme and Member Information'!C41","v":0},null,null,null,null,null,null,null,null,null,null,null,null,null,null,null,null,null,null,null,null,null,null,null,null,null,null,null,null,null,null,null,null,null,null,null,null,null,null,null,null,null,null,null,null,null,null,null,null,null,null,null,null,null,null,null,null,null,null,null,null,null,null,null,null,null,null,null,null,null,null,null,null,null,null,null,null,null,null,null,null,null,null,null,null,null,null,null,null,null,null,null,null,null,null,null,null,null,null,null,null,null,null,null,null,null,null,null,null,null,null,null,null,null,null,null,null,null,null,null,null,null,null,null,null,null,null,null,null,null,null,null,null,null,null,null,null,null,null,null,null,null,null,null,null,null,null,null,null,null,null,null,null,null,null,null,null,null,null,null,null,null,null,null,null,null,null,null,null,null,null,null,null,null,null,null,null,null,null,null,null,null,null,null,null,null,null,null,null,null,null,null,null,null,null,null,null,null,null,null,null,null,null,null,null,null,null,null,null,null,null,null,null,null,null,null,null,null,null,null,null,null,null,null,null,null,null,null,null,null,null,null,null,null,null,null,null,null,null,null,null,null,null,null,null,null,null,null,null,null,null,null,null,null,null,0,"TRUE","OK",{"$f":"IF(JE41,VLOOKUP(MIN(JF41:JI41),'Data Validation (hidden)'!$G$30:$H$34,2,FALSE),IF(COUNTA(E41:E41)>0,\"'Scheme (Fund) Name' missing but values entered in other columns.\",\"OK\"))","v":"OK"},null,"OK",null,false,1,2,{"$f":"IF(AND(IX41>'Scheme and Member Information'!I41, E41=\"Yes\"),\"\",\"\")","v":""},4,true,true,false,true,false]
[null,{"$f":"'Scheme and Member Information'!B42","v":0},{"$f":"'Scheme and Member Information'!C42","v":0},null,null,null,null,null,null,null,null,null,null,null,null,null,null,null,null,null,null,null,null,null,null,null,null,null,null,null,null,null,null,null,null,null,null,null,null,null,null,null,null,null,null,null,null,null,null,null,null,null,null,null,null,null,null,null,null,null,null,null,null,null,null,null,null,null,null,null,null,null,null,null,null,null,null,null,null,null,null,null,null,null,null,null,null,null,null,null,null,null,null,null,null,null,null,null,null,null,null,null,null,null,null,null,null,null,null,null,null,null,null,null,null,null,null,null,null,null,null,null,null,null,null,null,null,null,null,null,null,null,null,null,null,null,null,null,null,null,null,null,null,null,null,null,null,null,null,null,null,null,null,null,null,null,null,null,null,null,null,null,null,null,null,null,null,null,null,null,null,null,null,null,null,null,null,null,null,null,null,null,null,null,null,null,null,null,null,null,null,null,null,null,null,null,null,null,null,null,null,null,null,null,null,null,null,null,null,null,null,null,null,null,null,null,null,null,null,null,null,null,null,null,null,null,null,null,null,null,null,null,null,null,null,null,null,null,null,null,null,null,null,null,null,null,null,null,null,null,null,null,null,null,null,null,null,0,"TRUE","OK",{"$f":"IF(JE42,VLOOKUP(MIN(JF42:JI42),'Data Validation (hidden)'!$G$30:$H$34,2,FALSE),IF(COUNTA(E42:E42)>0,\"'Scheme (Fund) Name' missing but values entered in other columns.\",\"OK\"))","v":"OK"},null,"OK",null,false,1,2,{"$f":"IF(AND(IX42>'Scheme and Member Information'!I42, E42=\"Yes\"),\"\",\"\")","v":""},4,true,true,false,true,false]
[null,{"$f":"'Scheme and Member Information'!B43","v":0},{"$f":"'Scheme and Member Information'!C43","v":0},null,null,null,null,null,null,null,null,null,null,null,null,null,null,null,null,null,null,null,null,null,null,null,null,null,null,null,null,null,null,null,null,null,null,null,null,null,null,null,null,null,null,null,null,null,null,null,null,null,null,null,null,null,null,null,null,null,null,null,null,null,null,null,null,null,null,null,null,null,null,null,null,null,null,null,null,null,null,null,null,null,null,null,null,null,null,null,null,null,null,null,null,null,null,null,null,null,null,null,null,null,null,null,null,null,null,null,null,null,null,null,null,null,null,null,null,null,null,null,null,null,null,null,null,null,null,null,null,null,null,null,null,null,null,null,null,null,null,null,null,null,null,null,null,null,null,null,null,null,null,null,null,null,null,null,null,null,null,null,null,null,null,null,null,null,null,null,null,null,null,null,null,null,null,null,null,null,null,null,null,null,null,null,null,null,null,null,null,null,null,null,null,null,null,null,null,null,null,null,null,null,null,null,null,null,null,null,null,null,null,null,null,null,null,null,null,null,null,null,null,null,null,null,null,null,null,null,null,null,null,null,null,null,null,null,null,null,null,null,null,null,null,null,null,null,null,null,null,null,null,null,null,null,null,0,"TRUE","OK",{"$f":"IF(JE43,VLOOKUP(MIN(JF43:JI43),'Data Validation (hidden)'!$G$30:$H$34,2,FALSE),IF(COUNTA(E43:E43)>0,\"'Scheme (Fund) Name' missing but values entered in other columns.\",\"OK\"))","v":"OK"},null,"OK",null,false,1,2,{"$f":"IF(AND(IX43>'Scheme and Member Information'!I43, E43=\"Yes\"),\"\",\"\")","v":""},4,true,true,false,true,false]
[null,{"$f":"'Scheme and Member Information'!B44","v":0},{"$f":"'Scheme and Member Information'!C44","v":0},null,null,null,null,null,null,null,null,null,null,null,null,null,null,null,null,null,null,null,null,null,null,null,null,null,null,null,null,null,null,null,null,null,null,null,null,null,null,null,null,null,null,null,null,null,null,null,null,null,null,null,null,null,null,null,null,null,null,null,null,null,null,null,null,null,null,null,null,null,null,null,null,null,null,null,null,null,null,null,null,null,null,null,null,null,null,null,null,null,null,null,null,null,null,null,null,null,null,null,null,null,null,null,null,null,null,null,null,null,null,null,null,null,null,null,null,null,null,null,null,null,null,null,null,null,null,null,null,null,null,null,null,null,null,null,null,null,null,null,null,null,null,null,null,null,null,null,null,null,null,null,null,null,null,null,null,null,null,null,null,null,null,null,null,null,null,null,null,null,null,null,null,null,null,null,null,null,null,null,null,null,null,null,null,null,null,null,null,null,null,null,null,null,null,null,null,null,null,null,null,null,null,null,null,null,null,null,null,null,null,null,null,null,null,null,null,null,null,null,null,null,null,null,null,null,null,null,null,null,null,null,null,null,null,null,null,null,null,null,null,null,null,null,null,null,null,null,null,null,null,null,null,null,null,0,"TRUE","OK",{"$f":"IF(JE44,VLOOKUP(MIN(JF44:JI44),'Data Validation (hidden)'!$G$30:$H$34,2,FALSE),IF(COUNTA(E44:E44)>0,\"'Scheme (Fund) Name' missing but values entered in other columns.\",\"OK\"))","v":"OK"},null,"OK",null,false,1,2,{"$f":"IF(AND(IX44>'Scheme and Member Information'!I44, E44=\"Yes\"),\"\",\"\")","v":""},4,true,true,false,true,false]
[null,{"$f":"'Scheme and Member Information'!B45","v":0},{"$f":"'Scheme and Member Information'!C45","v":0},null,null,null,null,null,null,null,null,null,null,null,null,null,null,null,null,null,null,null,null,null,null,null,null,null,null,null,null,null,null,null,null,null,null,null,null,null,null,null,null,null,null,null,null,null,null,null,null,null,null,null,null,null,null,null,null,null,null,null,null,null,null,null,null,null,null,null,null,null,null,null,null,null,null,null,null,null,null,null,null,null,null,null,null,null,null,null,null,null,null,null,null,null,null,null,null,null,null,null,null,null,null,null,null,null,null,null,null,null,null,null,null,null,null,null,null,null,null,null,null,null,null,null,null,null,null,null,null,null,null,null,null,null,null,null,null,null,null,null,null,null,null,null,null,null,null,null,null,null,null,null,null,null,null,null,null,null,null,null,null,null,null,null,null,null,null,null,null,null,null,null,null,null,null,null,null,null,null,null,null,null,null,null,null,null,null,null,null,null,null,null,null,null,null,null,null,null,null,null,null,null,null,null,null,null,null,null,null,null,null,null,null,null,null,null,null,null,null,null,null,null,null,null,null,null,null,null,null,null,null,null,null,null,null,null,null,null,null,null,null,null,null,null,null,null,null,null,null,null,null,null,null,null,null,0,"TRUE","OK",{"$f":"IF(JE45,VLOOKUP(MIN(JF45:JI45),'Data Validation (hidden)'!$G$30:$H$34,2,FALSE),IF(COUNTA(E45:E45)>0,\"'Scheme (Fund) Name' missing but values entered in other columns.\",\"OK\"))","v":"OK"},null,"OK",null,false,1,2,{"$f":"IF(AND(IX45>'Scheme and Member Information'!I45, E45=\"Yes\"),\"\",\"\")","v":""},4,true,true,false,true,false]
[null,{"$f":"'Scheme and Member Information'!B46","v":0},{"$f":"'Scheme and Member Information'!C46","v":0},null,null,null,null,null,null,null,null,null,null,null,null,null,null,null,null,null,null,null,null,null,null,null,null,null,null,null,null,null,null,null,null,null,null,null,null,null,null,null,null,null,null,null,null,null,null,null,null,null,null,null,null,null,null,null,null,null,null,null,null,null,null,null,null,null,null,null,null,null,null,null,null,null,null,null,null,null,null,null,null,null,null,null,null,null,null,null,null,null,null,null,null,null,null,null,null,null,null,null,null,null,null,null,null,null,null,null,null,null,null,null,null,null,null,null,null,null,null,null,null,null,null,null,null,null,null,null,null,null,null,null,null,null,null,null,null,null,null,null,null,null,null,null,null,null,null,null,null,null,null,null,null,null,null,null,null,null,null,null,null,null,null,null,null,null,null,null,null,null,null,null,null,null,null,null,null,null,null,null,null,null,null,null,null,null,null,null,null,null,null,null,null,null,null,null,null,null,null,null,null,null,null,null,null,null,null,null,null,null,null,null,null,null,null,null,null,null,null,null,null,null,null,null,null,null,null,null,null,null,null,null,null,null,null,null,null,null,null,null,null,null,null,null,null,null,null,null,null,null,null,null,null,null,null,0,"TRUE","OK",{"$f":"IF(JE46,VLOOKUP(MIN(JF46:JI46),'Data Validation (hidden)'!$G$30:$H$34,2,FALSE),IF(COUNTA(E46:E46)>0,\"'Scheme (Fund) Name' missing but values entered in other columns.\",\"OK\"))","v":"OK"},null,"OK",null,false,1,2,{"$f":"IF(AND(IX46>'Scheme and Member Information'!I46, E46=\"Yes\"),\"\",\"\")","v":""},4,true,true,false,true,false]
[null,{"$f":"'Scheme and Member Information'!B47","v":0},{"$f":"'Scheme and Member Information'!C47","v":0},null,null,null,null,null,null,null,null,null,null,null,null,null,null,null,null,null,null,null,null,null,null,null,null,null,null,null,null,null,null,null,null,null,null,null,null,null,null,null,null,null,null,null,null,null,null,null,null,null,null,null,null,null,null,null,null,null,null,null,null,null,null,null,null,null,null,null,null,null,null,null,null,null,null,null,null,null,null,null,null,null,null,null,null,null,null,null,null,null,null,null,null,null,null,null,null,null,null,null,null,null,null,null,null,null,null,null,null,null,null,null,null,null,null,null,null,null,null,null,null,null,null,null,null,null,null,null,null,null,null,null,null,null,null,null,null,null,null,null,null,null,null,null,null,null,null,null,null,null,null,null,null,null,null,null,null,null,null,null,null,null,null,null,null,null,null,null,null,null,null,null,null,null,null,null,null,null,null,null,null,null,null,null,null,null,null,null,null,null,null,null,null,null,null,null,null,null,null,null,null,null,null,null,null,null,null,null,null,null,null,null,null,null,null,null,null,null,null,null,null,null,null,null,null,null,null,null,null,null,null,null,null,null,null,null,null,null,null,null,null,null,null,null,null,null,null,null,null,null,null,null,null,null,null,0,"TRUE","OK",{"$f":"IF(JE47,VLOOKUP(MIN(JF47:JI47),'Data Validation (hidden)'!$G$30:$H$34,2,FALSE),IF(COUNTA(E47:E47)>0,\"'Scheme (Fund) Name' missing but values entered in other columns.\",\"OK\"))","v":"OK"},null,"OK",null,false,1,2,{"$f":"IF(AND(IX47>'Scheme and Member Information'!I47, E47=\"Yes\"),\"\",\"\")","v":""},4,true,true,false,true,false]
[null,{"$f":"'Scheme and Member Information'!B48","v":0},{"$f":"'Scheme and Member Information'!C48","v":0},null,null,null,null,null,null,null,null,null,null,null,null,null,null,null,null,null,null,null,null,null,null,null,null,null,null,null,null,null,null,null,null,null,null,null,null,null,null,null,null,null,null,null,null,null,null,null,null,null,null,null,null,null,null,null,null,null,null,null,null,null,null,null,null,null,null,null,null,null,null,null,null,null,null,null,null,null,null,null,null,null,null,null,null,null,null,null,null,null,null,null,null,null,null,null,null,null,null,null,null,null,null,null,null,null,null,null,null,null,null,null,null,null,null,null,null,null,null,null,null,null,null,null,null,null,null,null,null,null,null,null,null,null,null,null,null,null,null,null,null,null,null,null,null,null,null,null,null,null,null,null,null,null,null,null,null,null,null,null,null,null,null,null,null,null,null,null,null,null,null,null,null,null,null,null,null,null,null,null,null,null,null,null,null,null,null,null,null,null,null,null,null,null,null,null,null,null,null,null,null,null,null,null,null,null,null,null,null,null,null,null,null,null,null,null,null,null,null,null,null,null,null,null,null,null,null,null,null,null,null,null,null,null,null,null,null,null,null,null,null,null,null,null,null,null,null,null,null,null,null,null,null,null,null,0,"TRUE","OK",{"$f":"IF(JE48,VLOOKUP(MIN(JF48:JI48),'Data Validation (hidden)'!$G$30:$H$34,2,FALSE),IF(COUNTA(E48:E48)>0,\"'Scheme (Fund) Name' missing but values entered in other columns.\",\"OK\"))","v":"OK"},null,"OK",null,false,1,2,{"$f":"IF(AND(IX48>'Scheme and Member Information'!I48, E48=\"Yes\"),\"\",\"\")","v":""},4,true,true,false,true,false]
[null,{"$f":"'Scheme and Member Information'!B49","v":0},{"$f":"'Scheme and Member Information'!C49","v":0},null,null,null,null,null,null,null,null,null,null,null,null,null,null,null,null,null,null,null,null,null,null,null,null,null,null,null,null,null,null,null,null,null,null,null,null,null,null,null,null,null,null,null,null,null,null,null,null,null,null,null,null,null,null,null,null,null,null,null,null,null,null,null,null,null,null,null,null,null,null,null,null,null,null,null,null,null,null,null,null,null,null,null,null,null,null,null,null,null,null,null,null,null,null,null,null,null,null,null,null,null,null,null,null,null,null,null,null,null,null,null,null,null,null,null,null,null,null,null,null,null,null,null,null,null,null,null,null,null,null,null,null,null,null,null,null,null,null,null,null,null,null,null,null,null,null,null,null,null,null,null,null,null,null,null,null,null,null,null,null,null,null,null,null,null,null,null,null,null,null,null,null,null,null,null,null,null,null,null,null,null,null,null,null,null,null,null,null,null,null,null,null,null,null,null,null,null,null,null,null,null,null,null,null,null,null,null,null,null,null,null,null,null,null,null,null,null,null,null,null,null,null,null,null,null,null,null,null,null,null,null,null,null,null,null,null,null,null,null,null,null,null,null,null,null,null,null,null,null,null,null,null,null,null,0,"TRUE","OK",{"$f":"IF(JE49,VLOOKUP(MIN(JF49:JI49),'Data Validation (hidden)'!$G$30:$H$34,2,FALSE),IF(COUNTA(E49:E49)>0,\"'Scheme (Fund) Name' missing but values entered in other columns.\",\"OK\"))","v":"OK"},null,"OK",null,false,1,2,{"$f":"IF(AND(IX49>'Scheme and Member Information'!I49, E49=\"Yes\"),\"\",\"\")","v":""},4,true,true,false,true,false]
[null,{"$f":"'Scheme and Member Information'!B50","v":0},{"$f":"'Scheme and Member Information'!C50","v":0},null,null,null,null,null,null,null,null,null,null,null,null,null,null,null,null,null,null,null,null,null,null,null,null,null,null,null,null,null,null,null,null,null,null,null,null,null,null,null,null,null,null,null,null,null,null,null,null,null,null,null,null,null,null,null,null,null,null,null,null,null,null,null,null,null,null,null,null,null,null,null,null,null,null,null,null,null,null,null,null,null,null,null,null,null,null,null,null,null,null,null,null,null,null,null,null,null,null,null,null,null,null,null,null,null,null,null,null,null,null,null,null,null,null,null,null,null,null,null,null,null,null,null,null,null,null,null,null,null,null,null,null,null,null,null,null,null,null,null,null,null,null,null,null,null,null,null,null,null,null,null,null,null,null,null,null,null,null,null,null,null,null,null,null,null,null,null,null,null,null,null,null,null,null,null,null,null,null,null,null,null,null,null,null,null,null,null,null,null,null,null,null,null,null,null,null,null,null,null,null,null,null,null,null,null,null,null,null,null,null,null,null,null,null,null,null,null,null,null,null,null,null,null,null,null,null,null,null,null,null,null,null,null,null,null,null,null,null,null,null,null,null,null,null,null,null,null,null,null,null,null,null,null,null,0,"TRUE","OK",{"$f":"IF(JE50,VLOOKUP(MIN(JF50:JI50),'Data Validation (hidden)'!$G$30:$H$34,2,FALSE),IF(COUNTA(E50:E50)>0,\"'Scheme (Fund) Name' missing but values entered in other columns.\",\"OK\"))","v":"OK"},null,"OK",null,false,1,2,{"$f":"IF(AND(IX50>'Scheme and Member Information'!I50, E50=\"Yes\"),\"\",\"\")","v":""},4,true,true,false,true,false]
[null,{"$f":"'Scheme and Member Information'!B51","v":0},{"$f":"'Scheme and Member Information'!C51","v":0},null,null,null,null,null,null,null,null,null,null,null,null,null,null,null,null,null,null,null,null,null,null,null,null,null,null,null,null,null,null,null,null,null,null,null,null,null,null,null,null,null,null,null,null,null,null,null,null,null,null,null,null,null,null,null,null,null,null,null,null,null,null,null,null,null,null,null,null,null,null,null,null,null,null,null,null,null,null,null,null,null,null,null,null,null,null,null,null,null,null,null,null,null,null,null,null,null,null,null,null,null,null,null,null,null,null,null,null,null,null,null,null,null,null,null,null,null,null,null,null,null,null,null,null,null,null,null,null,null,null,null,null,null,null,null,null,null,null,null,null,null,null,null,null,null,null,null,null,null,null,null,null,null,null,null,null,null,null,null,null,null,null,null,null,null,null,null,null,null,null,null,null,null,null,null,null,null,null,null,null,null,null,null,null,null,null,null,null,null,null,null,null,null,null,null,null,null,null,null,null,null,null,null,null,null,null,null,null,null,null,null,null,null,null,null,null,null,null,null,null,null,null,null,null,null,null,null,null,null,null,null,null,null,null,null,null,null,null,null,null,null,null,null,null,null,null,null,null,null,null,null,null,null,null,0,"TRUE","OK",{"$f":"IF(JE51,VLOOKUP(MIN(JF51:JI51),'Data Validation (hidden)'!$G$30:$H$34,2,FALSE),IF(COUNTA(E51:E51)>0,\"'Scheme (Fund) Name' missing but values entered in other columns.\",\"OK\"))","v":"OK"},null,"OK",null,false,1,2,{"$f":"IF(AND(IX51>'Scheme and Member Information'!I51, E51=\"Yes\"),\"\",\"\")","v":""},4,true,true,false,true,false]
[null,{"$f":"'Scheme and Member Information'!B52","v":0},{"$f":"'Scheme and Member Information'!C52","v":0},null,null,null,null,null,null,null,null,null,null,null,null,null,null,null,null,null,null,null,null,null,null,null,null,null,null,null,null,null,null,null,null,null,null,null,null,null,null,null,null,null,null,null,null,null,null,null,null,null,null,null,null,null,null,null,null,null,null,null,null,null,null,null,null,null,null,null,null,null,null,null,null,null,null,null,null,null,null,null,null,null,null,null,null,null,null,null,null,null,null,null,null,null,null,null,null,null,null,null,null,null,null,null,null,null,null,null,null,null,null,null,null,null,null,null,null,null,null,null,null,null,null,null,null,null,null,null,null,null,null,null,null,null,null,null,null,null,null,null,null,null,null,null,null,null,null,null,null,null,null,null,null,null,null,null,null,null,null,null,null,null,null,null,null,null,null,null,null,null,null,null,null,null,null,null,null,null,null,null,null,null,null,null,null,null,null,null,null,null,null,null,null,null,null,null,null,null,null,null,null,null,null,null,null,null,null,null,null,null,null,null,null,null,null,null,null,null,null,null,null,null,null,null,null,null,null,null,null,null,null,null,null,null,null,null,null,null,null,null,null,null,null,null,null,null,null,null,null,null,null,null,null,null,null,0,"TRUE","OK",{"$f":"IF(JE52,VLOOKUP(MIN(JF52:JI52),'Data Validation (hidden)'!$G$30:$H$34,2,FALSE),IF(COUNTA(E52:E52)>0,\"'Scheme (Fund) Name' missing but values entered in other columns.\",\"OK\"))","v":"OK"},null,"OK",null,false,1,2,{"$f":"IF(AND(IX52>'Scheme and Member Information'!I52, E52=\"Yes\"),\"\",\"\")","v":""},4,true,true,false,true,false]
[null,{"$f":"'Scheme and Member Information'!B53","v":0},{"$f":"'Scheme and Member Information'!C53","v":0},null,null,null,null,null,null,null,null,null,null,null,null,null,null,null,null,null,null,null,null,null,null,null,null,null,null,null,null,null,null,null,null,null,null,null,null,null,null,null,null,null,null,null,null,null,null,null,null,null,null,null,null,null,null,null,null,null,null,null,null,null,null,null,null,null,null,null,null,null,null,null,null,null,null,null,null,null,null,null,null,null,null,null,null,null,null,null,null,null,null,null,null,null,null,null,null,null,null,null,null,null,null,null,null,null,null,null,null,null,null,null,null,null,null,null,null,null,null,null,null,null,null,null,null,null,null,null,null,null,null,null,null,null,null,null,null,null,null,null,null,null,null,null,null,null,null,null,null,null,null,null,null,null,null,null,null,null,null,null,null,null,null,null,null,null,null,null,null,null,null,null,null,null,null,null,null,null,null,null,null,null,null,null,null,null,null,null,null,null,null,null,null,null,null,null,null,null,null,null,null,null,null,null,null,null,null,null,null,null,null,null,null,null,null,null,null,null,null,null,null,null,null,null,null,null,null,null,null,null,null,null,null,null,null,null,null,null,null,null,null,null,null,null,null,null,null,null,null,null,null,null,null,null,null,0,"TRUE","OK",{"$f":"IF(JE53,VLOOKUP(MIN(JF53:JI53),'Data Validation (hidden)'!$G$30:$H$34,2,FALSE),IF(COUNTA(E53:E53)>0,\"'Scheme (Fund) Name' missing but values entered in other columns.\",\"OK\"))","v":"OK"},null,"OK",null,false,1,2,{"$f":"IF(AND(IX53>'Scheme and Member Information'!I53, E53=\"Yes\"),\"\",\"\")","v":""},4,true,true,false,true,false]
[null,{"$f":"'Scheme and Member Information'!B54","v":0},{"$f":"'Scheme and Member Information'!C54","v":0},null,null,null,null,null,null,null,null,null,null,null,null,null,null,null,null,null,null,null,null,null,null,null,null,null,null,null,null,null,null,null,null,null,null,null,null,null,null,null,null,null,null,null,null,null,null,null,null,null,null,null,null,null,null,null,null,null,null,null,null,null,null,null,null,null,null,null,null,null,null,null,null,null,null,null,null,null,null,null,null,null,null,null,null,null,null,null,null,null,null,null,null,null,null,null,null,null,null,null,null,null,null,null,null,null,null,null,null,null,null,null,null,null,null,null,null,null,null,null,null,null,null,null,null,null,null,null,null,null,null,null,null,null,null,null,null,null,null,null,null,null,null,null,null,null,null,null,null,null,null,null,null,null,null,null,null,null,null,null,null,null,null,null,null,null,null,null,null,null,null,null,null,null,null,null,null,null,null,null,null,null,null,null,null,null,null,null,null,null,null,null,null,null,null,null,null,null,null,null,null,null,null,null,null,null,null,null,null,null,null,null,null,null,null,null,null,null,null,null,null,null,null,null,null,null,null,null,null,null,null,null,null,null,null,null,null,null,null,null,null,null,null,null,null,null,null,null,null,null,null,null,null,null,null,0,"TRUE","OK",{"$f":"IF(JE54,VLOOKUP(MIN(JF54:JI54),'Data Validation (hidden)'!$G$30:$H$34,2,FALSE),IF(COUNTA(E54:E54)>0,\"'Scheme (Fund) Name' missing but values entered in other columns.\",\"OK\"))","v":"OK"},null,"OK",null,false,1,2,{"$f":"IF(AND(IX54>'Scheme and Member Information'!I54, E54=\"Yes\"),\"\",\"\")","v":""},4,true,true,false,true,false]
[null,{"$f":"'Scheme and Member Information'!B55","v":0},{"$f":"'Scheme and Member Information'!C55","v":0},null,null,null,null,null,null,null,null,null,null,null,null,null,null,null,null,null,null,null,null,null,null,null,null,null,null,null,null,null,null,null,null,null,null,null,null,null,null,null,null,null,null,null,null,null,null,null,null,null,null,null,null,null,null,null,null,null,null,null,null,null,null,null,null,null,null,null,null,null,null,null,null,null,null,null,null,null,null,null,null,null,null,null,null,null,null,null,null,null,null,null,null,null,null,null,null,null,null,null,null,null,null,null,null,null,null,null,null,null,null,null,null,null,null,null,null,null,null,null,null,null,null,null,null,null,null,null,null,null,null,null,null,null,null,null,null,null,null,null,null,null,null,null,null,null,null,null,null,null,null,null,null,null,null,null,null,null,null,null,null,null,null,null,null,null,null,null,null,null,null,null,null,null,null,null,null,null,null,null,null,null,null,null,null,null,null,null,null,null,null,null,null,null,null,null,null,null,null,null,null,null,null,null,null,null,null,null,null,null,null,null,null,null,null,null,null,null,null,null,null,null,null,null,null,null,null,null,null,null,null,null,null,null,null,null,null,null,null,null,null,null,null,null,null,null,null,null,null,null,null,null,null,null,null,0,"TRUE","OK",{"$f":"IF(JE55,VLOOKUP(MIN(JF55:JI55),'Data Validation (hidden)'!$G$30:$H$34,2,FALSE),IF(COUNTA(E55:E55)>0,\"'Scheme (Fund) Name' missing but values entered in other columns.\",\"OK\"))","v":"OK"},null,"OK",null,false,1,2,{"$f":"IF(AND(IX55>'Scheme and Member Information'!I55, E55=\"Yes\"),\"\",\"\")","v":""},4,true,true,false,true,false]
[null,{"$f":"'Scheme and Member Information'!B56","v":0},{"$f":"'Scheme and Member Information'!C56","v":0},null,null,null,null,null,null,null,null,null,null,null,null,null,null,null,null,null,null,null,null,null,null,null,null,null,null,null,null,null,null,null,null,null,null,null,null,null,null,null,null,null,null,null,null,null,null,null,null,null,null,null,null,null,null,null,null,null,null,null,null,null,null,null,null,null,null,null,null,null,null,null,null,null,null,null,null,null,null,null,null,null,null,null,null,null,null,null,null,null,null,null,null,null,null,null,null,null,null,null,null,null,null,null,null,null,null,null,null,null,null,null,null,null,null,null,null,null,null,null,null,null,null,null,null,null,null,null,null,null,null,null,null,null,null,null,null,null,null,null,null,null,null,null,null,null,null,null,null,null,null,null,null,null,null,null,null,null,null,null,null,null,null,null,null,null,null,null,null,null,null,null,null,null,null,null,null,null,null,null,null,null,null,null,null,null,null,null,null,null,null,null,null,null,null,null,null,null,null,null,null,null,null,null,null,null,null,null,null,null,null,null,null,null,null,null,null,null,null,null,null,null,null,null,null,null,null,null,null,null,null,null,null,null,null,null,null,null,null,null,null,null,null,null,null,null,null,null,null,null,null,null,null,null,null,0,"TRUE","OK",{"$f":"IF(JE56,VLOOKUP(MIN(JF56:JI56),'Data Validation (hidden)'!$G$30:$H$34,2,FALSE),IF(COUNTA(E56:E56)>0,\"'Scheme (Fund) Name' missing but values entered in other columns.\",\"OK\"))","v":"OK"},null,"OK",null,false,1,2,{"$f":"IF(AND(IX56>'Scheme and Member Information'!I56, E56=\"Yes\"),\"\",\"\")","v":""},4,true,true,false,true,false]
[null,{"$f":"'Scheme and Member Information'!B57","v":0},{"$f":"'Scheme and Member Information'!C57","v":0},null,null,null,null,null,null,null,null,null,null,null,null,null,null,null,null,null,null,null,null,null,null,null,null,null,null,null,null,null,null,null,null,null,null,null,null,null,null,null,null,null,null,null,null,null,null,null,null,null,null,null,null,null,null,null,null,null,null,null,null,null,null,null,null,null,null,null,null,null,null,null,null,null,null,null,null,null,null,null,null,null,null,null,null,null,null,null,null,null,null,null,null,null,null,null,null,null,null,null,null,null,null,null,null,null,null,null,null,null,null,null,null,null,null,null,null,null,null,null,null,null,null,null,null,null,null,null,null,null,null,null,null,null,null,null,null,null,null,null,null,null,null,null,null,null,null,null,null,null,null,null,null,null,null,null,null,null,null,null,null,null,null,null,null,null,null,null,null,null,null,null,null,null,null,null,null,null,null,null,null,null,null,null,null,null,null,null,null,null,null,null,null,null,null,null,null,null,null,null,null,null,null,null,null,null,null,null,null,null,null,null,null,null,null,null,null,null,null,null,null,null,null,null,null,null,null,null,null,null,null,null,null,null,null,null,null,null,null,null,null,null,null,null,null,null,null,null,null,null,null,null,null,null,null,0,"TRUE","OK",{"$f":"IF(JE57,VLOOKUP(MIN(JF57:JI57),'Data Validation (hidden)'!$G$30:$H$34,2,FALSE),IF(COUNTA(E57:E57)>0,\"'Scheme (Fund) Name' missing but values entered in other columns.\",\"OK\"))","v":"OK"},null,"OK",null,false,1,2,{"$f":"IF(AND(IX57>'Scheme and Member Information'!I57, E57=\"Yes\"),\"\",\"\")","v":""},4,true,true,false,true,false]
[null,{"$f":"'Scheme and Member Information'!B58","v":0},{"$f":"'Scheme and Member Information'!C58","v":0},null,null,null,null,null,null,null,null,null,null,null,null,null,null,null,null,null,null,null,null,null,null,null,null,null,null,null,null,null,null,null,null,null,null,null,null,null,null,null,null,null,null,null,null,null,null,null,null,null,null,null,null,null,null,null,null,null,null,null,null,null,null,null,null,null,null,null,null,null,null,null,null,null,null,null,null,null,null,null,null,null,null,null,null,null,null,null,null,null,null,null,null,null,null,null,null,null,null,null,null,null,null,null,null,null,null,null,null,null,null,null,null,null,null,null,null,null,null,null,null,null,null,null,null,null,null,null,null,null,null,null,null,null,null,null,null,null,null,null,null,null,null,null,null,null,null,null,null,null,null,null,null,null,null,null,null,null,null,null,null,null,null,null,null,null,null,null,null,null,null,null,null,null,null,null,null,null,null,null,null,null,null,null,null,null,null,null,null,null,null,null,null,null,null,null,null,null,null,null,null,null,null,null,null,null,null,null,null,null,null,null,null,null,null,null,null,null,null,null,null,null,null,null,null,null,null,null,null,null,null,null,null,null,null,null,null,null,null,null,null,null,null,null,null,null,null,null,null,null,null,null,null,null,null,0,"TRUE","OK",{"$f":"IF(JE58,VLOOKUP(MIN(JF58:JI58),'Data Validation (hidden)'!$G$30:$H$34,2,FALSE),IF(COUNTA(E58:E58)>0,\"'Scheme (Fund) Name' missing but values entered in other columns.\",\"OK\"))","v":"OK"},null,"OK",null,false,1,2,{"$f":"IF(AND(IX58>'Scheme and Member Information'!I58, E58=\"Yes\"),\"\",\"\")","v":""},4,true,true,false,true,false]
[null,{"$f":"'Scheme and Member Information'!B59","v":0},{"$f":"'Scheme and Member Information'!C59","v":0},null,null,null,null,null,null,null,null,null,null,null,null,null,null,null,null,null,null,null,null,null,null,null,null,null,null,null,null,null,null,null,null,null,null,null,null,null,null,null,null,null,null,null,null,null,null,null,null,null,null,null,null,null,null,null,null,null,null,null,null,null,null,null,null,null,null,null,null,null,null,null,null,null,null,null,null,null,null,null,null,null,null,null,null,null,null,null,null,null,null,null,null,null,null,null,null,null,null,null,null,null,null,null,null,null,null,null,null,null,null,null,null,null,null,null,null,null,null,null,null,null,null,null,null,null,null,null,null,null,null,null,null,null,null,null,null,null,null,null,null,null,null,null,null,null,null,null,null,null,null,null,null,null,null,null,null,null,null,null,null,null,null,null,null,null,null,null,null,null,null,null,null,null,null,null,null,null,null,null,null,null,null,null,null,null,null,null,null,null,null,null,null,null,null,null,null,null,null,null,null,null,null,null,null,null,null,null,null,null,null,null,null,null,null,null,null,null,null,null,null,null,null,null,null,null,null,null,null,null,null,null,null,null,null,null,null,null,null,null,null,null,null,null,null,null,null,null,null,null,null,null,null,null,null,0,"TRUE","OK",{"$f":"IF(JE59,VLOOKUP(MIN(JF59:JI59),'Data Validation (hidden)'!$G$30:$H$34,2,FALSE),IF(COUNTA(E59:E59)>0,\"'Scheme (Fund) Name' missing but values entered in other columns.\",\"OK\"))","v":"OK"},null,"OK",null,false,1,2,{"$f":"IF(AND(IX59>'Scheme and Member Information'!I59, E59=\"Yes\"),\"\",\"\")","v":""},4,true,true,false,true,false]
[null,{"$f":"'Scheme and Member Information'!B60","v":0},{"$f":"'Scheme and Member Information'!C60","v":0},null,null,null,null,null,null,null,null,null,null,null,null,null,null,null,null,null,null,null,null,null,null,null,null,null,null,null,null,null,null,null,null,null,null,null,null,null,null,null,null,null,null,null,null,null,null,null,null,null,null,null,null,null,null,null,null,null,null,null,null,null,null,null,null,null,null,null,null,null,null,null,null,null,null,null,null,null,null,null,null,null,null,null,null,null,null,null,null,null,null,null,null,null,null,null,null,null,null,null,null,null,null,null,null,null,null,null,null,null,null,null,null,null,null,null,null,null,null,null,null,null,null,null,null,null,null,null,null,null,null,null,null,null,null,null,null,null,null,null,null,null,null,null,null,null,null,null,null,null,null,null,null,null,null,null,null,null,null,null,null,null,null,null,null,null,null,null,null,null,null,null,null,null,null,null,null,null,null,null,null,null,null,null,null,null,null,null,null,null,null,null,null,null,null,null,null,null,null,null,null,null,null,null,null,null,null,null,null,null,null,null,null,null,null,null,null,null,null,null,null,null,null,null,null,null,null,null,null,null,null,null,null,null,null,null,null,null,null,null,null,null,null,null,null,null,null,null,null,null,null,null,null,null,null,0,"TRUE","OK",{"$f":"IF(JE60,VLOOKUP(MIN(JF60:JI60),'Data Validation (hidden)'!$G$30:$H$34,2,FALSE),IF(COUNTA(E60:E60)>0,\"'Scheme (Fund) Name' missing but values entered in other columns.\",\"OK\"))","v":"OK"},null,"OK",null,false,1,2,{"$f":"IF(AND(IX60>'Scheme and Member Information'!I60, E60=\"Yes\"),\"\",\"\")","v":""},4,true,true,false,true,false]
[null,{"$f":"'Scheme and Member Information'!B61","v":0},{"$f":"'Scheme and Member Information'!C61","v":0},null,null,null,null,null,null,null,null,null,null,null,null,null,null,null,null,null,null,null,null,null,null,null,null,null,null,null,null,null,null,null,null,null,null,null,null,null,null,null,null,null,null,null,null,null,null,null,null,null,null,null,null,null,null,null,null,null,null,null,null,null,null,null,null,null,null,null,null,null,null,null,null,null,null,null,null,null,null,null,null,null,null,null,null,null,null,null,null,null,null,null,null,null,null,null,null,null,null,null,null,null,null,null,null,null,null,null,null,null,null,null,null,null,null,null,null,null,null,null,null,null,null,null,null,null,null,null,null,null,null,null,null,null,null,null,null,null,null,null,null,null,null,null,null,null,null,null,null,null,null,null,null,null,null,null,null,null,null,null,null,null,null,null,null,null,null,null,null,null,null,null,null,null,null,null,null,null,null,null,null,null,null,null,null,null,null,null,null,null,null,null,null,null,null,null,null,null,null,null,null,null,null,null,null,null,null,null,null,null,null,null,null,null,null,null,null,null,null,null,null,null,null,null,null,null,null,null,null,null,null,null,null,null,null,null,null,null,null,null,null,null,null,null,null,null,null,null,null,null,null,null,null,null,null,0,"TRUE","OK",{"$f":"IF(JE61,VLOOKUP(MIN(JF61:JI61),'Data Validation (hidden)'!$G$30:$H$34,2,FALSE),IF(COUNTA(E61:E61)>0,\"'Scheme (Fund) Name' missing but values entered in other columns.\",\"OK\"))","v":"OK"},null,"OK",null,false,1,2,{"$f":"IF(AND(IX61>'Scheme and Member Information'!I61, E61=\"Yes\"),\"\",\"\")","v":""},4,true,true,false,true,false]
[null,{"$f":"'Scheme and Member Information'!B62","v":0},{"$f":"'Scheme and Member Information'!C62","v":0},null,null,null,null,null,null,null,null,null,null,null,null,null,null,null,null,null,null,null,null,null,null,null,null,null,null,null,null,null,null,null,null,null,null,null,null,null,null,null,null,null,null,null,null,null,null,null,null,null,null,null,null,null,null,null,null,null,null,null,null,null,null,null,null,null,null,null,null,null,null,null,null,null,null,null,null,null,null,null,null,null,null,null,null,null,null,null,null,null,null,null,null,null,null,null,null,null,null,null,null,null,null,null,null,null,null,null,null,null,null,null,null,null,null,null,null,null,null,null,null,null,null,null,null,null,null,null,null,null,null,null,null,null,null,null,null,null,null,null,null,null,null,null,null,null,null,null,null,null,null,null,null,null,null,null,null,null,null,null,null,null,null,null,null,null,null,null,null,null,null,null,null,null,null,null,null,null,null,null,null,null,null,null,null,null,null,null,null,null,null,null,null,null,null,null,null,null,null,null,null,null,null,null,null,null,null,null,null,null,null,null,null,null,null,null,null,null,null,null,null,null,null,null,null,null,null,null,null,null,null,null,null,null,null,null,null,null,null,null,null,null,null,null,null,null,null,null,null,null,null,null,null,null,null,0,"TRUE","OK",{"$f":"IF(JE62,VLOOKUP(MIN(JF62:JI62),'Data Validation (hidden)'!$G$30:$H$34,2,FALSE),IF(COUNTA(E62:E62)>0,\"'Scheme (Fund) Name' missing but values entered in other columns.\",\"OK\"))","v":"OK"},null,"OK",null,false,1,2,{"$f":"IF(AND(IX62>'Scheme and Member Information'!I62, E62=\"Yes\"),\"\",\"\")","v":""},4,true,true,false,true,false]
[null,{"$f":"'Scheme and Member Information'!B63","v":0},{"$f":"'Scheme and Member Information'!C63","v":0},null,null,null,null,null,null,null,null,null,null,null,null,null,null,null,null,null,null,null,null,null,null,null,null,null,null,null,null,null,null,null,null,null,null,null,null,null,null,null,null,null,null,null,null,null,null,null,null,null,null,null,null,null,null,null,null,null,null,null,null,null,null,null,null,null,null,null,null,null,null,null,null,null,null,null,null,null,null,null,null,null,null,null,null,null,null,null,null,null,null,null,null,null,null,null,null,null,null,null,null,null,null,null,null,null,null,null,null,null,null,null,null,null,null,null,null,null,null,null,null,null,null,null,null,null,null,null,null,null,null,null,null,null,null,null,null,null,null,null,null,null,null,null,null,null,null,null,null,null,null,null,null,null,null,null,null,null,null,null,null,null,null,null,null,null,null,null,null,null,null,null,null,null,null,null,null,null,null,null,null,null,null,null,null,null,null,null,null,null,null,null,null,null,null,null,null,null,null,null,null,null,null,null,null,null,null,null,null,null,null,null,null,null,null,null,null,null,null,null,null,null,null,null,null,null,null,null,null,null,null,null,null,null,null,null,null,null,null,null,null,null,null,null,null,null,null,null,null,null,null,null,null,null,null,0,"TRUE","OK",{"$f":"IF(JE63,VLOOKUP(MIN(JF63:JI63),'Data Validation (hidden)'!$G$30:$H$34,2,FALSE),IF(COUNTA(E63:E63)>0,\"'Scheme (Fund) Name' missing but values entered in other columns.\",\"OK\"))","v":"OK"},null,"OK",null,false,1,2,{"$f":"IF(AND(IX63>'Scheme and Member Information'!I63, E63=\"Yes\"),\"\",\"\")","v":""},4,true,true,false,true,false]
[null,{"$f":"'Scheme and Member Information'!B64","v":0},{"$f":"'Scheme and Member Information'!C64","v":0},null,null,null,null,null,null,null,null,null,null,null,null,null,null,null,null,null,null,null,null,null,null,null,null,null,null,null,null,null,null,null,null,null,null,null,null,null,null,null,null,null,null,null,null,null,null,null,null,null,null,null,null,null,null,null,null,null,null,null,null,null,null,null,null,null,null,null,null,null,null,null,null,null,null,null,null,null,null,null,null,null,null,null,null,null,null,null,null,null,null,null,null,null,null,null,null,null,null,null,null,null,null,null,null,null,null,null,null,null,null,null,null,null,null,null,null,null,null,null,null,null,null,null,null,null,null,null,null,null,null,null,null,null,null,null,null,null,null,null,null,null,null,null,null,null,null,null,null,null,null,null,null,null,null,null,null,null,null,null,null,null,null,null,null,null,null,null,null,null,null,null,null,null,null,null,null,null,null,null,null,null,null,null,null,null,null,null,null,null,null,null,null,null,null,null,null,null,null,null,null,null,null,null,null,null,null,null,null,null,null,null,null,null,null,null,null,null,null,null,null,null,null,null,null,null,null,null,null,null,null,null,null,null,null,null,null,null,null,null,null,null,null,null,null,null,null,null,null,null,null,null,null,null,null,0,"TRUE","OK",{"$f":"IF(JE64,VLOOKUP(MIN(JF64:JI64),'Data Validation (hidden)'!$G$30:$H$34,2,FALSE),IF(COUNTA(E64:E64)>0,\"'Scheme (Fund) Name' missing but values entered in other columns.\",\"OK\"))","v":"OK"},null,"OK",null,false,1,2,{"$f":"IF(AND(IX64>'Scheme and Member Information'!I64, E64=\"Yes\"),\"\",\"\")","v":""},4,true,true,false,true,false]
[null,{"$f":"'Scheme and Member Information'!B65","v":0},{"$f":"'Scheme and Member Information'!C65","v":0},null,null,null,null,null,null,null,null,null,null,null,null,null,null,null,null,null,null,null,null,null,null,null,null,null,null,null,null,null,null,null,null,null,null,null,null,null,null,null,null,null,null,null,null,null,null,null,null,null,null,null,null,null,null,null,null,null,null,null,null,null,null,null,null,null,null,null,null,null,null,null,null,null,null,null,null,null,null,null,null,null,null,null,null,null,null,null,null,null,null,null,null,null,null,null,null,null,null,null,null,null,null,null,null,null,null,null,null,null,null,null,null,null,null,null,null,null,null,null,null,null,null,null,null,null,null,null,null,null,null,null,null,null,null,null,null,null,null,null,null,null,null,null,null,null,null,null,null,null,null,null,null,null,null,null,null,null,null,null,null,null,null,null,null,null,null,null,null,null,null,null,null,null,null,null,null,null,null,null,null,null,null,null,null,null,null,null,null,null,null,null,null,null,null,null,null,null,null,null,null,null,null,null,null,null,null,null,null,null,null,null,null,null,null,null,null,null,null,null,null,null,null,null,null,null,null,null,null,null,null,null,null,null,null,null,null,null,null,null,null,null,null,null,null,null,null,null,null,null,null,null,null,null,null,0,"TRUE","OK",{"$f":"IF(JE65,VLOOKUP(MIN(JF65:JI65),'Data Validation (hidden)'!$G$30:$H$34,2,FALSE),IF(COUNTA(E65:E65)>0,\"'Scheme (Fund) Name' missing but values entered in other columns.\",\"OK\"))","v":"OK"},null,"OK",null,false,1,2,{"$f":"IF(AND(IX65>'Scheme and Member Information'!I65, E65=\"Yes\"),\"\",\"\")","v":""},4,true,true,false,true,false]
[null,{"$f":"'Scheme and Member Information'!B66","v":0},{"$f":"'Scheme and Member Information'!C66","v":0},null,null,null,null,null,null,null,null,null,null,null,null,null,null,null,null,null,null,null,null,null,null,null,null,null,null,null,null,null,null,null,null,null,null,null,null,null,null,null,null,null,null,null,null,null,null,null,null,null,null,null,null,null,null,null,null,null,null,null,null,null,null,null,null,null,null,null,null,null,null,null,null,null,null,null,null,null,null,null,null,null,null,null,null,null,null,null,null,null,null,null,null,null,null,null,null,null,null,null,null,null,null,null,null,null,null,null,null,null,null,null,null,null,null,null,null,null,null,null,null,null,null,null,null,null,null,null,null,null,null,null,null,null,null,null,null,null,null,null,null,null,null,null,null,null,null,null,null,null,null,null,null,null,null,null,null,null,null,null,null,null,null,null,null,null,null,null,null,null,null,null,null,null,null,null,null,null,null,null,null,null,null,null,null,null,null,null,null,null,null,null,null,null,null,null,null,null,null,null,null,null,null,null,null,null,null,null,null,null,null,null,null,null,null,null,null,null,null,null,null,null,null,null,null,null,null,null,null,null,null,null,null,null,null,null,null,null,null,null,null,null,null,null,null,null,null,null,null,null,null,null,null,null,null,0,"TRUE","OK",{"$f":"IF(JE66,VLOOKUP(MIN(JF66:JI66),'Data Validation (hidden)'!$G$30:$H$34,2,FALSE),IF(COUNTA(E66:E66)>0,\"'Scheme (Fund) Name' missing but values entered in other columns.\",\"OK\"))","v":"OK"},null,"OK",null,false,1,2,{"$f":"IF(AND(IX66>'Scheme and Member Information'!I66, E66=\"Yes\"),\"\",\"\")","v":""},4,true,true,false,true,false]
[null,{"$f":"'Scheme and Member Information'!B67","v":0},{"$f":"'Scheme and Member Information'!C67","v":0},null,null,null,null,null,null,null,null,null,null,null,null,null,null,null,null,null,null,null,null,null,null,null,null,null,null,null,null,null,null,null,null,null,null,null,null,null,null,null,null,null,null,null,null,null,null,null,null,null,null,null,null,null,null,null,null,null,null,null,null,null,null,null,null,null,null,null,null,null,null,null,null,null,null,null,null,null,null,null,null,null,null,null,null,null,null,null,null,null,null,null,null,null,null,null,null,null,null,null,null,null,null,null,null,null,null,null,null,null,null,null,null,null,null,null,null,null,null,null,null,null,null,null,null,null,null,null,null,null,null,null,null,null,null,null,null,null,null,null,null,null,null,null,null,null,null,null,null,null,null,null,null,null,null,null,null,null,null,null,null,null,null,null,null,null,null,null,null,null,null,null,null,null,null,null,null,null,null,null,null,null,null,null,null,null,null,null,null,null,null,null,null,null,null,null,null,null,null,null,null,null,null,null,null,null,null,null,null,null,null,null,null,null,null,null,null,null,null,null,null,null,null,null,null,null,null,null,null,null,null,null,null,null,null,null,null,null,null,null,null,null,null,null,null,null,null,null,null,null,null,null,null,null,null,0,"TRUE","OK",{"$f":"IF(JE67,VLOOKUP(MIN(JF67:JI67),'Data Validation (hidden)'!$G$30:$H$34,2,FALSE),IF(COUNTA(E67:E67)>0,\"'Scheme (Fund) Name' missing but values entered in other columns.\",\"OK\"))","v":"OK"},null,"OK",null,false,1,2,{"$f":"IF(AND(IX67>'Scheme and Member Information'!I67, E67=\"Yes\"),\"\",\"\")","v":""},4,true,true,false,true,false]
[null,{"$f":"'Scheme and Member Information'!B68","v":0},{"$f":"'Scheme and Member Information'!C68","v":0},null,null,null,null,null,null,null,null,null,null,null,null,null,null,null,null,null,null,null,null,null,null,null,null,null,null,null,null,null,null,null,null,null,null,null,null,null,null,null,null,null,null,null,null,null,null,null,null,null,null,null,null,null,null,null,null,null,null,null,null,null,null,null,null,null,null,null,null,null,null,null,null,null,null,null,null,null,null,null,null,null,null,null,null,null,null,null,null,null,null,null,null,null,null,null,null,null,null,null,null,null,null,null,null,null,null,null,null,null,null,null,null,null,null,null,null,null,null,null,null,null,null,null,null,null,null,null,null,null,null,null,null,null,null,null,null,null,null,null,null,null,null,null,null,null,null,null,null,null,null,null,null,null,null,null,null,null,null,null,null,null,null,null,null,null,null,null,null,null,null,null,null,null,null,null,null,null,null,null,null,null,null,null,null,null,null,null,null,null,null,null,null,null,null,null,null,null,null,null,null,null,null,null,null,null,null,null,null,null,null,null,null,null,null,null,null,null,null,null,null,null,null,null,null,null,null,null,null,null,null,null,null,null,null,null,null,null,null,null,null,null,null,null,null,null,null,null,null,null,null,null,null,null,null,0,"TRUE","OK",{"$f":"IF(JE68,VLOOKUP(MIN(JF68:JI68),'Data Validation (hidden)'!$G$30:$H$34,2,FALSE),IF(COUNTA(E68:E68)>0,\"'Scheme (Fund) Name' missing but values entered in other columns.\",\"OK\"))","v":"OK"},null,"OK",null,false,1,2,{"$f":"IF(AND(IX68>'Scheme and Member Information'!I68, E68=\"Yes\"),\"\",\"\")","v":""},4,true,true,false,true,false]
[null,{"$f":"'Scheme and Member Information'!B69","v":0},{"$f":"'Scheme and Member Information'!C69","v":0},null,null,null,null,null,null,null,null,null,null,null,null,null,null,null,null,null,null,null,null,null,null,null,null,null,null,null,null,null,null,null,null,null,null,null,null,null,null,null,null,null,null,null,null,null,null,null,null,null,null,null,null,null,null,null,null,null,null,null,null,null,null,null,null,null,null,null,null,null,null,null,null,null,null,null,null,null,null,null,null,null,null,null,null,null,null,null,null,null,null,null,null,null,null,null,null,null,null,null,null,null,null,null,null,null,null,null,null,null,null,null,null,null,null,null,null,null,null,null,null,null,null,null,null,null,null,null,null,null,null,null,null,null,null,null,null,null,null,null,null,null,null,null,null,null,null,null,null,null,null,null,null,null,null,null,null,null,null,null,null,null,null,null,null,null,null,null,null,null,null,null,null,null,null,null,null,null,null,null,null,null,null,null,null,null,null,null,null,null,null,null,null,null,null,null,null,null,null,null,null,null,null,null,null,null,null,null,null,null,null,null,null,null,null,null,null,null,null,null,null,null,null,null,null,null,null,null,null,null,null,null,null,null,null,null,null,null,null,null,null,null,null,null,null,null,null,null,null,null,null,null,null,null,null,0,"TRUE","OK",{"$f":"IF(JE69,VLOOKUP(MIN(JF69:JI69),'Data Validation (hidden)'!$G$30:$H$34,2,FALSE),IF(COUNTA(E69:E69)>0,\"'Scheme (Fund) Name' missing but values entered in other columns.\",\"OK\"))","v":"OK"},null,"OK",null,false,1,2,{"$f":"IF(AND(IX69>'Scheme and Member Information'!I69, E69=\"Yes\"),\"\",\"\")","v":""},4,true,true,false,true,false]
[null,{"$f":"'Scheme and Member Information'!B70","v":0},{"$f":"'Scheme and Member Information'!C70","v":0},null,null,null,null,null,null,null,null,null,null,null,null,null,null,null,null,null,null,null,null,null,null,null,null,null,null,null,null,null,null,null,null,null,null,null,null,null,null,null,null,null,null,null,null,null,null,null,null,null,null,null,null,null,null,null,null,null,null,null,null,null,null,null,null,null,null,null,null,null,null,null,null,null,null,null,null,null,null,null,null,null,null,null,null,null,null,null,null,null,null,null,null,null,null,null,null,null,null,null,null,null,null,null,null,null,null,null,null,null,null,null,null,null,null,null,null,null,null,null,null,null,null,null,null,null,null,null,null,null,null,null,null,null,null,null,null,null,null,null,null,null,null,null,null,null,null,null,null,null,null,null,null,null,null,null,null,null,null,null,null,null,null,null,null,null,null,null,null,null,null,null,null,null,null,null,null,null,null,null,null,null,null,null,null,null,null,null,null,null,null,null,null,null,null,null,null,null,null,null,null,null,null,null,null,null,null,null,null,null,null,null,null,null,null,null,null,null,null,null,null,null,null,null,null,null,null,null,null,null,null,null,null,null,null,null,null,null,null,null,null,null,null,null,null,null,null,null,null,null,null,null,null,null,null,0,"TRUE","OK",{"$f":"IF(JE70,VLOOKUP(MIN(JF70:JI70),'Data Validation (hidden)'!$G$30:$H$34,2,FALSE),IF(COUNTA(E70:E70)>0,\"'Scheme (Fund) Name' missing but values entered in other columns.\",\"OK\"))","v":"OK"},null,"OK",null,false,1,2,{"$f":"IF(AND(IX70>'Scheme and Member Information'!I70, E70=\"Yes\"),\"\",\"\")","v":""},4,true,true,false,true,false]
[null,{"$f":"'Scheme and Member Information'!B71","v":0},{"$f":"'Scheme and Member Information'!C71","v":0},null,null,null,null,null,null,null,null,null,null,null,null,null,null,null,null,null,null,null,null,null,null,null,null,null,null,null,null,null,null,null,null,null,null,null,null,null,null,null,null,null,null,null,null,null,null,null,null,null,null,null,null,null,null,null,null,null,null,null,null,null,null,null,null,null,null,null,null,null,null,null,null,null,null,null,null,null,null,null,null,null,null,null,null,null,null,null,null,null,null,null,null,null,null,null,null,null,null,null,null,null,null,null,null,null,null,null,null,null,null,null,null,null,null,null,null,null,null,null,null,null,null,null,null,null,null,null,null,null,null,null,null,null,null,null,null,null,null,null,null,null,null,null,null,null,null,null,null,null,null,null,null,null,null,null,null,null,null,null,null,null,null,null,null,null,null,null,null,null,null,null,null,null,null,null,null,null,null,null,null,null,null,null,null,null,null,null,null,null,null,null,null,null,null,null,null,null,null,null,null,null,null,null,null,null,null,null,null,null,null,null,null,null,null,null,null,null,null,null,null,null,null,null,null,null,null,null,null,null,null,null,null,null,null,null,null,null,null,null,null,null,null,null,null,null,null,null,null,null,null,null,null,null,null,0,"TRUE","OK",{"$f":"IF(JE71,VLOOKUP(MIN(JF71:JI71),'Data Validation (hidden)'!$G$30:$H$34,2,FALSE),IF(COUNTA(E71:E71)>0,\"'Scheme (Fund) Name' missing but values entered in other columns.\",\"OK\"))","v":"OK"},null,"OK",null,false,1,2,{"$f":"IF(AND(IX71>'Scheme and Member Information'!I71, E71=\"Yes\"),\"\",\"\")","v":""},4,true,true,false,true,false]
[null,{"$f":"'Scheme and Member Information'!B72","v":0},{"$f":"'Scheme and Member Information'!C72","v":0},null,null,null,null,null,null,null,null,null,null,null,null,null,null,null,null,null,null,null,null,null,null,null,null,null,null,null,null,null,null,null,null,null,null,null,null,null,null,null,null,null,null,null,null,null,null,null,null,null,null,null,null,null,null,null,null,null,null,null,null,null,null,null,null,null,null,null,null,null,null,null,null,null,null,null,null,null,null,null,null,null,null,null,null,null,null,null,null,null,null,null,null,null,null,null,null,null,null,null,null,null,null,null,null,null,null,null,null,null,null,null,null,null,null,null,null,null,null,null,null,null,null,null,null,null,null,null,null,null,null,null,null,null,null,null,null,null,null,null,null,null,null,null,null,null,null,null,null,null,null,null,null,null,null,null,null,null,null,null,null,null,null,null,null,null,null,null,null,null,null,null,null,null,null,null,null,null,null,null,null,null,null,null,null,null,null,null,null,null,null,null,null,null,null,null,null,null,null,null,null,null,null,null,null,null,null,null,null,null,null,null,null,null,null,null,null,null,null,null,null,null,null,null,null,null,null,null,null,null,null,null,null,null,null,null,null,null,null,null,null,null,null,null,null,null,null,null,null,null,null,null,null,null,null,{"$f":"SUM(F72:IW72)","v":0},"TRUE","OK",{"$f":"IF(JE72,VLOOKUP(MIN(JF72:JI72),'Data Validation (hidden)'!$G$30:$H$34,2,FALSE),IF(COUNTA(E72:E72)>0,\"'Scheme (Fund) Name' missing but values entered in other columns.\",\"OK\"))","v":"OK"},null,"OK",null,false,1,2,{"$f":"IF(AND(IX72>'Scheme and Member Information'!I72, E72=\"Yes\"),\"\",\"\")","v":""},4,{"$f":"IF(CELL(\"format\",E72)=\"G\",TRUE,FALSE)","v":true},{"$f":"IF(CELL(\"format\",C72)=\"F0\",TRUE,FALSE)","v":true},false,{"$f":"IF(CELL(\"format\",F72:IW72)=\"F0\",TRUE,FALSE)","v":true},false]
[null,{"$f":"'Scheme and Member Information'!B73","v":0},{"$f":"'Scheme and Member Information'!C73","v":0},null,null,null,null,null,null,null,null,null,null,null,null,null,null,null,null,null,null,null,null,null,null,null,null,null,null,null,null,null,null,null,null,null,null,null,null,null,null,null,null,null,null,null,null,null,null,null,null,null,null,null,null,null,null,null,null,null,null,null,null,null,null,null,null,null,null,null,null,null,null,null,null,null,null,null,null,null,null,null,null,null,null,null,null,null,null,null,null,null,null,null,null,null,null,null,null,null,null,null,null,null,null,null,null,null,null,null,null,null,null,null,null,null,null,null,null,null,null,null,null,null,null,null,null,null,null,null,null,null,null,null,null,null,null,null,null,null,null,null,null,null,null,null,null,null,null,null,null,null,null,null,null,null,null,null,null,null,null,null,null,null,null,null,null,null,null,null,null,null,null,null,null,null,null,null,null,null,null,null,null,null,null,null,null,null,null,null,null,null,null,null,null,null,null,null,null,null,null,null,null,null,null,null,null,null,null,null,null,null,null,null,null,null,null,null,null,null,null,null,null,null,null,null,null,null,null,null,null,null,null,null,null,null,null,null,null,null,null,null,null,null,null,null,null,null,null,null,null,null,null,null,null,null,null,0,{"$f":"IF(OR(B73=\"\",B73=0), IF(IX73=0,\"TRUE\", \"FALSE\"), IF(E73=\"No\",\"TRUE\",IF(IX73=0, \"FALSE\", \"TRUE\")))","v":"TRUE"},{"$f":"IF(IY73=\"TRUE\",\"OK\",IF(OR(B73=\"\",B73=0),\"Scheme (Fund) Name' missing but values entered in other columns.\",\"Please state the number of members in the relevant jurisdiction.\"))","v":"OK"},{"$f":"IF(JE73,VLOOKUP(MIN(JF73:JI73),'Data Validation (hidden)'!$G$30:$H$34,2,FALSE),IF(COUNTA(E73:E73)>0,\"'Scheme (Fund) Name' missing but values entered in other columns.\",\"OK\"))","v":"OK"},null,{"$f":"IF(JA73<>\"OK\",JA73,IZ73)","v":"OK"},null,{"$f":"AND(B73<>\"\",B73<>0)","v":false},{"$f":"IF(C73=\"\",1,IF(C73=0,1,\"\"))","v":1},{"$f":"IF(E73<>\"\",\"\",2)","v":2},{"$f":"IF(AND(IX73>'Scheme and Member Information'!I73, E73=\"Yes\"),\"\",\"\")","v":""},{"$f":"IF(AND(JJ73,JK73,JL73,JM73)=TRUE,\"\",4)","v":4},true,true,{"$f":"OR(E73=\"Yes\",E73=\"No\")","v":false},true,{"$f":"IF(JC73=\"OK\",FALSE,TRUE)","v":false}]
[null,{"$f":"'Scheme and Member Information'!B74","v":0},{"$f":"'Scheme and Member Information'!C74","v":0},null,null,null,null,null,null,null,null,null,null,null,null,null,null,null,null,null,null,null,null,null,null,null,null,null,null,null,null,null,null,null,null,null,null,null,null,null,null,null,null,null,null,null,null,null,null,null,null,null,null,null,null,null,null,null,null,null,null,null,null,null,null,null,null,null,null,null,null,null,null,null,null,null,null,null,null,null,null,null,null,null,null,null,null,null,null,null,null,null,null,null,null,null,null,null,null,null,null,null,null,null,null,null,null,null,null,null,null,null,null,null,null,null,null,null,null,null,null,null,null,null,null,null,null,null,null,null,null,null,null,null,null,null,null,null,null,null,null,null,null,null,null,null,null,null,null,null,null,null,null,null,null,null,null,null,null,null,null,null,null,null,null,null,null,null,null,null,null,null,null,null,null,null,null,null,null,null,null,null,null,null,null,null,null,null,null,null,null,null,null,null,null,null,null,null,null,null,null,null,null,null,null,null,null,null,null,null,null,null,null,null,null,null,null,null,null,null,null,null,null,null,null,null,null,null,null,null,null,null,null,null,null,null,null,null,null,null,null,null,null,null,null,null,null,null,null,null,null,null,null,null,null,null,null,0,"TRUE","OK",{"$f":"IF(JE74,VLOOKUP(MIN(JF74:JI74),'Data Validation (hidden)'!$G$30:$H$34,2,FALSE),IF(COUNTA(E74:E74)>0,\"'Scheme (Fund) Name' missing but values entered in other columns.\",\"OK\"))","v":"OK"},null,"OK",null,false,1,2,{"$f":"IF(AND(IX74>'Scheme and Member Information'!I74, E74=\"Yes\"),\"\",\"\")","v":""},4,true,true,false,true,false]
[null,{"$f":"'Scheme and Member Information'!B75","v":0},{"$f":"'Scheme and Member Information'!C75","v":0},null,null,null,null,null,null,null,null,null,null,null,null,null,null,null,null,null,null,null,null,null,null,null,null,null,null,null,null,null,null,null,null,null,null,null,null,null,null,null,null,null,null,null,null,null,null,null,null,null,null,null,null,null,null,null,null,null,null,null,null,null,null,null,null,null,null,null,null,null,null,null,null,null,null,null,null,null,null,null,null,null,null,null,null,null,null,null,null,null,null,null,null,null,null,null,null,null,null,null,null,null,null,null,null,null,null,null,null,null,null,null,null,null,null,null,null,null,null,null,null,null,null,null,null,null,null,null,null,null,null,null,null,null,null,null,null,null,null,null,null,null,null,null,null,null,null,null,null,null,null,null,null,null,null,null,null,null,null,null,null,null,null,null,null,null,null,null,null,null,null,null,null,null,null,null,null,null,null,null,null,null,null,null,null,null,null,null,null,null,null,null,null,null,null,null,null,null,null,null,null,null,null,null,null,null,null,null,null,null,null,null,null,null,null,null,null,null,null,null,null,null,null,null,null,null,null,null,null,null,null,null,null,null,null,null,null,null,null,null,null,null,null,null,null,null,null,null,null,null,null,null,null,null,null,0,"TRUE","OK",{"$f":"IF(JE75,VLOOKUP(MIN(JF75:JI75),'Data Validation (hidden)'!$G$30:$H$34,2,FALSE),IF(COUNTA(E75:E75)>0,\"'Scheme (Fund) Name' missing but values entered in other columns.\",\"OK\"))","v":"OK"},null,"OK",null,false,1,2,{"$f":"IF(AND(IX75>'Scheme and Member Information'!I75, E75=\"Yes\"),\"\",\"\")","v":""},4,true,true,false,true,false]
[null,{"$f":"'Scheme and Member Information'!B76","v":0},{"$f":"'Scheme and Member Information'!C76","v":0},null,null,null,null,null,null,null,null,null,null,null,null,null,null,null,null,null,null,null,null,null,null,null,null,null,null,null,null,null,null,null,null,null,null,null,null,null,null,null,null,null,null,null,null,null,null,null,null,null,null,null,null,null,null,null,null,null,null,null,null,null,null,null,null,null,null,null,null,null,null,null,null,null,null,null,null,null,null,null,null,null,null,null,null,null,null,null,null,null,null,null,null,null,null,null,null,null,null,null,null,null,null,null,null,null,null,null,null,null,null,null,null,null,null,null,null,null,null,null,null,null,null,null,null,null,null,null,null,null,null,null,null,null,null,null,null,null,null,null,null,null,null,null,null,null,null,null,null,null,null,null,null,null,null,null,null,null,null,null,null,null,null,null,null,null,null,null,null,null,null,null,null,null,null,null,null,null,null,null,null,null,null,null,null,null,null,null,null,null,null,null,null,null,null,null,null,null,null,null,null,null,null,null,null,null,null,null,null,null,null,null,null,null,null,null,null,null,null,null,null,null,null,null,null,null,null,null,null,null,null,null,null,null,null,null,null,null,null,null,null,null,null,null,null,null,null,null,null,null,null,null,null,null,null,0,"TRUE","OK",{"$f":"IF(JE76,VLOOKUP(MIN(JF76:JI76),'Data Validation (hidden)'!$G$30:$H$34,2,FALSE),IF(COUNTA(E76:E76)>0,\"'Scheme (Fund) Name' missing but values entered in other columns.\",\"OK\"))","v":"OK"},null,"OK",null,false,1,2,{"$f":"IF(AND(IX76>'Scheme and Member Information'!I76, E76=\"Yes\"),\"\",\"\")","v":""},4,true,true,false,true,false]
[null,{"$f":"'Scheme and Member Information'!B77","v":0},{"$f":"'Scheme and Member Information'!C77","v":0},null,null,null,null,null,null,null,null,null,null,null,null,null,null,null,null,null,null,null,null,null,null,null,null,null,null,null,null,null,null,null,null,null,null,null,null,null,null,null,null,null,null,null,null,null,null,null,null,null,null,null,null,null,null,null,null,null,null,null,null,null,null,null,null,null,null,null,null,null,null,null,null,null,null,null,null,null,null,null,null,null,null,null,null,null,null,null,null,null,null,null,null,null,null,null,null,null,null,null,null,null,null,null,null,null,null,null,null,null,null,null,null,null,null,null,null,null,null,null,null,null,null,null,null,null,null,null,null,null,null,null,null,null,null,null,null,null,null,null,null,null,null,null,null,null,null,null,null,null,null,null,null,null,null,null,null,null,null,null,null,null,null,null,null,null,null,null,null,null,null,null,null,null,null,null,null,null,null,null,null,null,null,null,null,null,null,null,null,null,null,null,null,null,null,null,null,null,null,null,null,null,null,null,null,null,null,null,null,null,null,null,null,null,null,null,null,null,null,null,null,null,null,null,null,null,null,null,null,null,null,null,null,null,null,null,null,null,null,null,null,null,null,null,null,null,null,null,null,null,null,null,null,null,null,0,"TRUE","OK",{"$f":"IF(JE77,VLOOKUP(MIN(JF77:JI77),'Data Validation (hidden)'!$G$30:$H$34,2,FALSE),IF(COUNTA(E77:E77)>0,\"'Scheme (Fund) Name' missing but values entered in other columns.\",\"OK\"))","v":"OK"},null,"OK",null,false,1,2,{"$f":"IF(AND(IX77>'Scheme and Member Information'!I77, E77=\"Yes\"),\"\",\"\")","v":""},4,true,true,false,true,false]
[null,{"$f":"'Scheme and Member Information'!B78","v":0},{"$f":"'Scheme and Member Information'!C78","v":0},null,null,null,null,null,null,null,null,null,null,null,null,null,null,null,null,null,null,null,null,null,null,null,null,null,null,null,null,null,null,null,null,null,null,null,null,null,null,null,null,null,null,null,null,null,null,null,null,null,null,null,null,null,null,null,null,null,null,null,null,null,null,null,null,null,null,null,null,null,null,null,null,null,null,null,null,null,null,null,null,null,null,null,null,null,null,null,null,null,null,null,null,null,null,null,null,null,null,null,null,null,null,null,null,null,null,null,null,null,null,null,null,null,null,null,null,null,null,null,null,null,null,null,null,null,null,null,null,null,null,null,null,null,null,null,null,null,null,null,null,null,null,null,null,null,null,null,null,null,null,null,null,null,null,null,null,null,null,null,null,null,null,null,null,null,null,null,null,null,null,null,null,null,null,null,null,null,null,null,null,null,null,null,null,null,null,null,null,null,null,null,null,null,null,null,null,null,null,null,null,null,null,null,null,null,null,null,null,null,null,null,null,null,null,null,null,null,null,null,null,null,null,null,null,null,null,null,null,null,null,null,null,null,null,null,null,null,null,null,null,null,null,null,null,null,null,null,null,null,null,null,null,null,null,0,"TRUE","OK",{"$f":"IF(JE78,VLOOKUP(MIN(JF78:JI78),'Data Validation (hidden)'!$G$30:$H$34,2,FALSE),IF(COUNTA(E78:E78)>0,\"'Scheme (Fund) Name' missing but values entered in other columns.\",\"OK\"))","v":"OK"},null,"OK",null,false,1,2,{"$f":"IF(AND(IX78>'Scheme and Member Information'!I78, E78=\"Yes\"),\"\",\"\")","v":""},4,true,true,false,true,false]
[null,{"$f":"'Scheme and Member Information'!B79","v":0},{"$f":"'Scheme and Member Information'!C79","v":0},null,null,null,null,null,null,null,null,null,null,null,null,null,null,null,null,null,null,null,null,null,null,null,null,null,null,null,null,null,null,null,null,null,null,null,null,null,null,null,null,null,null,null,null,null,null,null,null,null,null,null,null,null,null,null,null,null,null,null,null,null,null,null,null,null,null,null,null,null,null,null,null,null,null,null,null,null,null,null,null,null,null,null,null,null,null,null,null,null,null,null,null,null,null,null,null,null,null,null,null,null,null,null,null,null,null,null,null,null,null,null,null,null,null,null,null,null,null,null,null,null,null,null,null,null,null,null,null,null,null,null,null,null,null,null,null,null,null,null,null,null,null,null,null,null,null,null,null,null,null,null,null,null,null,null,null,null,null,null,null,null,null,null,null,null,null,null,null,null,null,null,null,null,null,null,null,null,null,null,null,null,null,null,null,null,null,null,null,null,null,null,null,null,null,null,null,null,null,null,null,null,null,null,null,null,null,null,null,null,null,null,null,null,null,null,null,null,null,null,null,null,null,null,null,null,null,null,null,null,null,null,null,null,null,null,null,null,null,null,null,null,null,null,null,null,null,null,null,null,null,null,null,null,null,0,"TRUE","OK",{"$f":"IF(JE79,VLOOKUP(MIN(JF79:JI79),'Data Validation (hidden)'!$G$30:$H$34,2,FALSE),IF(COUNTA(E79:E79)>0,\"'Scheme (Fund) Name' missing but values entered in other columns.\",\"OK\"))","v":"OK"},null,"OK",null,false,1,2,{"$f":"IF(AND(IX79>'Scheme and Member Information'!I79, E79=\"Yes\"),\"\",\"\")","v":""},4,true,true,false,true,false]
[null,{"$f":"'Scheme and Member Information'!B80","v":0},{"$f":"'Scheme and Member Information'!C80","v":0},null,null,null,null,null,null,null,null,null,null,null,null,null,null,null,null,null,null,null,null,null,null,null,null,null,null,null,null,null,null,null,null,null,null,null,null,null,null,null,null,null,null,null,null,null,null,null,null,null,null,null,null,null,null,null,null,null,null,null,null,null,null,null,null,null,null,null,null,null,null,null,null,null,null,null,null,null,null,null,null,null,null,null,null,null,null,null,null,null,null,null,null,null,null,null,null,null,null,null,null,null,null,null,null,null,null,null,null,null,null,null,null,null,null,null,null,null,null,null,null,null,null,null,null,null,null,null,null,null,null,null,null,null,null,null,null,null,null,null,null,null,null,null,null,null,null,null,null,null,null,null,null,null,null,null,null,null,null,null,null,null,null,null,null,null,null,null,null,null,null,null,null,null,null,null,null,null,null,null,null,null,null,null,null,null,null,null,null,null,null,null,null,null,null,null,null,null,null,null,null,null,null,null,null,null,null,null,null,null,null,null,null,null,null,null,null,null,null,null,null,null,null,null,null,null,null,null,null,null,null,null,null,null,null,null,null,null,null,null,null,null,null,null,null,null,null,null,null,null,null,null,null,null,null,0,"TRUE","OK",{"$f":"IF(JE80,VLOOKUP(MIN(JF80:JI80),'Data Validation (hidden)'!$G$30:$H$34,2,FALSE),IF(COUNTA(E80:E80)>0,\"'Scheme (Fund) Name' missing but values entered in other columns.\",\"OK\"))","v":"OK"},null,"OK",null,false,1,2,{"$f":"IF(AND(IX80>'Scheme and Member Information'!I80, E80=\"Yes\"),\"\",\"\")","v":""},4,true,true,false,true,false]
[null,{"$f":"'Scheme and Member Information'!B81","v":0},{"$f":"'Scheme and Member Information'!C81","v":0},null,null,null,null,null,null,null,null,null,null,null,null,null,null,null,null,null,null,null,null,null,null,null,null,null,null,null,null,null,null,null,null,null,null,null,null,null,null,null,null,null,null,null,null,null,null,null,null,null,null,null,null,null,null,null,null,null,null,null,null,null,null,null,null,null,null,null,null,null,null,null,null,null,null,null,null,null,null,null,null,null,null,null,null,null,null,null,null,null,null,null,null,null,null,null,null,null,null,null,null,null,null,null,null,null,null,null,null,null,null,null,null,null,null,null,null,null,null,null,null,null,null,null,null,null,null,null,null,null,null,null,null,null,null,null,null,null,null,null,null,null,null,null,null,null,null,null,null,null,null,null,null,null,null,null,null,null,null,null,null,null,null,null,null,null,null,null,null,null,null,null,null,null,null,null,null,null,null,null,null,null,null,null,null,null,null,null,null,null,null,null,null,null,null,null,null,null,null,null,null,null,null,null,null,null,null,null,null,null,null,null,null,null,null,null,null,null,null,null,null,null,null,null,null,null,null,null,null,null,null,null,null,null,null,null,null,null,null,null,null,null,null,null,null,null,null,null,null,null,null,null,null,null,null,0,"TRUE","OK",{"$f":"IF(JE81,VLOOKUP(MIN(JF81:JI81),'Data Validation (hidden)'!$G$30:$H$34,2,FALSE),IF(COUNTA(E81:E81)>0,\"'Scheme (Fund) Name' missing but values entered in other columns.\",\"OK\"))","v":"OK"},null,"OK",null,false,1,2,{"$f":"IF(AND(IX81>'Scheme and Member Information'!I81, E81=\"Yes\"),\"\",\"\")","v":""},4,true,true,false,true,false]
[null,{"$f":"'Scheme and Member Information'!B82","v":0},{"$f":"'Scheme and Member Information'!C82","v":0},null,null,null,null,null,null,null,null,null,null,null,null,null,null,null,null,null,null,null,null,null,null,null,null,null,null,null,null,null,null,null,null,null,null,null,null,null,null,null,null,null,null,null,null,null,null,null,null,null,null,null,null,null,null,null,null,null,null,null,null,null,null,null,null,null,null,null,null,null,null,null,null,null,null,null,null,null,null,null,null,null,null,null,null,null,null,null,null,null,null,null,null,null,null,null,null,null,null,null,null,null,null,null,null,null,null,null,null,null,null,null,null,null,null,null,null,null,null,null,null,null,null,null,null,null,null,null,null,null,null,null,null,null,null,null,null,null,null,null,null,null,null,null,null,null,null,null,null,null,null,null,null,null,null,null,null,null,null,null,null,null,null,null,null,null,null,null,null,null,null,null,null,null,null,null,null,null,null,null,null,null,null,null,null,null,null,null,null,null,null,null,null,null,null,null,null,null,null,null,null,null,null,null,null,null,null,null,null,null,null,null,null,null,null,null,null,null,null,null,null,null,null,null,null,null,null,null,null,null,null,null,null,null,null,null,null,null,null,null,null,null,null,null,null,null,null,null,null,null,null,null,null,null,null,0,"TRUE","OK",{"$f":"IF(JE82,VLOOKUP(MIN(JF82:JI82),'Data Validation (hidden)'!$G$30:$H$34,2,FALSE),IF(COUNTA(E82:E82)>0,\"'Scheme (Fund) Name' missing but values entered in other columns.\",\"OK\"))","v":"OK"},null,"OK",null,false,1,2,{"$f":"IF(AND(IX82>'Scheme and Member Information'!I82, E82=\"Yes\"),\"\",\"\")","v":""},4,true,true,false,true,false]
[null,{"$f":"'Scheme and Member Information'!B83","v":0},{"$f":"'Scheme and Member Information'!C83","v":0},null,null,null,null,null,null,null,null,null,null,null,null,null,null,null,null,null,null,null,null,null,null,null,null,null,null,null,null,null,null,null,null,null,null,null,null,null,null,null,null,null,null,null,null,null,null,null,null,null,null,null,null,null,null,null,null,null,null,null,null,null,null,null,null,null,null,null,null,null,null,null,null,null,null,null,null,null,null,null,null,null,null,null,null,null,null,null,null,null,null,null,null,null,null,null,null,null,null,null,null,null,null,null,null,null,null,null,null,null,null,null,null,null,null,null,null,null,null,null,null,null,null,null,null,null,null,null,null,null,null,null,null,null,null,null,null,null,null,null,null,null,null,null,null,null,null,null,null,null,null,null,null,null,null,null,null,null,null,null,null,null,null,null,null,null,null,null,null,null,null,null,null,null,null,null,null,null,null,null,null,null,null,null,null,null,null,null,null,null,null,null,null,null,null,null,null,null,null,null,null,null,null,null,null,null,null,null,null,null,null,null,null,null,null,null,null,null,null,null,null,null,null,null,null,null,null,null,null,null,null,null,null,null,null,null,null,null,null,null,null,null,null,null,null,null,null,null,null,null,null,null,null,null,null,0,"TRUE","OK",{"$f":"IF(JE83,VLOOKUP(MIN(JF83:JI83),'Data Validation (hidden)'!$G$30:$H$34,2,FALSE),IF(COUNTA(E83:E83)>0,\"'Scheme (Fund) Name' missing but values entered in other columns.\",\"OK\"))","v":"OK"},null,"OK",null,false,1,2,{"$f":"IF(AND(IX83>'Scheme and Member Information'!I83, E83=\"Yes\"),\"\",\"\")","v":""},4,true,true,false,true,false]
[null,{"$f":"'Scheme and Member Information'!B84","v":0},{"$f":"'Scheme and Member Information'!C84","v":0},null,null,null,null,null,null,null,null,null,null,null,null,null,null,null,null,null,null,null,null,null,null,null,null,null,null,null,null,null,null,null,null,null,null,null,null,null,null,null,null,null,null,null,null,null,null,null,null,null,null,null,null,null,null,null,null,null,null,null,null,null,null,null,null,null,null,null,null,null,null,null,null,null,null,null,null,null,null,null,null,null,null,null,null,null,null,null,null,null,null,null,null,null,null,null,null,null,null,null,null,null,null,null,null,null,null,null,null,null,null,null,null,null,null,null,null,null,null,null,null,null,null,null,null,null,null,null,null,null,null,null,null,null,null,null,null,null,null,null,null,null,null,null,null,null,null,null,null,null,null,null,null,null,null,null,null,null,null,null,null,null,null,null,null,null,null,null,null,null,null,null,null,null,null,null,null,null,null,null,null,null,null,null,null,null,null,null,null,null,null,null,null,null,null,null,null,null,null,null,null,null,null,null,null,null,null,null,null,null,null,null,null,null,null,null,null,null,null,null,null,null,null,null,null,null,null,null,null,null,null,null,null,null,null,null,null,null,null,null,null,null,null,null,null,null,null,null,null,null,null,null,null,null,null,0,"TRUE","OK",{"$f":"IF(JE84,VLOOKUP(MIN(JF84:JI84),'Data Validation (hidden)'!$G$30:$H$34,2,FALSE),IF(COUNTA(E84:E84)>0,\"'Scheme (Fund) Name' missing but values entered in other columns.\",\"OK\"))","v":"OK"},null,"OK",null,false,1,2,{"$f":"IF(AND(IX84>'Scheme and Member Information'!I84, E84=\"Yes\"),\"\",\"\")","v":""},4,true,true,false,true,false]
[null,{"$f":"'Scheme and Member Information'!B85","v":0},{"$f":"'Scheme and Member Information'!C85","v":0},null,null,null,null,null,null,null,null,null,null,null,null,null,null,null,null,null,null,null,null,null,null,null,null,null,null,null,null,null,null,null,null,null,null,null,null,null,null,null,null,null,null,null,null,null,null,null,null,null,null,null,null,null,null,null,null,null,null,null,null,null,null,null,null,null,null,null,null,null,null,null,null,null,null,null,null,null,null,null,null,null,null,null,null,null,null,null,null,null,null,null,null,null,null,null,null,null,null,null,null,null,null,null,null,null,null,null,null,null,null,null,null,null,null,null,null,null,null,null,null,null,null,null,null,null,null,null,null,null,null,null,null,null,null,null,null,null,null,null,null,null,null,null,null,null,null,null,null,null,null,null,null,null,null,null,null,null,null,null,null,null,null,null,null,null,null,null,null,null,null,null,null,null,null,null,null,null,null,null,null,null,null,null,null,null,null,null,null,null,null,null,null,null,null,null,null,null,null,null,null,null,null,null,null,null,null,null,null,null,null,null,null,null,null,null,null,null,null,null,null,null,null,null,null,null,null,null,null,null,null,null,null,null,null,null,null,null,null,null,null,null,null,null,null,null,null,null,null,null,null,null,null,null,null,0,"TRUE","OK",{"$f":"IF(JE85,VLOOKUP(MIN(JF85:JI85),'Data Validation (hidden)'!$G$30:$H$34,2,FALSE),IF(COUNTA(E85:E85)>0,\"'Scheme (Fund) Name' missing but values entered in other columns.\",\"OK\"))","v":"OK"},null,"OK",null,false,1,2,{"$f":"IF(AND(IX85>'Scheme and Member Information'!I85, E85=\"Yes\"),\"\",\"\")","v":""},4,true,true,false,true,false]
[null,{"$f":"'Scheme and Member Information'!B86","v":0},{"$f":"'Scheme and Member Information'!C86","v":0},null,null,null,null,null,null,null,null,null,null,null,null,null,null,null,null,null,null,null,null,null,null,null,null,null,null,null,null,null,null,null,null,null,null,null,null,null,null,null,null,null,null,null,null,null,null,null,null,null,null,null,null,null,null,null,null,null,null,null,null,null,null,null,null,null,null,null,null,null,null,null,null,null,null,null,null,null,null,null,null,null,null,null,null,null,null,null,null,null,null,null,null,null,null,null,null,null,null,null,null,null,null,null,null,null,null,null,null,null,null,null,null,null,null,null,null,null,null,null,null,null,null,null,null,null,null,null,null,null,null,null,null,null,null,null,null,null,null,null,null,null,null,null,null,null,null,null,null,null,null,null,null,null,null,null,null,null,null,null,null,null,null,null,null,null,null,null,null,null,null,null,null,null,null,null,null,null,null,null,null,null,null,null,null,null,null,null,null,null,null,null,null,null,null,null,null,null,null,null,null,null,null,null,null,null,null,null,null,null,null,null,null,null,null,null,null,null,null,null,null,null,null,null,null,null,null,null,null,null,null,null,null,null,null,null,null,null,null,null,null,null,null,null,null,null,null,null,null,null,null,null,null,null,null,0,"TRUE","OK",{"$f":"IF(JE86,VLOOKUP(MIN(JF86:JI86),'Data Validation (hidden)'!$G$30:$H$34,2,FALSE),IF(COUNTA(E86:E86)>0,\"'Scheme (Fund) Name' missing but values entered in other columns.\",\"OK\"))","v":"OK"},null,"OK",null,false,1,2,{"$f":"IF(AND(IX86>'Scheme and Member Information'!I86, E86=\"Yes\"),\"\",\"\")","v":""},4,true,true,false,true,false]
[null,{"$f":"'Scheme and Member Information'!B87","v":0},{"$f":"'Scheme and Member Information'!C87","v":0},null,null,null,null,null,null,null,null,null,null,null,null,null,null,null,null,null,null,null,null,null,null,null,null,null,null,null,null,null,null,null,null,null,null,null,null,null,null,null,null,null,null,null,null,null,null,null,null,null,null,null,null,null,null,null,null,null,null,null,null,null,null,null,null,null,null,null,null,null,null,null,null,null,null,null,null,null,null,null,null,null,null,null,null,null,null,null,null,null,null,null,null,null,null,null,null,null,null,null,null,null,null,null,null,null,null,null,null,null,null,null,null,null,null,null,null,null,null,null,null,null,null,null,null,null,null,null,null,null,null,null,null,null,null,null,null,null,null,null,null,null,null,null,null,null,null,null,null,null,null,null,null,null,null,null,null,null,null,null,null,null,null,null,null,null,null,null,null,null,null,null,null,null,null,null,null,null,null,null,null,null,null,null,null,null,null,null,null,null,null,null,null,null,null,null,null,null,null,null,null,null,null,null,null,null,null,null,null,null,null,null,null,null,null,null,null,null,null,null,null,null,null,null,null,null,null,null,null,null,null,null,null,null,null,null,null,null,null,null,null,null,null,null,null,null,null,null,null,null,null,null,null,null,null,0,"TRUE","OK",{"$f":"IF(JE87,VLOOKUP(MIN(JF87:JI87),'Data Validation (hidden)'!$G$30:$H$34,2,FALSE),IF(COUNTA(E87:E87)>0,\"'Scheme (Fund) Name' missing but values entered in other columns.\",\"OK\"))","v":"OK"},null,"OK",null,false,1,2,{"$f":"IF(AND(IX87>'Scheme and Member Information'!I87, E87=\"Yes\"),\"\",\"\")","v":""},4,true,true,false,true,false]
[null,{"$f":"'Scheme and Member Information'!B88","v":0},{"$f":"'Scheme and Member Information'!C88","v":0},null,null,null,null,null,null,null,null,null,null,null,null,null,null,null,null,null,null,null,null,null,null,null,null,null,null,null,null,null,null,null,null,null,null,null,null,null,null,null,null,null,null,null,null,null,null,null,null,null,null,null,null,null,null,null,null,null,null,null,null,null,null,null,null,null,null,null,null,null,null,null,null,null,null,null,null,null,null,null,null,null,null,null,null,null,null,null,null,null,null,null,null,null,null,null,null,null,null,null,null,null,null,null,null,null,null,null,null,null,null,null,null,null,null,null,null,null,null,null,null,null,null,null,null,null,null,null,null,null,null,null,null,null,null,null,null,null,null,null,null,null,null,null,null,null,null,null,null,null,null,null,null,null,null,null,null,null,null,null,null,null,null,null,null,null,null,null,null,null,null,null,null,null,null,null,null,null,null,null,null,null,null,null,null,null,null,null,null,null,null,null,null,null,null,null,null,null,null,null,null,null,null,null,null,null,null,null,null,null,null,null,null,null,null,null,null,null,null,null,null,null,null,null,null,null,null,null,null,null,null,null,null,null,null,null,null,null,null,null,null,null,null,null,null,null,null,null,null,null,null,null,null,null,null,0,"TRUE","OK",{"$f":"IF(JE88,VLOOKUP(MIN(JF88:JI88),'Data Validation (hidden)'!$G$30:$H$34,2,FALSE),IF(COUNTA(E88:E88)>0,\"'Scheme (Fund) Name' missing but values entered in other columns.\",\"OK\"))","v":"OK"},null,"OK",null,false,1,2,{"$f":"IF(AND(IX88>'Scheme and Member Information'!I88, E88=\"Yes\"),\"\",\"\")","v":""},4,true,true,false,true,false]
[null,{"$f":"'Scheme and Member Information'!B89","v":0},{"$f":"'Scheme and Member Information'!C89","v":0},null,null,null,null,null,null,null,null,null,null,null,null,null,null,null,null,null,null,null,null,null,null,null,null,null,null,null,null,null,null,null,null,null,null,null,null,null,null,null,null,null,null,null,null,null,null,null,null,null,null,null,null,null,null,null,null,null,null,null,null,null,null,null,null,null,null,null,null,null,null,null,null,null,null,null,null,null,null,null,null,null,null,null,null,null,null,null,null,null,null,null,null,null,null,null,null,null,null,null,null,null,null,null,null,null,null,null,null,null,null,null,null,null,null,null,null,null,null,null,null,null,null,null,null,null,null,null,null,null,null,null,null,null,null,null,null,null,null,null,null,null,null,null,null,null,null,null,null,null,null,null,null,null,null,null,null,null,null,null,null,null,null,null,null,null,null,null,null,null,null,null,null,null,null,null,null,null,null,null,null,null,null,null,null,null,null,null,null,null,null,null,null,null,null,null,null,null,null,null,null,null,null,null,null,null,null,null,null,null,null,null,null,null,null,null,null,null,null,null,null,null,null,null,null,null,null,null,null,null,null,null,null,null,null,null,null,null,null,null,null,null,null,null,null,null,null,null,null,null,null,null,null,null,null,0,"TRUE","OK",{"$f":"IF(JE89,VLOOKUP(MIN(JF89:JI89),'Data Validation (hidden)'!$G$30:$H$34,2,FALSE),IF(COUNTA(E89:E89)>0,\"'Scheme (Fund) Name' missing but values entered in other columns.\",\"OK\"))","v":"OK"},null,"OK",null,false,1,2,{"$f":"IF(AND(IX89>'Scheme and Member Information'!I89, E89=\"Yes\"),\"\",\"\")","v":""},4,true,true,false,true,false]
[null,{"$f":"'Scheme and Member Information'!B90","v":0},{"$f":"'Scheme and Member Information'!C90","v":0},null,null,null,null,null,null,null,null,null,null,null,null,null,null,null,null,null,null,null,null,null,null,null,null,null,null,null,null,null,null,null,null,null,null,null,null,null,null,null,null,null,null,null,null,null,null,null,null,null,null,null,null,null,null,null,null,null,null,null,null,null,null,null,null,null,null,null,null,null,null,null,null,null,null,null,null,null,null,null,null,null,null,null,null,null,null,null,null,null,null,null,null,null,null,null,null,null,null,null,null,null,null,null,null,null,null,null,null,null,null,null,null,null,null,null,null,null,null,null,null,null,null,null,null,null,null,null,null,null,null,null,null,null,null,null,null,null,null,null,null,null,null,null,null,null,null,null,null,null,null,null,null,null,null,null,null,null,null,null,null,null,null,null,null,null,null,null,null,null,null,null,null,null,null,null,null,null,null,null,null,null,null,null,null,null,null,null,null,null,null,null,null,null,null,null,null,null,null,null,null,null,null,null,null,null,null,null,null,null,null,null,null,null,null,null,null,null,null,null,null,null,null,null,null,null,null,null,null,null,null,null,null,null,null,null,null,null,null,null,null,null,null,null,null,null,null,null,null,null,null,null,null,null,null,0,"TRUE","OK",{"$f":"IF(JE90,VLOOKUP(MIN(JF90:JI90),'Data Validation (hidden)'!$G$30:$H$34,2,FALSE),IF(COUNTA(E90:E90)>0,\"'Scheme (Fund) Name' missing but values entered in other columns.\",\"OK\"))","v":"OK"},null,"OK",null,false,1,2,{"$f":"IF(AND(IX90>'Scheme and Member Information'!I90, E90=\"Yes\"),\"\",\"\")","v":""},4,true,true,false,true,false]
[null,{"$f":"'Scheme and Member Information'!B91","v":0},{"$f":"'Scheme and Member Information'!C91","v":0},null,null,null,null,null,null,null,null,null,null,null,null,null,null,null,null,null,null,null,null,null,null,null,null,null,null,null,null,null,null,null,null,null,null,null,null,null,null,null,null,null,null,null,null,null,null,null,null,null,null,null,null,null,null,null,null,null,null,null,null,null,null,null,null,null,null,null,null,null,null,null,null,null,null,null,null,null,null,null,null,null,null,null,null,null,null,null,null,null,null,null,null,null,null,null,null,null,null,null,null,null,null,null,null,null,null,null,null,null,null,null,null,null,null,null,null,null,null,null,null,null,null,null,null,null,null,null,null,null,null,null,null,null,null,null,null,null,null,null,null,null,null,null,null,null,null,null,null,null,null,null,null,null,null,null,null,null,null,null,null,null,null,null,null,null,null,null,null,null,null,null,null,null,null,null,null,null,null,null,null,null,null,null,null,null,null,null,null,null,null,null,null,null,null,null,null,null,null,null,null,null,null,null,null,null,null,null,null,null,null,null,null,null,null,null,null,null,null,null,null,null,null,null,null,null,null,null,null,null,null,null,null,null,null,null,null,null,null,null,null,null,null,null,null,null,null,null,null,null,null,null,null,null,null,0,"TRUE","OK",{"$f":"IF(JE91,VLOOKUP(MIN(JF91:JI91),'Data Validation (hidden)'!$G$30:$H$34,2,FALSE),IF(COUNTA(E91:E91)>0,\"'Scheme (Fund) Name' missing but values entered in other columns.\",\"OK\"))","v":"OK"},null,"OK",null,false,1,2,{"$f":"IF(AND(IX91>'Scheme and Member Information'!I91, E91=\"Yes\"),\"\",\"\")","v":""},4,true,true,false,true,false]
[null,{"$f":"'Scheme and Member Information'!B92","v":0},{"$f":"'Scheme and Member Information'!C92","v":0},null,null,null,null,null,null,null,null,null,null,null,null,null,null,null,null,null,null,null,null,null,null,null,null,null,null,null,null,null,null,null,null,null,null,null,null,null,null,null,null,null,null,null,null,null,null,null,null,null,null,null,null,null,null,null,null,null,null,null,null,null,null,null,null,null,null,null,null,null,null,null,null,null,null,null,null,null,null,null,null,null,null,null,null,null,null,null,null,null,null,null,null,null,null,null,null,null,null,null,null,null,null,null,null,null,null,null,null,null,null,null,null,null,null,null,null,null,null,null,null,null,null,null,null,null,null,null,null,null,null,null,null,null,null,null,null,null,null,null,null,null,null,null,null,null,null,null,null,null,null,null,null,null,null,null,null,null,null,null,null,null,null,null,null,null,null,null,null,null,null,null,null,null,null,null,null,null,null,null,null,null,null,null,null,null,null,null,null,null,null,null,null,null,null,null,null,null,null,null,null,null,null,null,null,null,null,null,null,null,null,null,null,null,null,null,null,null,null,null,null,null,null,null,null,null,null,null,null,null,null,null,null,null,null,null,null,null,null,null,null,null,null,null,null,null,null,null,null,null,null,null,null,null,null,0,"TRUE","OK",{"$f":"IF(JE92,VLOOKUP(MIN(JF92:JI92),'Data Validation (hidden)'!$G$30:$H$34,2,FALSE),IF(COUNTA(E92:E92)>0,\"'Scheme (Fund) Name' missing but values entered in other columns.\",\"OK\"))","v":"OK"},null,"OK",null,false,1,2,{"$f":"IF(AND(IX92>'Scheme and Member Information'!I92, E92=\"Yes\"),\"\",\"\")","v":""},4,true,true,false,true,false]
[null,{"$f":"'Scheme and Member Information'!B93","v":0},{"$f":"'Scheme and Member Information'!C93","v":0},null,null,null,null,null,null,null,null,null,null,null,null,null,null,null,null,null,null,null,null,null,null,null,null,null,null,null,null,null,null,null,null,null,null,null,null,null,null,null,null,null,null,null,null,null,null,null,null,null,null,null,null,null,null,null,null,null,null,null,null,null,null,null,null,null,null,null,null,null,null,null,null,null,null,null,null,null,null,null,null,null,null,null,null,null,null,null,null,null,null,null,null,null,null,null,null,null,null,null,null,null,null,null,null,null,null,null,null,null,null,null,null,null,null,null,null,null,null,null,null,null,null,null,null,null,null,null,null,null,null,null,null,null,null,null,null,null,null,null,null,null,null,null,null,null,null,null,null,null,null,null,null,null,null,null,null,null,null,null,null,null,null,null,null,null,null,null,null,null,null,null,null,null,null,null,null,null,null,null,null,null,null,null,null,null,null,null,null,null,null,null,null,null,null,null,null,null,null,null,null,null,null,null,null,null,null,null,null,null,null,null,null,null,null,null,null,null,null,null,null,null,null,null,null,null,null,null,null,null,null,null,null,null,null,null,null,null,null,null,null,null,null,null,null,null,null,null,null,null,null,null,null,null,null,0,"TRUE","OK",{"$f":"IF(JE93,VLOOKUP(MIN(JF93:JI93),'Data Validation (hidden)'!$G$30:$H$34,2,FALSE),IF(COUNTA(E93:E93)>0,\"'Scheme (Fund) Name' missing but values entered in other columns.\",\"OK\"))","v":"OK"},null,"OK",null,false,1,2,{"$f":"IF(AND(IX93>'Scheme and Member Information'!I93, E93=\"Yes\"),\"\",\"\")","v":""},4,true,true,false,true,false]
[null,{"$f":"'Scheme and Member Information'!B94","v":0},{"$f":"'Scheme and Member Information'!C94","v":0},null,null,null,null,null,null,null,null,null,null,null,null,null,null,null,null,null,null,null,null,null,null,null,null,null,null,null,null,null,null,null,null,null,null,null,null,null,null,null,null,null,null,null,null,null,null,null,null,null,null,null,null,null,null,null,null,null,null,null,null,null,null,null,null,null,null,null,null,null,null,null,null,null,null,null,null,null,null,null,null,null,null,null,null,null,null,null,null,null,null,null,null,null,null,null,null,null,null,null,null,null,null,null,null,null,null,null,null,null,null,null,null,null,null,null,null,null,null,null,null,null,null,null,null,null,null,null,null,null,null,null,null,null,null,null,null,null,null,null,null,null,null,null,null,null,null,null,null,null,null,null,null,null,null,null,null,null,null,null,null,null,null,null,null,null,null,null,null,null,null,null,null,null,null,null,null,null,null,null,null,null,null,null,null,null,null,null,null,null,null,null,null,null,null,null,null,null,null,null,null,null,null,null,null,null,null,null,null,null,null,null,null,null,null,null,null,null,null,null,null,null,null,null,null,null,null,null,null,null,null,null,null,null,null,null,null,null,null,null,null,null,null,null,null,null,null,null,null,null,null,null,null,null,null,0,"TRUE","OK",{"$f":"IF(JE94,VLOOKUP(MIN(JF94:JI94),'Data Validation (hidden)'!$G$30:$H$34,2,FALSE),IF(COUNTA(E94:E94)>0,\"'Scheme (Fund) Name' missing but values entered in other columns.\",\"OK\"))","v":"OK"},null,"OK",null,false,1,2,{"$f":"IF(AND(IX94>'Scheme and Member Information'!I94, E94=\"Yes\"),\"\",\"\")","v":""},4,true,true,false,true,false]
[null,{"$f":"'Scheme and Member Information'!B95","v":0},{"$f":"'Scheme and Member Information'!C95","v":0},null,null,null,null,null,null,null,null,null,null,null,null,null,null,null,null,null,null,null,null,null,null,null,null,null,null,null,null,null,null,null,null,null,null,null,null,null,null,null,null,null,null,null,null,null,null,null,null,null,null,null,null,null,null,null,null,null,null,null,null,null,null,null,null,null,null,null,null,null,null,null,null,null,null,null,null,null,null,null,null,null,null,null,null,null,null,null,null,null,null,null,null,null,null,null,null,null,null,null,null,null,null,null,null,null,null,null,null,null,null,null,null,null,null,null,null,null,null,null,null,null,null,null,null,null,null,null,null,null,null,null,null,null,null,null,null,null,null,null,null,null,null,null,null,null,null,null,null,null,null,null,null,null,null,null,null,null,null,null,null,null,null,null,null,null,null,null,null,null,null,null,null,null,null,null,null,null,null,null,null,null,null,null,null,null,null,null,null,null,null,null,null,null,null,null,null,null,null,null,null,null,null,null,null,null,null,null,null,null,null,null,null,null,null,null,null,null,null,null,null,null,null,null,null,null,null,null,null,null,null,null,null,null,null,null,null,null,null,null,null,null,null,null,null,null,null,null,null,null,null,null,null,null,null,0,"TRUE","OK",{"$f":"IF(JE95,VLOOKUP(MIN(JF95:JI95),'Data Validation (hidden)'!$G$30:$H$34,2,FALSE),IF(COUNTA(E95:E95)>0,\"'Scheme (Fund) Name' missing but values entered in other columns.\",\"OK\"))","v":"OK"},null,"OK",null,false,1,2,{"$f":"IF(AND(IX95>'Scheme and Member Information'!I95, E95=\"Yes\"),\"\",\"\")","v":""},4,true,true,false,true,false]
[null,{"$f":"'Scheme and Member Information'!B96","v":0},{"$f":"'Scheme and Member Information'!C96","v":0},null,null,null,null,null,null,null,null,null,null,null,null,null,null,null,null,null,null,null,null,null,null,null,null,null,null,null,null,null,null,null,null,null,null,null,null,null,null,null,null,null,null,null,null,null,null,null,null,null,null,null,null,null,null,null,null,null,null,null,null,null,null,null,null,null,null,null,null,null,null,null,null,null,null,null,null,null,null,null,null,null,null,null,null,null,null,null,null,null,null,null,null,null,null,null,null,null,null,null,null,null,null,null,null,null,null,null,null,null,null,null,null,null,null,null,null,null,null,null,null,null,null,null,null,null,null,null,null,null,null,null,null,null,null,null,null,null,null,null,null,null,null,null,null,null,null,null,null,null,null,null,null,null,null,null,null,null,null,null,null,null,null,null,null,null,null,null,null,null,null,null,null,null,null,null,null,null,null,null,null,null,null,null,null,null,null,null,null,null,null,null,null,null,null,null,null,null,null,null,null,null,null,null,null,null,null,null,null,null,null,null,null,null,null,null,null,null,null,null,null,null,null,null,null,null,null,null,null,null,null,null,null,null,null,null,null,null,null,null,null,null,null,null,null,null,null,null,null,null,null,null,null,null,null,0,"TRUE","OK",{"$f":"IF(JE96,VLOOKUP(MIN(JF96:JI96),'Data Validation (hidden)'!$G$30:$H$34,2,FALSE),IF(COUNTA(E96:E96)>0,\"'Scheme (Fund) Name' missing but values entered in other columns.\",\"OK\"))","v":"OK"},null,"OK",null,false,1,2,{"$f":"IF(AND(IX96>'Scheme and Member Information'!I96, E96=\"Yes\"),\"\",\"\")","v":""},4,true,true,false,true,false]
[null,{"$f":"'Scheme and Member Information'!B97","v":0},{"$f":"'Scheme and Member Information'!C97","v":0},null,null,null,null,null,null,null,null,null,null,null,null,null,null,null,null,null,null,null,null,null,null,null,null,null,null,null,null,null,null,null,null,null,null,null,null,null,null,null,null,null,null,null,null,null,null,null,null,null,null,null,null,null,null,null,null,null,null,null,null,null,null,null,null,null,null,null,null,null,null,null,null,null,null,null,null,null,null,null,null,null,null,null,null,null,null,null,null,null,null,null,null,null,null,null,null,null,null,null,null,null,null,null,null,null,null,null,null,null,null,null,null,null,null,null,null,null,null,null,null,null,null,null,null,null,null,null,null,null,null,null,null,null,null,null,null,null,null,null,null,null,null,null,null,null,null,null,null,null,null,null,null,null,null,null,null,null,null,null,null,null,null,null,null,null,null,null,null,null,null,null,null,null,null,null,null,null,null,null,null,null,null,null,null,null,null,null,null,null,null,null,null,null,null,null,null,null,null,null,null,null,null,null,null,null,null,null,null,null,null,null,null,null,null,null,null,null,null,null,null,null,null,null,null,null,null,null,null,null,null,null,null,null,null,null,null,null,null,null,null,null,null,null,null,null,null,null,null,null,null,null,null,null,null,0,"TRUE","OK",{"$f":"IF(JE97,VLOOKUP(MIN(JF97:JI97),'Data Validation (hidden)'!$G$30:$H$34,2,FALSE),IF(COUNTA(E97:E97)>0,\"'Scheme (Fund) Name' missing but values entered in other columns.\",\"OK\"))","v":"OK"},null,"OK",null,false,1,2,{"$f":"IF(AND(IX97>'Scheme and Member Information'!I97, E97=\"Yes\"),\"\",\"\")","v":""},4,true,true,false,true,false]
[null,{"$f":"'Scheme and Member Information'!B98","v":0},{"$f":"'Scheme and Member Information'!C98","v":0},null,null,null,null,null,null,null,null,null,null,null,null,null,null,null,null,null,null,null,null,null,null,null,null,null,null,null,null,null,null,null,null,null,null,null,null,null,null,null,null,null,null,null,null,null,null,null,null,null,null,null,null,null,null,null,null,null,null,null,null,null,null,null,null,null,null,null,null,null,null,null,null,null,null,null,null,null,null,null,null,null,null,null,null,null,null,null,null,null,null,null,null,null,null,null,null,null,null,null,null,null,null,null,null,null,null,null,null,null,null,null,null,null,null,null,null,null,null,null,null,null,null,null,null,null,null,null,null,null,null,null,null,null,null,null,null,null,null,null,null,null,null,null,null,null,null,null,null,null,null,null,null,null,null,null,null,null,null,null,null,null,null,null,null,null,null,null,null,null,null,null,null,null,null,null,null,null,null,null,null,null,null,null,null,null,null,null,null,null,null,null,null,null,null,null,null,null,null,null,null,null,null,null,null,null,null,null,null,null,null,null,null,null,null,null,null,null,null,null,null,null,null,null,null,null,null,null,null,null,null,null,null,null,null,null,null,null,null,null,null,null,null,null,null,null,null,null,null,null,null,null,null,null,null,0,"TRUE","OK",{"$f":"IF(JE98,VLOOKUP(MIN(JF98:JI98),'Data Validation (hidden)'!$G$30:$H$34,2,FALSE),IF(COUNTA(E98:E98)>0,\"'Scheme (Fund) Name' missing but values entered in other columns.\",\"OK\"))","v":"OK"},null,"OK",null,false,1,2,{"$f":"IF(AND(IX98>'Scheme and Member Information'!I98, E98=\"Yes\"),\"\",\"\")","v":""},4,true,true,false,true,false]
[null,{"$f":"'Scheme and Member Information'!B99","v":0},{"$f":"'Scheme and Member Information'!C99","v":0},null,null,null,null,null,null,null,null,null,null,null,null,null,null,null,null,null,null,null,null,null,null,null,null,null,null,null,null,null,null,null,null,null,null,null,null,null,null,null,null,null,null,null,null,null,null,null,null,null,null,null,null,null,null,null,null,null,null,null,null,null,null,null,null,null,null,null,null,null,null,null,null,null,null,null,null,null,null,null,null,null,null,null,null,null,null,null,null,null,null,null,null,null,null,null,null,null,null,null,null,null,null,null,null,null,null,null,null,null,null,null,null,null,null,null,null,null,null,null,null,null,null,null,null,null,null,null,null,null,null,null,null,null,null,null,null,null,null,null,null,null,null,null,null,null,null,null,null,null,null,null,null,null,null,null,null,null,null,null,null,null,null,null,null,null,null,null,null,null,null,null,null,null,null,null,null,null,null,null,null,null,null,null,null,null,null,null,null,null,null,null,null,null,null,null,null,null,null,null,null,null,null,null,null,null,null,null,null,null,null,null,null,null,null,null,null,null,null,null,null,null,null,null,null,null,null,null,null,null,null,null,null,null,null,null,null,null,null,null,null,null,null,null,null,null,null,null,null,null,null,null,null,null,null,0,"TRUE","OK",{"$f":"IF(JE99,VLOOKUP(MIN(JF99:JI99),'Data Validation (hidden)'!$G$30:$H$34,2,FALSE),IF(COUNTA(E99:E99)>0,\"'Scheme (Fund) Name' missing but values entered in other columns.\",\"OK\"))","v":"OK"},null,"OK",null,false,1,2,{"$f":"IF(AND(IX99>'Scheme and Member Information'!I99, E99=\"Yes\"),\"\",\"\")","v":""},4,true,true,false,true,false]
[null,{"$f":"'Scheme and Member Information'!B100","v":0},{"$f":"'Scheme and Member Information'!C100","v":0},null,null,null,null,null,null,null,null,null,null,null,null,null,null,null,null,null,null,null,null,null,null,null,null,null,null,null,null,null,null,null,null,null,null,null,null,null,null,null,null,null,null,null,null,null,null,null,null,null,null,null,null,null,null,null,null,null,null,null,null,null,null,null,null,null,null,null,null,null,null,null,null,null,null,null,null,null,null,null,null,null,null,null,null,null,null,null,null,null,null,null,null,null,null,null,null,null,null,null,null,null,null,null,null,null,null,null,null,null,null,null,null,null,null,null,null,null,null,null,null,null,null,null,null,null,null,null,null,null,null,null,null,null,null,null,null,null,null,null,null,null,null,null,null,null,null,null,null,null,null,null,null,null,null,null,null,null,null,null,null,null,null,null,null,null,null,null,null,null,null,null,null,null,null,null,null,null,null,null,null,null,null,null,null,null,null,null,null,null,null,null,null,null,null,null,null,null,null,null,null,null,null,null,null,null,null,null,null,null,null,null,null,null,null,null,null,null,null,null,null,null,null,null,null,null,null,null,null,null,null,null,null,null,null,null,null,null,null,null,null,null,null,null,null,null,null,null,null,null,null,null,null,null,null,0,"TRUE","OK",{"$f":"IF(JE100,VLOOKUP(MIN(JF100:JI100),'Data Validation (hidden)'!$G$30:$H$34,2,FALSE),IF(COUNTA(E100:E100)>0,\"'Scheme (Fund) Name' missing but values entered in other columns.\",\"OK\"))","v":"OK"},null,"OK",null,false,1,2,{"$f":"IF(AND(IX100>'Scheme and Member Information'!I100, E100=\"Yes\"),\"\",\"\")","v":""},4,true,true,false,true,false]
[null,{"$f":"'Scheme and Member Information'!B101","v":0},{"$f":"'Scheme and Member Information'!C101","v":0},null,null,null,null,null,null,null,null,null,null,null,null,null,null,null,null,null,null,null,null,null,null,null,null,null,null,null,null,null,null,null,null,null,null,null,null,null,null,null,null,null,null,null,null,null,null,null,null,null,null,null,null,null,null,null,null,null,null,null,null,null,null,null,null,null,null,null,null,null,null,null,null,null,null,null,null,null,null,null,null,null,null,null,null,null,null,null,null,null,null,null,null,null,null,null,null,null,null,null,null,null,null,null,null,null,null,null,null,null,null,null,null,null,null,null,null,null,null,null,null,null,null,null,null,null,null,null,null,null,null,null,null,null,null,null,null,null,null,null,null,null,null,null,null,null,null,null,null,null,null,null,null,null,null,null,null,null,null,null,null,null,null,null,null,null,null,null,null,null,null,null,null,null,null,null,null,null,null,null,null,null,null,null,null,null,null,null,null,null,null,null,null,null,null,null,null,null,null,null,null,null,null,null,null,null,null,null,null,null,null,null,null,null,null,null,null,null,null,null,null,null,null,null,null,null,null,null,null,null,null,null,null,null,null,null,null,null,null,null,null,null,null,null,null,null,null,null,null,null,null,null,null,null,null,0,"TRUE","OK",{"$f":"IF(JE101,VLOOKUP(MIN(JF101:JI101),'Data Validation (hidden)'!$G$30:$H$34,2,FALSE),IF(COUNTA(E101:E101)>0,\"'Scheme (Fund) Name' missing but values entered in other columns.\",\"OK\"))","v":"OK"},null,"OK",null,false,1,2,{"$f":"IF(AND(IX101>'Scheme and Member Information'!I101, E101=\"Yes\"),\"\",\"\")","v":""},4,true,true,false,true,false]
[null,{"$f":"'Scheme and Member Information'!B102","v":0},{"$f":"'Scheme and Member Information'!C102","v":0},null,null,null,null,null,null,null,null,null,null,null,null,null,null,null,null,null,null,null,null,null,null,null,null,null,null,null,null,null,null,null,null,null,null,null,null,null,null,null,null,null,null,null,null,null,null,null,null,null,null,null,null,null,null,null,null,null,null,null,null,null,null,null,null,null,null,null,null,null,null,null,null,null,null,null,null,null,null,null,null,null,null,null,null,null,null,null,null,null,null,null,null,null,null,null,null,null,null,null,null,null,null,null,null,null,null,null,null,null,null,null,null,null,null,null,null,null,null,null,null,null,null,null,null,null,null,null,null,null,null,null,null,null,null,null,null,null,null,null,null,null,null,null,null,null,null,null,null,null,null,null,null,null,null,null,null,null,null,null,null,null,null,null,null,null,null,null,null,null,null,null,null,null,null,null,null,null,null,null,null,null,null,null,null,null,null,null,null,null,null,null,null,null,null,null,null,null,null,null,null,null,null,null,null,null,null,null,null,null,null,null,null,null,null,null,null,null,null,null,null,null,null,null,null,null,null,null,null,null,null,null,null,null,null,null,null,null,null,null,null,null,null,null,null,null,null,null,null,null,null,null,null,null,null,0,"TRUE","OK",{"$f":"IF(JE102,VLOOKUP(MIN(JF102:JI102),'Data Validation (hidden)'!$G$30:$H$34,2,FALSE),IF(COUNTA(E102:E102)>0,\"'Scheme (Fund) Name' missing but values entered in other columns.\",\"OK\"))","v":"OK"},null,"OK",null,false,1,2,{"$f":"IF(AND(IX102>'Scheme and Member Information'!I102, E102=\"Yes\"),\"\",\"\")","v":""},4,true,true,false,true,false]
[null,{"$f":"'Scheme and Member Information'!B103","v":0},{"$f":"'Scheme and Member Information'!C103","v":0},null,null,null,null,null,null,null,null,null,null,null,null,null,null,null,null,null,null,null,null,null,null,null,null,null,null,null,null,null,null,null,null,null,null,null,null,null,null,null,null,null,null,null,null,null,null,null,null,null,null,null,null,null,null,null,null,null,null,null,null,null,null,null,null,null,null,null,null,null,null,null,null,null,null,null,null,null,null,null,null,null,null,null,null,null,null,null,null,null,null,null,null,null,null,null,null,null,null,null,null,null,null,null,null,null,null,null,null,null,null,null,null,null,null,null,null,null,null,null,null,null,null,null,null,null,null,null,null,null,null,null,null,null,null,null,null,null,null,null,null,null,null,null,null,null,null,null,null,null,null,null,null,null,null,null,null,null,null,null,null,null,null,null,null,null,null,null,null,null,null,null,null,null,null,null,null,null,null,null,null,null,null,null,null,null,null,null,null,null,null,null,null,null,null,null,null,null,null,null,null,null,null,null,null,null,null,null,null,null,null,null,null,null,null,null,null,null,null,null,null,null,null,null,null,null,null,null,null,null,null,null,null,null,null,null,null,null,null,null,null,null,null,null,null,null,null,null,null,null,null,null,null,null,null,0,"TRUE","OK",{"$f":"IF(JE103,VLOOKUP(MIN(JF103:JI103),'Data Validation (hidden)'!$G$30:$H$34,2,FALSE),IF(COUNTA(E103:E103)>0,\"'Scheme (Fund) Name' missing but values entered in other columns.\",\"OK\"))","v":"OK"},null,"OK",null,false,1,2,{"$f":"IF(AND(IX103>'Scheme and Member Information'!I103, E103=\"Yes\"),\"\",\"\")","v":""},4,true,true,false,true,false]
[null,{"$f":"'Scheme and Member Information'!B104","v":0},{"$f":"'Scheme and Member Information'!C104","v":0},null,null,null,null,null,null,null,null,null,null,null,null,null,null,null,null,null,null,null,null,null,null,null,null,null,null,null,null,null,null,null,null,null,null,null,null,null,null,null,null,null,null,null,null,null,null,null,null,null,null,null,null,null,null,null,null,null,null,null,null,null,null,null,null,null,null,null,null,null,null,null,null,null,null,null,null,null,null,null,null,null,null,null,null,null,null,null,null,null,null,null,null,null,null,null,null,null,null,null,null,null,null,null,null,null,null,null,null,null,null,null,null,null,null,null,null,null,null,null,null,null,null,null,null,null,null,null,null,null,null,null,null,null,null,null,null,null,null,null,null,null,null,null,null,null,null,null,null,null,null,null,null,null,null,null,null,null,null,null,null,null,null,null,null,null,null,null,null,null,null,null,null,null,null,null,null,null,null,null,null,null,null,null,null,null,null,null,null,null,null,null,null,null,null,null,null,null,null,null,null,null,null,null,null,null,null,null,null,null,null,null,null,null,null,null,null,null,null,null,null,null,null,null,null,null,null,null,null,null,null,null,null,null,null,null,null,null,null,null,null,null,null,null,null,null,null,null,null,null,null,null,null,null,null,0,"TRUE","OK",{"$f":"IF(JE104,VLOOKUP(MIN(JF104:JI104),'Data Validation (hidden)'!$G$30:$H$34,2,FALSE),IF(COUNTA(E104:E104)>0,\"'Scheme (Fund) Name' missing but values entered in other columns.\",\"OK\"))","v":"OK"},null,"OK",null,false,1,2,{"$f":"IF(AND(IX104>'Scheme and Member Information'!I104, E104=\"Yes\"),\"\",\"\")","v":""},4,true,true,false,true,false]
[null,{"$f":"'Scheme and Member Information'!B105","v":0},{"$f":"'Scheme and Member Information'!C105","v":0},null,null,null,null,null,null,null,null,null,null,null,null,null,null,null,null,null,null,null,null,null,null,null,null,null,null,null,null,null,null,null,null,null,null,null,null,null,null,null,null,null,null,null,null,null,null,null,null,null,null,null,null,null,null,null,null,null,null,null,null,null,null,null,null,null,null,null,null,null,null,null,null,null,null,null,null,null,null,null,null,null,null,null,null,null,null,null,null,null,null,null,null,null,null,null,null,null,null,null,null,null,null,null,null,null,null,null,null,null,null,null,null,null,null,null,null,null,null,null,null,null,null,null,null,null,null,null,null,null,null,null,null,null,null,null,null,null,null,null,null,null,null,null,null,null,null,null,null,null,null,null,null,null,null,null,null,null,null,null,null,null,null,null,null,null,null,null,null,null,null,null,null,null,null,null,null,null,null,null,null,null,null,null,null,null,null,null,null,null,null,null,null,null,null,null,null,null,null,null,null,null,null,null,null,null,null,null,null,null,null,null,null,null,null,null,null,null,null,null,null,null,null,null,null,null,null,null,null,null,null,null,null,null,null,null,null,null,null,null,null,null,null,null,null,null,null,null,null,null,null,null,null,null,null,0,"TRUE","OK",{"$f":"IF(JE105,VLOOKUP(MIN(JF105:JI105),'Data Validation (hidden)'!$G$30:$H$34,2,FALSE),IF(COUNTA(E105:E105)>0,\"'Scheme (Fund) Name' missing but values entered in other columns.\",\"OK\"))","v":"OK"},null,"OK",null,false,1,2,{"$f":"IF(AND(IX105>'Scheme and Member Information'!I105, E105=\"Yes\"),\"\",\"\")","v":""},4,true,true,false,true,false]
[null,{"$f":"'Scheme and Member Information'!B106","v":0},{"$f":"'Scheme and Member Information'!C106","v":0},null,null,null,null,null,null,null,null,null,null,null,null,null,null,null,null,null,null,null,null,null,null,null,null,null,null,null,null,null,null,null,null,null,null,null,null,null,null,null,null,null,null,null,null,null,null,null,null,null,null,null,null,null,null,null,null,null,null,null,null,null,null,null,null,null,null,null,null,null,null,null,null,null,null,null,null,null,null,null,null,null,null,null,null,null,null,null,null,null,null,null,null,null,null,null,null,null,null,null,null,null,null,null,null,null,null,null,null,null,null,null,null,null,null,null,null,null,null,null,null,null,null,null,null,null,null,null,null,null,null,null,null,null,null,null,null,null,null,null,null,null,null,null,null,null,null,null,null,null,null,null,null,null,null,null,null,null,null,null,null,null,null,null,null,null,null,null,null,null,null,null,null,null,null,null,null,null,null,null,null,null,null,null,null,null,null,null,null,null,null,null,null,null,null,null,null,null,null,null,null,null,null,null,null,null,null,null,null,null,null,null,null,null,null,null,null,null,null,null,null,null,null,null,null,null,null,null,null,null,null,null,null,null,null,null,null,null,null,null,null,null,null,null,null,null,null,null,null,null,null,null,null,null,null,0,"TRUE","OK",{"$f":"IF(JE106,VLOOKUP(MIN(JF106:JI106),'Data Validation (hidden)'!$G$30:$H$34,2,FALSE),IF(COUNTA(E106:E106)>0,\"'Scheme (Fund) Name' missing but values entered in other columns.\",\"OK\"))","v":"OK"},null,"OK",null,false,1,2,{"$f":"IF(AND(IX106>'Scheme and Member Information'!I106, E106=\"Yes\"),\"\",\"\")","v":""},4,true,true,false,true,false]
[null,{"$f":"'Scheme and Member Information'!B107","v":0},{"$f":"'Scheme and Member Information'!C107","v":0},null,null,null,null,null,null,null,null,null,null,null,null,null,null,null,null,null,null,null,null,null,null,null,null,null,null,null,null,null,null,null,null,null,null,null,null,null,null,null,null,null,null,null,null,null,null,null,null,null,null,null,null,null,null,null,null,null,null,null,null,null,null,null,null,null,null,null,null,null,null,null,null,null,null,null,null,null,null,null,null,null,null,null,null,null,null,null,null,null,null,null,null,null,null,null,null,null,null,null,null,null,null,null,null,null,null,null,null,null,null,null,null,null,null,null,null,null,null,null,null,null,null,null,null,null,null,null,null,null,null,null,null,null,null,null,null,null,null,null,null,null,null,null,null,null,null,null,null,null,null,null,null,null,null,null,null,null,null,null,null,null,null,null,null,null,null,null,null,null,null,null,null,null,null,null,null,null,null,null,null,null,null,null,null,null,null,null,null,null,null,null,null,null,null,null,null,null,null,null,null,null,null,null,null,null,null,null,null,null,null,null,null,null,null,null,null,null,null,null,null,null,null,null,null,null,null,null,null,null,null,null,null,null,null,null,null,null,null,null,null,null,null,null,null,null,null,null,null,null,null,null,null,null,null,0,"TRUE","OK",{"$f":"IF(JE107,VLOOKUP(MIN(JF107:JI107),'Data Validation (hidden)'!$G$30:$H$34,2,FALSE),IF(COUNTA(E107:E107)>0,\"'Scheme (Fund) Name' missing but values entered in other columns.\",\"OK\"))","v":"OK"},null,"OK",null,false,1,2,{"$f":"IF(AND(IX107>'Scheme and Member Information'!I107, E107=\"Yes\"),\"\",\"\")","v":""},4,true,true,false,true,false]
[null,{"$f":"'Scheme and Member Information'!B108","v":0},{"$f":"'Scheme and Member Information'!C108","v":0},null,null,null,null,null,null,null,null,null,null,null,null,null,null,null,null,null,null,null,null,null,null,null,null,null,null,null,null,null,null,null,null,null,null,null,null,null,null,null,null,null,null,null,null,null,null,null,null,null,null,null,null,null,null,null,null,null,null,null,null,null,null,null,null,null,null,null,null,null,null,null,null,null,null,null,null,null,null,null,null,null,null,null,null,null,null,null,null,null,null,null,null,null,null,null,null,null,null,null,null,null,null,null,null,null,null,null,null,null,null,null,null,null,null,null,null,null,null,null,null,null,null,null,null,null,null,null,null,null,null,null,null,null,null,null,null,null,null,null,null,null,null,null,null,null,null,null,null,null,null,null,null,null,null,null,null,null,null,null,null,null,null,null,null,null,null,null,null,null,null,null,null,null,null,null,null,null,null,null,null,null,null,null,null,null,null,null,null,null,null,null,null,null,null,null,null,null,null,null,null,null,null,null,null,null,null,null,null,null,null,null,null,null,null,null,null,null,null,null,null,null,null,null,null,null,null,null,null,null,null,null,null,null,null,null,null,null,null,null,null,null,null,null,null,null,null,null,null,null,null,null,null,null,null,0,"TRUE","OK",{"$f":"IF(JE108,VLOOKUP(MIN(JF108:JI108),'Data Validation (hidden)'!$G$30:$H$34,2,FALSE),IF(COUNTA(E108:E108)>0,\"'Scheme (Fund) Name' missing but values entered in other columns.\",\"OK\"))","v":"OK"},null,"OK",null,false,1,2,{"$f":"IF(AND(IX108>'Scheme and Member Information'!I108, E108=\"Yes\"),\"\",\"\")","v":""},4,true,true,false,true,false]
[null,{"$f":"'Scheme and Member Information'!B109","v":0},{"$f":"'Scheme and Member Information'!C109","v":0},null,null,null,null,null,null,null,null,null,null,null,null,null,null,null,null,null,null,null,null,null,null,null,null,null,null,null,null,null,null,null,null,null,null,null,null,null,null,null,null,null,null,null,null,null,null,null,null,null,null,null,null,null,null,null,null,null,null,null,null,null,null,null,null,null,null,null,null,null,null,null,null,null,null,null,null,null,null,null,null,null,null,null,null,null,null,null,null,null,null,null,null,null,null,null,null,null,null,null,null,null,null,null,null,null,null,null,null,null,null,null,null,null,null,null,null,null,null,null,null,null,null,null,null,null,null,null,null,null,null,null,null,null,null,null,null,null,null,null,null,null,null,null,null,null,null,null,null,null,null,null,null,null,null,null,null,null,null,null,null,null,null,null,null,null,null,null,null,null,null,null,null,null,null,null,null,null,null,null,null,null,null,null,null,null,null,null,null,null,null,null,null,null,null,null,null,null,null,null,null,null,null,null,null,null,null,null,null,null,null,null,null,null,null,null,null,null,null,null,null,null,null,null,null,null,null,null,null,null,null,null,null,null,null,null,null,null,null,null,null,null,null,null,null,null,null,null,null,null,null,null,null,null,null,0,"TRUE","OK",{"$f":"IF(JE109,VLOOKUP(MIN(JF109:JI109),'Data Validation (hidden)'!$G$30:$H$34,2,FALSE),IF(COUNTA(E109:E109)>0,\"'Scheme (Fund) Name' missing but values entered in other columns.\",\"OK\"))","v":"OK"},null,"OK",null,false,1,2,{"$f":"IF(AND(IX109>'Scheme and Member Information'!I109, E109=\"Yes\"),\"\",\"\")","v":""},4,true,true,false,true,false]
[null,{"$f":"'Scheme and Member Information'!B110","v":0},{"$f":"'Scheme and Member Information'!C110","v":0},null,null,null,null,null,null,null,null,null,null,null,null,null,null,null,null,null,null,null,null,null,null,null,null,null,null,null,null,null,null,null,null,null,null,null,null,null,null,null,null,null,null,null,null,null,null,null,null,null,null,null,null,null,null,null,null,null,null,null,null,null,null,null,null,null,null,null,null,null,null,null,null,null,null,null,null,null,null,null,null,null,null,null,null,null,null,null,null,null,null,null,null,null,null,null,null,null,null,null,null,null,null,null,null,null,null,null,null,null,null,null,null,null,null,null,null,null,null,null,null,null,null,null,null,null,null,null,null,null,null,null,null,null,null,null,null,null,null,null,null,null,null,null,null,null,null,null,null,null,null,null,null,null,null,null,null,null,null,null,null,null,null,null,null,null,null,null,null,null,null,null,null,null,null,null,null,null,null,null,null,null,null,null,null,null,null,null,null,null,null,null,null,null,null,null,null,null,null,null,null,null,null,null,null,null,null,null,null,null,null,null,null,null,null,null,null,null,null,null,null,null,null,null,null,null,null,null,null,null,null,null,null,null,null,null,null,null,null,null,null,null,null,null,null,null,null,null,null,null,null,null,null,null,null,0,"TRUE","OK",{"$f":"IF(JE110,VLOOKUP(MIN(JF110:JI110),'Data Validation (hidden)'!$G$30:$H$34,2,FALSE),IF(COUNTA(E110:E110)>0,\"'Scheme (Fund) Name' missing but values entered in other columns.\",\"OK\"))","v":"OK"},null,"OK",null,false,1,2,{"$f":"IF(AND(IX110>'Scheme and Member Information'!I110, E110=\"Yes\"),\"\",\"\")","v":""},4,true,true,false,true,false]
[null,{"$f":"'Scheme and Member Information'!B111","v":0},{"$f":"'Scheme and Member Information'!C111","v":0},null,null,null,null,null,null,null,null,null,null,null,null,null,null,null,null,null,null,null,null,null,null,null,null,null,null,null,null,null,null,null,null,null,null,null,null,null,null,null,null,null,null,null,null,null,null,null,null,null,null,null,null,null,null,null,null,null,null,null,null,null,null,null,null,null,null,null,null,null,null,null,null,null,null,null,null,null,null,null,null,null,null,null,null,null,null,null,null,null,null,null,null,null,null,null,null,null,null,null,null,null,null,null,null,null,null,null,null,null,null,null,null,null,null,null,null,null,null,null,null,null,null,null,null,null,null,null,null,null,null,null,null,null,null,null,null,null,null,null,null,null,null,null,null,null,null,null,null,null,null,null,null,null,null,null,null,null,null,null,null,null,null,null,null,null,null,null,null,null,null,null,null,null,null,null,null,null,null,null,null,null,null,null,null,null,null,null,null,null,null,null,null,null,null,null,null,null,null,null,null,null,null,null,null,null,null,null,null,null,null,null,null,null,null,null,null,null,null,null,null,null,null,null,null,null,null,null,null,null,null,null,null,null,null,null,null,null,null,null,null,null,null,null,null,null,null,null,null,null,null,null,null,null,null,0,"TRUE","OK",{"$f":"IF(JE111,VLOOKUP(MIN(JF111:JI111),'Data Validation (hidden)'!$G$30:$H$34,2,FALSE),IF(COUNTA(E111:E111)>0,\"'Scheme (Fund) Name' missing but values entered in other columns.\",\"OK\"))","v":"OK"},null,"OK",null,false,1,2,{"$f":"IF(AND(IX111>'Scheme and Member Information'!I111, E111=\"Yes\"),\"\",\"\")","v":""},4,true,true,false,true,false]
[null,{"$f":"'Scheme and Member Information'!B112","v":0},{"$f":"'Scheme and Member Information'!C112","v":0},null,null,null,null,null,null,null,null,null,null,null,null,null,null,null,null,null,null,null,null,null,null,null,null,null,null,null,null,null,null,null,null,null,null,null,null,null,null,null,null,null,null,null,null,null,null,null,null,null,null,null,null,null,null,null,null,null,null,null,null,null,null,null,null,null,null,null,null,null,null,null,null,null,null,null,null,null,null,null,null,null,null,null,null,null,null,null,null,null,null,null,null,null,null,null,null,null,null,null,null,null,null,null,null,null,null,null,null,null,null,null,null,null,null,null,null,null,null,null,null,null,null,null,null,null,null,null,null,null,null,null,null,null,null,null,null,null,null,null,null,null,null,null,null,null,null,null,null,null,null,null,null,null,null,null,null,null,null,null,null,null,null,null,null,null,null,null,null,null,null,null,null,null,null,null,null,null,null,null,null,null,null,null,null,null,null,null,null,null,null,null,null,null,null,null,null,null,null,null,null,null,null,null,null,null,null,null,null,null,null,null,null,null,null,null,null,null,null,null,null,null,null,null,null,null,null,null,null,null,null,null,null,null,null,null,null,null,null,null,null,null,null,null,null,null,null,null,null,null,null,null,null,null,null,0,"TRUE","OK",{"$f":"IF(JE112,VLOOKUP(MIN(JF112:JI112),'Data Validation (hidden)'!$G$30:$H$34,2,FALSE),IF(COUNTA(E112:E112)>0,\"'Scheme (Fund) Name' missing but values entered in other columns.\",\"OK\"))","v":"OK"},null,"OK",null,false,1,2,{"$f":"IF(AND(IX112>'Scheme and Member Information'!I112, E112=\"Yes\"),\"\",\"\")","v":""},4,true,true,false,true,false]
[null,{"$f":"'Scheme and Member Information'!B113","v":0},{"$f":"'Scheme and Member Information'!C113","v":0},null,null,null,null,null,null,null,null,null,null,null,null,null,null,null,null,null,null,null,null,null,null,null,null,null,null,null,null,null,null,null,null,null,null,null,null,null,null,null,null,null,null,null,null,null,null,null,null,null,null,null,null,null,null,null,null,null,null,null,null,null,null,null,null,null,null,null,null,null,null,null,null,null,null,null,null,null,null,null,null,null,null,null,null,null,null,null,null,null,null,null,null,null,null,null,null,null,null,null,null,null,null,null,null,null,null,null,null,null,null,null,null,null,null,null,null,null,null,null,null,null,null,null,null,null,null,null,null,null,null,null,null,null,null,null,null,null,null,null,null,null,null,null,null,null,null,null,null,null,null,null,null,null,null,null,null,null,null,null,null,null,null,null,null,null,null,null,null,null,null,null,null,null,null,null,null,null,null,null,null,null,null,null,null,null,null,null,null,null,null,null,null,null,null,null,null,null,null,null,null,null,null,null,null,null,null,null,null,null,null,null,null,null,null,null,null,null,null,null,null,null,null,null,null,null,null,null,null,null,null,null,null,null,null,null,null,null,null,null,null,null,null,null,null,null,null,null,null,null,null,null,null,null,null,0,"TRUE","OK",{"$f":"IF(JE113,VLOOKUP(MIN(JF113:JI113),'Data Validation (hidden)'!$G$30:$H$34,2,FALSE),IF(COUNTA(E113:E113)>0,\"'Scheme (Fund) Name' missing but values entered in other columns.\",\"OK\"))","v":"OK"},null,"OK",null,false,1,2,{"$f":"IF(AND(IX113>'Scheme and Member Information'!I113, E113=\"Yes\"),\"\",\"\")","v":""},4,true,true,false,true,false]
[null,{"$f":"'Scheme and Member Information'!B114","v":0},{"$f":"'Scheme and Member Information'!C114","v":0},null,null,null,null,null,null,null,null,null,null,null,null,null,null,null,null,null,null,null,null,null,null,null,null,null,null,null,null,null,null,null,null,null,null,null,null,null,null,null,null,null,null,null,null,null,null,null,null,null,null,null,null,null,null,null,null,null,null,null,null,null,null,null,null,null,null,null,null,null,null,null,null,null,null,null,null,null,null,null,null,null,null,null,null,null,null,null,null,null,null,null,null,null,null,null,null,null,null,null,null,null,null,null,null,null,null,null,null,null,null,null,null,null,null,null,null,null,null,null,null,null,null,null,null,null,null,null,null,null,null,null,null,null,null,null,null,null,null,null,null,null,null,null,null,null,null,null,null,null,null,null,null,null,null,null,null,null,null,null,null,null,null,null,null,null,null,null,null,null,null,null,null,null,null,null,null,null,null,null,null,null,null,null,null,null,null,null,null,null,null,null,null,null,null,null,null,null,null,null,null,null,null,null,null,null,null,null,null,null,null,null,null,null,null,null,null,null,null,null,null,null,null,null,null,null,null,null,null,null,null,null,null,null,null,null,null,null,null,null,null,null,null,null,null,null,null,null,null,null,null,null,null,null,null,0,"TRUE","OK",{"$f":"IF(JE114,VLOOKUP(MIN(JF114:JI114),'Data Validation (hidden)'!$G$30:$H$34,2,FALSE),IF(COUNTA(E114:E114)>0,\"'Scheme (Fund) Name' missing but values entered in other columns.\",\"OK\"))","v":"OK"},null,"OK",null,false,1,2,{"$f":"IF(AND(IX114>'Scheme and Member Information'!I114, E114=\"Yes\"),\"\",\"\")","v":""},4,true,true,false,true,false]
[null,{"$f":"'Scheme and Member Information'!B115","v":0},{"$f":"'Scheme and Member Information'!C115","v":0},null,null,null,null,null,null,null,null,null,null,null,null,null,null,null,null,null,null,null,null,null,null,null,null,null,null,null,null,null,null,null,null,null,null,null,null,null,null,null,null,null,null,null,null,null,null,null,null,null,null,null,null,null,null,null,null,null,null,null,null,null,null,null,null,null,null,null,null,null,null,null,null,null,null,null,null,null,null,null,null,null,null,null,null,null,null,null,null,null,null,null,null,null,null,null,null,null,null,null,null,null,null,null,null,null,null,null,null,null,null,null,null,null,null,null,null,null,null,null,null,null,null,null,null,null,null,null,null,null,null,null,null,null,null,null,null,null,null,null,null,null,null,null,null,null,null,null,null,null,null,null,null,null,null,null,null,null,null,null,null,null,null,null,null,null,null,null,null,null,null,null,null,null,null,null,null,null,null,null,null,null,null,null,null,null,null,null,null,null,null,null,null,null,null,null,null,null,null,null,null,null,null,null,null,null,null,null,null,null,null,null,null,null,null,null,null,null,null,null,null,null,null,null,null,null,null,null,null,null,null,null,null,null,null,null,null,null,null,null,null,null,null,null,null,null,null,null,null,null,null,null,null,null,null,0,"TRUE","OK",{"$f":"IF(JE115,VLOOKUP(MIN(JF115:JI115),'Data Validation (hidden)'!$G$30:$H$34,2,FALSE),IF(COUNTA(E115:E115)>0,\"'Scheme (Fund) Name' missing but values entered in other columns.\",\"OK\"))","v":"OK"},null,"OK",null,false,1,2,{"$f":"IF(AND(IX115>'Scheme and Member Information'!I115, E115=\"Yes\"),\"\",\"\")","v":""},4,true,true,false,true,false]
[null,{"$f":"'Scheme and Member Information'!B116","v":0},{"$f":"'Scheme and Member Information'!C116","v":0},null,null,null,null,null,null,null,null,null,null,null,null,null,null,null,null,null,null,null,null,null,null,null,null,null,null,null,null,null,null,null,null,null,null,null,null,null,null,null,null,null,null,null,null,null,null,null,null,null,null,null,null,null,null,null,null,null,null,null,null,null,null,null,null,null,null,null,null,null,null,null,null,null,null,null,null,null,null,null,null,null,null,null,null,null,null,null,null,null,null,null,null,null,null,null,null,null,null,null,null,null,null,null,null,null,null,null,null,null,null,null,null,null,null,null,null,null,null,null,null,null,null,null,null,null,null,null,null,null,null,null,null,null,null,null,null,null,null,null,null,null,null,null,null,null,null,null,null,null,null,null,null,null,null,null,null,null,null,null,null,null,null,null,null,null,null,null,null,null,null,null,null,null,null,null,null,null,null,null,null,null,null,null,null,null,null,null,null,null,null,null,null,null,null,null,null,null,null,null,null,null,null,null,null,null,null,null,null,null,null,null,null,null,null,null,null,null,null,null,null,null,null,null,null,null,null,null,null,null,null,null,null,null,null,null,null,null,null,null,null,null,null,null,null,null,null,null,null,null,null,null,null,null,null,0,"TRUE","OK",{"$f":"IF(JE116,VLOOKUP(MIN(JF116:JI116),'Data Validation (hidden)'!$G$30:$H$34,2,FALSE),IF(COUNTA(E116:E116)>0,\"'Scheme (Fund) Name' missing but values entered in other columns.\",\"OK\"))","v":"OK"},null,"OK",null,false,1,2,{"$f":"IF(AND(IX116>'Scheme and Member Information'!I116, E116=\"Yes\"),\"\",\"\")","v":""},4,true,true,false,true,false]
[null,{"$f":"'Scheme and Member Information'!B117","v":0},{"$f":"'Scheme and Member Information'!C117","v":0},null,null,null,null,null,null,null,null,null,null,null,null,null,null,null,null,null,null,null,null,null,null,null,null,null,null,null,null,null,null,null,null,null,null,null,null,null,null,null,null,null,null,null,null,null,null,null,null,null,null,null,null,null,null,null,null,null,null,null,null,null,null,null,null,null,null,null,null,null,null,null,null,null,null,null,null,null,null,null,null,null,null,null,null,null,null,null,null,null,null,null,null,null,null,null,null,null,null,null,null,null,null,null,null,null,null,null,null,null,null,null,null,null,null,null,null,null,null,null,null,null,null,null,null,null,null,null,null,null,null,null,null,null,null,null,null,null,null,null,null,null,null,null,null,null,null,null,null,null,null,null,null,null,null,null,null,null,null,null,null,null,null,null,null,null,null,null,null,null,null,null,null,null,null,null,null,null,null,null,null,null,null,null,null,null,null,null,null,null,null,null,null,null,null,null,null,null,null,null,null,null,null,null,null,null,null,null,null,null,null,null,null,null,null,null,null,null,null,null,null,null,null,null,null,null,null,null,null,null,null,null,null,null,null,null,null,null,null,null,null,null,null,null,null,null,null,null,null,null,null,null,null,null,null,0,"TRUE","OK",{"$f":"IF(JE117,VLOOKUP(MIN(JF117:JI117),'Data Validation (hidden)'!$G$30:$H$34,2,FALSE),IF(COUNTA(E117:E117)>0,\"'Scheme (Fund) Name' missing but values entered in other columns.\",\"OK\"))","v":"OK"},null,"OK",null,false,1,2,{"$f":"IF(AND(IX117>'Scheme and Member Information'!I117, E117=\"Yes\"),\"\",\"\")","v":""},4,true,true,false,true,false]
[null,{"$f":"'Scheme and Member Information'!B118","v":0},{"$f":"'Scheme and Member Information'!C118","v":0},null,null,null,null,null,null,null,null,null,null,null,null,null,null,null,null,null,null,null,null,null,null,null,null,null,null,null,null,null,null,null,null,null,null,null,null,null,null,null,null,null,null,null,null,null,null,null,null,null,null,null,null,null,null,null,null,null,null,null,null,null,null,null,null,null,null,null,null,null,null,null,null,null,null,null,null,null,null,null,null,null,null,null,null,null,null,null,null,null,null,null,null,null,null,null,null,null,null,null,null,null,null,null,null,null,null,null,null,null,null,null,null,null,null,null,null,null,null,null,null,null,null,null,null,null,null,null,null,null,null,null,null,null,null,null,null,null,null,null,null,null,null,null,null,null,null,null,null,null,null,null,null,null,null,null,null,null,null,null,null,null,null,null,null,null,null,null,null,null,null,null,null,null,null,null,null,null,null,null,null,null,null,null,null,null,null,null,null,null,null,null,null,null,null,null,null,null,null,null,null,null,null,null,null,null,null,null,null,null,null,null,null,null,null,null,null,null,null,null,null,null,null,null,null,null,null,null,null,null,null,null,null,null,null,null,null,null,null,null,null,null,null,null,null,null,null,null,null,null,null,null,null,null,null,0,"TRUE","OK",{"$f":"IF(JE118,VLOOKUP(MIN(JF118:JI118),'Data Validation (hidden)'!$G$30:$H$34,2,FALSE),IF(COUNTA(E118:E118)>0,\"'Scheme (Fund) Name' missing but values entered in other columns.\",\"OK\"))","v":"OK"},null,"OK",null,false,1,2,{"$f":"IF(AND(IX118>'Scheme and Member Information'!I118, E118=\"Yes\"),\"\",\"\")","v":""},4,true,true,false,true,false]
[null,{"$f":"'Scheme and Member Information'!B119","v":0},{"$f":"'Scheme and Member Information'!C119","v":0},null,null,null,null,null,null,null,null,null,null,null,null,null,null,null,null,null,null,null,null,null,null,null,null,null,null,null,null,null,null,null,null,null,null,null,null,null,null,null,null,null,null,null,null,null,null,null,null,null,null,null,null,null,null,null,null,null,null,null,null,null,null,null,null,null,null,null,null,null,null,null,null,null,null,null,null,null,null,null,null,null,null,null,null,null,null,null,null,null,null,null,null,null,null,null,null,null,null,null,null,null,null,null,null,null,null,null,null,null,null,null,null,null,null,null,null,null,null,null,null,null,null,null,null,null,null,null,null,null,null,null,null,null,null,null,null,null,null,null,null,null,null,null,null,null,null,null,null,null,null,null,null,null,null,null,null,null,null,null,null,null,null,null,null,null,null,null,null,null,null,null,null,null,null,null,null,null,null,null,null,null,null,null,null,null,null,null,null,null,null,null,null,null,null,null,null,null,null,null,null,null,null,null,null,null,null,null,null,null,null,null,null,null,null,null,null,null,null,null,null,null,null,null,null,null,null,null,null,null,null,null,null,null,null,null,null,null,null,null,null,null,null,null,null,null,null,null,null,null,null,null,null,null,null,0,"TRUE","OK",{"$f":"IF(JE119,VLOOKUP(MIN(JF119:JI119),'Data Validation (hidden)'!$G$30:$H$34,2,FALSE),IF(COUNTA(E119:E119)>0,\"'Scheme (Fund) Name' missing but values entered in other columns.\",\"OK\"))","v":"OK"},null,"OK",null,false,1,2,{"$f":"IF(AND(IX119>'Scheme and Member Information'!I119, E119=\"Yes\"),\"\",\"\")","v":""},4,true,true,false,true,false]
[null,{"$f":"'Scheme and Member Information'!B120","v":0},{"$f":"'Scheme and Member Information'!C120","v":0},null,null,null,null,null,null,null,null,null,null,null,null,null,null,null,null,null,null,null,null,null,null,null,null,null,null,null,null,null,null,null,null,null,null,null,null,null,null,null,null,null,null,null,null,null,null,null,null,null,null,null,null,null,null,null,null,null,null,null,null,null,null,null,null,null,null,null,null,null,null,null,null,null,null,null,null,null,null,null,null,null,null,null,null,null,null,null,null,null,null,null,null,null,null,null,null,null,null,null,null,null,null,null,null,null,null,null,null,null,null,null,null,null,null,null,null,null,null,null,null,null,null,null,null,null,null,null,null,null,null,null,null,null,null,null,null,null,null,null,null,null,null,null,null,null,null,null,null,null,null,null,null,null,null,null,null,null,null,null,null,null,null,null,null,null,null,null,null,null,null,null,null,null,null,null,null,null,null,null,null,null,null,null,null,null,null,null,null,null,null,null,null,null,null,null,null,null,null,null,null,null,null,null,null,null,null,null,null,null,null,null,null,null,null,null,null,null,null,null,null,null,null,null,null,null,null,null,null,null,null,null,null,null,null,null,null,null,null,null,null,null,null,null,null,null,null,null,null,null,null,null,null,null,null,0,"TRUE","OK",{"$f":"IF(JE120,VLOOKUP(MIN(JF120:JI120),'Data Validation (hidden)'!$G$30:$H$34,2,FALSE),IF(COUNTA(E120:E120)>0,\"'Scheme (Fund) Name' missing but values entered in other columns.\",\"OK\"))","v":"OK"},null,"OK",null,false,1,2,{"$f":"IF(AND(IX120>'Scheme and Member Information'!I120, E120=\"Yes\"),\"\",\"\")","v":""},4,true,true,false,true,false]
[null,{"$f":"'Scheme and Member Information'!B121","v":0},{"$f":"'Scheme and Member Information'!C121","v":0},null,null,null,null,null,null,null,null,null,null,null,null,null,null,null,null,null,null,null,null,null,null,null,null,null,null,null,null,null,null,null,null,null,null,null,null,null,null,null,null,null,null,null,null,null,null,null,null,null,null,null,null,null,null,null,null,null,null,null,null,null,null,null,null,null,null,null,null,null,null,null,null,null,null,null,null,null,null,null,null,null,null,null,null,null,null,null,null,null,null,null,null,null,null,null,null,null,null,null,null,null,null,null,null,null,null,null,null,null,null,null,null,null,null,null,null,null,null,null,null,null,null,null,null,null,null,null,null,null,null,null,null,null,null,null,null,null,null,null,null,null,null,null,null,null,null,null,null,null,null,null,null,null,null,null,null,null,null,null,null,null,null,null,null,null,null,null,null,null,null,null,null,null,null,null,null,null,null,null,null,null,null,null,null,null,null,null,null,null,null,null,null,null,null,null,null,null,null,null,null,null,null,null,null,null,null,null,null,null,null,null,null,null,null,null,null,null,null,null,null,null,null,null,null,null,null,null,null,null,null,null,null,null,null,null,null,null,null,null,null,null,null,null,null,null,null,null,null,null,null,null,null,null,null,0,"TRUE","OK",{"$f":"IF(JE121,VLOOKUP(MIN(JF121:JI121),'Data Validation (hidden)'!$G$30:$H$34,2,FALSE),IF(COUNTA(E121:E121)>0,\"'Scheme (Fund) Name' missing but values entered in other columns.\",\"OK\"))","v":"OK"},null,"OK",null,false,1,2,{"$f":"IF(AND(IX121>'Scheme and Member Information'!I121, E121=\"Yes\"),\"\",\"\")","v":""},4,true,true,false,true,false]
[null,{"$f":"'Scheme and Member Information'!B122","v":0},{"$f":"'Scheme and Member Information'!C122","v":0},null,null,null,null,null,null,null,null,null,null,null,null,null,null,null,null,null,null,null,null,null,null,null,null,null,null,null,null,null,null,null,null,null,null,null,null,null,null,null,null,null,null,null,null,null,null,null,null,null,null,null,null,null,null,null,null,null,null,null,null,null,null,null,null,null,null,null,null,null,null,null,null,null,null,null,null,null,null,null,null,null,null,null,null,null,null,null,null,null,null,null,null,null,null,null,null,null,null,null,null,null,null,null,null,null,null,null,null,null,null,null,null,null,null,null,null,null,null,null,null,null,null,null,null,null,null,null,null,null,null,null,null,null,null,null,null,null,null,null,null,null,null,null,null,null,null,null,null,null,null,null,null,null,null,null,null,null,null,null,null,null,null,null,null,null,null,null,null,null,null,null,null,null,null,null,null,null,null,null,null,null,null,null,null,null,null,null,null,null,null,null,null,null,null,null,null,null,null,null,null,null,null,null,null,null,null,null,null,null,null,null,null,null,null,null,null,null,null,null,null,null,null,null,null,null,null,null,null,null,null,null,null,null,null,null,null,null,null,null,null,null,null,null,null,null,null,null,null,null,null,null,null,null,null,0,"TRUE","OK",{"$f":"IF(JE122,VLOOKUP(MIN(JF122:JI122),'Data Validation (hidden)'!$G$30:$H$34,2,FALSE),IF(COUNTA(E122:E122)>0,\"'Scheme (Fund) Name' missing but values entered in other columns.\",\"OK\"))","v":"OK"},null,"OK",null,false,1,2,{"$f":"IF(AND(IX122>'Scheme and Member Information'!I122, E122=\"Yes\"),\"\",\"\")","v":""},4,true,true,false,true,false]
[null,{"$f":"'Scheme and Member Information'!B123","v":0},{"$f":"'Scheme and Member Information'!C123","v":0},null,null,null,null,null,null,null,null,null,null,null,null,null,null,null,null,null,null,null,null,null,null,null,null,null,null,null,null,null,null,null,null,null,null,null,null,null,null,null,null,null,null,null,null,null,null,null,null,null,null,null,null,null,null,null,null,null,null,null,null,null,null,null,null,null,null,null,null,null,null,null,null,null,null,null,null,null,null,null,null,null,null,null,null,null,null,null,null,null,null,null,null,null,null,null,null,null,null,null,null,null,null,null,null,null,null,null,null,null,null,null,null,null,null,null,null,null,null,null,null,null,null,null,null,null,null,null,null,null,null,null,null,null,null,null,null,null,null,null,null,null,null,null,null,null,null,null,null,null,null,null,null,null,null,null,null,null,null,null,null,null,null,null,null,null,null,null,null,null,null,null,null,null,null,null,null,null,null,null,null,null,null,null,null,null,null,null,null,null,null,null,null,null,null,null,null,null,null,null,null,null,null,null,null,null,null,null,null,null,null,null,null,null,null,null,null,null,null,null,null,null,null,null,null,null,null,null,null,null,null,null,null,null,null,null,null,null,null,null,null,null,null,null,null,null,null,null,null,null,null,null,null,null,null,0,"TRUE","OK",{"$f":"IF(JE123,VLOOKUP(MIN(JF123:JI123),'Data Validation (hidden)'!$G$30:$H$34,2,FALSE),IF(COUNTA(E123:E123)>0,\"'Scheme (Fund) Name' missing but values entered in other columns.\",\"OK\"))","v":"OK"},null,"OK",null,false,1,2,{"$f":"IF(AND(IX123>'Scheme and Member Information'!I123, E123=\"Yes\"),\"\",\"\")","v":""},4,true,true,false,true,false]
[null,{"$f":"'Scheme and Member Information'!B124","v":0},{"$f":"'Scheme and Member Information'!C124","v":0},null,null,null,null,null,null,null,null,null,null,null,null,null,null,null,null,null,null,null,null,null,null,null,null,null,null,null,null,null,null,null,null,null,null,null,null,null,null,null,null,null,null,null,null,null,null,null,null,null,null,null,null,null,null,null,null,null,null,null,null,null,null,null,null,null,null,null,null,null,null,null,null,null,null,null,null,null,null,null,null,null,null,null,null,null,null,null,null,null,null,null,null,null,null,null,null,null,null,null,null,null,null,null,null,null,null,null,null,null,null,null,null,null,null,null,null,null,null,null,null,null,null,null,null,null,null,null,null,null,null,null,null,null,null,null,null,null,null,null,null,null,null,null,null,null,null,null,null,null,null,null,null,null,null,null,null,null,null,null,null,null,null,null,null,null,null,null,null,null,null,null,null,null,null,null,null,null,null,null,null,null,null,null,null,null,null,null,null,null,null,null,null,null,null,null,null,null,null,null,null,null,null,null,null,null,null,null,null,null,null,null,null,null,null,null,null,null,null,null,null,null,null,null,null,null,null,null,null,null,null,null,null,null,null,null,null,null,null,null,null,null,null,null,null,null,null,null,null,null,null,null,null,null,null,0,"TRUE","OK",{"$f":"IF(JE124,VLOOKUP(MIN(JF124:JI124),'Data Validation (hidden)'!$G$30:$H$34,2,FALSE),IF(COUNTA(E124:E124)>0,\"'Scheme (Fund) Name' missing but values entered in other columns.\",\"OK\"))","v":"OK"},null,"OK",null,false,1,2,{"$f":"IF(AND(IX124>'Scheme and Member Information'!I124, E124=\"Yes\"),\"\",\"\")","v":""},4,true,true,false,true,false]
[null,{"$f":"'Scheme and Member Information'!B125","v":0},{"$f":"'Scheme and Member Information'!C125","v":0},null,null,null,null,null,null,null,null,null,null,null,null,null,null,null,null,null,null,null,null,null,null,null,null,null,null,null,null,null,null,null,null,null,null,null,null,null,null,null,null,null,null,null,null,null,null,null,null,null,null,null,null,null,null,null,null,null,null,null,null,null,null,null,null,null,null,null,null,null,null,null,null,null,null,null,null,null,null,null,null,null,null,null,null,null,null,null,null,null,null,null,null,null,null,null,null,null,null,null,null,null,null,null,null,null,null,null,null,null,null,null,null,null,null,null,null,null,null,null,null,null,null,null,null,null,null,null,null,null,null,null,null,null,null,null,null,null,null,null,null,null,null,null,null,null,null,null,null,null,null,null,null,null,null,null,null,null,null,null,null,null,null,null,null,null,null,null,null,null,null,null,null,null,null,null,null,null,null,null,null,null,null,null,null,null,null,null,null,null,null,null,null,null,null,null,null,null,null,null,null,null,null,null,null,null,null,null,null,null,null,null,null,null,null,null,null,null,null,null,null,null,null,null,null,null,null,null,null,null,null,null,null,null,null,null,null,null,null,null,null,null,null,null,null,null,null,null,null,null,null,null,null,null,null,0,"TRUE","OK",{"$f":"IF(JE125,VLOOKUP(MIN(JF125:JI125),'Data Validation (hidden)'!$G$30:$H$34,2,FALSE),IF(COUNTA(E125:E125)>0,\"'Scheme (Fund) Name' missing but values entered in other columns.\",\"OK\"))","v":"OK"},null,"OK",null,false,1,2,{"$f":"IF(AND(IX125>'Scheme and Member Information'!I125, E125=\"Yes\"),\"\",\"\")","v":""},4,true,true,false,true,false]
[null,{"$f":"'Scheme and Member Information'!B127","v":0},{"$f":"'Scheme and Member Information'!C127","v":0},null,null,null,null,null,null,null,null,null,null,null,null,null,null,null,null,null,null,null,null,null,null,null,null,null,null,null,null,null,null,null,null,null,null,null,null,null,null,null,null,null,null,null,null,null,null,null,null,null,null,null,null,null,null,null,null,null,null,null,null,null,null,null,null,null,null,null,null,null,null,null,null,null,null,null,null,null,null,null,null,null,null,null,null,null,null,null,null,null,null,null,null,null,null,null,null,null,null,null,null,null,null,null,null,null,null,null,null,null,null,null,null,null,null,null,null,null,null,null,null,null,null,null,null,null,null,null,null,null,null,null,null,null,null,null,null,null,null,null,null,null,null,null,null,null,null,null,null,null,null,null,null,null,null,null,null,null,null,null,null,null,null,null,null,null,null,null,null,null,null,null,null,null,null,null,null,null,null,null,null,null,null,null,null,null,null,null,null,null,null,null,null,null,null,null,null,null,null,null,null,null,null,null,null,null,null,null,null,null,null,null,null,null,null,null,null,null,null,null,null,null,null,null,null,null,null,null,null,null,null,null,null,null,null,null,null,null,null,null,null,null,null,null,null,null,null,null,null,null,null,null,null,null,null,0,"TRUE","OK",{"$f":"IF(JE127,VLOOKUP(MIN(JF127:JI127),'Data Validation (hidden)'!$G$30:$H$34,2,FALSE),IF(COUNTA(E127:E127)>0,\"'Scheme (Fund) Name' missing but values entered in other columns.\",\"OK\"))","v":"OK"},null,"OK",null,false,1,2,{"$f":"IF(AND(IX127>'Scheme and Member Information'!I127, E127=\"Yes\"),\"\",\"\")","v":""},4,true,true,false,true,false]
[null,{"$f":"'Scheme and Member Information'!B131","v":0},{"$f":"'Scheme and Member Information'!C131","v":0},null,null,null,null,null,null,null,null,null,null,null,null,null,null,null,null,null,null,null,null,null,null,null,null,null,null,null,null,null,null,null,null,null,null,null,null,null,null,null,null,null,null,null,null,null,null,null,null,null,null,null,null,null,null,null,null,null,null,null,null,null,null,null,null,null,null,null,null,null,null,null,null,null,null,null,null,null,null,null,null,null,null,null,null,null,null,null,null,null,null,null,null,null,null,null,null,null,null,null,null,null,null,null,null,null,null,null,null,null,null,null,null,null,null,null,null,null,null,null,null,null,null,null,null,null,null,null,null,null,null,null,null,null,null,null,null,null,null,null,null,null,null,null,null,null,null,null,null,null,null,null,null,null,null,null,null,null,null,null,null,null,null,null,null,null,null,null,null,null,null,null,null,null,null,null,null,null,null,null,null,null,null,null,null,null,null,null,null,null,null,null,null,null,null,null,null,null,null,null,null,null,null,null,null,null,null,null,null,null,null,null,null,null,null,null,null,null,null,null,null,null,null,null,null,null,null,null,null,null,null,null,null,null,null,null,null,null,null,null,null,null,null,null,null,null,null,null,null,null,null,null,null,null,null,0,"TRUE","OK",{"$f":"IF(JE131,VLOOKUP(MIN(JF131:JI131),'Data Validation (hidden)'!$G$30:$H$34,2,FALSE),IF(COUNTA(E131:E131)>0,\"'Scheme (Fund) Name' missing but values entered in other columns.\",\"OK\"))","v":"OK"},null,"OK",null,false,1,2,{"$f":"IF(AND(IX131>'Scheme and Member Information'!I131, E131=\"Yes\"),\"\",\"\")","v":""},4,true,true,false,true,false]
[null,{"$f":"'Scheme and Member Information'!B138","v":0},{"$f":"'Scheme and Member Information'!C138","v":0},null,null,null,null,null,null,null,null,null,null,null,null,null,null,null,null,null,null,null,null,null,null,null,null,null,null,null,null,null,null,null,null,null,null,null,null,null,null,null,null,null,null,null,null,null,null,null,null,null,null,null,null,null,null,null,null,null,null,null,null,null,null,null,null,null,null,null,null,null,null,null,null,null,null,null,null,null,null,null,null,null,null,null,null,null,null,null,null,null,null,null,null,null,null,null,null,null,null,null,null,null,null,null,null,null,null,null,null,null,null,null,null,null,null,null,null,null,null,null,null,null,null,null,null,null,null,null,null,null,null,null,null,null,null,null,null,null,null,null,null,null,null,null,null,null,null,null,null,null,null,null,null,null,null,null,null,null,null,null,null,null,null,null,null,null,null,null,null,null,null,null,null,null,null,null,null,null,null,null,null,null,null,null,null,null,null,null,null,null,null,null,null,null,null,null,null,null,null,null,null,null,null,null,null,null,null,null,null,null,null,null,null,null,null,null,null,null,null,null,null,null,null,null,null,null,null,null,null,null,null,null,null,null,null,null,null,null,null,null,null,null,null,null,null,null,null,null,null,null,null,null,null,null,null,0,"TRUE","OK",{"$f":"IF(JE138,VLOOKUP(MIN(JF138:JI138),'Data Validation (hidden)'!$G$30:$H$34,2,FALSE),IF(COUNTA(E138:E138)>0,\"'Scheme (Fund) Name' missing but values entered in other columns.\",\"OK\"))","v":"OK"},null,"OK",null,false,1,2,{"$f":"IF(AND(IX138>'Scheme and Member Information'!I138, E138=\"Yes\"),\"\",\"\")","v":""},4,true,true,false,true,false]
[null,{"$f":"'Scheme and Member Information'!B141","v":0},{"$f":"'Scheme and Member Information'!C141","v":0},null,null,null,null,null,null,null,null,null,null,null,null,null,null,null,null,null,null,null,null,null,null,null,null,null,null,null,null,null,null,null,null,null,null,null,null,null,null,null,null,null,null,null,null,null,null,null,null,null,null,null,null,null,null,null,null,null,null,null,null,null,null,null,null,null,null,null,null,null,null,null,null,null,null,null,null,null,null,null,null,null,null,null,null,null,null,null,null,null,null,null,null,null,null,null,null,null,null,null,null,null,null,null,null,null,null,null,null,null,null,null,null,null,null,null,null,null,null,null,null,null,null,null,null,null,null,null,null,null,null,null,null,null,null,null,null,null,null,null,null,null,null,null,null,null,null,null,null,null,null,null,null,null,null,null,null,null,null,null,null,null,null,null,null,null,null,null,null,null,null,null,null,null,null,null,null,null,null,null,null,null,null,null,null,null,null,null,null,null,null,null,null,null,null,null,null,null,null,null,null,null,null,null,null,null,null,null,null,null,null,null,null,null,null,null,null,null,null,null,null,null,null,null,null,null,null,null,null,null,null,null,null,null,null,null,null,null,null,null,null,null,null,null,null,null,null,null,null,null,null,null,null,null,null,0,"TRUE","OK",{"$f":"IF(JE141,VLOOKUP(MIN(JF141:JI141),'Data Validation (hidden)'!$G$30:$H$34,2,FALSE),IF(COUNTA(E141:E141)>0,\"'Scheme (Fund) Name' missing but values entered in other columns.\",\"OK\"))","v":"OK"},null,"OK",null,false,1,2,{"$f":"IF(AND(IX141>'Scheme and Member Information'!I141, E141=\"Yes\"),\"\",\"\")","v":""},4,true,true,false,true,false]
[null,{"$f":"'Scheme and Member Information'!B145","v":0},{"$f":"'Scheme and Member Information'!C145","v":0},null,null,null,null,null,null,null,null,null,null,null,null,null,null,null,null,null,null,null,null,null,null,null,null,null,null,null,null,null,null,null,null,null,null,null,null,null,null,null,null,null,null,null,null,null,null,null,null,null,null,null,null,null,null,null,null,null,null,null,null,null,null,null,null,null,null,null,null,null,null,null,null,null,null,null,null,null,null,null,null,null,null,null,null,null,null,null,null,null,null,null,null,null,null,null,null,null,null,null,null,null,null,null,null,null,null,null,null,null,null,null,null,null,null,null,null,null,null,null,null,null,null,null,null,null,null,null,null,null,null,null,null,null,null,null,null,null,null,null,null,null,null,null,null,null,null,null,null,null,null,null,null,null,null,null,null,null,null,null,null,null,null,null,null,null,null,null,null,null,null,null,null,null,null,null,null,null,null,null,null,null,null,null,null,null,null,null,null,null,null,null,null,null,null,null,null,null,null,null,null,null,null,null,null,null,null,null,null,null,null,null,null,null,null,null,null,null,null,null,null,null,null,null,null,null,null,null,null,null,null,null,null,null,null,null,null,null,null,null,null,null,null,null,null,null,null,null,null,null,null,null,null,null,null,0,"TRUE","OK",{"$f":"IF(JE145,VLOOKUP(MIN(JF145:JI145),'Data Validation (hidden)'!$G$30:$H$34,2,FALSE),IF(COUNTA(E145:E145)>0,\"'Scheme (Fund) Name' missing but values entered in other columns.\",\"OK\"))","v":"OK"},null,"OK",null,false,1,2,{"$f":"IF(AND(IX145>'Scheme and Member Information'!I145, E145=\"Yes\"),\"\",\"\")","v":""},4,true,true,false,true,false]
[null,{"$f":"'Scheme and Member Information'!B150","v":0},{"$f":"'Scheme and Member Information'!C150","v":0},null,null,null,null,null,null,null,null,null,null,null,null,null,null,null,null,null,null,null,null,null,null,null,null,null,null,null,null,null,null,null,null,null,null,null,null,null,null,null,null,null,null,null,null,null,null,null,null,null,null,null,null,null,null,null,null,null,null,null,null,null,null,null,null,null,null,null,null,null,null,null,null,null,null,null,null,null,null,null,null,null,null,null,null,null,null,null,null,null,null,null,null,null,null,null,null,null,null,null,null,null,null,null,null,null,null,null,null,null,null,null,null,null,null,null,null,null,null,null,null,null,null,null,null,null,null,null,null,null,null,null,null,null,null,null,null,null,null,null,null,null,null,null,null,null,null,null,null,null,null,null,null,null,null,null,null,null,null,null,null,null,null,null,null,null,null,null,null,null,null,null,null,null,null,null,null,null,null,null,null,null,null,null,null,null,null,null,null,null,null,null,null,null,null,null,null,null,null,null,null,null,null,null,null,null,null,null,null,null,null,null,null,null,null,null,null,null,null,null,null,null,null,null,null,null,null,null,null,null,null,null,null,null,null,null,null,null,null,null,null,null,null,null,null,null,null,null,null,null,null,null,null,null,null,0,"TRUE","OK",{"$f":"IF(JE150,VLOOKUP(MIN(JF150:JI150),'Data Validation (hidden)'!$G$30:$H$34,2,FALSE),IF(COUNTA(E150:E150)>0,\"'Scheme (Fund) Name' missing but values entered in other columns.\",\"OK\"))","v":"OK"},null,"OK",null,false,1,2,{"$f":"IF(AND(IX150>'Scheme and Member Information'!I150, E150=\"Yes\"),\"\",\"\")","v":""},4,true,true,false,true,false]
[null,{"$f":"'Scheme and Member Information'!B156","v":0},{"$f":"'Scheme and Member Information'!C156","v":0},null,null,null,null,null,null,null,null,null,null,null,null,null,null,null,null,null,null,null,null,null,null,null,null,null,null,null,null,null,null,null,null,null,null,null,null,null,null,null,null,null,null,null,null,null,null,null,null,null,null,null,null,null,null,null,null,null,null,null,null,null,null,null,null,null,null,null,null,null,null,null,null,null,null,null,null,null,null,null,null,null,null,null,null,null,null,null,null,null,null,null,null,null,null,null,null,null,null,null,null,null,null,null,null,null,null,null,null,null,null,null,null,null,null,null,null,null,null,null,null,null,null,null,null,null,null,null,null,null,null,null,null,null,null,null,null,null,null,null,null,null,null,null,null,null,null,null,null,null,null,null,null,null,null,null,null,null,null,null,null,null,null,null,null,null,null,null,null,null,null,null,null,null,null,null,null,null,null,null,null,null,null,null,null,null,null,null,null,null,null,null,null,null,null,null,null,null,null,null,null,null,null,null,null,null,null,null,null,null,null,null,null,null,null,null,null,null,null,null,null,null,null,null,null,null,null,null,null,null,null,null,null,null,null,null,null,null,null,null,null,null,null,null,null,null,null,null,null,null,null,null,null,null,null,0,"TRUE","OK",{"$f":"IF(JE156,VLOOKUP(MIN(JF156:JI156),'Data Validation (hidden)'!$G$30:$H$34,2,FALSE),IF(COUNTA(E156:E156)>0,\"'Scheme (Fund) Name' missing but values entered in other columns.\",\"OK\"))","v":"OK"},null,"OK",null,false,1,2,{"$f":"IF(AND(IX156>'Scheme and Member Information'!I156, E156=\"Yes\"),\"\",\"\")","v":""},4,true,true,false,true,false]
[null,{"$f":"'Scheme and Member Information'!B160","v":0},{"$f":"'Scheme and Member Information'!C160","v":0},null,null,null,null,null,null,null,null,null,null,null,null,null,null,null,null,null,null,null,null,null,null,null,null,null,null,null,null,null,null,null,null,null,null,null,null,null,null,null,null,null,null,null,null,null,null,null,null,null,null,null,null,null,null,null,null,null,null,null,null,null,null,null,null,null,null,null,null,null,null,null,null,null,null,null,null,null,null,null,null,null,null,null,null,null,null,null,null,null,null,null,null,null,null,null,null,null,null,null,null,null,null,null,null,null,null,null,null,null,null,null,null,null,null,null,null,null,null,null,null,null,null,null,null,null,null,null,null,null,null,null,null,null,null,null,null,null,null,null,null,null,null,null,null,null,null,null,null,null,null,null,null,null,null,null,null,null,null,null,null,null,null,null,null,null,null,null,null,null,null,null,null,null,null,null,null,null,null,null,null,null,null,null,null,null,null,null,null,null,null,null,null,null,null,null,null,null,null,null,null,null,null,null,null,null,null,null,null,null,null,null,null,null,null,null,null,null,null,null,null,null,null,null,null,null,null,null,null,null,null,null,null,null,null,null,null,null,null,null,null,null,null,null,null,null,null,null,null,null,null,null,null,null,null,0,"TRUE","OK",{"$f":"IF(JE160,VLOOKUP(MIN(JF160:JI160),'Data Validation (hidden)'!$G$30:$H$34,2,FALSE),IF(COUNTA(E160:E160)>0,\"'Scheme (Fund) Name' missing but values entered in other columns.\",\"OK\"))","v":"OK"},null,"OK",null,false,1,2,{"$f":"IF(AND(IX160>'Scheme and Member Information'!I160, E160=\"Yes\"),\"\",\"\")","v":""},4,true,true,false,true,false]
[null,{"$f":"'Scheme and Member Information'!B163","v":0},{"$f":"'Scheme and Member Information'!C163","v":0},null,null,null,null,null,null,null,null,null,null,null,null,null,null,null,null,null,null,null,null,null,null,null,null,null,null,null,null,null,null,null,null,null,null,null,null,null,null,null,null,null,null,null,null,null,null,null,null,null,null,null,null,null,null,null,null,null,null,null,null,null,null,null,null,null,null,null,null,null,null,null,null,null,null,null,null,null,null,null,null,null,null,null,null,null,null,null,null,null,null,null,null,null,null,null,null,null,null,null,null,null,null,null,null,null,null,null,null,null,null,null,null,null,null,null,null,null,null,null,null,null,null,null,null,null,null,null,null,null,null,null,null,null,null,null,null,null,null,null,null,null,null,null,null,null,null,null,null,null,null,null,null,null,null,null,null,null,null,null,null,null,null,null,null,null,null,null,null,null,null,null,null,null,null,null,null,null,null,null,null,null,null,null,null,null,null,null,null,null,null,null,null,null,null,null,null,null,null,null,null,null,null,null,null,null,null,null,null,null,null,null,null,null,null,null,null,null,null,null,null,null,null,null,null,null,null,null,null,null,null,null,null,null,null,null,null,null,null,null,null,null,null,null,null,null,null,null,null,null,null,null,null,null,null,0,"TRUE","OK",{"$f":"IF(JE163,VLOOKUP(MIN(JF163:JI163),'Data Validation (hidden)'!$G$30:$H$34,2,FALSE),IF(COUNTA(E163:E163)>0,\"'Scheme (Fund) Name' missing but values entered in other columns.\",\"OK\"))","v":"OK"},null,"OK",null,false,1,2,{"$f":"IF(AND(IX163>'Scheme and Member Information'!I163, E163=\"Yes\"),\"\",\"\")","v":""},4,true,true,false,true,false]
[null,{"$f":"'Scheme and Member Information'!B170","v":0},{"$f":"'Scheme and Member Information'!C170","v":0},null,null,null,null,null,null,null,null,null,null,null,null,null,null,null,null,null,null,null,null,null,null,null,null,null,null,null,null,null,null,null,null,null,null,null,null,null,null,null,null,null,null,null,null,null,null,null,null,null,null,null,null,null,null,null,null,null,null,null,null,null,null,null,null,null,null,null,null,null,null,null,null,null,null,null,null,null,null,null,null,null,null,null,null,null,null,null,null,null,null,null,null,null,null,null,null,null,null,null,null,null,null,null,null,null,null,null,null,null,null,null,null,null,null,null,null,null,null,null,null,null,null,null,null,null,null,null,null,null,null,null,null,null,null,null,null,null,null,null,null,null,null,null,null,null,null,null,null,null,null,null,null,null,null,null,null,null,null,null,null,null,null,null,null,null,null,null,null,null,null,null,null,null,null,null,null,null,null,null,null,null,null,null,null,null,null,null,null,null,null,null,null,null,null,null,null,null,null,null,null,null,null,null,null,null,null,null,null,null,null,null,null,null,null,null,null,null,null,null,null,null,null,null,null,null,null,null,null,null,null,null,null,null,null,null,null,null,null,null,null,null,null,null,null,null,null,null,null,null,null,null,null,null,null,0,"TRUE","OK",{"$f":"IF(JE170,VLOOKUP(MIN(JF170:JI170),'Data Validation (hidden)'!$G$30:$H$34,2,FALSE),IF(COUNTA(E170:E170)>0,\"'Scheme (Fund) Name' missing but values entered in other columns.\",\"OK\"))","v":"OK"},null,"OK",null,false,1,2,{"$f":"IF(AND(IX170>'Scheme and Member Information'!I170, E170=\"Yes\"),\"\",\"\")","v":""},4,true,true,false,true,false]
[null,{"$f":"'Scheme and Member Information'!B174","v":0},{"$f":"'Scheme and Member Information'!C174","v":0},null,null,null,null,null,null,null,null,null,null,null,null,null,null,null,null,null,null,null,null,null,null,null,null,null,null,null,null,null,null,null,null,null,null,null,null,null,null,null,null,null,null,null,null,null,null,null,null,null,null,null,null,null,null,null,null,null,null,null,null,null,null,null,null,null,null,null,null,null,null,null,null,null,null,null,null,null,null,null,null,null,null,null,null,null,null,null,null,null,null,null,null,null,null,null,null,null,null,null,null,null,null,null,null,null,null,null,null,null,null,null,null,null,null,null,null,null,null,null,null,null,null,null,null,null,null,null,null,null,null,null,null,null,null,null,null,null,null,null,null,null,null,null,null,null,null,null,null,null,null,null,null,null,null,null,null,null,null,null,null,null,null,null,null,null,null,null,null,null,null,null,null,null,null,null,null,null,null,null,null,null,null,null,null,null,null,null,null,null,null,null,null,null,null,null,null,null,null,null,null,null,null,null,null,null,null,null,null,null,null,null,null,null,null,null,null,null,null,null,null,null,null,null,null,null,null,null,null,null,null,null,null,null,null,null,null,null,null,null,null,null,null,null,null,null,null,null,null,null,null,null,null,null,null,0,"TRUE","OK",{"$f":"IF(JE174,VLOOKUP(MIN(JF174:JI174),'Data Validation (hidden)'!$G$30:$H$34,2,FALSE),IF(COUNTA(E174:E174)>0,\"'Scheme (Fund) Name' missing but values entered in other columns.\",\"OK\"))","v":"OK"},null,"OK",null,false,1,2,{"$f":"IF(AND(IX174>'Scheme and Member Information'!I174, E174=\"Yes\"),\"\",\"\")","v":""},4,true,true,false,true,false]
[null,{"$f":"'Scheme and Member Information'!B175","v":0},{"$f":"'Scheme and Member Information'!C175","v":0},null,null,null,null,null,null,null,null,null,null,null,null,null,null,null,null,null,null,null,null,null,null,null,null,null,null,null,null,null,null,null,null,null,null,null,null,null,null,null,null,null,null,null,null,null,null,null,null,null,null,null,null,null,null,null,null,null,null,null,null,null,null,null,null,null,null,null,null,null,null,null,null,null,null,null,null,null,null,null,null,null,null,null,null,null,null,null,null,null,null,null,null,null,null,null,null,null,null,null,null,null,null,null,null,null,null,null,null,null,null,null,null,null,null,null,null,null,null,null,null,null,null,null,null,null,null,null,null,null,null,null,null,null,null,null,null,null,null,null,null,null,null,null,null,null,null,null,null,null,null,null,null,null,null,null,null,null,null,null,null,null,null,null,null,null,null,null,null,null,null,null,null,null,null,null,null,null,null,null,null,null,null,null,null,null,null,null,null,null,null,null,null,null,null,null,null,null,null,null,null,null,null,null,null,null,null,null,null,null,null,null,null,null,null,null,null,null,null,null,null,null,null,null,null,null,null,null,null,null,null,null,null,null,null,null,null,null,null,null,null,null,null,null,null,null,null,null,null,null,null,null,null,null,null,0,"TRUE","OK",{"$f":"IF(JE175,VLOOKUP(MIN(JF175:JI175),'Data Validation (hidden)'!$G$30:$H$34,2,FALSE),IF(COUNTA(E175:E175)>0,\"'Scheme (Fund) Name' missing but values entered in other columns.\",\"OK\"))","v":"OK"},null,"OK",null,false,1,2,{"$f":"IF(AND(IX175>'Scheme and Member Information'!I175, E175=\"Yes\"),\"\",\"\")","v":""},4,true,true,false,true,false]
[null,{"$f":"'Scheme and Member Information'!B181","v":0},{"$f":"'Scheme and Member Information'!C181","v":0},null,null,null,null,null,null,null,null,null,null,null,null,null,null,null,null,null,null,null,null,null,null,null,null,null,null,null,null,null,null,null,null,null,null,null,null,null,null,null,null,null,null,null,null,null,null,null,null,null,null,null,null,null,null,null,null,null,null,null,null,null,null,null,null,null,null,null,null,null,null,null,null,null,null,null,null,null,null,null,null,null,null,null,null,null,null,null,null,null,null,null,null,null,null,null,null,null,null,null,null,null,null,null,null,null,null,null,null,null,null,null,null,null,null,null,null,null,null,null,null,null,null,null,null,null,null,null,null,null,null,null,null,null,null,null,null,null,null,null,null,null,null,null,null,null,null,null,null,null,null,null,null,null,null,null,null,null,null,null,null,null,null,null,null,null,null,null,null,null,null,null,null,null,null,null,null,null,null,null,null,null,null,null,null,null,null,null,null,null,null,null,null,null,null,null,null,null,null,null,null,null,null,null,null,null,null,null,null,null,null,null,null,null,null,null,null,null,null,null,null,null,null,null,null,null,null,null,null,null,null,null,null,null,null,null,null,null,null,null,null,null,null,null,null,null,null,null,null,null,null,null,null,null,null,0,"TRUE","OK",{"$f":"IF(JE181,VLOOKUP(MIN(JF181:JI181),'Data Validation (hidden)'!$G$30:$H$34,2,FALSE),IF(COUNTA(E181:E181)>0,\"'Scheme (Fund) Name' missing but values entered in other columns.\",\"OK\"))","v":"OK"},null,"OK",null,false,1,2,{"$f":"IF(AND(IX181>'Scheme and Member Information'!I181, E181=\"Yes\"),\"\",\"\")","v":""},4,true,true,false,true,false]
[null,{"$f":"'Scheme and Member Information'!B184","v":0},{"$f":"'Scheme and Member Information'!C184","v":0},null,null,null,null,null,null,null,null,null,null,null,null,null,null,null,null,null,null,null,null,null,null,null,null,null,null,null,null,null,null,null,null,null,null,null,null,null,null,null,null,null,null,null,null,null,null,null,null,null,null,null,null,null,null,null,null,null,null,null,null,null,null,null,null,null,null,null,null,null,null,null,null,null,null,null,null,null,null,null,null,null,null,null,null,null,null,null,null,null,null,null,null,null,null,null,null,null,null,null,null,null,null,null,null,null,null,null,null,null,null,null,null,null,null,null,null,null,null,null,null,null,null,null,null,null,null,null,null,null,null,null,null,null,null,null,null,null,null,null,null,null,null,null,null,null,null,null,null,null,null,null,null,null,null,null,null,null,null,null,null,null,null,null,null,null,null,null,null,null,null,null,null,null,null,null,null,null,null,null,null,null,null,null,null,null,null,null,null,null,null,null,null,null,null,null,null,null,null,null,null,null,null,null,null,null,null,null,null,null,null,null,null,null,null,null,null,null,null,null,null,null,null,null,null,null,null,null,null,null,null,null,null,null,null,null,null,null,null,null,null,null,null,null,null,null,null,null,null,null,null,null,null,null,null,0,"TRUE","OK",{"$f":"IF(JE184,VLOOKUP(MIN(JF184:JI184),'Data Validation (hidden)'!$G$30:$H$34,2,FALSE),IF(COUNTA(E184:E184)>0,\"'Scheme (Fund) Name' missing but values entered in other columns.\",\"OK\"))","v":"OK"},null,"OK",null,false,1,2,{"$f":"IF(AND(IX184>'Scheme and Member Information'!I184, E184=\"Yes\"),\"\",\"\")","v":""},4,true,true,false,true,false]
[null,{"$f":"'Scheme and Member Information'!B190","v":0},{"$f":"'Scheme and Member Information'!C190","v":0},null,null,null,null,null,null,null,null,null,null,null,null,null,null,null,null,null,null,null,null,null,null,null,null,null,null,null,null,null,null,null,null,null,null,null,null,null,null,null,null,null,null,null,null,null,null,null,null,null,null,null,null,null,null,null,null,null,null,null,null,null,null,null,null,null,null,null,null,null,null,null,null,null,null,null,null,null,null,null,null,null,null,null,null,null,null,null,null,null,null,null,null,null,null,null,null,null,null,null,null,null,null,null,null,null,null,null,null,null,null,null,null,null,null,null,null,null,null,null,null,null,null,null,null,null,null,null,null,null,null,null,null,null,null,null,null,null,null,null,null,null,null,null,null,null,null,null,null,null,null,null,null,null,null,null,null,null,null,null,null,null,null,null,null,null,null,null,null,null,null,null,null,null,null,null,null,null,null,null,null,null,null,null,null,null,null,null,null,null,null,null,null,null,null,null,null,null,null,null,null,null,null,null,null,null,null,null,null,null,null,null,null,null,null,null,null,null,null,null,null,null,null,null,null,null,null,null,null,null,null,null,null,null,null,null,null,null,null,null,null,null,null,null,null,null,null,null,null,null,null,null,null,null,null,0,"TRUE","OK",{"$f":"IF(JE190,VLOOKUP(MIN(JF190:JI190),'Data Validation (hidden)'!$G$30:$H$34,2,FALSE),IF(COUNTA(E190:E190)>0,\"'Scheme (Fund) Name' missing but values entered in other columns.\",\"OK\"))","v":"OK"},null,"OK",null,false,1,2,{"$f":"IF(AND(IX190>'Scheme and Member Information'!I190, E190=\"Yes\"),\"\",\"\")","v":""},4,true,true,false,true,false]
[null,{"$f":"'Scheme and Member Information'!B194","v":0},{"$f":"'Scheme and Member Information'!C194","v":0},null,null,null,null,null,null,null,null,null,null,null,null,null,null,null,null,null,null,null,null,null,null,null,null,null,null,null,null,null,null,null,null,null,null,null,null,null,null,null,null,null,null,null,null,null,null,null,null,null,null,null,null,null,null,null,null,null,null,null,null,null,null,null,null,null,null,null,null,null,null,null,null,null,null,null,null,null,null,null,null,null,null,null,null,null,null,null,null,null,null,null,null,null,null,null,null,null,null,null,null,null,null,null,null,null,null,null,null,null,null,null,null,null,null,null,null,null,null,null,null,null,null,null,null,null,null,null,null,null,null,null,null,null,null,null,null,null,null,null,null,null,null,null,null,null,null,null,null,null,null,null,null,null,null,null,null,null,null,null,null,null,null,null,null,null,null,null,null,null,null,null,null,null,null,null,null,null,null,null,null,null,null,null,null,null,null,null,null,null,null,null,null,null,null,null,null,null,null,null,null,null,null,null,null,null,null,null,null,null,null,null,null,null,null,null,null,null,null,null,null,null,null,null,null,null,null,null,null,null,null,null,null,null,null,null,null,null,null,null,null,null,null,null,null,null,null,null,null,null,null,null,null,null,null,0,"TRUE","OK",{"$f":"IF(JE194,VLOOKUP(MIN(JF194:JI194),'Data Validation (hidden)'!$G$30:$H$34,2,FALSE),IF(COUNTA(E194:E194)>0,\"'Scheme (Fund) Name' missing but values entered in other columns.\",\"OK\"))","v":"OK"},null,"OK",null,false,1,2,{"$f":"IF(AND(IX194>'Scheme and Member Information'!I194, E194=\"Yes\"),\"\",\"\")","v":""},4,true,true,false,true,false]
[null,{"$f":"'Scheme and Member Information'!B200","v":0},{"$f":"'Scheme and Member Information'!C200","v":0},null,null,null,null,null,null,null,null,null,null,null,null,null,null,null,null,null,null,null,null,null,null,null,null,null,null,null,null,null,null,null,null,null,null,null,null,null,null,null,null,null,null,null,null,null,null,null,null,null,null,null,null,null,null,null,null,null,null,null,null,null,null,null,null,null,null,null,null,null,null,null,null,null,null,null,null,null,null,null,null,null,null,null,null,null,null,null,null,null,null,null,null,null,null,null,null,null,null,null,null,null,null,null,null,null,null,null,null,null,null,null,null,null,null,null,null,null,null,null,null,null,null,null,null,null,null,null,null,null,null,null,null,null,null,null,null,null,null,null,null,null,null,null,null,null,null,null,null,null,null,null,null,null,null,null,null,null,null,null,null,null,null,null,null,null,null,null,null,null,null,null,null,null,null,null,null,null,null,null,null,null,null,null,null,null,null,null,null,null,null,null,null,null,null,null,null,null,null,null,null,null,null,null,null,null,null,null,null,null,null,null,null,null,null,null,null,null,null,null,null,null,null,null,null,null,null,null,null,null,null,null,null,null,null,null,null,null,null,null,null,null,null,null,null,null,null,null,null,null,null,null,null,null,null,{"$f":"SUM(F200:IW200)","v":0},"TRUE","OK",{"$f":"IF(JE200,VLOOKUP(MIN(JF200:JI200),'Data Validation (hidden)'!$G$30:$H$34,2,FALSE),IF(COUNTA(E200:E200)>0,\"'Scheme (Fund) Name' missing but values entered in other columns.\",\"OK\"))","v":"OK"},null,"OK",null,false,1,2,{"$f":"IF(AND(IX200>'Scheme and Member Information'!I200, E200=\"Yes\"),\"\",\"\")","v":""},4,{"$f":"IF(CELL(\"format\",E200)=\"G\",TRUE,FALSE)","v":true},{"$f":"IF(CELL(\"format\",C200)=\"F0\",TRUE,FALSE)","v":true},false,{"$f":"IF(CELL(\"format\",F200:IW200)=\"F0\",TRUE,FALSE)","v":true},false]
[null,{"$f":"'Scheme and Member Information'!B205","v":0},{"$f":"'Scheme and Member Information'!C205","v":0},null,null,null,null,null,null,null,null,null,null,null,null,null,null,null,null,null,null,null,null,null,null,null,null,null,null,null,null,null,null,null,null,null,null,null,null,null,null,null,null,null,null,null,null,null,null,null,null,null,null,null,null,null,null,null,null,null,null,null,null,null,null,null,null,null,null,null,null,null,null,null,null,null,null,null,null,null,null,null,null,null,null,null,null,null,null,null,null,null,null,null,null,null,null,null,null,null,null,null,null,null,null,null,null,null,null,null,null,null,null,null,null,null,null,null,null,null,null,null,null,null,null,null,null,null,null,null,null,null,null,null,null,null,null,null,null,null,null,null,null,null,null,null,null,null,null,null,null,null,null,null,null,null,null,null,null,null,null,null,null,null,null,null,null,null,null,null,null,null,null,null,null,null,null,null,null,null,null,null,null,null,null,null,null,null,null,null,null,null,null,null,null,null,null,null,null,null,null,null,null,null,null,null,null,null,null,null,null,null,null,null,null,null,null,null,null,null,null,null,null,null,null,null,null,null,null,null,null,null,null,null,null,null,null,null,null,null,null,null,null,null,null,null,null,null,null,null,null,null,null,null,null,null,null,0,"TRUE","OK",{"$f":"IF(JE205,VLOOKUP(MIN(JF205:JI205),'Data Validation (hidden)'!$G$30:$H$34,2,FALSE),IF(COUNTA(E205:E205)>0,\"'Scheme (Fund) Name' missing but values entered in other columns.\",\"OK\"))","v":"OK"},null,"OK",null,false,1,2,{"$f":"IF(AND(IX205>'Scheme and Member Information'!I205, E205=\"Yes\"),\"\",\"\")","v":""},4,true,true,false,true,false]
[null,{"$f":"'Scheme and Member Information'!B209","v":0},{"$f":"'Scheme and Member Information'!C209","v":0},null,null,null,null,null,null,null,null,null,null,null,null,null,null,null,null,null,null,null,null,null,null,null,null,null,null,null,null,null,null,null,null,null,null,null,null,null,null,null,null,null,null,null,null,null,null,null,null,null,null,null,null,null,null,null,null,null,null,null,null,null,null,null,null,null,null,null,null,null,null,null,null,null,null,null,null,null,null,null,null,null,null,null,null,null,null,null,null,null,null,null,null,null,null,null,null,null,null,null,null,null,null,null,null,null,null,null,null,null,null,null,null,null,null,null,null,null,null,null,null,null,null,null,null,null,null,null,null,null,null,null,null,null,null,null,null,null,null,null,null,null,null,null,null,null,null,null,null,null,null,null,null,null,null,null,null,null,null,null,null,null,null,null,null,null,null,null,null,null,null,null,null,null,null,null,null,null,null,null,null,null,null,null,null,null,null,null,null,null,null,null,null,null,null,null,null,null,null,null,null,null,null,null,null,null,null,null,null,null,null,null,null,null,null,null,null,null,null,null,null,null,null,null,null,null,null,null,null,null,null,null,null,null,null,null,null,null,null,null,null,null,null,null,null,null,null,null,null,null,null,null,null,null,null,0,"TRUE","OK",{"$f":"IF(JE209,VLOOKUP(MIN(JF209:JI209),'Data Validation (hidden)'!$G$30:$H$34,2,FALSE),IF(COUNTA(E209:E209)>0,\"'Scheme (Fund) Name' missing but values entered in other columns.\",\"OK\"))","v":"OK"},null,"OK",null,false,1,2,{"$f":"IF(AND(IX209>'Scheme and Member Information'!I209, E209=\"Yes\"),\"\",\"\")","v":""},4,true,true,false,true,false]
[null,{"$f":"'Scheme and Member Information'!B212","v":0},{"$f":"'Scheme and Member Information'!C212","v":0},null,null,null,null,null,null,null,null,null,null,null,null,null,null,null,null,null,null,null,null,null,null,null,null,null,null,null,null,null,null,null,null,null,null,null,null,null,null,null,null,null,null,null,null,null,null,null,null,null,null,null,null,null,null,null,null,null,null,null,null,null,null,null,null,null,null,null,null,null,null,null,null,null,null,null,null,null,null,null,null,null,null,null,null,null,null,null,null,null,null,null,null,null,null,null,null,null,null,null,null,null,null,null,null,null,null,null,null,null,null,null,null,null,null,null,null,null,null,null,null,null,null,null,null,null,null,null,null,null,null,null,null,null,null,null,null,null,null,null,null,null,null,null,null,null,null,null,null,null,null,null,null,null,null,null,null,null,null,null,null,null,null,null,null,null,null,null,null,null,null,null,null,null,null,null,null,null,null,null,null,null,null,null,null,null,null,null,null,null,null,null,null,null,null,null,null,null,null,null,null,null,null,null,null,null,null,null,null,null,null,null,null,null,null,null,null,null,null,null,null,null,null,null,null,null,null,null,null,null,null,null,null,null,null,null,null,null,null,null,null,null,null,null,null,null,null,null,null,null,null,null,null,null,null,0,"TRUE","OK",{"$f":"IF(JE212,VLOOKUP(MIN(JF212:JI212),'Data Validation (hidden)'!$G$30:$H$34,2,FALSE),IF(COUNTA(E212:E212)>0,\"'Scheme (Fund) Name' missing but values entered in other columns.\",\"OK\"))","v":"OK"},null,"OK",null,false,1,2,{"$f":"IF(AND(IX212>'Scheme and Member Information'!I212, E212=\"Yes\"),\"\",\"\")","v":""},4,true,true,false,true,false]
[null,{"$f":"'Scheme and Member Information'!B219","v":0},{"$f":"'Scheme and Member Information'!C219","v":0},null,null,null,null,null,null,null,null,null,null,null,null,null,null,null,null,null,null,null,null,null,null,null,null,null,null,null,null,null,null,null,null,null,null,null,null,null,null,null,null,null,null,null,null,null,null,null,null,null,null,null,null,null,null,null,null,null,null,null,null,null,null,null,null,null,null,null,null,null,null,null,null,null,null,null,null,null,null,null,null,null,null,null,null,null,null,null,null,null,null,null,null,null,null,null,null,null,null,null,null,null,null,null,null,null,null,null,null,null,null,null,null,null,null,null,null,null,null,null,null,null,null,null,null,null,null,null,null,null,null,null,null,null,null,null,null,null,null,null,null,null,null,null,null,null,null,null,null,null,null,null,null,null,null,null,null,null,null,null,null,null,null,null,null,null,null,null,null,null,null,null,null,null,null,null,null,null,null,null,null,null,null,null,null,null,null,null,null,null,null,null,null,null,null,null,null,null,null,null,null,null,null,null,null,null,null,null,null,null,null,null,null,null,null,null,null,null,null,null,null,null,null,null,null,null,null,null,null,null,null,null,null,null,null,null,null,null,null,null,null,null,null,null,null,null,null,null,null,null,null,null,null,null,null,0,"TRUE","OK",{"$f":"IF(JE219,VLOOKUP(MIN(JF219:JI219),'Data Validation (hidden)'!$G$30:$H$34,2,FALSE),IF(COUNTA(E219:E219)>0,\"'Scheme (Fund) Name' missing but values entered in other columns.\",\"OK\"))","v":"OK"},null,"OK",null,false,1,2,{"$f":"IF(AND(IX219>'Scheme and Member Information'!I219, E219=\"Yes\"),\"\",\"\")","v":""},4,true,true,false,true,false]
[null,{"$f":"'Scheme and Member Information'!B223","v":0},{"$f":"'Scheme and Member Information'!C223","v":0},null,null,null,null,null,null,null,null,null,null,null,null,null,null,null,null,null,null,null,null,null,null,null,null,null,null,null,null,null,null,null,null,null,null,null,null,null,null,null,null,null,null,null,null,null,null,null,null,null,null,null,null,null,null,null,null,null,null,null,null,null,null,null,null,null,null,null,null,null,null,null,null,null,null,null,null,null,null,null,null,null,null,null,null,null,null,null,null,null,null,null,null,null,null,null,null,null,null,null,null,null,null,null,null,null,null,null,null,null,null,null,null,null,null,null,null,null,null,null,null,null,null,null,null,null,null,null,null,null,null,null,null,null,null,null,null,null,null,null,null,null,null,null,null,null,null,null,null,null,null,null,null,null,null,null,null,null,null,null,null,null,null,null,null,null,null,null,null,null,null,null,null,null,null,null,null,null,null,null,null,null,null,null,null,null,null,null,null,null,null,null,null,null,null,null,null,null,null,null,null,null,null,null,null,null,null,null,null,null,null,null,null,null,null,null,null,null,null,null,null,null,null,null,null,null,null,null,null,null,null,null,null,null,null,null,null,null,null,null,null,null,null,null,null,null,null,null,null,null,null,null,null,null,null,0,"TRUE","OK",{"$f":"IF(JE223,VLOOKUP(MIN(JF223:JI223),'Data Validation (hidden)'!$G$30:$H$34,2,FALSE),IF(COUNTA(E223:E223)>0,\"'Scheme (Fund) Name' missing but values entered in other columns.\",\"OK\"))","v":"OK"},null,"OK",null,false,1,2,{"$f":"IF(AND(IX223>'Scheme and Member Information'!I223, E223=\"Yes\"),\"\",\"\")","v":""},4,true,true,false,true,false]
[null,{"$f":"'Scheme and Member Information'!B229","v":0},{"$f":"'Scheme and Member Information'!C229","v":0},null,null,null,null,null,null,null,null,null,null,null,null,null,null,null,null,null,null,null,null,null,null,null,null,null,null,null,null,null,null,null,null,null,null,null,null,null,null,null,null,null,null,null,null,null,null,null,null,null,null,null,null,null,null,null,null,null,null,null,null,null,null,null,null,null,null,null,null,null,null,null,null,null,null,null,null,null,null,null,null,null,null,null,null,null,null,null,null,null,null,null,null,null,null,null,null,null,null,null,null,null,null,null,null,null,null,null,null,null,null,null,null,null,null,null,null,null,null,null,null,null,null,null,null,null,null,null,null,null,null,null,null,null,null,null,null,null,null,null,null,null,null,null,null,null,null,null,null,null,null,null,null,null,null,null,null,null,null,null,null,null,null,null,null,null,null,null,null,null,null,null,null,null,null,null,null,null,null,null,null,null,null,null,null,null,null,null,null,null,null,null,null,null,null,null,null,null,null,null,null,null,null,null,null,null,null,null,null,null,null,null,null,null,null,null,null,null,null,null,null,null,null,null,null,null,null,null,null,null,null,null,null,null,null,null,null,null,null,null,null,null,null,null,null,null,null,null,null,null,null,null,null,null,null,0,"TRUE","OK",{"$f":"IF(JE229,VLOOKUP(MIN(JF229:JI229),'Data Validation (hidden)'!$G$30:$H$34,2,FALSE),IF(COUNTA(E229:E229)>0,\"'Scheme (Fund) Name' missing but values entered in other columns.\",\"OK\"))","v":"OK"},null,"OK",null,false,1,2,{"$f":"IF(AND(IX229>'Scheme and Member Information'!I229, E229=\"Yes\"),\"\",\"\")","v":""},4,true,true,false,true,false]
[null,{"$f":"'Scheme and Member Information'!B230","v":0},{"$f":"'Scheme and Member Information'!C230","v":0},null,null,null,null,null,null,null,null,null,null,null,null,null,null,null,null,null,null,null,null,null,null,null,null,null,null,null,null,null,null,null,null,null,null,null,null,null,null,null,null,null,null,null,null,null,null,null,null,null,null,null,null,null,null,null,null,null,null,null,null,null,null,null,null,null,null,null,null,null,null,null,null,null,null,null,null,null,null,null,null,null,null,null,null,null,null,null,null,null,null,null,null,null,null,null,null,null,null,null,null,null,null,null,null,null,null,null,null,null,null,null,null,null,null,null,null,null,null,null,null,null,null,null,null,null,null,null,null,null,null,null,null,null,null,null,null,null,null,null,null,null,null,null,null,null,null,null,null,null,null,null,null,null,null,null,null,null,null,null,null,null,null,null,null,null,null,null,null,null,null,null,null,null,null,null,null,null,null,null,null,null,null,null,null,null,null,null,null,null,null,null,null,null,null,null,null,null,null,null,null,null,null,null,null,null,null,null,null,null,null,null,null,null,null,null,null,null,null,null,null,null,null,null,null,null,null,null,null,null,null,null,null,null,null,null,null,null,null,null,null,null,null,null,null,null,null,null,null,null,null,null,null,null,null,0,"TRUE","OK",{"$f":"IF(JE230,VLOOKUP(MIN(JF230:JI230),'Data Validation (hidden)'!$G$30:$H$34,2,FALSE),IF(COUNTA(E230:E230)>0,\"'Scheme (Fund) Name' missing but values entered in other columns.\",\"OK\"))","v":"OK"},null,"OK",null,false,1,2,{"$f":"IF(AND(IX230>'Scheme and Member Information'!I230, E230=\"Yes\"),\"\",\"\")","v":""},4,true,true,false,true,false]
[null,{"$f":"'Scheme and Member Information'!B234","v":0},{"$f":"'Scheme and Member Information'!C234","v":0},null,null,null,null,null,null,null,null,null,null,null,null,null,null,null,null,null,null,null,null,null,null,null,null,null,null,null,null,null,null,null,null,null,null,null,null,null,null,null,null,null,null,null,null,null,null,null,null,null,null,null,null,null,null,null,null,null,null,null,null,null,null,null,null,null,null,null,null,null,null,null,null,null,null,null,null,null,null,null,null,null,null,null,null,null,null,null,null,null,null,null,null,null,null,null,null,null,null,null,null,null,null,null,null,null,null,null,null,null,null,null,null,null,null,null,null,null,null,null,null,null,null,null,null,null,null,null,null,null,null,null,null,null,null,null,null,null,null,null,null,null,null,null,null,null,null,null,null,null,null,null,null,null,null,null,null,null,null,null,null,null,null,null,null,null,null,null,null,null,null,null,null,null,null,null,null,null,null,null,null,null,null,null,null,null,null,null,null,null,null,null,null,null,null,null,null,null,null,null,null,null,null,null,null,null,null,null,null,null,null,null,null,null,null,null,null,null,null,null,null,null,null,null,null,null,null,null,null,null,null,null,null,null,null,null,null,null,null,null,null,null,null,null,null,null,null,null,null,null,null,null,null,null,null,0,"TRUE","OK",{"$f":"IF(JE234,VLOOKUP(MIN(JF234:JI234),'Data Validation (hidden)'!$G$30:$H$34,2,FALSE),IF(COUNTA(E234:E234)>0,\"'Scheme (Fund) Name' missing but values entered in other columns.\",\"OK\"))","v":"OK"},null,"OK",null,false,1,2,{"$f":"IF(AND(IX234>'Scheme and Member Information'!I234, E234=\"Yes\"),\"\",\"\")","v":""},4,true,true,false,true,false]
[null,{"$f":"'Scheme and Member Information'!B241","v":0},{"$f":"'Scheme and Member Information'!C241","v":0},null,null,null,null,null,null,null,null,null,null,null,null,null,null,null,null,null,null,null,null,null,null,null,null,null,null,null,null,null,null,null,null,null,null,null,null,null,null,null,null,null,null,null,null,null,null,null,null,null,null,null,null,null,null,null,null,null,null,null,null,null,null,null,null,null,null,null,null,null,null,null,null,null,null,null,null,null,null,null,null,null,null,null,null,null,null,null,null,null,null,null,null,null,null,null,null,null,null,null,null,null,null,null,null,null,null,null,null,null,null,null,null,null,null,null,null,null,null,null,null,null,null,null,null,null,null,null,null,null,null,null,null,null,null,null,null,null,null,null,null,null,null,null,null,null,null,null,null,null,null,null,null,null,null,null,null,null,null,null,null,null,null,null,null,null,null,null,null,null,null,null,null,null,null,null,null,null,null,null,null,null,null,null,null,null,null,null,null,null,null,null,null,null,null,null,null,null,null,null,null,null,null,null,null,null,null,null,null,null,null,null,null,null,null,null,null,null,null,null,null,null,null,null,null,null,null,null,null,null,null,null,null,null,null,null,null,null,null,null,null,null,null,null,null,null,null,null,null,null,null,null,null,null,null,0,"TRUE","OK",{"$f":"IF(JE241,VLOOKUP(MIN(JF241:JI241),'Data Validation (hidden)'!$G$30:$H$34,2,FALSE),IF(COUNTA(E241:E241)>0,\"'Scheme (Fund) Name' missing but values entered in other columns.\",\"OK\"))","v":"OK"},null,"OK",null,false,1,2,{"$f":"IF(AND(IX241>'Scheme and Member Information'!I241, E241=\"Yes\"),\"\",\"\")","v":""},4,true,true,false,true,false]
[null,{"$f":"'Scheme and Member Information'!B243","v":0},{"$f":"'Scheme and Member Information'!C243","v":0},null,null,null,null,null,null,null,null,null,null,null,null,null,null,null,null,null,null,null,null,null,null,null,null,null,null,null,null,null,null,null,null,null,null,null,null,null,null,null,null,null,null,null,null,null,null,null,null,null,null,null,null,null,null,null,null,null,null,null,null,null,null,null,null,null,null,null,null,null,null,null,null,null,null,null,null,null,null,null,null,null,null,null,null,null,null,null,null,null,null,null,null,null,null,null,null,null,null,null,null,null,null,null,null,null,null,null,null,null,null,null,null,null,null,null,null,null,null,null,null,null,null,null,null,null,null,null,null,null,null,null,null,null,null,null,null,null,null,null,null,null,null,null,null,null,null,null,null,null,null,null,null,null,null,null,null,null,null,null,null,null,null,null,null,null,null,null,null,null,null,null,null,null,null,null,null,null,null,null,null,null,null,null,null,null,null,null,null,null,null,null,null,null,null,null,null,null,null,null,null,null,null,null,null,null,null,null,null,null,null,null,null,null,null,null,null,null,null,null,null,null,null,null,null,null,null,null,null,null,null,null,null,null,null,null,null,null,null,null,null,null,null,null,null,null,null,null,null,null,null,null,null,null,null,0,"TRUE","OK",{"$f":"IF(JE243,VLOOKUP(MIN(JF243:JI243),'Data Validation (hidden)'!$G$30:$H$34,2,FALSE),IF(COUNTA(E243:E243)>0,\"'Scheme (Fund) Name' missing but values entered in other columns.\",\"OK\"))","v":"OK"},null,"OK",null,false,1,2,{"$f":"IF(AND(IX243>'Scheme and Member Information'!I243, E243=\"Yes\"),\"\",\"\")","v":""},4,true,true,false,true,false]
[null,{"$f":"'Scheme and Member Information'!B249","v":0},{"$f":"'Scheme and Member Information'!C249","v":0},null,null,null,null,null,null,null,null,null,null,null,null,null,null,null,null,null,null,null,null,null,null,null,null,null,null,null,null,null,null,null,null,null,null,null,null,null,null,null,null,null,null,null,null,null,null,null,null,null,null,null,null,null,null,null,null,null,null,null,null,null,null,null,null,null,null,null,null,null,null,null,null,null,null,null,null,null,null,null,null,null,null,null,null,null,null,null,null,null,null,null,null,null,null,null,null,null,null,null,null,null,null,null,null,null,null,null,null,null,null,null,null,null,null,null,null,null,null,null,null,null,null,null,null,null,null,null,null,null,null,null,null,null,null,null,null,null,null,null,null,null,null,null,null,null,null,null,null,null,null,null,null,null,null,null,null,null,null,null,null,null,null,null,null,null,null,null,null,null,null,null,null,null,null,null,null,null,null,null,null,null,null,null,null,null,null,null,null,null,null,null,null,null,null,null,null,null,null,null,null,null,null,null,null,null,null,null,null,null,null,null,null,null,null,null,null,null,null,null,null,null,null,null,null,null,null,null,null,null,null,null,null,null,null,null,null,null,null,null,null,null,null,null,null,null,null,null,null,null,null,null,null,null,null,0,"TRUE","OK",{"$f":"IF(JE249,VLOOKUP(MIN(JF249:JI249),'Data Validation (hidden)'!$G$30:$H$34,2,FALSE),IF(COUNTA(E249:E249)>0,\"'Scheme (Fund) Name' missing but values entered in other columns.\",\"OK\"))","v":"OK"},null,"OK",null,false,1,2,{"$f":"IF(AND(IX249>'Scheme and Member Information'!I249, E249=\"Yes\"),\"\",\"\")","v":""},4,true,true,false,true,false]
[null,{"$f":"'Scheme and Member Information'!B254","v":0},{"$f":"'Scheme and Member Information'!C254","v":0},null,null,null,null,null,null,null,null,null,null,null,null,null,null,null,null,null,null,null,null,null,null,null,null,null,null,null,null,null,null,null,null,null,null,null,null,null,null,null,null,null,null,null,null,null,null,null,null,null,null,null,null,null,null,null,null,null,null,null,null,null,null,null,null,null,null,null,null,null,null,null,null,null,null,null,null,null,null,null,null,null,null,null,null,null,null,null,null,null,null,null,null,null,null,null,null,null,null,null,null,null,null,null,null,null,null,null,null,null,null,null,null,null,null,null,null,null,null,null,null,null,null,null,null,null,null,null,null,null,null,null,null,null,null,null,null,null,null,null,null,null,null,null,null,null,null,null,null,null,null,null,null,null,null,null,null,null,null,null,null,null,null,null,null,null,null,null,null,null,null,null,null,null,null,null,null,null,null,null,null,null,null,null,null,null,null,null,null,null,null,null,null,null,null,null,null,null,null,null,null,null,null,null,null,null,null,null,null,null,null,null,null,null,null,null,null,null,null,null,null,null,null,null,null,null,null,null,null,null,null,null,null,null,null,null,null,null,null,null,null,null,null,null,null,null,null,null,null,null,null,null,null,null,null,0,"TRUE","OK",{"$f":"IF(JE254,VLOOKUP(MIN(JF254:JI254),'Data Validation (hidden)'!$G$30:$H$34,2,FALSE),IF(COUNTA(E254:E254)>0,\"'Scheme (Fund) Name' missing but values entered in other columns.\",\"OK\"))","v":"OK"},null,"OK",null,false,1,2,{"$f":"IF(AND(IX254>'Scheme and Member Information'!I254, E254=\"Yes\"),\"\",\"\")","v":""},4,true,true,false,true,false]
[null,{"$f":"'Scheme and Member Information'!B259","v":0},{"$f":"'Scheme and Member Information'!C259","v":0},null,null,null,null,null,null,null,null,null,null,null,null,null,null,null,null,null,null,null,null,null,null,null,null,null,null,null,null,null,null,null,null,null,null,null,null,null,null,null,null,null,null,null,null,null,null,null,null,null,null,null,null,null,null,null,null,null,null,null,null,null,null,null,null,null,null,null,null,null,null,null,null,null,null,null,null,null,null,null,null,null,null,null,null,null,null,null,null,null,null,null,null,null,null,null,null,null,null,null,null,null,null,null,null,null,null,null,null,null,null,null,null,null,null,null,null,null,null,null,null,null,null,null,null,null,null,null,null,null,null,null,null,null,null,null,null,null,null,null,null,null,null,null,null,null,null,null,null,null,null,null,null,null,null,null,null,null,null,null,null,null,null,null,null,null,null,null,null,null,null,null,null,null,null,null,null,null,null,null,null,null,null,null,null,null,null,null,null,null,null,null,null,null,null,null,null,null,null,null,null,null,null,null,null,null,null,null,null,null,null,null,null,null,null,null,null,null,null,null,null,null,null,null,null,null,null,null,null,null,null,null,null,null,null,null,null,null,null,null,null,null,null,null,null,null,null,null,null,null,null,null,null,null,null,0,"TRUE","OK",{"$f":"IF(JE259,VLOOKUP(MIN(JF259:JI259),'Data Validation (hidden)'!$G$30:$H$34,2,FALSE),IF(COUNTA(E259:E259)>0,\"'Scheme (Fund) Name' missing but values entered in other columns.\",\"OK\"))","v":"OK"},null,"OK",null,false,1,2,{"$f":"IF(AND(IX259>'Scheme and Member Information'!I259, E259=\"Yes\"),\"\",\"\")","v":""},4,true,true,false,true,false]
[null,{"$f":"'Scheme and Member Information'!B265","v":0},{"$f":"'Scheme and Member Information'!C265","v":0},null,null,null,null,null,null,null,null,null,null,null,null,null,null,null,null,null,null,null,null,null,null,null,null,null,null,null,null,null,null,null,null,null,null,null,null,null,null,null,null,null,null,null,null,null,null,null,null,null,null,null,null,null,null,null,null,null,null,null,null,null,null,null,null,null,null,null,null,null,null,null,null,null,null,null,null,null,null,null,null,null,null,null,null,null,null,null,null,null,null,null,null,null,null,null,null,null,null,null,null,null,null,null,null,null,null,null,null,null,null,null,null,null,null,null,null,null,null,null,null,null,null,null,null,null,null,null,null,null,null,null,null,null,null,null,null,null,null,null,null,null,null,null,null,null,null,null,null,null,null,null,null,null,null,null,null,null,null,null,null,null,null,null,null,null,null,null,null,null,null,null,null,null,null,null,null,null,null,null,null,null,null,null,null,null,null,null,null,null,null,null,null,null,null,null,null,null,null,null,null,null,null,null,null,null,null,null,null,null,null,null,null,null,null,null,null,null,null,null,null,null,null,null,null,null,null,null,null,null,null,null,null,null,null,null,null,null,null,null,null,null,null,null,null,null,null,null,null,null,null,null,null,null,null,0,{"$f":"IF(OR(B265=\"\",B265=0), IF(IX265=0,\"TRUE\", \"FALSE\"), IF(E265=\"No\",\"TRUE\",IF(IX265=0, \"FALSE\", \"TRUE\")))","v":"TRUE"},{"$f":"IF(IY265=\"TRUE\",\"OK\",IF(OR(B265=\"\",B265=0),\"Scheme (Fund) Name' missing but values entered in other columns.\",\"Please state the number of members in the relevant jurisdiction.\"))","v":"OK"},{"$f":"IF(JE265,VLOOKUP(MIN(JF265:JI265),'Data Validation (hidden)'!$G$30:$H$34,2,FALSE),IF(COUNTA(E265:E265)>0,\"'Scheme (Fund) Name' missing but values entered in other columns.\",\"OK\"))","v":"OK"},null,{"$f":"IF(JA265<>\"OK\",JA265,IZ265)","v":"OK"},null,{"$f":"AND(B265<>\"\",B265<>0)","v":false},{"$f":"IF(C265=\"\",1,IF(C265=0,1,\"\"))","v":1},{"$f":"IF(E265<>\"\",\"\",2)","v":2},{"$f":"IF(AND(IX265>'Scheme and Member Information'!I265, E265=\"Yes\"),\"\",\"\")","v":""},{"$f":"IF(AND(JJ265,JK265,JL265,JM265)=TRUE,\"\",4)","v":4},true,true,{"$f":"OR(E265=\"Yes\",E265=\"No\")","v":false},true,{"$f":"IF(JC265=\"OK\",FALSE,TRUE)","v":false}]
[null,{"$f":"'Scheme and Member Information'!B268","v":0},{"$f":"'Scheme and Member Information'!C268","v":0},null,null,null,null,null,null,null,null,null,null,null,null,null,null,null,null,null,null,null,null,null,null,null,null,null,null,null,null,null,null,null,null,null,null,null,null,null,null,null,null,null,null,null,null,null,null,null,null,null,null,null,null,null,null,null,null,null,null,null,null,null,null,null,null,null,null,null,null,null,null,null,null,null,null,null,null,null,null,null,null,null,null,null,null,null,null,null,null,null,null,null,null,null,null,null,null,null,null,null,null,null,null,null,null,null,null,null,null,null,null,null,null,null,null,null,null,null,null,null,null,null,null,null,null,null,null,null,null,null,null,null,null,null,null,null,null,null,null,null,null,null,null,null,null,null,null,null,null,null,null,null,null,null,null,null,null,null,null,null,null,null,null,null,null,null,null,null,null,null,null,null,null,null,null,null,null,null,null,null,null,null,null,null,null,null,null,null,null,null,null,null,null,null,null,null,null,null,null,null,null,null,null,null,null,null,null,null,null,null,null,null,null,null,null,null,null,null,null,null,null,null,null,null,null,null,null,null,null,null,null,null,null,null,null,null,null,null,null,null,null,null,null,null,null,null,null,null,null,null,null,null,null,null,null,0,"TRUE","OK",{"$f":"IF(JE268,VLOOKUP(MIN(JF268:JI268),'Data Validation (hidden)'!$G$30:$H$34,2,FALSE),IF(COUNTA(E268:E268)>0,\"'Scheme (Fund) Name' missing but values entered in other columns.\",\"OK\"))","v":"OK"},null,"OK",null,false,1,2,{"$f":"IF(AND(IX268>'Scheme and Member Information'!I268, E268=\"Yes\"),\"\",\"\")","v":""},4,true,true,false,true,false]
[null,{"$f":"'Scheme and Member Information'!B272","v":0},{"$f":"'Scheme and Member Information'!C272","v":0},null,null,null,null,null,null,null,null,null,null,null,null,null,null,null,null,null,null,null,null,null,null,null,null,null,null,null,null,null,null,null,null,null,null,null,null,null,null,null,null,null,null,null,null,null,null,null,null,null,null,null,null,null,null,null,null,null,null,null,null,null,null,null,null,null,null,null,null,null,null,null,null,null,null,null,null,null,null,null,null,null,null,null,null,null,null,null,null,null,null,null,null,null,null,null,null,null,null,null,null,null,null,null,null,null,null,null,null,null,null,null,null,null,null,null,null,null,null,null,null,null,null,null,null,null,null,null,null,null,null,null,null,null,null,null,null,null,null,null,null,null,null,null,null,null,null,null,null,null,null,null,null,null,null,null,null,null,null,null,null,null,null,null,null,null,null,null,null,null,null,null,null,null,null,null,null,null,null,null,null,null,null,null,null,null,null,null,null,null,null,null,null,null,null,null,null,null,null,null,null,null,null,null,null,null,null,null,null,null,null,null,null,null,null,null,null,null,null,null,null,null,null,null,null,null,null,null,null,null,null,null,null,null,null,null,null,null,null,null,null,null,null,null,null,null,null,null,null,null,null,null,null,null,null,0,"TRUE","OK",{"$f":"IF(JE272,VLOOKUP(MIN(JF272:JI272),'Data Validation (hidden)'!$G$30:$H$34,2,FALSE),IF(COUNTA(E272:E272)>0,\"'Scheme (Fund) Name' missing but values entered in other columns.\",\"OK\"))","v":"OK"},null,"OK",null,false,1,2,{"$f":"IF(AND(IX272>'Scheme and Member Information'!I272, E272=\"Yes\"),\"\",\"\")","v":""},4,true,true,false,true,false]
[null,{"$f":"'Scheme and Member Information'!B278","v":0},{"$f":"'Scheme and Member Information'!C278","v":0},null,null,null,null,null,null,null,null,null,null,null,null,null,null,null,null,null,null,null,null,null,null,null,null,null,null,null,null,null,null,null,null,null,null,null,null,null,null,null,null,null,null,null,null,null,null,null,null,null,null,null,null,null,null,null,null,null,null,null,null,null,null,null,null,null,null,null,null,null,null,null,null,null,null,null,null,null,null,null,null,null,null,null,null,null,null,null,null,null,null,null,null,null,null,null,null,null,null,null,null,null,null,null,null,null,null,null,null,null,null,null,null,null,null,null,null,null,null,null,null,null,null,null,null,null,null,null,null,null,null,null,null,null,null,null,null,null,null,null,null,null,null,null,null,null,null,null,null,null,null,null,null,null,null,null,null,null,null,null,null,null,null,null,null,null,null,null,null,null,null,null,null,null,null,null,null,null,null,null,null,null,null,null,null,null,null,null,null,null,null,null,null,null,null,null,null,null,null,null,null,null,null,null,null,null,null,null,null,null,null,null,null,null,null,null,null,null,null,null,null,null,null,null,null,null,null,null,null,null,null,null,null,null,null,null,null,null,null,null,null,null,null,null,null,null,null,null,null,null,null,null,null,null,null,0,"TRUE","OK",{"$f":"IF(JE278,VLOOKUP(MIN(JF278:JI278),'Data Validation (hidden)'!$G$30:$H$34,2,FALSE),IF(COUNTA(E278:E278)>0,\"'Scheme (Fund) Name' missing but values entered in other columns.\",\"OK\"))","v":"OK"},null,"OK",null,false,1,2,{"$f":"IF(AND(IX278>'Scheme and Member Information'!I278, E278=\"Yes\"),\"\",\"\")","v":""},4,true,true,false,true,false]
[null,{"$f":"'Scheme and Member Information'!B283","v":0},{"$f":"'Scheme and Member Information'!C283","v":0},null,null,null,null,null,null,null,null,null,null,null,null,null,null,null,null,null,null,null,null,null,null,null,null,null,null,null,null,null,null,null,null,null,null,null,null,null,null,null,null,null,null,null,null,null,null,null,null,null,null,null,null,null,null,null,null,null,null,null,null,null,null,null,null,null,null,null,null,null,null,null,null,null,null,null,null,null,null,null,null,null,null,null,null,null,null,null,null,null,null,null,null,null,null,null,null,null,null,null,null,null,null,null,null,null,null,null,null,null,null,null,null,null,null,null,null,null,null,null,null,null,null,null,null,null,null,null,null,null,null,null,null,null,null,null,null,null,null,null,null,null,null,null,null,null,null,null,null,null,null,null,null,null,null,null,null,null,null,null,null,null,null,null,null,null,null,null,null,null,null,null,null,null,null,null,null,null,null,null,null,null,null,null,null,null,null,null,null,null,null,null,null,null,null,null,null,null,null,null,null,null,null,null,null,null,null,null,null,null,null,null,null,null,null,null,null,null,null,null,null,null,null,null,null,null,null,null,null,null,null,null,null,null,null,null,null,null,null,null,null,null,null,null,null,null,null,null,null,null,null,null,null,null,null,0,"TRUE","OK",{"$f":"IF(JE283,VLOOKUP(MIN(JF283:JI283),'Data Validation (hidden)'!$G$30:$H$34,2,FALSE),IF(COUNTA(E283:E283)>0,\"'Scheme (Fund) Name' missing but values entered in other columns.\",\"OK\"))","v":"OK"},null,"OK",null,false,1,2,{"$f":"IF(AND(IX283>'Scheme and Member Information'!I283, E283=\"Yes\"),\"\",\"\")","v":""},4,true,true,false,true,false]
[null,{"$f":"'Scheme and Member Information'!B288","v":0},{"$f":"'Scheme and Member Information'!C288","v":0},null,null,null,null,null,null,null,null,null,null,null,null,null,null,null,null,null,null,null,null,null,null,null,null,null,null,null,null,null,null,null,null,null,null,null,null,null,null,null,null,null,null,null,null,null,null,null,null,null,null,null,null,null,null,null,null,null,null,null,null,null,null,null,null,null,null,null,null,null,null,null,null,null,null,null,null,null,null,null,null,null,null,null,null,null,null,null,null,null,null,null,null,null,null,null,null,null,null,null,null,null,null,null,null,null,null,null,null,null,null,null,null,null,null,null,null,null,null,null,null,null,null,null,null,null,null,null,null,null,null,null,null,null,null,null,null,null,null,null,null,null,null,null,null,null,null,null,null,null,null,null,null,null,null,null,null,null,null,null,null,null,null,null,null,null,null,null,null,null,null,null,null,null,null,null,null,null,null,null,null,null,null,null,null,null,null,null,null,null,null,null,null,null,null,null,null,null,null,null,null,null,null,null,null,null,null,null,null,null,null,null,null,null,null,null,null,null,null,null,null,null,null,null,null,null,null,null,null,null,null,null,null,null,null,null,null,null,null,null,null,null,null,null,null,null,null,null,null,null,null,null,null,null,null,0,"TRUE","OK",{"$f":"IF(JE288,VLOOKUP(MIN(JF288:JI288),'Data Validation (hidden)'!$G$30:$H$34,2,FALSE),IF(COUNTA(E288:E288)>0,\"'Scheme (Fund) Name' missing but values entered in other columns.\",\"OK\"))","v":"OK"},null,"OK",null,false,1,2,{"$f":"IF(AND(IX288>'Scheme and Member Information'!I288, E288=\"Yes\"),\"\",\"\")","v":""},4,true,true,false,true,false]
[null,{"$f":"'Scheme and Member Information'!B290","v":0},{"$f":"'Scheme and Member Information'!C290","v":0},null,null,null,null,null,null,null,null,null,null,null,null,null,null,null,null,null,null,null,null,null,null,null,null,null,null,null,null,null,null,null,null,null,null,null,null,null,null,null,null,null,null,null,null,null,null,null,null,null,null,null,null,null,null,null,null,null,null,null,null,null,null,null,null,null,null,null,null,null,null,null,null,null,null,null,null,null,null,null,null,null,null,null,null,null,null,null,null,null,null,null,null,null,null,null,null,null,null,null,null,null,null,null,null,null,null,null,null,null,null,null,null,null,null,null,null,null,null,null,null,null,null,null,null,null,null,null,null,null,null,null,null,null,null,null,null,null,null,null,null,null,null,null,null,null,null,null,null,null,null,null,null,null,null,null,null,null,null,null,null,null,null,null,null,null,null,null,null,null,null,null,null,null,null,null,null,null,null,null,null,null,null,null,null,null,null,null,null,null,null,null,null,null,null,null,null,null,null,null,null,null,null,null,null,null,null,null,null,null,null,null,null,null,null,null,null,null,null,null,null,null,null,null,null,null,null,null,null,null,null,null,null,null,null,null,null,null,null,null,null,null,null,null,null,null,null,null,null,null,null,null,null,null,null,0,"TRUE","OK",{"$f":"IF(JE290,VLOOKUP(MIN(JF290:JI290),'Data Validation (hidden)'!$G$30:$H$34,2,FALSE),IF(COUNTA(E290:E290)>0,\"'Scheme (Fund) Name' missing but values entered in other columns.\",\"OK\"))","v":"OK"},null,"OK",null,false,1,2,{"$f":"IF(AND(IX290>'Scheme and Member Information'!I290, E290=\"Yes\"),\"\",\"\")","v":""},4,true,true,false,true,false]
[null,{"$f":"'Scheme and Member Information'!B293","v":0},{"$f":"'Scheme and Member Information'!C293","v":0},null,null,null,null,null,null,null,null,null,null,null,null,null,null,null,null,null,null,null,null,null,null,null,null,null,null,null,null,null,null,null,null,null,null,null,null,null,null,null,null,null,null,null,null,null,null,null,null,null,null,null,null,null,null,null,null,null,null,null,null,null,null,null,null,null,null,null,null,null,null,null,null,null,null,null,null,null,null,null,null,null,null,null,null,null,null,null,null,null,null,null,null,null,null,null,null,null,null,null,null,null,null,null,null,null,null,null,null,null,null,null,null,null,null,null,null,null,null,null,null,null,null,null,null,null,null,null,null,null,null,null,null,null,null,null,null,null,null,null,null,null,null,null,null,null,null,null,null,null,null,null,null,null,null,null,null,null,null,null,null,null,null,null,null,null,null,null,null,null,null,null,null,null,null,null,null,null,null,null,null,null,null,null,null,null,null,null,null,null,null,null,null,null,null,null,null,null,null,null,null,null,null,null,null,null,null,null,null,null,null,null,null,null,null,null,null,null,null,null,null,null,null,null,null,null,null,null,null,null,null,null,null,null,null,null,null,null,null,null,null,null,null,null,null,null,null,null,null,null,null,null,null,null,null,0,"TRUE","OK",{"$f":"IF(JE293,VLOOKUP(MIN(JF293:JI293),'Data Validation (hidden)'!$G$30:$H$34,2,FALSE),IF(COUNTA(E293:E293)>0,\"'Scheme (Fund) Name' missing but values entered in other columns.\",\"OK\"))","v":"OK"},null,"OK",null,false,1,2,{"$f":"IF(AND(IX293>'Scheme and Member Information'!I293, E293=\"Yes\"),\"\",\"\")","v":""},4,true,true,false,true,false]
[null,{"$f":"'Scheme and Member Information'!B301","v":0},{"$f":"'Scheme and Member Information'!C301","v":0},null,null,null,null,null,null,null,null,null,null,null,null,null,null,null,null,null,null,null,null,null,null,null,null,null,null,null,null,null,null,null,null,null,null,null,null,null,null,null,null,null,null,null,null,null,null,null,null,null,null,null,null,null,null,null,null,null,null,null,null,null,null,null,null,null,null,null,null,null,null,null,null,null,null,null,null,null,null,null,null,null,null,null,null,null,null,null,null,null,null,null,null,null,null,null,null,null,null,null,null,null,null,null,null,null,null,null,null,null,null,null,null,null,null,null,null,null,null,null,null,null,null,null,null,null,null,null,null,null,null,null,null,null,null,null,null,null,null,null,null,null,null,null,null,null,null,null,null,null,null,null,null,null,null,null,null,null,null,null,null,null,null,null,null,null,null,null,null,null,null,null,null,null,null,null,null,null,null,null,null,null,null,null,null,null,null,null,null,null,null,null,null,null,null,null,null,null,null,null,null,null,null,null,null,null,null,null,null,null,null,null,null,null,null,null,null,null,null,null,null,null,null,null,null,null,null,null,null,null,null,null,null,null,null,null,null,null,null,null,null,null,null,null,null,null,null,null,null,null,null,null,null,null,null,0,"TRUE","OK",{"$f":"IF(JE301,VLOOKUP(MIN(JF301:JI301),'Data Validation (hidden)'!$G$30:$H$34,2,FALSE),IF(COUNTA(E301:E301)>0,\"'Scheme (Fund) Name' missing but values entered in other columns.\",\"OK\"))","v":"OK"},null,"OK",null,false,1,2,{"$f":"IF(AND(IX301>'Scheme and Member Information'!I301, E301=\"Yes\"),\"\",\"\")","v":""},4,true,true,false,true,false]
[null,{"$f":"'Scheme and Member Information'!B302","v":0},{"$f":"'Scheme and Member Information'!C302","v":0},null,null,null,null,null,null,null,null,null,null,null,null,null,null,null,null,null,null,null,null,null,null,null,null,null,null,null,null,null,null,null,null,null,null,null,null,null,null,null,null,null,null,null,null,null,null,null,null,null,null,null,null,null,null,null,null,null,null,null,null,null,null,null,null,null,null,null,null,null,null,null,null,null,null,null,null,null,null,null,null,null,null,null,null,null,null,null,null,null,null,null,null,null,null,null,null,null,null,null,null,null,null,null,null,null,null,null,null,null,null,null,null,null,null,null,null,null,null,null,null,null,null,null,null,null,null,null,null,null,null,null,null,null,null,null,null,null,null,null,null,null,null,null,null,null,null,null,null,null,null,null,null,null,null,null,null,null,null,null,null,null,null,null,null,null,null,null,null,null,null,null,null,null,null,null,null,null,null,null,null,null,null,null,null,null,null,null,null,null,null,null,null,null,null,null,null,null,null,null,null,null,null,null,null,null,null,null,null,null,null,null,null,null,null,null,null,null,null,null,null,null,null,null,null,null,null,null,null,null,null,null,null,null,null,null,null,null,null,null,null,null,null,null,null,null,null,null,null,null,null,null,null,null,null,0,"TRUE","OK",{"$f":"IF(JE302,VLOOKUP(MIN(JF302:JI302),'Data Validation (hidden)'!$G$30:$H$34,2,FALSE),IF(COUNTA(E302:E302)>0,\"'Scheme (Fund) Name' missing but values entered in other columns.\",\"OK\"))","v":"OK"},null,"OK",null,false,1,2,{"$f":"IF(AND(IX302>'Scheme and Member Information'!I302, E302=\"Yes\"),\"\",\"\")","v":""},4,true,true,false,true,false]
[null,{"$f":"'Scheme and Member Information'!B308","v":0},{"$f":"'Scheme and Member Information'!C308","v":0},null,null,null,null,null,null,null,null,null,null,null,null,null,null,null,null,null,null,null,null,null,null,null,null,null,null,null,null,null,null,null,null,null,null,null,null,null,null,null,null,null,null,null,null,null,null,null,null,null,null,null,null,null,null,null,null,null,null,null,null,null,null,null,null,null,null,null,null,null,null,null,null,null,null,null,null,null,null,null,null,null,null,null,null,null,null,null,null,null,null,null,null,null,null,null,null,null,null,null,null,null,null,null,null,null,null,null,null,null,null,null,null,null,null,null,null,null,null,null,null,null,null,null,null,null,null,null,null,null,null,null,null,null,null,null,null,null,null,null,null,null,null,null,null,null,null,null,null,null,null,null,null,null,null,null,null,null,null,null,null,null,null,null,null,null,null,null,null,null,null,null,null,null,null,null,null,null,null,null,null,null,null,null,null,null,null,null,null,null,null,null,null,null,null,null,null,null,null,null,null,null,null,null,null,null,null,null,null,null,null,null,null,null,null,null,null,null,null,null,null,null,null,null,null,null,null,null,null,null,null,null,null,null,null,null,null,null,null,null,null,null,null,null,null,null,null,null,null,null,null,null,null,null,null,0,"TRUE","OK",{"$f":"IF(JE308,VLOOKUP(MIN(JF308:JI308),'Data Validation (hidden)'!$G$30:$H$34,2,FALSE),IF(COUNTA(E308:E308)>0,\"'Scheme (Fund) Name' missing but values entered in other columns.\",\"OK\"))","v":"OK"},null,"OK",null,false,1,2,{"$f":"IF(AND(IX308>'Scheme and Member Information'!I308, E308=\"Yes\"),\"\",\"\")","v":""},4,true,true,false,true,false]
[null,{"$f":"'Scheme and Member Information'!B312","v":0},{"$f":"'Scheme and Member Information'!C312","v":0},null,null,null,null,null,null,null,null,null,null,null,null,null,null,null,null,null,null,null,null,null,null,null,null,null,null,null,null,null,null,null,null,null,null,null,null,null,null,null,null,null,null,null,null,null,null,null,null,null,null,null,null,null,null,null,null,null,null,null,null,null,null,null,null,null,null,null,null,null,null,null,null,null,null,null,null,null,null,null,null,null,null,null,null,null,null,null,null,null,null,null,null,null,null,null,null,null,null,null,null,null,null,null,null,null,null,null,null,null,null,null,null,null,null,null,null,null,null,null,null,null,null,null,null,null,null,null,null,null,null,null,null,null,null,null,null,null,null,null,null,null,null,null,null,null,null,null,null,null,null,null,null,null,null,null,null,null,null,null,null,null,null,null,null,null,null,null,null,null,null,null,null,null,null,null,null,null,null,null,null,null,null,null,null,null,null,null,null,null,null,null,null,null,null,null,null,null,null,null,null,null,null,null,null,null,null,null,null,null,null,null,null,null,null,null,null,null,null,null,null,null,null,null,null,null,null,null,null,null,null,null,null,null,null,null,null,null,null,null,null,null,null,null,null,null,null,null,null,null,null,null,null,null,null,0,"TRUE","OK",{"$f":"IF(JE312,VLOOKUP(MIN(JF312:JI312),'Data Validation (hidden)'!$G$30:$H$34,2,FALSE),IF(COUNTA(E312:E312)>0,\"'Scheme (Fund) Name' missing but values entered in other columns.\",\"OK\"))","v":"OK"},null,"OK",null,false,1,2,{"$f":"IF(AND(IX312>'Scheme and Member Information'!I312, E312=\"Yes\"),\"\",\"\")","v":""},4,true,true,false,true,false]
[null,{"$f":"'Scheme and Member Information'!B318","v":0},{"$f":"'Scheme and Member Information'!C318","v":0},null,null,null,null,null,null,null,null,null,null,null,null,null,null,null,null,null,null,null,null,null,null,null,null,null,null,null,null,null,null,null,null,null,null,null,null,null,null,null,null,null,null,null,null,null,null,null,null,null,null,null,null,null,null,null,null,null,null,null,null,null,null,null,null,null,null,null,null,null,null,null,null,null,null,null,null,null,null,null,null,null,null,null,null,null,null,null,null,null,null,null,null,null,null,null,null,null,null,null,null,null,null,null,null,null,null,null,null,null,null,null,null,null,null,null,null,null,null,null,null,null,null,null,null,null,null,null,null,null,null,null,null,null,null,null,null,null,null,null,null,null,null,null,null,null,null,null,null,null,null,null,null,null,null,null,null,null,null,null,null,null,null,null,null,null,null,null,null,null,null,null,null,null,null,null,null,null,null,null,null,null,null,null,null,null,null,null,null,null,null,null,null,null,null,null,null,null,null,null,null,null,null,null,null,null,null,null,null,null,null,null,null,null,null,null,null,null,null,null,null,null,null,null,null,null,null,null,null,null,null,null,null,null,null,null,null,null,null,null,null,null,null,null,null,null,null,null,null,null,null,null,null,null,null,0,"TRUE","OK",{"$f":"IF(JE318,VLOOKUP(MIN(JF318:JI318),'Data Validation (hidden)'!$G$30:$H$34,2,FALSE),IF(COUNTA(E318:E318)>0,\"'Scheme (Fund) Name' missing but values entered in other columns.\",\"OK\"))","v":"OK"},null,"OK",null,false,1,2,{"$f":"IF(AND(IX318>'Scheme and Member Information'!I318, E318=\"Yes\"),\"\",\"\")","v":""},4,true,true,false,true,false]
[null,{"$f":"'Scheme and Member Information'!B321","v":0},{"$f":"'Scheme and Member Information'!C321","v":0},null,null,null,null,null,null,null,null,null,null,null,null,null,null,null,null,null,null,null,null,null,null,null,null,null,null,null,null,null,null,null,null,null,null,null,null,null,null,null,null,null,null,null,null,null,null,null,null,null,null,null,null,null,null,null,null,null,null,null,null,null,null,null,null,null,null,null,null,null,null,null,null,null,null,null,null,null,null,null,null,null,null,null,null,null,null,null,null,null,null,null,null,null,null,null,null,null,null,null,null,null,null,null,null,null,null,null,null,null,null,null,null,null,null,null,null,null,null,null,null,null,null,null,null,null,null,null,null,null,null,null,null,null,null,null,null,null,null,null,null,null,null,null,null,null,null,null,null,null,null,null,null,null,null,null,null,null,null,null,null,null,null,null,null,null,null,null,null,null,null,null,null,null,null,null,null,null,null,null,null,null,null,null,null,null,null,null,null,null,null,null,null,null,null,null,null,null,null,null,null,null,null,null,null,null,null,null,null,null,null,null,null,null,null,null,null,null,null,null,null,null,null,null,null,null,null,null,null,null,null,null,null,null,null,null,null,null,null,null,null,null,null,null,null,null,null,null,null,null,null,null,null,null,null,0,"TRUE","OK",{"$f":"IF(JE321,VLOOKUP(MIN(JF321:JI321),'Data Validation (hidden)'!$G$30:$H$34,2,FALSE),IF(COUNTA(E321:E321)>0,\"'Scheme (Fund) Name' missing but values entered in other columns.\",\"OK\"))","v":"OK"},null,"OK",null,false,1,2,{"$f":"IF(AND(IX321>'Scheme and Member Information'!I321, E321=\"Yes\"),\"\",\"\")","v":""},4,true,true,false,true,false]
[null,{"$f":"'Scheme and Member Information'!B327","v":0},{"$f":"'Scheme and Member Information'!C327","v":0},null,null,null,null,null,null,null,null,null,null,null,null,null,null,null,null,null,null,null,null,null,null,null,null,null,null,null,null,null,null,null,null,null,null,null,null,null,null,null,null,null,null,null,null,null,null,null,null,null,null,null,null,null,null,null,null,null,null,null,null,null,null,null,null,null,null,null,null,null,null,null,null,null,null,null,null,null,null,null,null,null,null,null,null,null,null,null,null,null,null,null,null,null,null,null,null,null,null,null,null,null,null,null,null,null,null,null,null,null,null,null,null,null,null,null,null,null,null,null,null,null,null,null,null,null,null,null,null,null,null,null,null,null,null,null,null,null,null,null,null,null,null,null,null,null,null,null,null,null,null,null,null,null,null,null,null,null,null,null,null,null,null,null,null,null,null,null,null,null,null,null,null,null,null,null,null,null,null,null,null,null,null,null,null,null,null,null,null,null,null,null,null,null,null,null,null,null,null,null,null,null,null,null,null,null,null,null,null,null,null,null,null,null,null,null,null,null,null,null,null,null,null,null,null,null,null,null,null,null,null,null,null,null,null,null,null,null,null,null,null,null,null,null,null,null,null,null,null,null,null,null,null,null,null,0,"TRUE","OK",{"$f":"IF(JE327,VLOOKUP(MIN(JF327:JI327),'Data Validation (hidden)'!$G$30:$H$34,2,FALSE),IF(COUNTA(E327:E327)>0,\"'Scheme (Fund) Name' missing but values entered in other columns.\",\"OK\"))","v":"OK"},null,"OK",null,false,1,2,{"$f":"IF(AND(IX327>'Scheme and Member Information'!I327, E327=\"Yes\"),\"\",\"\")","v":""},4,true,true,false,true,false]
[null,{"$f":"'Scheme and Member Information'!B332","v":0},{"$f":"'Scheme and Member Information'!C332","v":0},null,null,null,null,null,null,null,null,null,null,null,null,null,null,null,null,null,null,null,null,null,null,null,null,null,null,null,null,null,null,null,null,null,null,null,null,null,null,null,null,null,null,null,null,null,null,null,null,null,null,null,null,null,null,null,null,null,null,null,null,null,null,null,null,null,null,null,null,null,null,null,null,null,null,null,null,null,null,null,null,null,null,null,null,null,null,null,null,null,null,null,null,null,null,null,null,null,null,null,null,null,null,null,null,null,null,null,null,null,null,null,null,null,null,null,null,null,null,null,null,null,null,null,null,null,null,null,null,null,null,null,null,null,null,null,null,null,null,null,null,null,null,null,null,null,null,null,null,null,null,null,null,null,null,null,null,null,null,null,null,null,null,null,null,null,null,null,null,null,null,null,null,null,null,null,null,null,null,null,null,null,null,null,null,null,null,null,null,null,null,null,null,null,null,null,null,null,null,null,null,null,null,null,null,null,null,null,null,null,null,null,null,null,null,null,null,null,null,null,null,null,null,null,null,null,null,null,null,null,null,null,null,null,null,null,null,null,null,null,null,null,null,null,null,null,null,null,null,null,null,null,null,null,null,0,"TRUE","OK",{"$f":"IF(JE332,VLOOKUP(MIN(JF332:JI332),'Data Validation (hidden)'!$G$30:$H$34,2,FALSE),IF(COUNTA(E332:E332)>0,\"'Scheme (Fund) Name' missing but values entered in other columns.\",\"OK\"))","v":"OK"},null,"OK",null,false,1,2,{"$f":"IF(AND(IX332>'Scheme and Member Information'!I332, E332=\"Yes\"),\"\",\"\")","v":""},4,true,true,false,true,false]
[null,{"$f":"'Scheme and Member Information'!B337","v":0},{"$f":"'Scheme and Member Information'!C337","v":0},null,null,null,null,null,null,null,null,null,null,null,null,null,null,null,null,null,null,null,null,null,null,null,null,null,null,null,null,null,null,null,null,null,null,null,null,null,null,null,null,null,null,null,null,null,null,null,null,null,null,null,null,null,null,null,null,null,null,null,null,null,null,null,null,null,null,null,null,null,null,null,null,null,null,null,null,null,null,null,null,null,null,null,null,null,null,null,null,null,null,null,null,null,null,null,null,null,null,null,null,null,null,null,null,null,null,null,null,null,null,null,null,null,null,null,null,null,null,null,null,null,null,null,null,null,null,null,null,null,null,null,null,null,null,null,null,null,null,null,null,null,null,null,null,null,null,null,null,null,null,null,null,null,null,null,null,null,null,null,null,null,null,null,null,null,null,null,null,null,null,null,null,null,null,null,null,null,null,null,null,null,null,null,null,null,null,null,null,null,null,null,null,null,null,null,null,null,null,null,null,null,null,null,null,null,null,null,null,null,null,null,null,null,null,null,null,null,null,null,null,null,null,null,null,null,null,null,null,null,null,null,null,null,null,null,null,null,null,null,null,null,null,null,null,null,null,null,null,null,null,null,null,null,null,0,"TRUE","OK",{"$f":"IF(JE337,VLOOKUP(MIN(JF337:JI337),'Data Validation (hidden)'!$G$30:$H$34,2,FALSE),IF(COUNTA(E337:E337)>0,\"'Scheme (Fund) Name' missing but values entered in other columns.\",\"OK\"))","v":"OK"},null,"OK",null,false,1,2,{"$f":"IF(AND(IX337>'Scheme and Member Information'!I337, E337=\"Yes\"),\"\",\"\")","v":""},4,true,true,false,true,false]
[null,{"$f":"'Scheme and Member Information'!B339","v":0},{"$f":"'Scheme and Member Information'!C339","v":0},null,null,null,null,null,null,null,null,null,null,null,null,null,null,null,null,null,null,null,null,null,null,null,null,null,null,null,null,null,null,null,null,null,null,null,null,null,null,null,null,null,null,null,null,null,null,null,null,null,null,null,null,null,null,null,null,null,null,null,null,null,null,null,null,null,null,null,null,null,null,null,null,null,null,null,null,null,null,null,null,null,null,null,null,null,null,null,null,null,null,null,null,null,null,null,null,null,null,null,null,null,null,null,null,null,null,null,null,null,null,null,null,null,null,null,null,null,null,null,null,null,null,null,null,null,null,null,null,null,null,null,null,null,null,null,null,null,null,null,null,null,null,null,null,null,null,null,null,null,null,null,null,null,null,null,null,null,null,null,null,null,null,null,null,null,null,null,null,null,null,null,null,null,null,null,null,null,null,null,null,null,null,null,null,null,null,null,null,null,null,null,null,null,null,null,null,null,null,null,null,null,null,null,null,null,null,null,null,null,null,null,null,null,null,null,null,null,null,null,null,null,null,null,null,null,null,null,null,null,null,null,null,null,null,null,null,null,null,null,null,null,null,null,null,null,null,null,null,null,null,null,null,null,null,0,"TRUE","OK",{"$f":"IF(JE339,VLOOKUP(MIN(JF339:JI339),'Data Validation (hidden)'!$G$30:$H$34,2,FALSE),IF(COUNTA(E339:E339)>0,\"'Scheme (Fund) Name' missing but values entered in other columns.\",\"OK\"))","v":"OK"},null,"OK",null,false,1,2,{"$f":"IF(AND(IX339>'Scheme and Member Information'!I339, E339=\"Yes\"),\"\",\"\")","v":""},4,true,true,false,true,false]
[null,{"$f":"'Scheme and Member Information'!B347","v":0},{"$f":"'Scheme and Member Information'!C347","v":0},null,null,null,null,null,null,null,null,null,null,null,null,null,null,null,null,null,null,null,null,null,null,null,null,null,null,null,null,null,null,null,null,null,null,null,null,null,null,null,null,null,null,null,null,null,null,null,null,null,null,null,null,null,null,null,null,null,null,null,null,null,null,null,null,null,null,null,null,null,null,null,null,null,null,null,null,null,null,null,null,null,null,null,null,null,null,null,null,null,null,null,null,null,null,null,null,null,null,null,null,null,null,null,null,null,null,null,null,null,null,null,null,null,null,null,null,null,null,null,null,null,null,null,null,null,null,null,null,null,null,null,null,null,null,null,null,null,null,null,null,null,null,null,null,null,null,null,null,null,null,null,null,null,null,null,null,null,null,null,null,null,null,null,null,null,null,null,null,null,null,null,null,null,null,null,null,null,null,null,null,null,null,null,null,null,null,null,null,null,null,null,null,null,null,null,null,null,null,null,null,null,null,null,null,null,null,null,null,null,null,null,null,null,null,null,null,null,null,null,null,null,null,null,null,null,null,null,null,null,null,null,null,null,null,null,null,null,null,null,null,null,null,null,null,null,null,null,null,null,null,null,null,null,null,0,"TRUE","OK",{"$f":"IF(JE347,VLOOKUP(MIN(JF347:JI347),'Data Validation (hidden)'!$G$30:$H$34,2,FALSE),IF(COUNTA(E347:E347)>0,\"'Scheme (Fund) Name' missing but values entered in other columns.\",\"OK\"))","v":"OK"},null,"OK",null,false,1,2,{"$f":"IF(AND(IX347>'Scheme and Member Information'!I347, E347=\"Yes\"),\"\",\"\")","v":""},4,true,true,false,true,false]
[null,{"$f":"'Scheme and Member Information'!B350","v":0},{"$f":"'Scheme and Member Information'!C350","v":0},null,null,null,null,null,null,null,null,null,null,null,null,null,null,null,null,null,null,null,null,null,null,null,null,null,null,null,null,null,null,null,null,null,null,null,null,null,null,null,null,null,null,null,null,null,null,null,null,null,null,null,null,null,null,null,null,null,null,null,null,null,null,null,null,null,null,null,null,null,null,null,null,null,null,null,null,null,null,null,null,null,null,null,null,null,null,null,null,null,null,null,null,null,null,null,null,null,null,null,null,null,null,null,null,null,null,null,null,null,null,null,null,null,null,null,null,null,null,null,null,null,null,null,null,null,null,null,null,null,null,null,null,null,null,null,null,null,null,null,null,null,null,null,null,null,null,null,null,null,null,null,null,null,null,null,null,null,null,null,null,null,null,null,null,null,null,null,null,null,null,null,null,null,null,null,null,null,null,null,null,null,null,null,null,null,null,null,null,null,null,null,null,null,null,null,null,null,null,null,null,null,null,null,null,null,null,null,null,null,null,null,null,null,null,null,null,null,null,null,null,null,null,null,null,null,null,null,null,null,null,null,null,null,null,null,null,null,null,null,null,null,null,null,null,null,null,null,null,null,null,null,null,null,null,0,"TRUE","OK",{"$f":"IF(JE350,VLOOKUP(MIN(JF350:JI350),'Data Validation (hidden)'!$G$30:$H$34,2,FALSE),IF(COUNTA(E350:E350)>0,\"'Scheme (Fund) Name' missing but values entered in other columns.\",\"OK\"))","v":"OK"},null,"OK",null,false,1,2,{"$f":"IF(AND(IX350>'Scheme and Member Information'!I350, E350=\"Yes\"),\"\",\"\")","v":""},4,true,true,false,true,false]
[null,{"$f":"'Scheme and Member Information'!B352","v":0},{"$f":"'Scheme and Member Information'!C352","v":0},null,null,null,null,null,null,null,null,null,null,null,null,null,null,null,null,null,null,null,null,null,null,null,null,null,null,null,null,null,null,null,null,null,null,null,null,null,null,null,null,null,null,null,null,null,null,null,null,null,null,null,null,null,null,null,null,null,null,null,null,null,null,null,null,null,null,null,null,null,null,null,null,null,null,null,null,null,null,null,null,null,null,null,null,null,null,null,null,null,null,null,null,null,null,null,null,null,null,null,null,null,null,null,null,null,null,null,null,null,null,null,null,null,null,null,null,null,null,null,null,null,null,null,null,null,null,null,null,null,null,null,null,null,null,null,null,null,null,null,null,null,null,null,null,null,null,null,null,null,null,null,null,null,null,null,null,null,null,null,null,null,null,null,null,null,null,null,null,null,null,null,null,null,null,null,null,null,null,null,null,null,null,null,null,null,null,null,null,null,null,null,null,null,null,null,null,null,null,null,null,null,null,null,null,null,null,null,null,null,null,null,null,null,null,null,null,null,null,null,null,null,null,null,null,null,null,null,null,null,null,null,null,null,null,null,null,null,null,null,null,null,null,null,null,null,null,null,null,null,null,null,null,null,null,0,"TRUE","OK",{"$f":"IF(JE352,VLOOKUP(MIN(JF352:JI352),'Data Validation (hidden)'!$G$30:$H$34,2,FALSE),IF(COUNTA(E352:E352)>0,\"'Scheme (Fund) Name' missing but values entered in other columns.\",\"OK\"))","v":"OK"},null,"OK",null,false,1,2,{"$f":"IF(AND(IX352>'Scheme and Member Information'!I352, E352=\"Yes\"),\"\",\"\")","v":""},4,true,true,false,true,false]
[null,{"$f":"'Scheme and Member Information'!B357","v":0},{"$f":"'Scheme and Member Information'!C357","v":0},null,null,null,null,null,null,null,null,null,null,null,null,null,null,null,null,null,null,null,null,null,null,null,null,null,null,null,null,null,null,null,null,null,null,null,null,null,null,null,null,null,null,null,null,null,null,null,null,null,null,null,null,null,null,null,null,null,null,null,null,null,null,null,null,null,null,null,null,null,null,null,null,null,null,null,null,null,null,null,null,null,null,null,null,null,null,null,null,null,null,null,null,null,null,null,null,null,null,null,null,null,null,null,null,null,null,null,null,null,null,null,null,null,null,null,null,null,null,null,null,null,null,null,null,null,null,null,null,null,null,null,null,null,null,null,null,null,null,null,null,null,null,null,null,null,null,null,null,null,null,null,null,null,null,null,null,null,null,null,null,null,null,null,null,null,null,null,null,null,null,null,null,null,null,null,null,null,null,null,null,null,null,null,null,null,null,null,null,null,null,null,null,null,null,null,null,null,null,null,null,null,null,null,null,null,null,null,null,null,null,null,null,null,null,null,null,null,null,null,null,null,null,null,null,null,null,null,null,null,null,null,null,null,null,null,null,null,null,null,null,null,null,null,null,null,null,null,null,null,null,null,null,null,null,0,"TRUE","OK",{"$f":"IF(JE357,VLOOKUP(MIN(JF357:JI357),'Data Validation (hidden)'!$G$30:$H$34,2,FALSE),IF(COUNTA(E357:E357)>0,\"'Scheme (Fund) Name' missing but values entered in other columns.\",\"OK\"))","v":"OK"},null,"OK",null,false,1,2,{"$f":"IF(AND(IX357>'Scheme and Member Information'!I357, E357=\"Yes\"),\"\",\"\")","v":""},4,true,true,false,true,false]
[null,{"$f":"'Scheme and Member Information'!B361","v":0},{"$f":"'Scheme and Member Information'!C361","v":0},null,null,null,null,null,null,null,null,null,null,null,null,null,null,null,null,null,null,null,null,null,null,null,null,null,null,null,null,null,null,null,null,null,null,null,null,null,null,null,null,null,null,null,null,null,null,null,null,null,null,null,null,null,null,null,null,null,null,null,null,null,null,null,null,null,null,null,null,null,null,null,null,null,null,null,null,null,null,null,null,null,null,null,null,null,null,null,null,null,null,null,null,null,null,null,null,null,null,null,null,null,null,null,null,null,null,null,null,null,null,null,null,null,null,null,null,null,null,null,null,null,null,null,null,null,null,null,null,null,null,null,null,null,null,null,null,null,null,null,null,null,null,null,null,null,null,null,null,null,null,null,null,null,null,null,null,null,null,null,null,null,null,null,null,null,null,null,null,null,null,null,null,null,null,null,null,null,null,null,null,null,null,null,null,null,null,null,null,null,null,null,null,null,null,null,null,null,null,null,null,null,null,null,null,null,null,null,null,null,null,null,null,null,null,null,null,null,null,null,null,null,null,null,null,null,null,null,null,null,null,null,null,null,null,null,null,null,null,null,null,null,null,null,null,null,null,null,null,null,null,null,null,null,null,0,"TRUE","OK",{"$f":"IF(JE361,VLOOKUP(MIN(JF361:JI361),'Data Validation (hidden)'!$G$30:$H$34,2,FALSE),IF(COUNTA(E361:E361)>0,\"'Scheme (Fund) Name' missing but values entered in other columns.\",\"OK\"))","v":"OK"},null,"OK",null,false,1,2,{"$f":"IF(AND(IX361>'Scheme and Member Information'!I361, E361=\"Yes\"),\"\",\"\")","v":""},4,true,true,false,true,false]
[null,{"$f":"'Scheme and Member Information'!B368","v":0},{"$f":"'Scheme and Member Information'!C368","v":0},null,null,null,null,null,null,null,null,null,null,null,null,null,null,null,null,null,null,null,null,null,null,null,null,null,null,null,null,null,null,null,null,null,null,null,null,null,null,null,null,null,null,null,null,null,null,null,null,null,null,null,null,null,null,null,null,null,null,null,null,null,null,null,null,null,null,null,null,null,null,null,null,null,null,null,null,null,null,null,null,null,null,null,null,null,null,null,null,null,null,null,null,null,null,null,null,null,null,null,null,null,null,null,null,null,null,null,null,null,null,null,null,null,null,null,null,null,null,null,null,null,null,null,null,null,null,null,null,null,null,null,null,null,null,null,null,null,null,null,null,null,null,null,null,null,null,null,null,null,null,null,null,null,null,null,null,null,null,null,null,null,null,null,null,null,null,null,null,null,null,null,null,null,null,null,null,null,null,null,null,null,null,null,null,null,null,null,null,null,null,null,null,null,null,null,null,null,null,null,null,null,null,null,null,null,null,null,null,null,null,null,null,null,null,null,null,null,null,null,null,null,null,null,null,null,null,null,null,null,null,null,null,null,null,null,null,null,null,null,null,null,null,null,null,null,null,null,null,null,null,null,null,null,null,0,"TRUE","OK",{"$f":"IF(JE368,VLOOKUP(MIN(JF368:JI368),'Data Validation (hidden)'!$G$30:$H$34,2,FALSE),IF(COUNTA(E368:E368)>0,\"'Scheme (Fund) Name' missing but values entered in other columns.\",\"OK\"))","v":"OK"},null,"OK",null,false,1,2,{"$f":"IF(AND(IX368>'Scheme and Member Information'!I368, E368=\"Yes\"),\"\",\"\")","v":""},4,true,true,false,true,false]
[null,{"$f":"'Scheme and Member Information'!B371","v":0},{"$f":"'Scheme and Member Information'!C371","v":0},null,null,null,null,null,null,null,null,null,null,null,null,null,null,null,null,null,null,null,null,null,null,null,null,null,null,null,null,null,null,null,null,null,null,null,null,null,null,null,null,null,null,null,null,null,null,null,null,null,null,null,null,null,null,null,null,null,null,null,null,null,null,null,null,null,null,null,null,null,null,null,null,null,null,null,null,null,null,null,null,null,null,null,null,null,null,null,null,null,null,null,null,null,null,null,null,null,null,null,null,null,null,null,null,null,null,null,null,null,null,null,null,null,null,null,null,null,null,null,null,null,null,null,null,null,null,null,null,null,null,null,null,null,null,null,null,null,null,null,null,null,null,null,null,null,null,null,null,null,null,null,null,null,null,null,null,null,null,null,null,null,null,null,null,null,null,null,null,null,null,null,null,null,null,null,null,null,null,null,null,null,null,null,null,null,null,null,null,null,null,null,null,null,null,null,null,null,null,null,null,null,null,null,null,null,null,null,null,null,null,null,null,null,null,null,null,null,null,null,null,null,null,null,null,null,null,null,null,null,null,null,null,null,null,null,null,null,null,null,null,null,null,null,null,null,null,null,null,null,null,null,null,null,null,0,"TRUE","OK",{"$f":"IF(JE371,VLOOKUP(MIN(JF371:JI371),'Data Validation (hidden)'!$G$30:$H$34,2,FALSE),IF(COUNTA(E371:E371)>0,\"'Scheme (Fund) Name' missing but values entered in other columns.\",\"OK\"))","v":"OK"},null,"OK",null,false,1,2,{"$f":"IF(AND(IX371>'Scheme and Member Information'!I371, E371=\"Yes\"),\"\",\"\")","v":""},4,true,true,false,true,false]
[null,{"$f":"'Scheme and Member Information'!B377","v":0},{"$f":"'Scheme and Member Information'!C377","v":0},null,null,null,null,null,null,null,null,null,null,null,null,null,null,null,null,null,null,null,null,null,null,null,null,null,null,null,null,null,null,null,null,null,null,null,null,null,null,null,null,null,null,null,null,null,null,null,null,null,null,null,null,null,null,null,null,null,null,null,null,null,null,null,null,null,null,null,null,null,null,null,null,null,null,null,null,null,null,null,null,null,null,null,null,null,null,null,null,null,null,null,null,null,null,null,null,null,null,null,null,null,null,null,null,null,null,null,null,null,null,null,null,null,null,null,null,null,null,null,null,null,null,null,null,null,null,null,null,null,null,null,null,null,null,null,null,null,null,null,null,null,null,null,null,null,null,null,null,null,null,null,null,null,null,null,null,null,null,null,null,null,null,null,null,null,null,null,null,null,null,null,null,null,null,null,null,null,null,null,null,null,null,null,null,null,null,null,null,null,null,null,null,null,null,null,null,null,null,null,null,null,null,null,null,null,null,null,null,null,null,null,null,null,null,null,null,null,null,null,null,null,null,null,null,null,null,null,null,null,null,null,null,null,null,null,null,null,null,null,null,null,null,null,null,null,null,null,null,null,null,null,null,null,null,0,"TRUE","OK",{"$f":"IF(JE377,VLOOKUP(MIN(JF377:JI377),'Data Validation (hidden)'!$G$30:$H$34,2,FALSE),IF(COUNTA(E377:E377)>0,\"'Scheme (Fund) Name' missing but values entered in other columns.\",\"OK\"))","v":"OK"},null,"OK",null,false,1,2,{"$f":"IF(AND(IX377>'Scheme and Member Information'!I377, E377=\"Yes\"),\"\",\"\")","v":""},4,true,true,false,true,false]
[null,{"$f":"'Scheme and Member Information'!B381","v":0},{"$f":"'Scheme and Member Information'!C381","v":0},null,null,null,null,null,null,null,null,null,null,null,null,null,null,null,null,null,null,null,null,null,null,null,null,null,null,null,null,null,null,null,null,null,null,null,null,null,null,null,null,null,null,null,null,null,null,null,null,null,null,null,null,null,null,null,null,null,null,null,null,null,null,null,null,null,null,null,null,null,null,null,null,null,null,null,null,null,null,null,null,null,null,null,null,null,null,null,null,null,null,null,null,null,null,null,null,null,null,null,null,null,null,null,null,null,null,null,null,null,null,null,null,null,null,null,null,null,null,null,null,null,null,null,null,null,null,null,null,null,null,null,null,null,null,null,null,null,null,null,null,null,null,null,null,null,null,null,null,null,null,null,null,null,null,null,null,null,null,null,null,null,null,null,null,null,null,null,null,null,null,null,null,null,null,null,null,null,null,null,null,null,null,null,null,null,null,null,null,null,null,null,null,null,null,null,null,null,null,null,null,null,null,null,null,null,null,null,null,null,null,null,null,null,null,null,null,null,null,null,null,null,null,null,null,null,null,null,null,null,null,null,null,null,null,null,null,null,null,null,null,null,null,null,null,null,null,null,null,null,null,null,null,null,null,0,"TRUE","OK",{"$f":"IF(JE381,VLOOKUP(MIN(JF381:JI381),'Data Validation (hidden)'!$G$30:$H$34,2,FALSE),IF(COUNTA(E381:E381)>0,\"'Scheme (Fund) Name' missing but values entered in other columns.\",\"OK\"))","v":"OK"},null,"OK",null,false,1,2,{"$f":"IF(AND(IX381>'Scheme and Member Information'!I381, E381=\"Yes\"),\"\",\"\")","v":""},4,true,true,false,true,false]
[null,{"$f":"'Scheme and Member Information'!B386","v":0},{"$f":"'Scheme and Member Information'!C386","v":0},null,null,null,null,null,null,null,null,null,null,null,null,null,null,null,null,null,null,null,null,null,null,null,null,null,null,null,null,null,null,null,null,null,null,null,null,null,null,null,null,null,null,null,null,null,null,null,null,null,null,null,null,null,null,null,null,null,null,null,null,null,null,null,null,null,null,null,null,null,null,null,null,null,null,null,null,null,null,null,null,null,null,null,null,null,null,null,null,null,null,null,null,null,null,null,null,null,null,null,null,null,null,null,null,null,null,null,null,null,null,null,null,null,null,null,null,null,null,null,null,null,null,null,null,null,null,null,null,null,null,null,null,null,null,null,null,null,null,null,null,null,null,null,null,null,null,null,null,null,null,null,null,null,null,null,null,null,null,null,null,null,null,null,null,null,null,null,null,null,null,null,null,null,null,null,null,null,null,null,null,null,null,null,null,null,null,null,null,null,null,null,null,null,null,null,null,null,null,null,null,null,null,null,null,null,null,null,null,null,null,null,null,null,null,null,null,null,null,null,null,null,null,null,null,null,null,null,null,null,null,null,null,null,null,null,null,null,null,null,null,null,null,null,null,null,null,null,null,null,null,null,null,null,null,0,"TRUE","OK",{"$f":"IF(JE386,VLOOKUP(MIN(JF386:JI386),'Data Validation (hidden)'!$G$30:$H$34,2,FALSE),IF(COUNTA(E386:E386)>0,\"'Scheme (Fund) Name' missing but values entered in other columns.\",\"OK\"))","v":"OK"},null,"OK",null,false,1,2,{"$f":"IF(AND(IX386>'Scheme and Member Information'!I386, E386=\"Yes\"),\"\",\"\")","v":""},4,true,true,false,true,false]
[null,{"$f":"'Scheme and Member Information'!B392","v":0},{"$f":"'Scheme and Member Information'!C392","v":0},null,null,null,null,null,null,null,null,null,null,null,null,null,null,null,null,null,null,null,null,null,null,null,null,null,null,null,null,null,null,null,null,null,null,null,null,null,null,null,null,null,null,null,null,null,null,null,null,null,null,null,null,null,null,null,null,null,null,null,null,null,null,null,null,null,null,null,null,null,null,null,null,null,null,null,null,null,null,null,null,null,null,null,null,null,null,null,null,null,null,null,null,null,null,null,null,null,null,null,null,null,null,null,null,null,null,null,null,null,null,null,null,null,null,null,null,null,null,null,null,null,null,null,null,null,null,null,null,null,null,null,null,null,null,null,null,null,null,null,null,null,null,null,null,null,null,null,null,null,null,null,null,null,null,null,null,null,null,null,null,null,null,null,null,null,null,null,null,null,null,null,null,null,null,null,null,null,null,null,null,null,null,null,null,null,null,null,null,null,null,null,null,null,null,null,null,null,null,null,null,null,null,null,null,null,null,null,null,null,null,null,null,null,null,null,null,null,null,null,null,null,null,null,null,null,null,null,null,null,null,null,null,null,null,null,null,null,null,null,null,null,null,null,null,null,null,null,null,null,null,null,null,null,null,{"$f":"SUM(F392:IW392)","v":0},"TRUE","OK",{"$f":"IF(JE392,VLOOKUP(MIN(JF392:JI392),'Data Validation (hidden)'!$G$30:$H$34,2,FALSE),IF(COUNTA(E392:E392)>0,\"'Scheme (Fund) Name' missing but values entered in other columns.\",\"OK\"))","v":"OK"},null,"OK",null,false,1,2,{"$f":"IF(AND(IX392>'Scheme and Member Information'!I392, E392=\"Yes\"),\"\",\"\")","v":""},4,{"$f":"IF(CELL(\"format\",E392)=\"G\",TRUE,FALSE)","v":true},{"$f":"IF(CELL(\"format\",C392)=\"F0\",TRUE,FALSE)","v":true},false,{"$f":"IF(CELL(\"format\",F392:IW392)=\"F0\",TRUE,FALSE)","v":true},false]
[null,{"$f":"'Scheme and Member Information'!B396","v":0},{"$f":"'Scheme and Member Information'!C396","v":0},null,null,null,null,null,null,null,null,null,null,null,null,null,null,null,null,null,null,null,null,null,null,null,null,null,null,null,null,null,null,null,null,null,null,null,null,null,null,null,null,null,null,null,null,null,null,null,null,null,null,null,null,null,null,null,null,null,null,null,null,null,null,null,null,null,null,null,null,null,null,null,null,null,null,null,null,null,null,null,null,null,null,null,null,null,null,null,null,null,null,null,null,null,null,null,null,null,null,null,null,null,null,null,null,null,null,null,null,null,null,null,null,null,null,null,null,null,null,null,null,null,null,null,null,null,null,null,null,null,null,null,null,null,null,null,null,null,null,null,null,null,null,null,null,null,null,null,null,null,null,null,null,null,null,null,null,null,null,null,null,null,null,null,null,null,null,null,null,null,null,null,null,null,null,null,null,null,null,null,null,null,null,null,null,null,null,null,null,null,null,null,null,null,null,null,null,null,null,null,null,null,null,null,null,null,null,null,null,null,null,null,null,null,null,null,null,null,null,null,null,null,null,null,null,null,null,null,null,null,null,null,null,null,null,null,null,null,null,null,null,null,null,null,null,null,null,null,null,null,null,null,null,null,null,0,"TRUE","OK",{"$f":"IF(JE396,VLOOKUP(MIN(JF396:JI396),'Data Validation (hidden)'!$G$30:$H$34,2,FALSE),IF(COUNTA(E396:E396)>0,\"'Scheme (Fund) Name' missing but values entered in other columns.\",\"OK\"))","v":"OK"},null,"OK",null,false,1,2,{"$f":"IF(AND(IX396>'Scheme and Member Information'!I396, E396=\"Yes\"),\"\",\"\")","v":""},4,true,true,false,true,false]
[null,{"$f":"'Scheme and Member Information'!B399","v":0},{"$f":"'Scheme and Member Information'!C399","v":0},null,null,null,null,null,null,null,null,null,null,null,null,null,null,null,null,null,null,null,null,null,null,null,null,null,null,null,null,null,null,null,null,null,null,null,null,null,null,null,null,null,null,null,null,null,null,null,null,null,null,null,null,null,null,null,null,null,null,null,null,null,null,null,null,null,null,null,null,null,null,null,null,null,null,null,null,null,null,null,null,null,null,null,null,null,null,null,null,null,null,null,null,null,null,null,null,null,null,null,null,null,null,null,null,null,null,null,null,null,null,null,null,null,null,null,null,null,null,null,null,null,null,null,null,null,null,null,null,null,null,null,null,null,null,null,null,null,null,null,null,null,null,null,null,null,null,null,null,null,null,null,null,null,null,null,null,null,null,null,null,null,null,null,null,null,null,null,null,null,null,null,null,null,null,null,null,null,null,null,null,null,null,null,null,null,null,null,null,null,null,null,null,null,null,null,null,null,null,null,null,null,null,null,null,null,null,null,null,null,null,null,null,null,null,null,null,null,null,null,null,null,null,null,null,null,null,null,null,null,null,null,null,null,null,null,null,null,null,null,null,null,null,null,null,null,null,null,null,null,null,null,null,null,null,0,"TRUE","OK",{"$f":"IF(JE399,VLOOKUP(MIN(JF399:JI399),'Data Validation (hidden)'!$G$30:$H$34,2,FALSE),IF(COUNTA(E399:E399)>0,\"'Scheme (Fund) Name' missing but values entered in other columns.\",\"OK\"))","v":"OK"},null,"OK",null,false,1,2,{"$f":"IF(AND(IX399>'Scheme and Member Information'!I399, E399=\"Yes\"),\"\",\"\")","v":""},4,true,true,false,true,false]
[null,{"$f":"'Scheme and Member Information'!B406","v":0},{"$f":"'Scheme and Member Information'!C406","v":0},null,null,null,null,null,null,null,null,null,null,null,null,null,null,null,null,null,null,null,null,null,null,null,null,null,null,null,null,null,null,null,null,null,null,null,null,null,null,null,null,null,null,null,null,null,null,null,null,null,null,null,null,null,null,null,null,null,null,null,null,null,null,null,null,null,null,null,null,null,null,null,null,null,null,null,null,null,null,null,null,null,null,null,null,null,null,null,null,null,null,null,null,null,null,null,null,null,null,null,null,null,null,null,null,null,null,null,null,null,null,null,null,null,null,null,null,null,null,null,null,null,null,null,null,null,null,null,null,null,null,null,null,null,null,null,null,null,null,null,null,null,null,null,null,null,null,null,null,null,null,null,null,null,null,null,null,null,null,null,null,null,null,null,null,null,null,null,null,null,null,null,null,null,null,null,null,null,null,null,null,null,null,null,null,null,null,null,null,null,null,null,null,null,null,null,null,null,null,null,null,null,null,null,null,null,null,null,null,null,null,null,null,null,null,null,null,null,null,null,null,null,null,null,null,null,null,null,null,null,null,null,null,null,null,null,null,null,null,null,null,null,null,null,null,null,null,null,null,null,null,null,null,null,null,0,"TRUE","OK",{"$f":"IF(JE406,VLOOKUP(MIN(JF406:JI406),'Data Validation (hidden)'!$G$30:$H$34,2,FALSE),IF(COUNTA(E406:E406)>0,\"'Scheme (Fund) Name' missing but values entered in other columns.\",\"OK\"))","v":"OK"},null,"OK",null,false,1,2,{"$f":"IF(AND(IX406>'Scheme and Member Information'!I406, E406=\"Yes\"),\"\",\"\")","v":""},4,true,true,false,true,false]
[null,{"$f":"'Scheme and Member Information'!B410","v":0},{"$f":"'Scheme and Member Information'!C410","v":0},null,null,null,null,null,null,null,null,null,null,null,null,null,null,null,null,null,null,null,null,null,null,null,null,null,null,null,null,null,null,null,null,null,null,null,null,null,null,null,null,null,null,null,null,null,null,null,null,null,null,null,null,null,null,null,null,null,null,null,null,null,null,null,null,null,null,null,null,null,null,null,null,null,null,null,null,null,null,null,null,null,null,null,null,null,null,null,null,null,null,null,null,null,null,null,null,null,null,null,null,null,null,null,null,null,null,null,null,null,null,null,null,null,null,null,null,null,null,null,null,null,null,null,null,null,null,null,null,null,null,null,null,null,null,null,null,null,null,null,null,null,null,null,null,null,null,null,null,null,null,null,null,null,null,null,null,null,null,null,null,null,null,null,null,null,null,null,null,null,null,null,null,null,null,null,null,null,null,null,null,null,null,null,null,null,null,null,null,null,null,null,null,null,null,null,null,null,null,null,null,null,null,null,null,null,null,null,null,null,null,null,null,null,null,null,null,null,null,null,null,null,null,null,null,null,null,null,null,null,null,null,null,null,null,null,null,null,null,null,null,null,null,null,null,null,null,null,null,null,null,null,null,null,null,0,"TRUE","OK",{"$f":"IF(JE410,VLOOKUP(MIN(JF410:JI410),'Data Validation (hidden)'!$G$30:$H$34,2,FALSE),IF(COUNTA(E410:E410)>0,\"'Scheme (Fund) Name' missing but values entered in other columns.\",\"OK\"))","v":"OK"},null,"OK",null,false,1,2,{"$f":"IF(AND(IX410>'Scheme and Member Information'!I410, E410=\"Yes\"),\"\",\"\")","v":""},4,true,true,false,true,false]
[null,{"$f":"'Scheme and Member Information'!B411","v":0},{"$f":"'Scheme and Member Information'!C411","v":0},null,null,null,null,null,null,null,null,null,null,null,null,null,null,null,null,null,null,null,null,null,null,null,null,null,null,null,null,null,null,null,null,null,null,null,null,null,null,null,null,null,null,null,null,null,null,null,null,null,null,null,null,null,null,null,null,null,null,null,null,null,null,null,null,null,null,null,null,null,null,null,null,null,null,null,null,null,null,null,null,null,null,null,null,null,null,null,null,null,null,null,null,null,null,null,null,null,null,null,null,null,null,null,null,null,null,null,null,null,null,null,null,null,null,null,null,null,null,null,null,null,null,null,null,null,null,null,null,null,null,null,null,null,null,null,null,null,null,null,null,null,null,null,null,null,null,null,null,null,null,null,null,null,null,null,null,null,null,null,null,null,null,null,null,null,null,null,null,null,null,null,null,null,null,null,null,null,null,null,null,null,null,null,null,null,null,null,null,null,null,null,null,null,null,null,null,null,null,null,null,null,null,null,null,null,null,null,null,null,null,null,null,null,null,null,null,null,null,null,null,null,null,null,null,null,null,null,null,null,null,null,null,null,null,null,null,null,null,null,null,null,null,null,null,null,null,null,null,null,null,null,null,null,null,0,"TRUE","OK",{"$f":"IF(JE411,VLOOKUP(MIN(JF411:JI411),'Data Validation (hidden)'!$G$30:$H$34,2,FALSE),IF(COUNTA(E411:E411)>0,\"'Scheme (Fund) Name' missing but values entered in other columns.\",\"OK\"))","v":"OK"},null,"OK",null,false,1,2,{"$f":"IF(AND(IX411>'Scheme and Member Information'!I411, E411=\"Yes\"),\"\",\"\")","v":""},4,true,true,false,true,false]
[null,{"$f":"'Scheme and Member Information'!B417","v":0},{"$f":"'Scheme and Member Information'!C417","v":0},null,null,null,null,null,null,null,null,null,null,null,null,null,null,null,null,null,null,null,null,null,null,null,null,null,null,null,null,null,null,null,null,null,null,null,null,null,null,null,null,null,null,null,null,null,null,null,null,null,null,null,null,null,null,null,null,null,null,null,null,null,null,null,null,null,null,null,null,null,null,null,null,null,null,null,null,null,null,null,null,null,null,null,null,null,null,null,null,null,null,null,null,null,null,null,null,null,null,null,null,null,null,null,null,null,null,null,null,null,null,null,null,null,null,null,null,null,null,null,null,null,null,null,null,null,null,null,null,null,null,null,null,null,null,null,null,null,null,null,null,null,null,null,null,null,null,null,null,null,null,null,null,null,null,null,null,null,null,null,null,null,null,null,null,null,null,null,null,null,null,null,null,null,null,null,null,null,null,null,null,null,null,null,null,null,null,null,null,null,null,null,null,null,null,null,null,null,null,null,null,null,null,null,null,null,null,null,null,null,null,null,null,null,null,null,null,null,null,null,null,null,null,null,null,null,null,null,null,null,null,null,null,null,null,null,null,null,null,null,null,null,null,null,null,null,null,null,null,null,null,null,null,null,null,0,"TRUE","OK",{"$f":"IF(JE417,VLOOKUP(MIN(JF417:JI417),'Data Validation (hidden)'!$G$30:$H$34,2,FALSE),IF(COUNTA(E417:E417)>0,\"'Scheme (Fund) Name' missing but values entered in other columns.\",\"OK\"))","v":"OK"},null,"OK",null,false,1,2,{"$f":"IF(AND(IX417>'Scheme and Member Information'!I417, E417=\"Yes\"),\"\",\"\")","v":""},4,true,true,false,true,false]
[null,{"$f":"'Scheme and Member Information'!B420","v":0},{"$f":"'Scheme and Member Information'!C420","v":0},null,null,null,null,null,null,null,null,null,null,null,null,null,null,null,null,null,null,null,null,null,null,null,null,null,null,null,null,null,null,null,null,null,null,null,null,null,null,null,null,null,null,null,null,null,null,null,null,null,null,null,null,null,null,null,null,null,null,null,null,null,null,null,null,null,null,null,null,null,null,null,null,null,null,null,null,null,null,null,null,null,null,null,null,null,null,null,null,null,null,null,null,null,null,null,null,null,null,null,null,null,null,null,null,null,null,null,null,null,null,null,null,null,null,null,null,null,null,null,null,null,null,null,null,null,null,null,null,null,null,null,null,null,null,null,null,null,null,null,null,null,null,null,null,null,null,null,null,null,null,null,null,null,null,null,null,null,null,null,null,null,null,null,null,null,null,null,null,null,null,null,null,null,null,null,null,null,null,null,null,null,null,null,null,null,null,null,null,null,null,null,null,null,null,null,null,null,null,null,null,null,null,null,null,null,null,null,null,null,null,null,null,null,null,null,null,null,null,null,null,null,null,null,null,null,null,null,null,null,null,null,null,null,null,null,null,null,null,null,null,null,null,null,null,null,null,null,null,null,null,null,null,null,null,0,"TRUE","OK",{"$f":"IF(JE420,VLOOKUP(MIN(JF420:JI420),'Data Validation (hidden)'!$G$30:$H$34,2,FALSE),IF(COUNTA(E420:E420)>0,\"'Scheme (Fund) Name' missing but values entered in other columns.\",\"OK\"))","v":"OK"},null,"OK",null,false,1,2,{"$f":"IF(AND(IX420>'Scheme and Member Information'!I420, E420=\"Yes\"),\"\",\"\")","v":""},4,true,true,false,true,false]
[null,{"$f":"'Scheme and Member Information'!B428","v":0},{"$f":"'Scheme and Member Information'!C428","v":0},null,null,null,null,null,null,null,null,null,null,null,null,null,null,null,null,null,null,null,null,null,null,null,null,null,null,null,null,null,null,null,null,null,null,null,null,null,null,null,null,null,null,null,null,null,null,null,null,null,null,null,null,null,null,null,null,null,null,null,null,null,null,null,null,null,null,null,null,null,null,null,null,null,null,null,null,null,null,null,null,null,null,null,null,null,null,null,null,null,null,null,null,null,null,null,null,null,null,null,null,null,null,null,null,null,null,null,null,null,null,null,null,null,null,null,null,null,null,null,null,null,null,null,null,null,null,null,null,null,null,null,null,null,null,null,null,null,null,null,null,null,null,null,null,null,null,null,null,null,null,null,null,null,null,null,null,null,null,null,null,null,null,null,null,null,null,null,null,null,null,null,null,null,null,null,null,null,null,null,null,null,null,null,null,null,null,null,null,null,null,null,null,null,null,null,null,null,null,null,null,null,null,null,null,null,null,null,null,null,null,null,null,null,null,null,null,null,null,null,null,null,null,null,null,null,null,null,null,null,null,null,null,null,null,null,null,null,null,null,null,null,null,null,null,null,null,null,null,null,null,null,null,null,null,0,"TRUE","OK",{"$f":"IF(JE428,VLOOKUP(MIN(JF428:JI428),'Data Validation (hidden)'!$G$30:$H$34,2,FALSE),IF(COUNTA(E428:E428)>0,\"'Scheme (Fund) Name' missing but values entered in other columns.\",\"OK\"))","v":"OK"},null,"OK",null,false,1,2,{"$f":"IF(AND(IX428>'Scheme and Member Information'!I428, E428=\"Yes\"),\"\",\"\")","v":""},4,true,true,false,true,false]
[null,{"$f":"'Scheme and Member Information'!B430","v":0},{"$f":"'Scheme and Member Information'!C430","v":0},null,null,null,null,null,null,null,null,null,null,null,null,null,null,null,null,null,null,null,null,null,null,null,null,null,null,null,null,null,null,null,null,null,null,null,null,null,null,null,null,null,null,null,null,null,null,null,null,null,null,null,null,null,null,null,null,null,null,null,null,null,null,null,null,null,null,null,null,null,null,null,null,null,null,null,null,null,null,null,null,null,null,null,null,null,null,null,null,null,null,null,null,null,null,null,null,null,null,null,null,null,null,null,null,null,null,null,null,null,null,null,null,null,null,null,null,null,null,null,null,null,null,null,null,null,null,null,null,null,null,null,null,null,null,null,null,null,null,null,null,null,null,null,null,null,null,null,null,null,null,null,null,null,null,null,null,null,null,null,null,null,null,null,null,null,null,null,null,null,null,null,null,null,null,null,null,null,null,null,null,null,null,null,null,null,null,null,null,null,null,null,null,null,null,null,null,null,null,null,null,null,null,null,null,null,null,null,null,null,null,null,null,null,null,null,null,null,null,null,null,null,null,null,null,null,null,null,null,null,null,null,null,null,null,null,null,null,null,null,null,null,null,null,null,null,null,null,null,null,null,null,null,null,null,0,"TRUE","OK",{"$f":"IF(JE430,VLOOKUP(MIN(JF430:JI430),'Data Validation (hidden)'!$G$30:$H$34,2,FALSE),IF(COUNTA(E430:E430)>0,\"'Scheme (Fund) Name' missing but values entered in other columns.\",\"OK\"))","v":"OK"},null,"OK",null,false,1,2,{"$f":"IF(AND(IX430>'Scheme and Member Information'!I430, E430=\"Yes\"),\"\",\"\")","v":""},4,true,true,false,true,false]
[null,{"$f":"'Scheme and Member Information'!B435","v":0},{"$f":"'Scheme and Member Information'!C435","v":0},null,null,null,null,null,null,null,null,null,null,null,null,null,null,null,null,null,null,null,null,null,null,null,null,null,null,null,null,null,null,null,null,null,null,null,null,null,null,null,null,null,null,null,null,null,null,null,null,null,null,null,null,null,null,null,null,null,null,null,null,null,null,null,null,null,null,null,null,null,null,null,null,null,null,null,null,null,null,null,null,null,null,null,null,null,null,null,null,null,null,null,null,null,null,null,null,null,null,null,null,null,null,null,null,null,null,null,null,null,null,null,null,null,null,null,null,null,null,null,null,null,null,null,null,null,null,null,null,null,null,null,null,null,null,null,null,null,null,null,null,null,null,null,null,null,null,null,null,null,null,null,null,null,null,null,null,null,null,null,null,null,null,null,null,null,null,null,null,null,null,null,null,null,null,null,null,null,null,null,null,null,null,null,null,null,null,null,null,null,null,null,null,null,null,null,null,null,null,null,null,null,null,null,null,null,null,null,null,null,null,null,null,null,null,null,null,null,null,null,null,null,null,null,null,null,null,null,null,null,null,null,null,null,null,null,null,null,null,null,null,null,null,null,null,null,null,null,null,null,null,null,null,null,null,0,"TRUE","OK",{"$f":"IF(JE435,VLOOKUP(MIN(JF435:JI435),'Data Validation (hidden)'!$G$30:$H$34,2,FALSE),IF(COUNTA(E435:E435)>0,\"'Scheme (Fund) Name' missing but values entered in other columns.\",\"OK\"))","v":"OK"},null,"OK",null,false,1,2,{"$f":"IF(AND(IX435>'Scheme and Member Information'!I435, E435=\"Yes\"),\"\",\"\")","v":""},4,true,true,false,true,false]
[null,{"$f":"'Scheme and Member Information'!B440","v":0},{"$f":"'Scheme and Member Information'!C440","v":0},null,null,null,null,null,null,null,null,null,null,null,null,null,null,null,null,null,null,null,null,null,null,null,null,null,null,null,null,null,null,null,null,null,null,null,null,null,null,null,null,null,null,null,null,null,null,null,null,null,null,null,null,null,null,null,null,null,null,null,null,null,null,null,null,null,null,null,null,null,null,null,null,null,null,null,null,null,null,null,null,null,null,null,null,null,null,null,null,null,null,null,null,null,null,null,null,null,null,null,null,null,null,null,null,null,null,null,null,null,null,null,null,null,null,null,null,null,null,null,null,null,null,null,null,null,null,null,null,null,null,null,null,null,null,null,null,null,null,null,null,null,null,null,null,null,null,null,null,null,null,null,null,null,null,null,null,null,null,null,null,null,null,null,null,null,null,null,null,null,null,null,null,null,null,null,null,null,null,null,null,null,null,null,null,null,null,null,null,null,null,null,null,null,null,null,null,null,null,null,null,null,null,null,null,null,null,null,null,null,null,null,null,null,null,null,null,null,null,null,null,null,null,null,null,null,null,null,null,null,null,null,null,null,null,null,null,null,null,null,null,null,null,null,null,null,null,null,null,null,null,null,null,null,null,0,"TRUE","OK",{"$f":"IF(JE440,VLOOKUP(MIN(JF440:JI440),'Data Validation (hidden)'!$G$30:$H$34,2,FALSE),IF(COUNTA(E440:E440)>0,\"'Scheme (Fund) Name' missing but values entered in other columns.\",\"OK\"))","v":"OK"},null,"OK",null,false,1,2,{"$f":"IF(AND(IX440>'Scheme and Member Information'!I440, E440=\"Yes\"),\"\",\"\")","v":""},4,true,true,false,true,false]
[null,{"$f":"'Scheme and Member Information'!B445","v":0},{"$f":"'Scheme and Member Information'!C445","v":0},null,null,null,null,null,null,null,null,null,null,null,null,null,null,null,null,null,null,null,null,null,null,null,null,null,null,null,null,null,null,null,null,null,null,null,null,null,null,null,null,null,null,null,null,null,null,null,null,null,null,null,null,null,null,null,null,null,null,null,null,null,null,null,null,null,null,null,null,null,null,null,null,null,null,null,null,null,null,null,null,null,null,null,null,null,null,null,null,null,null,null,null,null,null,null,null,null,null,null,null,null,null,null,null,null,null,null,null,null,null,null,null,null,null,null,null,null,null,null,null,null,null,null,null,null,null,null,null,null,null,null,null,null,null,null,null,null,null,null,null,null,null,null,null,null,null,null,null,null,null,null,null,null,null,null,null,null,null,null,null,null,null,null,null,null,null,null,null,null,null,null,null,null,null,null,null,null,null,null,null,null,null,null,null,null,null,null,null,null,null,null,null,null,null,null,null,null,null,null,null,null,null,null,null,null,null,null,null,null,null,null,null,null,null,null,null,null,null,null,null,null,null,null,null,null,null,null,null,null,null,null,null,null,null,null,null,null,null,null,null,null,null,null,null,null,null,null,null,null,null,null,null,null,null,0,"TRUE","OK",{"$f":"IF(JE445,VLOOKUP(MIN(JF445:JI445),'Data Validation (hidden)'!$G$30:$H$34,2,FALSE),IF(COUNTA(E445:E445)>0,\"'Scheme (Fund) Name' missing but values entered in other columns.\",\"OK\"))","v":"OK"},null,"OK",null,false,1,2,{"$f":"IF(AND(IX445>'Scheme and Member Information'!I445, E445=\"Yes\"),\"\",\"\")","v":""},4,true,true,false,true,false]
[null,{"$f":"'Scheme and Member Information'!B448","v":0},{"$f":"'Scheme and Member Information'!C448","v":0},null,null,null,null,null,null,null,null,null,null,null,null,null,null,null,null,null,null,null,null,null,null,null,null,null,null,null,null,null,null,null,null,null,null,null,null,null,null,null,null,null,null,null,null,null,null,null,null,null,null,null,null,null,null,null,null,null,null,null,null,null,null,null,null,null,null,null,null,null,null,null,null,null,null,null,null,null,null,null,null,null,null,null,null,null,null,null,null,null,null,null,null,null,null,null,null,null,null,null,null,null,null,null,null,null,null,null,null,null,null,null,null,null,null,null,null,null,null,null,null,null,null,null,null,null,null,null,null,null,null,null,null,null,null,null,null,null,null,null,null,null,null,null,null,null,null,null,null,null,null,null,null,null,null,null,null,null,null,null,null,null,null,null,null,null,null,null,null,null,null,null,null,null,null,null,null,null,null,null,null,null,null,null,null,null,null,null,null,null,null,null,null,null,null,null,null,null,null,null,null,null,null,null,null,null,null,null,null,null,null,null,null,null,null,null,null,null,null,null,null,null,null,null,null,null,null,null,null,null,null,null,null,null,null,null,null,null,null,null,null,null,null,null,null,null,null,null,null,null,null,null,null,null,null,0,"TRUE","OK",{"$f":"IF(JE448,VLOOKUP(MIN(JF448:JI448),'Data Validation (hidden)'!$G$30:$H$34,2,FALSE),IF(COUNTA(E448:E448)>0,\"'Scheme (Fund) Name' missing but values entered in other columns.\",\"OK\"))","v":"OK"},null,"OK",null,false,1,2,{"$f":"IF(AND(IX448>'Scheme and Member Information'!I448, E448=\"Yes\"),\"\",\"\")","v":""},4,true,true,false,true,false]
[null,{"$f":"'Scheme and Member Information'!B455","v":0},{"$f":"'Scheme and Member Information'!C455","v":0},null,null,null,null,null,null,null,null,null,null,null,null,null,null,null,null,null,null,null,null,null,null,null,null,null,null,null,null,null,null,null,null,null,null,null,null,null,null,null,null,null,null,null,null,null,null,null,null,null,null,null,null,null,null,null,null,null,null,null,null,null,null,null,null,null,null,null,null,null,null,null,null,null,null,null,null,null,null,null,null,null,null,null,null,null,null,null,null,null,null,null,null,null,null,null,null,null,null,null,null,null,null,null,null,null,null,null,null,null,null,null,null,null,null,null,null,null,null,null,null,null,null,null,null,null,null,null,null,null,null,null,null,null,null,null,null,null,null,null,null,null,null,null,null,null,null,null,null,null,null,null,null,null,null,null,null,null,null,null,null,null,null,null,null,null,null,null,null,null,null,null,null,null,null,null,null,null,null,null,null,null,null,null,null,null,null,null,null,null,null,null,null,null,null,null,null,null,null,null,null,null,null,null,null,null,null,null,null,null,null,null,null,null,null,null,null,null,null,null,null,null,null,null,null,null,null,null,null,null,null,null,null,null,null,null,null,null,null,null,null,null,null,null,null,null,null,null,null,null,null,null,null,null,null,0,"TRUE","OK",{"$f":"IF(JE455,VLOOKUP(MIN(JF455:JI455),'Data Validation (hidden)'!$G$30:$H$34,2,FALSE),IF(COUNTA(E455:E455)>0,\"'Scheme (Fund) Name' missing but values entered in other columns.\",\"OK\"))","v":"OK"},null,"OK",null,false,1,2,{"$f":"IF(AND(IX455>'Scheme and Member Information'!I455, E455=\"Yes\"),\"\",\"\")","v":""},4,true,true,false,true,false]
[null,{"$f":"'Scheme and Member Information'!B459","v":0},{"$f":"'Scheme and Member Information'!C459","v":0},null,null,null,null,null,null,null,null,null,null,null,null,null,null,null,null,null,null,null,null,null,null,null,null,null,null,null,null,null,null,null,null,null,null,null,null,null,null,null,null,null,null,null,null,null,null,null,null,null,null,null,null,null,null,null,null,null,null,null,null,null,null,null,null,null,null,null,null,null,null,null,null,null,null,null,null,null,null,null,null,null,null,null,null,null,null,null,null,null,null,null,null,null,null,null,null,null,null,null,null,null,null,null,null,null,null,null,null,null,null,null,null,null,null,null,null,null,null,null,null,null,null,null,null,null,null,null,null,null,null,null,null,null,null,null,null,null,null,null,null,null,null,null,null,null,null,null,null,null,null,null,null,null,null,null,null,null,null,null,null,null,null,null,null,null,null,null,null,null,null,null,null,null,null,null,null,null,null,null,null,null,null,null,null,null,null,null,null,null,null,null,null,null,null,null,null,null,null,null,null,null,null,null,null,null,null,null,null,null,null,null,null,null,null,null,null,null,null,null,null,null,null,null,null,null,null,null,null,null,null,null,null,null,null,null,null,null,null,null,null,null,null,null,null,null,null,null,null,null,null,null,null,null,null,0,"TRUE","OK",{"$f":"IF(JE459,VLOOKUP(MIN(JF459:JI459),'Data Validation (hidden)'!$G$30:$H$34,2,FALSE),IF(COUNTA(E459:E459)>0,\"'Scheme (Fund) Name' missing but values entered in other columns.\",\"OK\"))","v":"OK"},null,"OK",null,false,1,2,{"$f":"IF(AND(IX459>'Scheme and Member Information'!I459, E459=\"Yes\"),\"\",\"\")","v":""},4,true,true,false,true,false]
[null,{"$f":"'Scheme and Member Information'!B465","v":0},{"$f":"'Scheme and Member Information'!C465","v":0},null,null,null,null,null,null,null,null,null,null,null,null,null,null,null,null,null,null,null,null,null,null,null,null,null,null,null,null,null,null,null,null,null,null,null,null,null,null,null,null,null,null,null,null,null,null,null,null,null,null,null,null,null,null,null,null,null,null,null,null,null,null,null,null,null,null,null,null,null,null,null,null,null,null,null,null,null,null,null,null,null,null,null,null,null,null,null,null,null,null,null,null,null,null,null,null,null,null,null,null,null,null,null,null,null,null,null,null,null,null,null,null,null,null,null,null,null,null,null,null,null,null,null,null,null,null,null,null,null,null,null,null,null,null,null,null,null,null,null,null,null,null,null,null,null,null,null,null,null,null,null,null,null,null,null,null,null,null,null,null,null,null,null,null,null,null,null,null,null,null,null,null,null,null,null,null,null,null,null,null,null,null,null,null,null,null,null,null,null,null,null,null,null,null,null,null,null,null,null,null,null,null,null,null,null,null,null,null,null,null,null,null,null,null,null,null,null,null,null,null,null,null,null,null,null,null,null,null,null,null,null,null,null,null,null,null,null,null,null,null,null,null,null,null,null,null,null,null,null,null,null,null,null,null,0,"TRUE","OK",{"$f":"IF(JE465,VLOOKUP(MIN(JF465:JI465),'Data Validation (hidden)'!$G$30:$H$34,2,FALSE),IF(COUNTA(E465:E465)>0,\"'Scheme (Fund) Name' missing but values entered in other columns.\",\"OK\"))","v":"OK"},null,"OK",null,false,1,2,{"$f":"IF(AND(IX465>'Scheme and Member Information'!I465, E465=\"Yes\"),\"\",\"\")","v":""},4,true,true,false,true,false]
[null,{"$f":"'Scheme and Member Information'!B466","v":0},{"$f":"'Scheme and Member Information'!C466","v":0},null,null,null,null,null,null,null,null,null,null,null,null,null,null,null,null,null,null,null,null,null,null,null,null,null,null,null,null,null,null,null,null,null,null,null,null,null,null,null,null,null,null,null,null,null,null,null,null,null,null,null,null,null,null,null,null,null,null,null,null,null,null,null,null,null,null,null,null,null,null,null,null,null,null,null,null,null,null,null,null,null,null,null,null,null,null,null,null,null,null,null,null,null,null,null,null,null,null,null,null,null,null,null,null,null,null,null,null,null,null,null,null,null,null,null,null,null,null,null,null,null,null,null,null,null,null,null,null,null,null,null,null,null,null,null,null,null,null,null,null,null,null,null,null,null,null,null,null,null,null,null,null,null,null,null,null,null,null,null,null,null,null,null,null,null,null,null,null,null,null,null,null,null,null,null,null,null,null,null,null,null,null,null,null,null,null,null,null,null,null,null,null,null,null,null,null,null,null,null,null,null,null,null,null,null,null,null,null,null,null,null,null,null,null,null,null,null,null,null,null,null,null,null,null,null,null,null,null,null,null,null,null,null,null,null,null,null,null,null,null,null,null,null,null,null,null,null,null,null,null,null,null,null,null,0,"TRUE","OK",{"$f":"IF(JE466,VLOOKUP(MIN(JF466:JI466),'Data Validation (hidden)'!$G$30:$H$34,2,FALSE),IF(COUNTA(E466:E466)>0,\"'Scheme (Fund) Name' missing but values entered in other columns.\",\"OK\"))","v":"OK"},null,"OK",null,false,1,2,{"$f":"IF(AND(IX466>'Scheme and Member Information'!I466, E466=\"Yes\"),\"\",\"\")","v":""},4,true,true,false,true,false]
[null,{"$f":"'Scheme and Member Information'!B470","v":0},{"$f":"'Scheme and Member Information'!C470","v":0},null,null,null,null,null,null,null,null,null,null,null,null,null,null,null,null,null,null,null,null,null,null,null,null,null,null,null,null,null,null,null,null,null,null,null,null,null,null,null,null,null,null,null,null,null,null,null,null,null,null,null,null,null,null,null,null,null,null,null,null,null,null,null,null,null,null,null,null,null,null,null,null,null,null,null,null,null,null,null,null,null,null,null,null,null,null,null,null,null,null,null,null,null,null,null,null,null,null,null,null,null,null,null,null,null,null,null,null,null,null,null,null,null,null,null,null,null,null,null,null,null,null,null,null,null,null,null,null,null,null,null,null,null,null,null,null,null,null,null,null,null,null,null,null,null,null,null,null,null,null,null,null,null,null,null,null,null,null,null,null,null,null,null,null,null,null,null,null,null,null,null,null,null,null,null,null,null,null,null,null,null,null,null,null,null,null,null,null,null,null,null,null,null,null,null,null,null,null,null,null,null,null,null,null,null,null,null,null,null,null,null,null,null,null,null,null,null,null,null,null,null,null,null,null,null,null,null,null,null,null,null,null,null,null,null,null,null,null,null,null,null,null,null,null,null,null,null,null,null,null,null,null,null,null,0,"TRUE","OK",{"$f":"IF(JE470,VLOOKUP(MIN(JF470:JI470),'Data Validation (hidden)'!$G$30:$H$34,2,FALSE),IF(COUNTA(E470:E470)>0,\"'Scheme (Fund) Name' missing but values entered in other columns.\",\"OK\"))","v":"OK"},null,"OK",null,false,1,2,{"$f":"IF(AND(IX470>'Scheme and Member Information'!I470, E470=\"Yes\"),\"\",\"\")","v":""},4,true,true,false,true,false]
[null,{"$f":"'Scheme and Member Information'!B477","v":0},{"$f":"'Scheme and Member Information'!C477","v":0},null,null,null,null,null,null,null,null,null,null,null,null,null,null,null,null,null,null,null,null,null,null,null,null,null,null,null,null,null,null,null,null,null,null,null,null,null,null,null,null,null,null,null,null,null,null,null,null,null,null,null,null,null,null,null,null,null,null,null,null,null,null,null,null,null,null,null,null,null,null,null,null,null,null,null,null,null,null,null,null,null,null,null,null,null,null,null,null,null,null,null,null,null,null,null,null,null,null,null,null,null,null,null,null,null,null,null,null,null,null,null,null,null,null,null,null,null,null,null,null,null,null,null,null,null,null,null,null,null,null,null,null,null,null,null,null,null,null,null,null,null,null,null,null,null,null,null,null,null,null,null,null,null,null,null,null,null,null,null,null,null,null,null,null,null,null,null,null,null,null,null,null,null,null,null,null,null,null,null,null,null,null,null,null,null,null,null,null,null,null,null,null,null,null,null,null,null,null,null,null,null,null,null,null,null,null,null,null,null,null,null,null,null,null,null,null,null,null,null,null,null,null,null,null,null,null,null,null,null,null,null,null,null,null,null,null,null,null,null,null,null,null,null,null,null,null,null,null,null,null,null,null,null,null,0,"TRUE","OK",{"$f":"IF(JE477,VLOOKUP(MIN(JF477:JI477),'Data Validation (hidden)'!$G$30:$H$34,2,FALSE),IF(COUNTA(E477:E477)>0,\"'Scheme (Fund) Name' missing but values entered in other columns.\",\"OK\"))","v":"OK"},null,"OK",null,false,1,2,{"$f":"IF(AND(IX477>'Scheme and Member Information'!I477, E477=\"Yes\"),\"\",\"\")","v":""},4,true,true,false,true,false]
[null,{"$f":"'Scheme and Member Information'!B479","v":0},{"$f":"'Scheme and Member Information'!C479","v":0},null,null,null,null,null,null,null,null,null,null,null,null,null,null,null,null,null,null,null,null,null,null,null,null,null,null,null,null,null,null,null,null,null,null,null,null,null,null,null,null,null,null,null,null,null,null,null,null,null,null,null,null,null,null,null,null,null,null,null,null,null,null,null,null,null,null,null,null,null,null,null,null,null,null,null,null,null,null,null,null,null,null,null,null,null,null,null,null,null,null,null,null,null,null,null,null,null,null,null,null,null,null,null,null,null,null,null,null,null,null,null,null,null,null,null,null,null,null,null,null,null,null,null,null,null,null,null,null,null,null,null,null,null,null,null,null,null,null,null,null,null,null,null,null,null,null,null,null,null,null,null,null,null,null,null,null,null,null,null,null,null,null,null,null,null,null,null,null,null,null,null,null,null,null,null,null,null,null,null,null,null,null,null,null,null,null,null,null,null,null,null,null,null,null,null,null,null,null,null,null,null,null,null,null,null,null,null,null,null,null,null,null,null,null,null,null,null,null,null,null,null,null,null,null,null,null,null,null,null,null,null,null,null,null,null,null,null,null,null,null,null,null,null,null,null,null,null,null,null,null,null,null,null,null,0,"TRUE","OK",{"$f":"IF(JE479,VLOOKUP(MIN(JF479:JI479),'Data Validation (hidden)'!$G$30:$H$34,2,FALSE),IF(COUNTA(E479:E479)>0,\"'Scheme (Fund) Name' missing but values entered in other columns.\",\"OK\"))","v":"OK"},null,"OK",null,false,1,2,{"$f":"IF(AND(IX479>'Scheme and Member Information'!I479, E479=\"Yes\"),\"\",\"\")","v":""},4,true,true,false,true,false]
[null,{"$f":"'Scheme and Member Information'!B484","v":0},{"$f":"'Scheme and Member Information'!C484","v":0},null,null,null,null,null,null,null,null,null,null,null,null,null,null,null,null,null,null,null,null,null,null,null,null,null,null,null,null,null,null,null,null,null,null,null,null,null,null,null,null,null,null,null,null,null,null,null,null,null,null,null,null,null,null,null,null,null,null,null,null,null,null,null,null,null,null,null,null,null,null,null,null,null,null,null,null,null,null,null,null,null,null,null,null,null,null,null,null,null,null,null,null,null,null,null,null,null,null,null,null,null,null,null,null,null,null,null,null,null,null,null,null,null,null,null,null,null,null,null,null,null,null,null,null,null,null,null,null,null,null,null,null,null,null,null,null,null,null,null,null,null,null,null,null,null,null,null,null,null,null,null,null,null,null,null,null,null,null,null,null,null,null,null,null,null,null,null,null,null,null,null,null,null,null,null,null,null,null,null,null,null,null,null,null,null,null,null,null,null,null,null,null,null,null,null,null,null,null,null,null,null,null,null,null,null,null,null,null,null,null,null,null,null,null,null,null,null,null,null,null,null,null,null,null,null,null,null,null,null,null,null,null,null,null,null,null,null,null,null,null,null,null,null,null,null,null,null,null,null,null,null,null,null,null,0,"TRUE","OK",{"$f":"IF(JE484,VLOOKUP(MIN(JF484:JI484),'Data Validation (hidden)'!$G$30:$H$34,2,FALSE),IF(COUNTA(E484:E484)>0,\"'Scheme (Fund) Name' missing but values entered in other columns.\",\"OK\"))","v":"OK"},null,"OK",null,false,1,2,{"$f":"IF(AND(IX484>'Scheme and Member Information'!I484, E484=\"Yes\"),\"\",\"\")","v":""},4,true,true,false,true,false]
[null,{"$f":"'Scheme and Member Information'!B489","v":0},{"$f":"'Scheme and Member Information'!C489","v":0},null,null,null,null,null,null,null,null,null,null,null,null,null,null,null,null,null,null,null,null,null,null,null,null,null,null,null,null,null,null,null,null,null,null,null,null,null,null,null,null,null,null,null,null,null,null,null,null,null,null,null,null,null,null,null,null,null,null,null,null,null,null,null,null,null,null,null,null,null,null,null,null,null,null,null,null,null,null,null,null,null,null,null,null,null,null,null,null,null,null,null,null,null,null,null,null,null,null,null,null,null,null,null,null,null,null,null,null,null,null,null,null,null,null,null,null,null,null,null,null,null,null,null,null,null,null,null,null,null,null,null,null,null,null,null,null,null,null,null,null,null,null,null,null,null,null,null,null,null,null,null,null,null,null,null,null,null,null,null,null,null,null,null,null,null,null,null,null,null,null,null,null,null,null,null,null,null,null,null,null,null,null,null,null,null,null,null,null,null,null,null,null,null,null,null,null,null,null,null,null,null,null,null,null,null,null,null,null,null,null,null,null,null,null,null,null,null,null,null,null,null,null,null,null,null,null,null,null,null,null,null,null,null,null,null,null,null,null,null,null,null,null,null,null,null,null,null,null,null,null,null,null,null,null,0,"TRUE","OK",{"$f":"IF(JE489,VLOOKUP(MIN(JF489:JI489),'Data Validation (hidden)'!$G$30:$H$34,2,FALSE),IF(COUNTA(E489:E489)>0,\"'Scheme (Fund) Name' missing but values entered in other columns.\",\"OK\"))","v":"OK"},null,"OK",null,false,1,2,{"$f":"IF(AND(IX489>'Scheme and Member Information'!I489, E489=\"Yes\"),\"\",\"\")","v":""},4,true,true,false,true,false]
[null,{"$f":"'Scheme and Member Information'!B495","v":0},{"$f":"'Scheme and Member Information'!C495","v":0},null,null,null,null,null,null,null,null,null,null,null,null,null,null,null,null,null,null,null,null,null,null,null,null,null,null,null,null,null,null,null,null,null,null,null,null,null,null,null,null,null,null,null,null,null,null,null,null,null,null,null,null,null,null,null,null,null,null,null,null,null,null,null,null,null,null,null,null,null,null,null,null,null,null,null,null,null,null,null,null,null,null,null,null,null,null,null,null,null,null,null,null,null,null,null,null,null,null,null,null,null,null,null,null,null,null,null,null,null,null,null,null,null,null,null,null,null,null,null,null,null,null,null,null,null,null,null,null,null,null,null,null,null,null,null,null,null,null,null,null,null,null,null,null,null,null,null,null,null,null,null,null,null,null,null,null,null,null,null,null,null,null,null,null,null,null,null,null,null,null,null,null,null,null,null,null,null,null,null,null,null,null,null,null,null,null,null,null,null,null,null,null,null,null,null,null,null,null,null,null,null,null,null,null,null,null,null,null,null,null,null,null,null,null,null,null,null,null,null,null,null,null,null,null,null,null,null,null,null,null,null,null,null,null,null,null,null,null,null,null,null,null,null,null,null,null,null,null,null,null,null,null,null,null,0,"TRUE","OK",{"$f":"IF(JE495,VLOOKUP(MIN(JF495:JI495),'Data Validation (hidden)'!$G$30:$H$34,2,FALSE),IF(COUNTA(E495:E495)>0,\"'Scheme (Fund) Name' missing but values entered in other columns.\",\"OK\"))","v":"OK"},null,"OK",null,false,1,2,{"$f":"IF(AND(IX495>'Scheme and Member Information'!I495, E495=\"Yes\"),\"\",\"\")","v":""},4,true,true,false,true,false]
[null,{"$f":"'Scheme and Member Information'!B499","v":0},{"$f":"'Scheme and Member Information'!C499","v":0},null,null,null,null,null,null,null,null,null,null,null,null,null,null,null,null,null,null,null,null,null,null,null,null,null,null,null,null,null,null,null,null,null,null,null,null,null,null,null,null,null,null,null,null,null,null,null,null,null,null,null,null,null,null,null,null,null,null,null,null,null,null,null,null,null,null,null,null,null,null,null,null,null,null,null,null,null,null,null,null,null,null,null,null,null,null,null,null,null,null,null,null,null,null,null,null,null,null,null,null,null,null,null,null,null,null,null,null,null,null,null,null,null,null,null,null,null,null,null,null,null,null,null,null,null,null,null,null,null,null,null,null,null,null,null,null,null,null,null,null,null,null,null,null,null,null,null,null,null,null,null,null,null,null,null,null,null,null,null,null,null,null,null,null,null,null,null,null,null,null,null,null,null,null,null,null,null,null,null,null,null,null,null,null,null,null,null,null,null,null,null,null,null,null,null,null,null,null,null,null,null,null,null,null,null,null,null,null,null,null,null,null,null,null,null,null,null,null,null,null,null,null,null,null,null,null,null,null,null,null,null,null,null,null,null,null,null,null,null,null,null,null,null,null,null,null,null,null,null,null,null,null,null,null,0,"TRUE","OK",{"$f":"IF(JE499,VLOOKUP(MIN(JF499:JI499),'Data Validation (hidden)'!$G$30:$H$34,2,FALSE),IF(COUNTA(E499:E499)>0,\"'Scheme (Fund) Name' missing but values entered in other columns.\",\"OK\"))","v":"OK"},null,"OK",null,false,1,2,{"$f":"IF(AND(IX499>'Scheme and Member Information'!I499, E499=\"Yes\"),\"\",\"\")","v":""},4,true,true,false,true,false]
[null,{"$f":"'Scheme and Member Information'!B504","v":0},{"$f":"'Scheme and Member Information'!C504","v":0},null,null,null,null,null,null,null,null,null,null,null,null,null,null,null,null,null,null,null,null,null,null,null,null,null,null,null,null,null,null,null,null,null,null,null,null,null,null,null,null,null,null,null,null,null,null,null,null,null,null,null,null,null,null,null,null,null,null,null,null,null,null,null,null,null,null,null,null,null,null,null,null,null,null,null,null,null,null,null,null,null,null,null,null,null,null,null,null,null,null,null,null,null,null,null,null,null,null,null,null,null,null,null,null,null,null,null,null,null,null,null,null,null,null,null,null,null,null,null,null,null,null,null,null,null,null,null,null,null,null,null,null,null,null,null,null,null,null,null,null,null,null,null,null,null,null,null,null,null,null,null,null,null,null,null,null,null,null,null,null,null,null,null,null,null,null,null,null,null,null,null,null,null,null,null,null,null,null,null,null,null,null,null,null,null,null,null,null,null,null,null,null,null,null,null,null,null,null,null,null,null,null,null,null,null,null,null,null,null,null,null,null,null,null,null,null,null,null,null,null,null,null,null,null,null,null,null,null,null,null,null,null,null,null,null,null,null,null,null,null,null,null,null,null,null,null,null,null,null,null,null,null,null,null,0,"TRUE","OK",{"$f":"IF(JE504,VLOOKUP(MIN(JF504:JI504),'Data Validation (hidden)'!$G$30:$H$34,2,FALSE),IF(COUNTA(E504:E504)>0,\"'Scheme (Fund) Name' missing but values entered in other columns.\",\"OK\"))","v":"OK"},null,"OK",null,false,1,2,{"$f":"IF(AND(IX504>'Scheme and Member Information'!I504, E504=\"Yes\"),\"\",\"\")","v":""},4,true,true,false,true,false]
[null,{"$f":"'Scheme and Member Information'!B508","v":0},{"$f":"'Scheme and Member Information'!C508","v":0},null,null,null,null,null,null,null,null,null,null,null,null,null,null,null,null,null,null,null,null,null,null,null,null,null,null,null,null,null,null,null,null,null,null,null,null,null,null,null,null,null,null,null,null,null,null,null,null,null,null,null,null,null,null,null,null,null,null,null,null,null,null,null,null,null,null,null,null,null,null,null,null,null,null,null,null,null,null,null,null,null,null,null,null,null,null,null,null,null,null,null,null,null,null,null,null,null,null,null,null,null,null,null,null,null,null,null,null,null,null,null,null,null,null,null,null,null,null,null,null,null,null,null,null,null,null,null,null,null,null,null,null,null,null,null,null,null,null,null,null,null,null,null,null,null,null,null,null,null,null,null,null,null,null,null,null,null,null,null,null,null,null,null,null,null,null,null,null,null,null,null,null,null,null,null,null,null,null,null,null,null,null,null,null,null,null,null,null,null,null,null,null,null,null,null,null,null,null,null,null,null,null,null,null,null,null,null,null,null,null,null,null,null,null,null,null,null,null,null,null,null,null,null,null,null,null,null,null,null,null,null,null,null,null,null,null,null,null,null,null,null,null,null,null,null,null,null,null,null,null,null,null,null,null,0,"TRUE","OK",{"$f":"IF(JE508,VLOOKUP(MIN(JF508:JI508),'Data Validation (hidden)'!$G$30:$H$34,2,FALSE),IF(COUNTA(E508:E508)>0,\"'Scheme (Fund) Name' missing but values entered in other columns.\",\"OK\"))","v":"OK"},null,"OK",null,false,1,2,{"$f":"IF(AND(IX508>'Scheme and Member Information'!I508, E508=\"Yes\"),\"\",\"\")","v":""},4,true,true,false,true,false]
[null,{"$f":"'Scheme and Member Information'!B514","v":0},{"$f":"'Scheme and Member Information'!C514","v":0},null,null,null,null,null,null,null,null,null,null,null,null,null,null,null,null,null,null,null,null,null,null,null,null,null,null,null,null,null,null,null,null,null,null,null,null,null,null,null,null,null,null,null,null,null,null,null,null,null,null,null,null,null,null,null,null,null,null,null,null,null,null,null,null,null,null,null,null,null,null,null,null,null,null,null,null,null,null,null,null,null,null,null,null,null,null,null,null,null,null,null,null,null,null,null,null,null,null,null,null,null,null,null,null,null,null,null,null,null,null,null,null,null,null,null,null,null,null,null,null,null,null,null,null,null,null,null,null,null,null,null,null,null,null,null,null,null,null,null,null,null,null,null,null,null,null,null,null,null,null,null,null,null,null,null,null,null,null,null,null,null,null,null,null,null,null,null,null,null,null,null,null,null,null,null,null,null,null,null,null,null,null,null,null,null,null,null,null,null,null,null,null,null,null,null,null,null,null,null,null,null,null,null,null,null,null,null,null,null,null,null,null,null,null,null,null,null,null,null,null,null,null,null,null,null,null,null,null,null,null,null,null,null,null,null,null,null,null,null,null,null,null,null,null,null,null,null,null,null,null,null,null,null,null,0,"TRUE","OK",{"$f":"IF(JE514,VLOOKUP(MIN(JF514:JI514),'Data Validation (hidden)'!$G$30:$H$34,2,FALSE),IF(COUNTA(E514:E514)>0,\"'Scheme (Fund) Name' missing but values entered in other columns.\",\"OK\"))","v":"OK"},null,"OK",null,false,1,2,{"$f":"IF(AND(IX514>'Scheme and Member Information'!I514, E514=\"Yes\"),\"\",\"\")","v":""},4,true,true,false,true,false]
[null,{"$f":"'Scheme and Member Information'!B519","v":0},{"$f":"'Scheme and Member Information'!C519","v":0},null,null,null,null,null,null,null,null,null,null,null,null,null,null,null,null,null,null,null,null,null,null,null,null,null,null,null,null,null,null,null,null,null,null,null,null,null,null,null,null,null,null,null,null,null,null,null,null,null,null,null,null,null,null,null,null,null,null,null,null,null,null,null,null,null,null,null,null,null,null,null,null,null,null,null,null,null,null,null,null,null,null,null,null,null,null,null,null,null,null,null,null,null,null,null,null,null,null,null,null,null,null,null,null,null,null,null,null,null,null,null,null,null,null,null,null,null,null,null,null,null,null,null,null,null,null,null,null,null,null,null,null,null,null,null,null,null,null,null,null,null,null,null,null,null,null,null,null,null,null,null,null,null,null,null,null,null,null,null,null,null,null,null,null,null,null,null,null,null,null,null,null,null,null,null,null,null,null,null,null,null,null,null,null,null,null,null,null,null,null,null,null,null,null,null,null,null,null,null,null,null,null,null,null,null,null,null,null,null,null,null,null,null,null,null,null,null,null,null,null,null,null,null,null,null,null,null,null,null,null,null,null,null,null,null,null,null,null,null,null,null,null,null,null,null,null,null,null,null,null,null,null,null,null,0,"TRUE","OK",{"$f":"IF(JE519,VLOOKUP(MIN(JF519:JI519),'Data Validation (hidden)'!$G$30:$H$34,2,FALSE),IF(COUNTA(E519:E519)>0,\"'Scheme (Fund) Name' missing but values entered in other columns.\",\"OK\"))","v":"OK"},null,"OK",null,false,1,2,{"$f":"IF(AND(IX519>'Scheme and Member Information'!I519, E519=\"Yes\"),\"\",\"\")","v":""},4,true,true,false,true,false]
[null,{"$f":"'Scheme and Member Information'!B524","v":0},{"$f":"'Scheme and Member Information'!C524","v":0},null,null,null,null,null,null,null,null,null,null,null,null,null,null,null,null,null,null,null,null,null,null,null,null,null,null,null,null,null,null,null,null,null,null,null,null,null,null,null,null,null,null,null,null,null,null,null,null,null,null,null,null,null,null,null,null,null,null,null,null,null,null,null,null,null,null,null,null,null,null,null,null,null,null,null,null,null,null,null,null,null,null,null,null,null,null,null,null,null,null,null,null,null,null,null,null,null,null,null,null,null,null,null,null,null,null,null,null,null,null,null,null,null,null,null,null,null,null,null,null,null,null,null,null,null,null,null,null,null,null,null,null,null,null,null,null,null,null,null,null,null,null,null,null,null,null,null,null,null,null,null,null,null,null,null,null,null,null,null,null,null,null,null,null,null,null,null,null,null,null,null,null,null,null,null,null,null,null,null,null,null,null,null,null,null,null,null,null,null,null,null,null,null,null,null,null,null,null,null,null,null,null,null,null,null,null,null,null,null,null,null,null,null,null,null,null,null,null,null,null,null,null,null,null,null,null,null,null,null,null,null,null,null,null,null,null,null,null,null,null,null,null,null,null,null,null,null,null,null,null,null,null,null,null,0,"TRUE","OK",{"$f":"IF(JE524,VLOOKUP(MIN(JF524:JI524),'Data Validation (hidden)'!$G$30:$H$34,2,FALSE),IF(COUNTA(E524:E524)>0,\"'Scheme (Fund) Name' missing but values entered in other columns.\",\"OK\"))","v":"OK"},null,"OK",null,false,1,2,{"$f":"IF(AND(IX524>'Scheme and Member Information'!I524, E524=\"Yes\"),\"\",\"\")","v":""},4,true,true,false,true,false]
[null,{"$f":"'Scheme and Member Information'!B526","v":0},{"$f":"'Scheme and Member Information'!C526","v":0},null,null,null,null,null,null,null,null,null,null,null,null,null,null,null,null,null,null,null,null,null,null,null,null,null,null,null,null,null,null,null,null,null,null,null,null,null,null,null,null,null,null,null,null,null,null,null,null,null,null,null,null,null,null,null,null,null,null,null,null,null,null,null,null,null,null,null,null,null,null,null,null,null,null,null,null,null,null,null,null,null,null,null,null,null,null,null,null,null,null,null,null,null,null,null,null,null,null,null,null,null,null,null,null,null,null,null,null,null,null,null,null,null,null,null,null,null,null,null,null,null,null,null,null,null,null,null,null,null,null,null,null,null,null,null,null,null,null,null,null,null,null,null,null,null,null,null,null,null,null,null,null,null,null,null,null,null,null,null,null,null,null,null,null,null,null,null,null,null,null,null,null,null,null,null,null,null,null,null,null,null,null,null,null,null,null,null,null,null,null,null,null,null,null,null,null,null,null,null,null,null,null,null,null,null,null,null,null,null,null,null,null,null,null,null,null,null,null,null,null,null,null,null,null,null,null,null,null,null,null,null,null,null,null,null,null,null,null,null,null,null,null,null,null,null,null,null,null,null,null,null,null,null,null,0,"TRUE","OK",{"$f":"IF(JE526,VLOOKUP(MIN(JF526:JI526),'Data Validation (hidden)'!$G$30:$H$34,2,FALSE),IF(COUNTA(E526:E526)>0,\"'Scheme (Fund) Name' missing but values entered in other columns.\",\"OK\"))","v":"OK"},null,"OK",null,false,1,2,{"$f":"IF(AND(IX526>'Scheme and Member Information'!I526, E526=\"Yes\"),\"\",\"\")","v":""},4,true,true,false,true,false]
[null,{"$f":"'Scheme and Member Information'!B533","v":0},{"$f":"'Scheme and Member Information'!C533","v":0},null,null,null,null,null,null,null,null,null,null,null,null,null,null,null,null,null,null,null,null,null,null,null,null,null,null,null,null,null,null,null,null,null,null,null,null,null,null,null,null,null,null,null,null,null,null,null,null,null,null,null,null,null,null,null,null,null,null,null,null,null,null,null,null,null,null,null,null,null,null,null,null,null,null,null,null,null,null,null,null,null,null,null,null,null,null,null,null,null,null,null,null,null,null,null,null,null,null,null,null,null,null,null,null,null,null,null,null,null,null,null,null,null,null,null,null,null,null,null,null,null,null,null,null,null,null,null,null,null,null,null,null,null,null,null,null,null,null,null,null,null,null,null,null,null,null,null,null,null,null,null,null,null,null,null,null,null,null,null,null,null,null,null,null,null,null,null,null,null,null,null,null,null,null,null,null,null,null,null,null,null,null,null,null,null,null,null,null,null,null,null,null,null,null,null,null,null,null,null,null,null,null,null,null,null,null,null,null,null,null,null,null,null,null,null,null,null,null,null,null,null,null,null,null,null,null,null,null,null,null,null,null,null,null,null,null,null,null,null,null,null,null,null,null,null,null,null,null,null,null,null,null,null,null,0,"TRUE","OK",{"$f":"IF(JE533,VLOOKUP(MIN(JF533:JI533),'Data Validation (hidden)'!$G$30:$H$34,2,FALSE),IF(COUNTA(E533:E533)>0,\"'Scheme (Fund) Name' missing but values entered in other columns.\",\"OK\"))","v":"OK"},null,"OK",null,false,1,2,{"$f":"IF(AND(IX533>'Scheme and Member Information'!I533, E533=\"Yes\"),\"\",\"\")","v":""},4,true,true,false,true,false]
[null,{"$f":"'Scheme and Member Information'!B537","v":0},{"$f":"'Scheme and Member Information'!C537","v":0},null,null,null,null,null,null,null,null,null,null,null,null,null,null,null,null,null,null,null,null,null,null,null,null,null,null,null,null,null,null,null,null,null,null,null,null,null,null,null,null,null,null,null,null,null,null,null,null,null,null,null,null,null,null,null,null,null,null,null,null,null,null,null,null,null,null,null,null,null,null,null,null,null,null,null,null,null,null,null,null,null,null,null,null,null,null,null,null,null,null,null,null,null,null,null,null,null,null,null,null,null,null,null,null,null,null,null,null,null,null,null,null,null,null,null,null,null,null,null,null,null,null,null,null,null,null,null,null,null,null,null,null,null,null,null,null,null,null,null,null,null,null,null,null,null,null,null,null,null,null,null,null,null,null,null,null,null,null,null,null,null,null,null,null,null,null,null,null,null,null,null,null,null,null,null,null,null,null,null,null,null,null,null,null,null,null,null,null,null,null,null,null,null,null,null,null,null,null,null,null,null,null,null,null,null,null,null,null,null,null,null,null,null,null,null,null,null,null,null,null,null,null,null,null,null,null,null,null,null,null,null,null,null,null,null,null,null,null,null,null,null,null,null,null,null,null,null,null,null,null,null,null,null,null,0,"TRUE","OK",{"$f":"IF(JE537,VLOOKUP(MIN(JF537:JI537),'Data Validation (hidden)'!$G$30:$H$34,2,FALSE),IF(COUNTA(E537:E537)>0,\"'Scheme (Fund) Name' missing but values entered in other columns.\",\"OK\"))","v":"OK"},null,"OK",null,false,1,2,{"$f":"IF(AND(IX537>'Scheme and Member Information'!I537, E537=\"Yes\"),\"\",\"\")","v":""},4,true,true,false,true,false]
[null,{"$f":"'Scheme and Member Information'!B538","v":0},{"$f":"'Scheme and Member Information'!C538","v":0},null,null,null,null,null,null,null,null,null,null,null,null,null,null,null,null,null,null,null,null,null,null,null,null,null,null,null,null,null,null,null,null,null,null,null,null,null,null,null,null,null,null,null,null,null,null,null,null,null,null,null,null,null,null,null,null,null,null,null,null,null,null,null,null,null,null,null,null,null,null,null,null,null,null,null,null,null,null,null,null,null,null,null,null,null,null,null,null,null,null,null,null,null,null,null,null,null,null,null,null,null,null,null,null,null,null,null,null,null,null,null,null,null,null,null,null,null,null,null,null,null,null,null,null,null,null,null,null,null,null,null,null,null,null,null,null,null,null,null,null,null,null,null,null,null,null,null,null,null,null,null,null,null,null,null,null,null,null,null,null,null,null,null,null,null,null,null,null,null,null,null,null,null,null,null,null,null,null,null,null,null,null,null,null,null,null,null,null,null,null,null,null,null,null,null,null,null,null,null,null,null,null,null,null,null,null,null,null,null,null,null,null,null,null,null,null,null,null,null,null,null,null,null,null,null,null,null,null,null,null,null,null,null,null,null,null,null,null,null,null,null,null,null,null,null,null,null,null,null,null,null,null,null,null,0,"TRUE","OK",{"$f":"IF(JE538,VLOOKUP(MIN(JF538:JI538),'Data Validation (hidden)'!$G$30:$H$34,2,FALSE),IF(COUNTA(E538:E538)>0,\"'Scheme (Fund) Name' missing but values entered in other columns.\",\"OK\"))","v":"OK"},null,"OK",null,false,1,2,{"$f":"IF(AND(IX538>'Scheme and Member Information'!I538, E538=\"Yes\"),\"\",\"\")","v":""},4,true,true,false,true,false]
[null,{"$f":"'Scheme and Member Information'!B544","v":0},{"$f":"'Scheme and Member Information'!C544","v":0},null,null,null,null,null,null,null,null,null,null,null,null,null,null,null,null,null,null,null,null,null,null,null,null,null,null,null,null,null,null,null,null,null,null,null,null,null,null,null,null,null,null,null,null,null,null,null,null,null,null,null,null,null,null,null,null,null,null,null,null,null,null,null,null,null,null,null,null,null,null,null,null,null,null,null,null,null,null,null,null,null,null,null,null,null,null,null,null,null,null,null,null,null,null,null,null,null,null,null,null,null,null,null,null,null,null,null,null,null,null,null,null,null,null,null,null,null,null,null,null,null,null,null,null,null,null,null,null,null,null,null,null,null,null,null,null,null,null,null,null,null,null,null,null,null,null,null,null,null,null,null,null,null,null,null,null,null,null,null,null,null,null,null,null,null,null,null,null,null,null,null,null,null,null,null,null,null,null,null,null,null,null,null,null,null,null,null,null,null,null,null,null,null,null,null,null,null,null,null,null,null,null,null,null,null,null,null,null,null,null,null,null,null,null,null,null,null,null,null,null,null,null,null,null,null,null,null,null,null,null,null,null,null,null,null,null,null,null,null,null,null,null,null,null,null,null,null,null,null,null,null,null,null,null,0,"TRUE","OK",{"$f":"IF(JE544,VLOOKUP(MIN(JF544:JI544),'Data Validation (hidden)'!$G$30:$H$34,2,FALSE),IF(COUNTA(E544:E544)>0,\"'Scheme (Fund) Name' missing but values entered in other columns.\",\"OK\"))","v":"OK"},null,"OK",null,false,1,2,{"$f":"IF(AND(IX544>'Scheme and Member Information'!I544, E544=\"Yes\"),\"\",\"\")","v":""},4,true,true,false,true,false]
[null,{"$f":"'Scheme and Member Information'!B548","v":0},{"$f":"'Scheme and Member Information'!C548","v":0},null,null,null,null,null,null,null,null,null,null,null,null,null,null,null,null,null,null,null,null,null,null,null,null,null,null,null,null,null,null,null,null,null,null,null,null,null,null,null,null,null,null,null,null,null,null,null,null,null,null,null,null,null,null,null,null,null,null,null,null,null,null,null,null,null,null,null,null,null,null,null,null,null,null,null,null,null,null,null,null,null,null,null,null,null,null,null,null,null,null,null,null,null,null,null,null,null,null,null,null,null,null,null,null,null,null,null,null,null,null,null,null,null,null,null,null,null,null,null,null,null,null,null,null,null,null,null,null,null,null,null,null,null,null,null,null,null,null,null,null,null,null,null,null,null,null,null,null,null,null,null,null,null,null,null,null,null,null,null,null,null,null,null,null,null,null,null,null,null,null,null,null,null,null,null,null,null,null,null,null,null,null,null,null,null,null,null,null,null,null,null,null,null,null,null,null,null,null,null,null,null,null,null,null,null,null,null,null,null,null,null,null,null,null,null,null,null,null,null,null,null,null,null,null,null,null,null,null,null,null,null,null,null,null,null,null,null,null,null,null,null,null,null,null,null,null,null,null,null,null,null,null,null,null,0,"TRUE","OK",{"$f":"IF(JE548,VLOOKUP(MIN(JF548:JI548),'Data Validation (hidden)'!$G$30:$H$34,2,FALSE),IF(COUNTA(E548:E548)>0,\"'Scheme (Fund) Name' missing but values entered in other columns.\",\"OK\"))","v":"OK"},null,"OK",null,false,1,2,{"$f":"IF(AND(IX548>'Scheme and Member Information'!I548, E548=\"Yes\"),\"\",\"\")","v":""},4,true,true,false,true,false]
[null,{"$f":"'Scheme and Member Information'!B555","v":0},{"$f":"'Scheme and Member Information'!C555","v":0},null,null,null,null,null,null,null,null,null,null,null,null,null,null,null,null,null,null,null,null,null,null,null,null,null,null,null,null,null,null,null,null,null,null,null,null,null,null,null,null,null,null,null,null,null,null,null,null,null,null,null,null,null,null,null,null,null,null,null,null,null,null,null,null,null,null,null,null,null,null,null,null,null,null,null,null,null,null,null,null,null,null,null,null,null,null,null,null,null,null,null,null,null,null,null,null,null,null,null,null,null,null,null,null,null,null,null,null,null,null,null,null,null,null,null,null,null,null,null,null,null,null,null,null,null,null,null,null,null,null,null,null,null,null,null,null,null,null,null,null,null,null,null,null,null,null,null,null,null,null,null,null,null,null,null,null,null,null,null,null,null,null,null,null,null,null,null,null,null,null,null,null,null,null,null,null,null,null,null,null,null,null,null,null,null,null,null,null,null,null,null,null,null,null,null,null,null,null,null,null,null,null,null,null,null,null,null,null,null,null,null,null,null,null,null,null,null,null,null,null,null,null,null,null,null,null,null,null,null,null,null,null,null,null,null,null,null,null,null,null,null,null,null,null,null,null,null,null,null,null,null,null,null,null,0,"TRUE","OK",{"$f":"IF(JE555,VLOOKUP(MIN(JF555:JI555),'Data Validation (hidden)'!$G$30:$H$34,2,FALSE),IF(COUNTA(E555:E555)>0,\"'Scheme (Fund) Name' missing but values entered in other columns.\",\"OK\"))","v":"OK"},null,"OK",null,false,1,2,{"$f":"IF(AND(IX555>'Scheme and Member Information'!I555, E555=\"Yes\"),\"\",\"\")","v":""},4,true,true,false,true,false]
[null,{"$f":"'Scheme and Member Information'!B558","v":0},{"$f":"'Scheme and Member Information'!C558","v":0},null,null,null,null,null,null,null,null,null,null,null,null,null,null,null,null,null,null,null,null,null,null,null,null,null,null,null,null,null,null,null,null,null,null,null,null,null,null,null,null,null,null,null,null,null,null,null,null,null,null,null,null,null,null,null,null,null,null,null,null,null,null,null,null,null,null,null,null,null,null,null,null,null,null,null,null,null,null,null,null,null,null,null,null,null,null,null,null,null,null,null,null,null,null,null,null,null,null,null,null,null,null,null,null,null,null,null,null,null,null,null,null,null,null,null,null,null,null,null,null,null,null,null,null,null,null,null,null,null,null,null,null,null,null,null,null,null,null,null,null,null,null,null,null,null,null,null,null,null,null,null,null,null,null,null,null,null,null,null,null,null,null,null,null,null,null,null,null,null,null,null,null,null,null,null,null,null,null,null,null,null,null,null,null,null,null,null,null,null,null,null,null,null,null,null,null,null,null,null,null,null,null,null,null,null,null,null,null,null,null,null,null,null,null,null,null,null,null,null,null,null,null,null,null,null,null,null,null,null,null,null,null,null,null,null,null,null,null,null,null,null,null,null,null,null,null,null,null,null,null,null,null,null,null,0,"TRUE","OK",{"$f":"IF(JE558,VLOOKUP(MIN(JF558:JI558),'Data Validation (hidden)'!$G$30:$H$34,2,FALSE),IF(COUNTA(E558:E558)>0,\"'Scheme (Fund) Name' missing but values entered in other columns.\",\"OK\"))","v":"OK"},null,"OK",null,false,1,2,{"$f":"IF(AND(IX558>'Scheme and Member Information'!I558, E558=\"Yes\"),\"\",\"\")","v":""},4,true,true,false,true,false]
[null,{"$f":"'Scheme and Member Information'!B562","v":0},{"$f":"'Scheme and Member Information'!C562","v":0},null,null,null,null,null,null,null,null,null,null,null,null,null,null,null,null,null,null,null,null,null,null,null,null,null,null,null,null,null,null,null,null,null,null,null,null,null,null,null,null,null,null,null,null,null,null,null,null,null,null,null,null,null,null,null,null,null,null,null,null,null,null,null,null,null,null,null,null,null,null,null,null,null,null,null,null,null,null,null,null,null,null,null,null,null,null,null,null,null,null,null,null,null,null,null,null,null,null,null,null,null,null,null,null,null,null,null,null,null,null,null,null,null,null,null,null,null,null,null,null,null,null,null,null,null,null,null,null,null,null,null,null,null,null,null,null,null,null,null,null,null,null,null,null,null,null,null,null,null,null,null,null,null,null,null,null,null,null,null,null,null,null,null,null,null,null,null,null,null,null,null,null,null,null,null,null,null,null,null,null,null,null,null,null,null,null,null,null,null,null,null,null,null,null,null,null,null,null,null,null,null,null,null,null,null,null,null,null,null,null,null,null,null,null,null,null,null,null,null,null,null,null,null,null,null,null,null,null,null,null,null,null,null,null,null,null,null,null,null,null,null,null,null,null,null,null,null,null,null,null,null,null,null,null,0,"TRUE","OK",{"$f":"IF(JE562,VLOOKUP(MIN(JF562:JI562),'Data Validation (hidden)'!$G$30:$H$34,2,FALSE),IF(COUNTA(E562:E562)>0,\"'Scheme (Fund) Name' missing but values entered in other columns.\",\"OK\"))","v":"OK"},null,"OK",null,false,1,2,{"$f":"IF(AND(IX562>'Scheme and Member Information'!I562, E562=\"Yes\"),\"\",\"\")","v":""},4,true,true,false,true,false]
[null,{"$f":"'Scheme and Member Information'!B568","v":0},{"$f":"'Scheme and Member Information'!C568","v":0},null,null,null,null,null,null,null,null,null,null,null,null,null,null,null,null,null,null,null,null,null,null,null,null,null,null,null,null,null,null,null,null,null,null,null,null,null,null,null,null,null,null,null,null,null,null,null,null,null,null,null,null,null,null,null,null,null,null,null,null,null,null,null,null,null,null,null,null,null,null,null,null,null,null,null,null,null,null,null,null,null,null,null,null,null,null,null,null,null,null,null,null,null,null,null,null,null,null,null,null,null,null,null,null,null,null,null,null,null,null,null,null,null,null,null,null,null,null,null,null,null,null,null,null,null,null,null,null,null,null,null,null,null,null,null,null,null,null,null,null,null,null,null,null,null,null,null,null,null,null,null,null,null,null,null,null,null,null,null,null,null,null,null,null,null,null,null,null,null,null,null,null,null,null,null,null,null,null,null,null,null,null,null,null,null,null,null,null,null,null,null,null,null,null,null,null,null,null,null,null,null,null,null,null,null,null,null,null,null,null,null,null,null,null,null,null,null,null,null,null,null,null,null,null,null,null,null,null,null,null,null,null,null,null,null,null,null,null,null,null,null,null,null,null,null,null,null,null,null,null,null,null,null,null,0,"TRUE","OK",{"$f":"IF(JE568,VLOOKUP(MIN(JF568:JI568),'Data Validation (hidden)'!$G$30:$H$34,2,FALSE),IF(COUNTA(E568:E568)>0,\"'Scheme (Fund) Name' missing but values entered in other columns.\",\"OK\"))","v":"OK"},null,"OK",null,false,1,2,{"$f":"IF(AND(IX568>'Scheme and Member Information'!I568, E568=\"Yes\"),\"\",\"\")","v":""},4,true,true,false,true,false]
[null,{"$f":"'Scheme and Member Information'!B573","v":0},{"$f":"'Scheme and Member Information'!C573","v":0},null,null,null,null,null,null,null,null,null,null,null,null,null,null,null,null,null,null,null,null,null,null,null,null,null,null,null,null,null,null,null,null,null,null,null,null,null,null,null,null,null,null,null,null,null,null,null,null,null,null,null,null,null,null,null,null,null,null,null,null,null,null,null,null,null,null,null,null,null,null,null,null,null,null,null,null,null,null,null,null,null,null,null,null,null,null,null,null,null,null,null,null,null,null,null,null,null,null,null,null,null,null,null,null,null,null,null,null,null,null,null,null,null,null,null,null,null,null,null,null,null,null,null,null,null,null,null,null,null,null,null,null,null,null,null,null,null,null,null,null,null,null,null,null,null,null,null,null,null,null,null,null,null,null,null,null,null,null,null,null,null,null,null,null,null,null,null,null,null,null,null,null,null,null,null,null,null,null,null,null,null,null,null,null,null,null,null,null,null,null,null,null,null,null,null,null,null,null,null,null,null,null,null,null,null,null,null,null,null,null,null,null,null,null,null,null,null,null,null,null,null,null,null,null,null,null,null,null,null,null,null,null,null,null,null,null,null,null,null,null,null,null,null,null,null,null,null,null,null,null,null,null,null,null,0,"TRUE","OK",{"$f":"IF(JE573,VLOOKUP(MIN(JF573:JI573),'Data Validation (hidden)'!$G$30:$H$34,2,FALSE),IF(COUNTA(E573:E573)>0,\"'Scheme (Fund) Name' missing but values entered in other columns.\",\"OK\"))","v":"OK"},null,"OK",null,false,1,2,{"$f":"IF(AND(IX573>'Scheme and Member Information'!I573, E573=\"Yes\"),\"\",\"\")","v":""},4,true,true,false,true,false]
[null,{"$f":"'Scheme and Member Information'!B575","v":0},{"$f":"'Scheme and Member Information'!C575","v":0},null,null,null,null,null,null,null,null,null,null,null,null,null,null,null,null,null,null,null,null,null,null,null,null,null,null,null,null,null,null,null,null,null,null,null,null,null,null,null,null,null,null,null,null,null,null,null,null,null,null,null,null,null,null,null,null,null,null,null,null,null,null,null,null,null,null,null,null,null,null,null,null,null,null,null,null,null,null,null,null,null,null,null,null,null,null,null,null,null,null,null,null,null,null,null,null,null,null,null,null,null,null,null,null,null,null,null,null,null,null,null,null,null,null,null,null,null,null,null,null,null,null,null,null,null,null,null,null,null,null,null,null,null,null,null,null,null,null,null,null,null,null,null,null,null,null,null,null,null,null,null,null,null,null,null,null,null,null,null,null,null,null,null,null,null,null,null,null,null,null,null,null,null,null,null,null,null,null,null,null,null,null,null,null,null,null,null,null,null,null,null,null,null,null,null,null,null,null,null,null,null,null,null,null,null,null,null,null,null,null,null,null,null,null,null,null,null,null,null,null,null,null,null,null,null,null,null,null,null,null,null,null,null,null,null,null,null,null,null,null,null,null,null,null,null,null,null,null,null,null,null,null,null,null,0,"TRUE","OK",{"$f":"IF(JE575,VLOOKUP(MIN(JF575:JI575),'Data Validation (hidden)'!$G$30:$H$34,2,FALSE),IF(COUNTA(E575:E575)>0,\"'Scheme (Fund) Name' missing but values entered in other columns.\",\"OK\"))","v":"OK"},null,"OK",null,false,1,2,{"$f":"IF(AND(IX575>'Scheme and Member Information'!I575, E575=\"Yes\"),\"\",\"\")","v":""},4,true,true,false,true,false]
[null,{"$f":"'Scheme and Member Information'!B583","v":0},{"$f":"'Scheme and Member Information'!C583","v":0},null,null,null,null,null,null,null,null,null,null,null,null,null,null,null,null,null,null,null,null,null,null,null,null,null,null,null,null,null,null,null,null,null,null,null,null,null,null,null,null,null,null,null,null,null,null,null,null,null,null,null,null,null,null,null,null,null,null,null,null,null,null,null,null,null,null,null,null,null,null,null,null,null,null,null,null,null,null,null,null,null,null,null,null,null,null,null,null,null,null,null,null,null,null,null,null,null,null,null,null,null,null,null,null,null,null,null,null,null,null,null,null,null,null,null,null,null,null,null,null,null,null,null,null,null,null,null,null,null,null,null,null,null,null,null,null,null,null,null,null,null,null,null,null,null,null,null,null,null,null,null,null,null,null,null,null,null,null,null,null,null,null,null,null,null,null,null,null,null,null,null,null,null,null,null,null,null,null,null,null,null,null,null,null,null,null,null,null,null,null,null,null,null,null,null,null,null,null,null,null,null,null,null,null,null,null,null,null,null,null,null,null,null,null,null,null,null,null,null,null,null,null,null,null,null,null,null,null,null,null,null,null,null,null,null,null,null,null,null,null,null,null,null,null,null,null,null,null,null,null,null,null,null,null,0,"TRUE","OK",{"$f":"IF(JE583,VLOOKUP(MIN(JF583:JI583),'Data Validation (hidden)'!$G$30:$H$34,2,FALSE),IF(COUNTA(E583:E583)>0,\"'Scheme (Fund) Name' missing but values entered in other columns.\",\"OK\"))","v":"OK"},null,"OK",null,false,1,2,{"$f":"IF(AND(IX583>'Scheme and Member Information'!I583, E583=\"Yes\"),\"\",\"\")","v":""},4,true,true,false,true,false]
[null,{"$f":"'Scheme and Member Information'!B586","v":0},{"$f":"'Scheme and Member Information'!C586","v":0},null,null,null,null,null,null,null,null,null,null,null,null,null,null,null,null,null,null,null,null,null,null,null,null,null,null,null,null,null,null,null,null,null,null,null,null,null,null,null,null,null,null,null,null,null,null,null,null,null,null,null,null,null,null,null,null,null,null,null,null,null,null,null,null,null,null,null,null,null,null,null,null,null,null,null,null,null,null,null,null,null,null,null,null,null,null,null,null,null,null,null,null,null,null,null,null,null,null,null,null,null,null,null,null,null,null,null,null,null,null,null,null,null,null,null,null,null,null,null,null,null,null,null,null,null,null,null,null,null,null,null,null,null,null,null,null,null,null,null,null,null,null,null,null,null,null,null,null,null,null,null,null,null,null,null,null,null,null,null,null,null,null,null,null,null,null,null,null,null,null,null,null,null,null,null,null,null,null,null,null,null,null,null,null,null,null,null,null,null,null,null,null,null,null,null,null,null,null,null,null,null,null,null,null,null,null,null,null,null,null,null,null,null,null,null,null,null,null,null,null,null,null,null,null,null,null,null,null,null,null,null,null,null,null,null,null,null,null,null,null,null,null,null,null,null,null,null,null,null,null,null,null,null,null,0,"TRUE","OK",{"$f":"IF(JE586,VLOOKUP(MIN(JF586:JI586),'Data Validation (hidden)'!$G$30:$H$34,2,FALSE),IF(COUNTA(E586:E586)>0,\"'Scheme (Fund) Name' missing but values entered in other columns.\",\"OK\"))","v":"OK"},null,"OK",null,false,1,2,{"$f":"IF(AND(IX586>'Scheme and Member Information'!I586, E586=\"Yes\"),\"\",\"\")","v":""},4,true,true,false,true,false]
[null,{"$f":"'Scheme and Member Information'!B592","v":0},{"$f":"'Scheme and Member Information'!C592","v":0},null,null,null,null,null,null,null,null,null,null,null,null,null,null,null,null,null,null,null,null,null,null,null,null,null,null,null,null,null,null,null,null,null,null,null,null,null,null,null,null,null,null,null,null,null,null,null,null,null,null,null,null,null,null,null,null,null,null,null,null,null,null,null,null,null,null,null,null,null,null,null,null,null,null,null,null,null,null,null,null,null,null,null,null,null,null,null,null,null,null,null,null,null,null,null,null,null,null,null,null,null,null,null,null,null,null,null,null,null,null,null,null,null,null,null,null,null,null,null,null,null,null,null,null,null,null,null,null,null,null,null,null,null,null,null,null,null,null,null,null,null,null,null,null,null,null,null,null,null,null,null,null,null,null,null,null,null,null,null,null,null,null,null,null,null,null,null,null,null,null,null,null,null,null,null,null,null,null,null,null,null,null,null,null,null,null,null,null,null,null,null,null,null,null,null,null,null,null,null,null,null,null,null,null,null,null,null,null,null,null,null,null,null,null,null,null,null,null,null,null,null,null,null,null,null,null,null,null,null,null,null,null,null,null,null,null,null,null,null,null,null,null,null,null,null,null,null,null,null,null,null,null,null,null,0,"TRUE","OK",{"$f":"IF(JE592,VLOOKUP(MIN(JF592:JI592),'Data Validation (hidden)'!$G$30:$H$34,2,FALSE),IF(COUNTA(E592:E592)>0,\"'Scheme (Fund) Name' missing but values entered in other columns.\",\"OK\"))","v":"OK"},null,"OK",null,false,1,2,{"$f":"IF(AND(IX592>'Scheme and Member Information'!I592, E592=\"Yes\"),\"\",\"\")","v":""},4,true,true,false,true,false]
[null,{"$f":"'Scheme and Member Information'!B593","v":0},{"$f":"'Scheme and Member Information'!C593","v":0},null,null,null,null,null,null,null,null,null,null,null,null,null,null,null,null,null,null,null,null,null,null,null,null,null,null,null,null,null,null,null,null,null,null,null,null,null,null,null,null,null,null,null,null,null,null,null,null,null,null,null,null,null,null,null,null,null,null,null,null,null,null,null,null,null,null,null,null,null,null,null,null,null,null,null,null,null,null,null,null,null,null,null,null,null,null,null,null,null,null,null,null,null,null,null,null,null,null,null,null,null,null,null,null,null,null,null,null,null,null,null,null,null,null,null,null,null,null,null,null,null,null,null,null,null,null,null,null,null,null,null,null,null,null,null,null,null,null,null,null,null,null,null,null,null,null,null,null,null,null,null,null,null,null,null,null,null,null,null,null,null,null,null,null,null,null,null,null,null,null,null,null,null,null,null,null,null,null,null,null,null,null,null,null,null,null,null,null,null,null,null,null,null,null,null,null,null,null,null,null,null,null,null,null,null,null,null,null,null,null,null,null,null,null,null,null,null,null,null,null,null,null,null,null,null,null,null,null,null,null,null,null,null,null,null,null,null,null,null,null,null,null,null,null,null,null,null,null,null,null,null,null,null,null,0,"TRUE","OK",{"$f":"IF(JE593,VLOOKUP(MIN(JF593:JI593),'Data Validation (hidden)'!$G$30:$H$34,2,FALSE),IF(COUNTA(E593:E593)>0,\"'Scheme (Fund) Name' missing but values entered in other columns.\",\"OK\"))","v":"OK"},null,"OK",null,false,1,2,{"$f":"IF(AND(IX593>'Scheme and Member Information'!I593, E593=\"Yes\"),\"\",\"\")","v":""},4,true,true,false,true,false]
[null,{"$f":"'Scheme and Member Information'!B597","v":0},{"$f":"'Scheme and Member Information'!C597","v":0},null,null,null,null,null,null,null,null,null,null,null,null,null,null,null,null,null,null,null,null,null,null,null,null,null,null,null,null,null,null,null,null,null,null,null,null,null,null,null,null,null,null,null,null,null,null,null,null,null,null,null,null,null,null,null,null,null,null,null,null,null,null,null,null,null,null,null,null,null,null,null,null,null,null,null,null,null,null,null,null,null,null,null,null,null,null,null,null,null,null,null,null,null,null,null,null,null,null,null,null,null,null,null,null,null,null,null,null,null,null,null,null,null,null,null,null,null,null,null,null,null,null,null,null,null,null,null,null,null,null,null,null,null,null,null,null,null,null,null,null,null,null,null,null,null,null,null,null,null,null,null,null,null,null,null,null,null,null,null,null,null,null,null,null,null,null,null,null,null,null,null,null,null,null,null,null,null,null,null,null,null,null,null,null,null,null,null,null,null,null,null,null,null,null,null,null,null,null,null,null,null,null,null,null,null,null,null,null,null,null,null,null,null,null,null,null,null,null,null,null,null,null,null,null,null,null,null,null,null,null,null,null,null,null,null,null,null,null,null,null,null,null,null,null,null,null,null,null,null,null,null,null,null,null,0,"TRUE","OK",{"$f":"IF(JE597,VLOOKUP(MIN(JF597:JI597),'Data Validation (hidden)'!$G$30:$H$34,2,FALSE),IF(COUNTA(E597:E597)>0,\"'Scheme (Fund) Name' missing but values entered in other columns.\",\"OK\"))","v":"OK"},null,"OK",null,false,1,2,{"$f":"IF(AND(IX597>'Scheme and Member Information'!I597, E597=\"Yes\"),\"\",\"\")","v":""},4,true,true,false,true,false]
[null,{"$f":"'Scheme and Member Information'!B604","v":0},{"$f":"'Scheme and Member Information'!C604","v":0},null,null,null,null,null,null,null,null,null,null,null,null,null,null,null,null,null,null,null,null,null,null,null,null,null,null,null,null,null,null,null,null,null,null,null,null,null,null,null,null,null,null,null,null,null,null,null,null,null,null,null,null,null,null,null,null,null,null,null,null,null,null,null,null,null,null,null,null,null,null,null,null,null,null,null,null,null,null,null,null,null,null,null,null,null,null,null,null,null,null,null,null,null,null,null,null,null,null,null,null,null,null,null,null,null,null,null,null,null,null,null,null,null,null,null,null,null,null,null,null,null,null,null,null,null,null,null,null,null,null,null,null,null,null,null,null,null,null,null,null,null,null,null,null,null,null,null,null,null,null,null,null,null,null,null,null,null,null,null,null,null,null,null,null,null,null,null,null,null,null,null,null,null,null,null,null,null,null,null,null,null,null,null,null,null,null,null,null,null,null,null,null,null,null,null,null,null,null,null,null,null,null,null,null,null,null,null,null,null,null,null,null,null,null,null,null,null,null,null,null,null,null,null,null,null,null,null,null,null,null,null,null,null,null,null,null,null,null,null,null,null,null,null,null,null,null,null,null,null,null,null,null,null,null,0,"TRUE","OK",{"$f":"IF(JE604,VLOOKUP(MIN(JF604:JI604),'Data Validation (hidden)'!$G$30:$H$34,2,FALSE),IF(COUNTA(E604:E604)>0,\"'Scheme (Fund) Name' missing but values entered in other columns.\",\"OK\"))","v":"OK"},null,"OK",null,false,1,2,{"$f":"IF(AND(IX604>'Scheme and Member Information'!I604, E604=\"Yes\"),\"\",\"\")","v":""},4,true,true,false,true,false]
[null,{"$f":"'Scheme and Member Information'!B607","v":0},{"$f":"'Scheme and Member Information'!C607","v":0},null,null,null,null,null,null,null,null,null,null,null,null,null,null,null,null,null,null,null,null,null,null,null,null,null,null,null,null,null,null,null,null,null,null,null,null,null,null,null,null,null,null,null,null,null,null,null,null,null,null,null,null,null,null,null,null,null,null,null,null,null,null,null,null,null,null,null,null,null,null,null,null,null,null,null,null,null,null,null,null,null,null,null,null,null,null,null,null,null,null,null,null,null,null,null,null,null,null,null,null,null,null,null,null,null,null,null,null,null,null,null,null,null,null,null,null,null,null,null,null,null,null,null,null,null,null,null,null,null,null,null,null,null,null,null,null,null,null,null,null,null,null,null,null,null,null,null,null,null,null,null,null,null,null,null,null,null,null,null,null,null,null,null,null,null,null,null,null,null,null,null,null,null,null,null,null,null,null,null,null,null,null,null,null,null,null,null,null,null,null,null,null,null,null,null,null,null,null,null,null,null,null,null,null,null,null,null,null,null,null,null,null,null,null,null,null,null,null,null,null,null,null,null,null,null,null,null,null,null,null,null,null,null,null,null,null,null,null,null,null,null,null,null,null,null,null,null,null,null,null,null,null,null,null,0,"TRUE","OK",{"$f":"IF(JE607,VLOOKUP(MIN(JF607:JI607),'Data Validation (hidden)'!$G$30:$H$34,2,FALSE),IF(COUNTA(E607:E607)>0,\"'Scheme (Fund) Name' missing but values entered in other columns.\",\"OK\"))","v":"OK"},null,"OK",null,false,1,2,{"$f":"IF(AND(IX607>'Scheme and Member Information'!I607, E607=\"Yes\"),\"\",\"\")","v":""},4,true,true,false,true,false]
[null,{"$f":"'Scheme and Member Information'!B611","v":0},{"$f":"'Scheme and Member Information'!C611","v":0},null,null,null,null,null,null,null,null,null,null,null,null,null,null,null,null,null,null,null,null,null,null,null,null,null,null,null,null,null,null,null,null,null,null,null,null,null,null,null,null,null,null,null,null,null,null,null,null,null,null,null,null,null,null,null,null,null,null,null,null,null,null,null,null,null,null,null,null,null,null,null,null,null,null,null,null,null,null,null,null,null,null,null,null,null,null,null,null,null,null,null,null,null,null,null,null,null,null,null,null,null,null,null,null,null,null,null,null,null,null,null,null,null,null,null,null,null,null,null,null,null,null,null,null,null,null,null,null,null,null,null,null,null,null,null,null,null,null,null,null,null,null,null,null,null,null,null,null,null,null,null,null,null,null,null,null,null,null,null,null,null,null,null,null,null,null,null,null,null,null,null,null,null,null,null,null,null,null,null,null,null,null,null,null,null,null,null,null,null,null,null,null,null,null,null,null,null,null,null,null,null,null,null,null,null,null,null,null,null,null,null,null,null,null,null,null,null,null,null,null,null,null,null,null,null,null,null,null,null,null,null,null,null,null,null,null,null,null,null,null,null,null,null,null,null,null,null,null,null,null,null,null,null,null,0,"TRUE","OK",{"$f":"IF(JE611,VLOOKUP(MIN(JF611:JI611),'Data Validation (hidden)'!$G$30:$H$34,2,FALSE),IF(COUNTA(E611:E611)>0,\"'Scheme (Fund) Name' missing but values entered in other columns.\",\"OK\"))","v":"OK"},null,"OK",null,false,1,2,{"$f":"IF(AND(IX611>'Scheme and Member Information'!I611, E611=\"Yes\"),\"\",\"\")","v":""},4,true,true,false,true,false]
[null,{"$f":"'Scheme and Member Information'!B617","v":0},{"$f":"'Scheme and Member Information'!C617","v":0},null,null,null,null,null,null,null,null,null,null,null,null,null,null,null,null,null,null,null,null,null,null,null,null,null,null,null,null,null,null,null,null,null,null,null,null,null,null,null,null,null,null,null,null,null,null,null,null,null,null,null,null,null,null,null,null,null,null,null,null,null,null,null,null,null,null,null,null,null,null,null,null,null,null,null,null,null,null,null,null,null,null,null,null,null,null,null,null,null,null,null,null,null,null,null,null,null,null,null,null,null,null,null,null,null,null,null,null,null,null,null,null,null,null,null,null,null,null,null,null,null,null,null,null,null,null,null,null,null,null,null,null,null,null,null,null,null,null,null,null,null,null,null,null,null,null,null,null,null,null,null,null,null,null,null,null,null,null,null,null,null,null,null,null,null,null,null,null,null,null,null,null,null,null,null,null,null,null,null,null,null,null,null,null,null,null,null,null,null,null,null,null,null,null,null,null,null,null,null,null,null,null,null,null,null,null,null,null,null,null,null,null,null,null,null,null,null,null,null,null,null,null,null,null,null,null,null,null,null,null,null,null,null,null,null,null,null,null,null,null,null,null,null,null,null,null,null,null,null,null,null,null,null,null,0,"TRUE","OK",{"$f":"IF(JE617,VLOOKUP(MIN(JF617:JI617),'Data Validation (hidden)'!$G$30:$H$34,2,FALSE),IF(COUNTA(E617:E617)>0,\"'Scheme (Fund) Name' missing but values entered in other columns.\",\"OK\"))","v":"OK"},null,"OK",null,false,1,2,{"$f":"IF(AND(IX617>'Scheme and Member Information'!I617, E617=\"Yes\"),\"\",\"\")","v":""},4,true,true,false,true,false]
[null,{"$f":"'Scheme and Member Information'!B622","v":0},{"$f":"'Scheme and Member Information'!C622","v":0},null,null,null,null,null,null,null,null,null,null,null,null,null,null,null,null,null,null,null,null,null,null,null,null,null,null,null,null,null,null,null,null,null,null,null,null,null,null,null,null,null,null,null,null,null,null,null,null,null,null,null,null,null,null,null,null,null,null,null,null,null,null,null,null,null,null,null,null,null,null,null,null,null,null,null,null,null,null,null,null,null,null,null,null,null,null,null,null,null,null,null,null,null,null,null,null,null,null,null,null,null,null,null,null,null,null,null,null,null,null,null,null,null,null,null,null,null,null,null,null,null,null,null,null,null,null,null,null,null,null,null,null,null,null,null,null,null,null,null,null,null,null,null,null,null,null,null,null,null,null,null,null,null,null,null,null,null,null,null,null,null,null,null,null,null,null,null,null,null,null,null,null,null,null,null,null,null,null,null,null,null,null,null,null,null,null,null,null,null,null,null,null,null,null,null,null,null,null,null,null,null,null,null,null,null,null,null,null,null,null,null,null,null,null,null,null,null,null,null,null,null,null,null,null,null,null,null,null,null,null,null,null,null,null,null,null,null,null,null,null,null,null,null,null,null,null,null,null,null,null,null,null,null,null,0,"TRUE","OK",{"$f":"IF(JE622,VLOOKUP(MIN(JF622:JI622),'Data Validation (hidden)'!$G$30:$H$34,2,FALSE),IF(COUNTA(E622:E622)>0,\"'Scheme (Fund) Name' missing but values entered in other columns.\",\"OK\"))","v":"OK"},null,"OK",null,false,1,2,{"$f":"IF(AND(IX622>'Scheme and Member Information'!I622, E622=\"Yes\"),\"\",\"\")","v":""},4,true,true,false,true,false]
[null,{"$f":"'Scheme and Member Information'!B627","v":0},{"$f":"'Scheme and Member Information'!C627","v":0},null,null,null,null,null,null,null,null,null,null,null,null,null,null,null,null,null,null,null,null,null,null,null,null,null,null,null,null,null,null,null,null,null,null,null,null,null,null,null,null,null,null,null,null,null,null,null,null,null,null,null,null,null,null,null,null,null,null,null,null,null,null,null,null,null,null,null,null,null,null,null,null,null,null,null,null,null,null,null,null,null,null,null,null,null,null,null,null,null,null,null,null,null,null,null,null,null,null,null,null,null,null,null,null,null,null,null,null,null,null,null,null,null,null,null,null,null,null,null,null,null,null,null,null,null,null,null,null,null,null,null,null,null,null,null,null,null,null,null,null,null,null,null,null,null,null,null,null,null,null,null,null,null,null,null,null,null,null,null,null,null,null,null,null,null,null,null,null,null,null,null,null,null,null,null,null,null,null,null,null,null,null,null,null,null,null,null,null,null,null,null,null,null,null,null,null,null,null,null,null,null,null,null,null,null,null,null,null,null,null,null,null,null,null,null,null,null,null,null,null,null,null,null,null,null,null,null,null,null,null,null,null,null,null,null,null,null,null,null,null,null,null,null,null,null,null,null,null,null,null,null,null,null,null,0,"TRUE","OK",{"$f":"IF(JE627,VLOOKUP(MIN(JF627:JI627),'Data Validation (hidden)'!$G$30:$H$34,2,FALSE),IF(COUNTA(E627:E627)>0,\"'Scheme (Fund) Name' missing but values entered in other columns.\",\"OK\"))","v":"OK"},null,"OK",null,false,1,2,{"$f":"IF(AND(IX627>'Scheme and Member Information'!I627, E627=\"Yes\"),\"\",\"\")","v":""},4,true,true,false,true,false]
[null,{"$f":"'Scheme and Member Information'!B632","v":0},{"$f":"'Scheme and Member Information'!C632","v":0},null,null,null,null,null,null,null,null,null,null,null,null,null,null,null,null,null,null,null,null,null,null,null,null,null,null,null,null,null,null,null,null,null,null,null,null,null,null,null,null,null,null,null,null,null,null,null,null,null,null,null,null,null,null,null,null,null,null,null,null,null,null,null,null,null,null,null,null,null,null,null,null,null,null,null,null,null,null,null,null,null,null,null,null,null,null,null,null,null,null,null,null,null,null,null,null,null,null,null,null,null,null,null,null,null,null,null,null,null,null,null,null,null,null,null,null,null,null,null,null,null,null,null,null,null,null,null,null,null,null,null,null,null,null,null,null,null,null,null,null,null,null,null,null,null,null,null,null,null,null,null,null,null,null,null,null,null,null,null,null,null,null,null,null,null,null,null,null,null,null,null,null,null,null,null,null,null,null,null,null,null,null,null,null,null,null,null,null,null,null,null,null,null,null,null,null,null,null,null,null,null,null,null,null,null,null,null,null,null,null,null,null,null,null,null,null,null,null,null,null,null,null,null,null,null,null,null,null,null,null,null,null,null,null,null,null,null,null,null,null,null,null,null,null,null,null,null,null,null,null,null,null,null,null,0,"TRUE","OK",{"$f":"IF(JE632,VLOOKUP(MIN(JF632:JI632),'Data Validation (hidden)'!$G$30:$H$34,2,FALSE),IF(COUNTA(E632:E632)>0,\"'Scheme (Fund) Name' missing but values entered in other columns.\",\"OK\"))","v":"OK"},null,"OK",null,false,1,2,{"$f":"IF(AND(IX632>'Scheme and Member Information'!I632, E632=\"Yes\"),\"\",\"\")","v":""},4,true,true,false,true,false]
[null,{"$f":"'Scheme and Member Information'!B635","v":0},{"$f":"'Scheme and Member Information'!C635","v":0},null,null,null,null,null,null,null,null,null,null,null,null,null,null,null,null,null,null,null,null,null,null,null,null,null,null,null,null,null,null,null,null,null,null,null,null,null,null,null,null,null,null,null,null,null,null,null,null,null,null,null,null,null,null,null,null,null,null,null,null,null,null,null,null,null,null,null,null,null,null,null,null,null,null,null,null,null,null,null,null,null,null,null,null,null,null,null,null,null,null,null,null,null,null,null,null,null,null,null,null,null,null,null,null,null,null,null,null,null,null,null,null,null,null,null,null,null,null,null,null,null,null,null,null,null,null,null,null,null,null,null,null,null,null,null,null,null,null,null,null,null,null,null,null,null,null,null,null,null,null,null,null,null,null,null,null,null,null,null,null,null,null,null,null,null,null,null,null,null,null,null,null,null,null,null,null,null,null,null,null,null,null,null,null,null,null,null,null,null,null,null,null,null,null,null,null,null,null,null,null,null,null,null,null,null,null,null,null,null,null,null,null,null,null,null,null,null,null,null,null,null,null,null,null,null,null,null,null,null,null,null,null,null,null,null,null,null,null,null,null,null,null,null,null,null,null,null,null,null,null,null,null,null,null,0,"TRUE","OK",{"$f":"IF(JE635,VLOOKUP(MIN(JF635:JI635),'Data Validation (hidden)'!$G$30:$H$34,2,FALSE),IF(COUNTA(E635:E635)>0,\"'Scheme (Fund) Name' missing but values entered in other columns.\",\"OK\"))","v":"OK"},null,"OK",null,false,1,2,{"$f":"IF(AND(IX635>'Scheme and Member Information'!I635, E635=\"Yes\"),\"\",\"\")","v":""},4,true,true,false,true,false]
[null,{"$f":"'Scheme and Member Information'!B642","v":0},{"$f":"'Scheme and Member Information'!C642","v":0},null,null,null,null,null,null,null,null,null,null,null,null,null,null,null,null,null,null,null,null,null,null,null,null,null,null,null,null,null,null,null,null,null,null,null,null,null,null,null,null,null,null,null,null,null,null,null,null,null,null,null,null,null,null,null,null,null,null,null,null,null,null,null,null,null,null,null,null,null,null,null,null,null,null,null,null,null,null,null,null,null,null,null,null,null,null,null,null,null,null,null,null,null,null,null,null,null,null,null,null,null,null,null,null,null,null,null,null,null,null,null,null,null,null,null,null,null,null,null,null,null,null,null,null,null,null,null,null,null,null,null,null,null,null,null,null,null,null,null,null,null,null,null,null,null,null,null,null,null,null,null,null,null,null,null,null,null,null,null,null,null,null,null,null,null,null,null,null,null,null,null,null,null,null,null,null,null,null,null,null,null,null,null,null,null,null,null,null,null,null,null,null,null,null,null,null,null,null,null,null,null,null,null,null,null,null,null,null,null,null,null,null,null,null,null,null,null,null,null,null,null,null,null,null,null,null,null,null,null,null,null,null,null,null,null,null,null,null,null,null,null,null,null,null,null,null,null,null,null,null,null,null,null,null,0,"TRUE","OK",{"$f":"IF(JE642,VLOOKUP(MIN(JF642:JI642),'Data Validation (hidden)'!$G$30:$H$34,2,FALSE),IF(COUNTA(E642:E642)>0,\"'Scheme (Fund) Name' missing but values entered in other columns.\",\"OK\"))","v":"OK"},null,"OK",null,false,1,2,{"$f":"IF(AND(IX642>'Scheme and Member Information'!I642, E642=\"Yes\"),\"\",\"\")","v":""},4,true,true,false,true,false]
[null,{"$f":"'Scheme and Member Information'!B646","v":0},{"$f":"'Scheme and Member Information'!C646","v":0},null,null,null,null,null,null,null,null,null,null,null,null,null,null,null,null,null,null,null,null,null,null,null,null,null,null,null,null,null,null,null,null,null,null,null,null,null,null,null,null,null,null,null,null,null,null,null,null,null,null,null,null,null,null,null,null,null,null,null,null,null,null,null,null,null,null,null,null,null,null,null,null,null,null,null,null,null,null,null,null,null,null,null,null,null,null,null,null,null,null,null,null,null,null,null,null,null,null,null,null,null,null,null,null,null,null,null,null,null,null,null,null,null,null,null,null,null,null,null,null,null,null,null,null,null,null,null,null,null,null,null,null,null,null,null,null,null,null,null,null,null,null,null,null,null,null,null,null,null,null,null,null,null,null,null,null,null,null,null,null,null,null,null,null,null,null,null,null,null,null,null,null,null,null,null,null,null,null,null,null,null,null,null,null,null,null,null,null,null,null,null,null,null,null,null,null,null,null,null,null,null,null,null,null,null,null,null,null,null,null,null,null,null,null,null,null,null,null,null,null,null,null,null,null,null,null,null,null,null,null,null,null,null,null,null,null,null,null,null,null,null,null,null,null,null,null,null,null,null,null,null,null,null,null,0,"TRUE","OK",{"$f":"IF(JE646,VLOOKUP(MIN(JF646:JI646),'Data Validation (hidden)'!$G$30:$H$34,2,FALSE),IF(COUNTA(E646:E646)>0,\"'Scheme (Fund) Name' missing but values entered in other columns.\",\"OK\"))","v":"OK"},null,"OK",null,false,1,2,{"$f":"IF(AND(IX646>'Scheme and Member Information'!I646, E646=\"Yes\"),\"\",\"\")","v":""},4,true,true,false,true,false]
[null,{"$f":"'Scheme and Member Information'!B651","v":0},{"$f":"'Scheme and Member Information'!C651","v":0},null,null,null,null,null,null,null,null,null,null,null,null,null,null,null,null,null,null,null,null,null,null,null,null,null,null,null,null,null,null,null,null,null,null,null,null,null,null,null,null,null,null,null,null,null,null,null,null,null,null,null,null,null,null,null,null,null,null,null,null,null,null,null,null,null,null,null,null,null,null,null,null,null,null,null,null,null,null,null,null,null,null,null,null,null,null,null,null,null,null,null,null,null,null,null,null,null,null,null,null,null,null,null,null,null,null,null,null,null,null,null,null,null,null,null,null,null,null,null,null,null,null,null,null,null,null,null,null,null,null,null,null,null,null,null,null,null,null,null,null,null,null,null,null,null,null,null,null,null,null,null,null,null,null,null,null,null,null,null,null,null,null,null,null,null,null,null,null,null,null,null,null,null,null,null,null,null,null,null,null,null,null,null,null,null,null,null,null,null,null,null,null,null,null,null,null,null,null,null,null,null,null,null,null,null,null,null,null,null,null,null,null,null,null,null,null,null,null,null,null,null,null,null,null,null,null,null,null,null,null,null,null,null,null,null,null,null,null,null,null,null,null,null,null,null,null,null,null,null,null,null,null,null,null,0,"TRUE","OK",{"$f":"IF(JE651,VLOOKUP(MIN(JF651:JI651),'Data Validation (hidden)'!$G$30:$H$34,2,FALSE),IF(COUNTA(E651:E651)>0,\"'Scheme (Fund) Name' missing but values entered in other columns.\",\"OK\"))","v":"OK"},null,"OK",null,false,1,2,{"$f":"IF(AND(IX651>'Scheme and Member Information'!I651, E651=\"Yes\"),\"\",\"\")","v":""},4,true,true,false,true,false]
[null,{"$f":"'Scheme and Member Information'!B653","v":0},{"$f":"'Scheme and Member Information'!C653","v":0},null,null,null,null,null,null,null,null,null,null,null,null,null,null,null,null,null,null,null,null,null,null,null,null,null,null,null,null,null,null,null,null,null,null,null,null,null,null,null,null,null,null,null,null,null,null,null,null,null,null,null,null,null,null,null,null,null,null,null,null,null,null,null,null,null,null,null,null,null,null,null,null,null,null,null,null,null,null,null,null,null,null,null,null,null,null,null,null,null,null,null,null,null,null,null,null,null,null,null,null,null,null,null,null,null,null,null,null,null,null,null,null,null,null,null,null,null,null,null,null,null,null,null,null,null,null,null,null,null,null,null,null,null,null,null,null,null,null,null,null,null,null,null,null,null,null,null,null,null,null,null,null,null,null,null,null,null,null,null,null,null,null,null,null,null,null,null,null,null,null,null,null,null,null,null,null,null,null,null,null,null,null,null,null,null,null,null,null,null,null,null,null,null,null,null,null,null,null,null,null,null,null,null,null,null,null,null,null,null,null,null,null,null,null,null,null,null,null,null,null,null,null,null,null,null,null,null,null,null,null,null,null,null,null,null,null,null,null,null,null,null,null,null,null,null,null,null,null,null,null,null,null,null,null,0,"TRUE","OK",{"$f":"IF(JE653,VLOOKUP(MIN(JF653:JI653),'Data Validation (hidden)'!$G$30:$H$34,2,FALSE),IF(COUNTA(E653:E653)>0,\"'Scheme (Fund) Name' missing but values entered in other columns.\",\"OK\"))","v":"OK"},null,"OK",null,false,1,2,{"$f":"IF(AND(IX653>'Scheme and Member Information'!I653, E653=\"Yes\"),\"\",\"\")","v":""},4,true,true,false,true,false]
[null,{"$f":"'Scheme and Member Information'!B656","v":0},{"$f":"'Scheme and Member Information'!C656","v":0},null,null,null,null,null,null,null,null,null,null,null,null,null,null,null,null,null,null,null,null,null,null,null,null,null,null,null,null,null,null,null,null,null,null,null,null,null,null,null,null,null,null,null,null,null,null,null,null,null,null,null,null,null,null,null,null,null,null,null,null,null,null,null,null,null,null,null,null,null,null,null,null,null,null,null,null,null,null,null,null,null,null,null,null,null,null,null,null,null,null,null,null,null,null,null,null,null,null,null,null,null,null,null,null,null,null,null,null,null,null,null,null,null,null,null,null,null,null,null,null,null,null,null,null,null,null,null,null,null,null,null,null,null,null,null,null,null,null,null,null,null,null,null,null,null,null,null,null,null,null,null,null,null,null,null,null,null,null,null,null,null,null,null,null,null,null,null,null,null,null,null,null,null,null,null,null,null,null,null,null,null,null,null,null,null,null,null,null,null,null,null,null,null,null,null,null,null,null,null,null,null,null,null,null,null,null,null,null,null,null,null,null,null,null,null,null,null,null,null,null,null,null,null,null,null,null,null,null,null,null,null,null,null,null,null,null,null,null,null,null,null,null,null,null,null,null,null,null,null,null,null,null,null,null,0,"TRUE","OK",{"$f":"IF(JE656,VLOOKUP(MIN(JF656:JI656),'Data Validation (hidden)'!$G$30:$H$34,2,FALSE),IF(COUNTA(E656:E656)>0,\"'Scheme (Fund) Name' missing but values entered in other columns.\",\"OK\"))","v":"OK"},null,"OK",null,false,1,2,{"$f":"IF(AND(IX656>'Scheme and Member Information'!I656, E656=\"Yes\"),\"\",\"\")","v":""},4,true,true,false,true,false]
[null,{"$f":"'Scheme and Member Information'!B664","v":0},{"$f":"'Scheme and Member Information'!C664","v":0},null,null,null,null,null,null,null,null,null,null,null,null,null,null,null,null,null,null,null,null,null,null,null,null,null,null,null,null,null,null,null,null,null,null,null,null,null,null,null,null,null,null,null,null,null,null,null,null,null,null,null,null,null,null,null,null,null,null,null,null,null,null,null,null,null,null,null,null,null,null,null,null,null,null,null,null,null,null,null,null,null,null,null,null,null,null,null,null,null,null,null,null,null,null,null,null,null,null,null,null,null,null,null,null,null,null,null,null,null,null,null,null,null,null,null,null,null,null,null,null,null,null,null,null,null,null,null,null,null,null,null,null,null,null,null,null,null,null,null,null,null,null,null,null,null,null,null,null,null,null,null,null,null,null,null,null,null,null,null,null,null,null,null,null,null,null,null,null,null,null,null,null,null,null,null,null,null,null,null,null,null,null,null,null,null,null,null,null,null,null,null,null,null,null,null,null,null,null,null,null,null,null,null,null,null,null,null,null,null,null,null,null,null,null,null,null,null,null,null,null,null,null,null,null,null,null,null,null,null,null,null,null,null,null,null,null,null,null,null,null,null,null,null,null,null,null,null,null,null,null,null,null,null,null,0,"TRUE","OK",{"$f":"IF(JE664,VLOOKUP(MIN(JF664:JI664),'Data Validation (hidden)'!$G$30:$H$34,2,FALSE),IF(COUNTA(E664:E664)>0,\"'Scheme (Fund) Name' missing but values entered in other columns.\",\"OK\"))","v":"OK"},null,"OK",null,false,1,2,{"$f":"IF(AND(IX664>'Scheme and Member Information'!I664, E664=\"Yes\"),\"\",\"\")","v":""},4,true,true,false,true,false]
[null,{"$f":"'Scheme and Member Information'!B666","v":0},{"$f":"'Scheme and Member Information'!C666","v":0},null,null,null,null,null,null,null,null,null,null,null,null,null,null,null,null,null,null,null,null,null,null,null,null,null,null,null,null,null,null,null,null,null,null,null,null,null,null,null,null,null,null,null,null,null,null,null,null,null,null,null,null,null,null,null,null,null,null,null,null,null,null,null,null,null,null,null,null,null,null,null,null,null,null,null,null,null,null,null,null,null,null,null,null,null,null,null,null,null,null,null,null,null,null,null,null,null,null,null,null,null,null,null,null,null,null,null,null,null,null,null,null,null,null,null,null,null,null,null,null,null,null,null,null,null,null,null,null,null,null,null,null,null,null,null,null,null,null,null,null,null,null,null,null,null,null,null,null,null,null,null,null,null,null,null,null,null,null,null,null,null,null,null,null,null,null,null,null,null,null,null,null,null,null,null,null,null,null,null,null,null,null,null,null,null,null,null,null,null,null,null,null,null,null,null,null,null,null,null,null,null,null,null,null,null,null,null,null,null,null,null,null,null,null,null,null,null,null,null,null,null,null,null,null,null,null,null,null,null,null,null,null,null,null,null,null,null,null,null,null,null,null,null,null,null,null,null,null,null,null,null,null,null,null,0,"TRUE","OK",{"$f":"IF(JE666,VLOOKUP(MIN(JF666:JI666),'Data Validation (hidden)'!$G$30:$H$34,2,FALSE),IF(COUNTA(E666:E666)>0,\"'Scheme (Fund) Name' missing but values entered in other columns.\",\"OK\"))","v":"OK"},null,"OK",null,false,1,2,{"$f":"IF(AND(IX666>'Scheme and Member Information'!I666, E666=\"Yes\"),\"\",\"\")","v":""},4,true,true,false,true,false]
[null,{"$f":"'Scheme and Member Information'!B671","v":0},{"$f":"'Scheme and Member Information'!C671","v":0},null,null,null,null,null,null,null,null,null,null,null,null,null,null,null,null,null,null,null,null,null,null,null,null,null,null,null,null,null,null,null,null,null,null,null,null,null,null,null,null,null,null,null,null,null,null,null,null,null,null,null,null,null,null,null,null,null,null,null,null,null,null,null,null,null,null,null,null,null,null,null,null,null,null,null,null,null,null,null,null,null,null,null,null,null,null,null,null,null,null,null,null,null,null,null,null,null,null,null,null,null,null,null,null,null,null,null,null,null,null,null,null,null,null,null,null,null,null,null,null,null,null,null,null,null,null,null,null,null,null,null,null,null,null,null,null,null,null,null,null,null,null,null,null,null,null,null,null,null,null,null,null,null,null,null,null,null,null,null,null,null,null,null,null,null,null,null,null,null,null,null,null,null,null,null,null,null,null,null,null,null,null,null,null,null,null,null,null,null,null,null,null,null,null,null,null,null,null,null,null,null,null,null,null,null,null,null,null,null,null,null,null,null,null,null,null,null,null,null,null,null,null,null,null,null,null,null,null,null,null,null,null,null,null,null,null,null,null,null,null,null,null,null,null,null,null,null,null,null,null,null,null,null,null,0,"TRUE","OK",{"$f":"IF(JE671,VLOOKUP(MIN(JF671:JI671),'Data Validation (hidden)'!$G$30:$H$34,2,FALSE),IF(COUNTA(E671:E671)>0,\"'Scheme (Fund) Name' missing but values entered in other columns.\",\"OK\"))","v":"OK"},null,"OK",null,false,1,2,{"$f":"IF(AND(IX671>'Scheme and Member Information'!I671, E671=\"Yes\"),\"\",\"\")","v":""},4,true,true,false,true,false]
[null,{"$f":"'Scheme and Member Information'!B676","v":0},{"$f":"'Scheme and Member Information'!C676","v":0},null,null,null,null,null,null,null,null,null,null,null,null,null,null,null,null,null,null,null,null,null,null,null,null,null,null,null,null,null,null,null,null,null,null,null,null,null,null,null,null,null,null,null,null,null,null,null,null,null,null,null,null,null,null,null,null,null,null,null,null,null,null,null,null,null,null,null,null,null,null,null,null,null,null,null,null,null,null,null,null,null,null,null,null,null,null,null,null,null,null,null,null,null,null,null,null,null,null,null,null,null,null,null,null,null,null,null,null,null,null,null,null,null,null,null,null,null,null,null,null,null,null,null,null,null,null,null,null,null,null,null,null,null,null,null,null,null,null,null,null,null,null,null,null,null,null,null,null,null,null,null,null,null,null,null,null,null,null,null,null,null,null,null,null,null,null,null,null,null,null,null,null,null,null,null,null,null,null,null,null,null,null,null,null,null,null,null,null,null,null,null,null,null,null,null,null,null,null,null,null,null,null,null,null,null,null,null,null,null,null,null,null,null,null,null,null,null,null,null,null,null,null,null,null,null,null,null,null,null,null,null,null,null,null,null,null,null,null,null,null,null,null,null,null,null,null,null,null,null,null,null,null,null,null,0,"TRUE","OK",{"$f":"IF(JE676,VLOOKUP(MIN(JF676:JI676),'Data Validation (hidden)'!$G$30:$H$34,2,FALSE),IF(COUNTA(E676:E676)>0,\"'Scheme (Fund) Name' missing but values entered in other columns.\",\"OK\"))","v":"OK"},null,"OK",null,false,1,2,{"$f":"IF(AND(IX676>'Scheme and Member Information'!I676, E676=\"Yes\"),\"\",\"\")","v":""},4,true,true,false,true,false]
[null,{"$f":"'Scheme and Member Information'!B682","v":0},{"$f":"'Scheme and Member Information'!C682","v":0},null,null,null,null,null,null,null,null,null,null,null,null,null,null,null,null,null,null,null,null,null,null,null,null,null,null,null,null,null,null,null,null,null,null,null,null,null,null,null,null,null,null,null,null,null,null,null,null,null,null,null,null,null,null,null,null,null,null,null,null,null,null,null,null,null,null,null,null,null,null,null,null,null,null,null,null,null,null,null,null,null,null,null,null,null,null,null,null,null,null,null,null,null,null,null,null,null,null,null,null,null,null,null,null,null,null,null,null,null,null,null,null,null,null,null,null,null,null,null,null,null,null,null,null,null,null,null,null,null,null,null,null,null,null,null,null,null,null,null,null,null,null,null,null,null,null,null,null,null,null,null,null,null,null,null,null,null,null,null,null,null,null,null,null,null,null,null,null,null,null,null,null,null,null,null,null,null,null,null,null,null,null,null,null,null,null,null,null,null,null,null,null,null,null,null,null,null,null,null,null,null,null,null,null,null,null,null,null,null,null,null,null,null,null,null,null,null,null,null,null,null,null,null,null,null,null,null,null,null,null,null,null,null,null,null,null,null,null,null,null,null,null,null,null,null,null,null,null,null,null,null,null,null,null,0,"TRUE","OK",{"$f":"IF(JE682,VLOOKUP(MIN(JF682:JI682),'Data Validation (hidden)'!$G$30:$H$34,2,FALSE),IF(COUNTA(E682:E682)>0,\"'Scheme (Fund) Name' missing but values entered in other columns.\",\"OK\"))","v":"OK"},null,"OK",null,false,1,2,{"$f":"IF(AND(IX682>'Scheme and Member Information'!I682, E682=\"Yes\"),\"\",\"\")","v":""},4,true,true,false,true,false]
[null,{"$f":"'Scheme and Member Information'!B685","v":0},{"$f":"'Scheme and Member Information'!C685","v":0},null,null,null,null,null,null,null,null,null,null,null,null,null,null,null,null,null,null,null,null,null,null,null,null,null,null,null,null,null,null,null,null,null,null,null,null,null,null,null,null,null,null,null,null,null,null,null,null,null,null,null,null,null,null,null,null,null,null,null,null,null,null,null,null,null,null,null,null,null,null,null,null,null,null,null,null,null,null,null,null,null,null,null,null,null,null,null,null,null,null,null,null,null,null,null,null,null,null,null,null,null,null,null,null,null,null,null,null,null,null,null,null,null,null,null,null,null,null,null,null,null,null,null,null,null,null,null,null,null,null,null,null,null,null,null,null,null,null,null,null,null,null,null,null,null,null,null,null,null,null,null,null,null,null,null,null,null,null,null,null,null,null,null,null,null,null,null,null,null,null,null,null,null,null,null,null,null,null,null,null,null,null,null,null,null,null,null,null,null,null,null,null,null,null,null,null,null,null,null,null,null,null,null,null,null,null,null,null,null,null,null,null,null,null,null,null,null,null,null,null,null,null,null,null,null,null,null,null,null,null,null,null,null,null,null,null,null,null,null,null,null,null,null,null,null,null,null,null,null,null,null,null,null,null,0,"TRUE","OK",{"$f":"IF(JE685,VLOOKUP(MIN(JF685:JI685),'Data Validation (hidden)'!$G$30:$H$34,2,FALSE),IF(COUNTA(E685:E685)>0,\"'Scheme (Fund) Name' missing but values entered in other columns.\",\"OK\"))","v":"OK"},null,"OK",null,false,1,2,{"$f":"IF(AND(IX685>'Scheme and Member Information'!I685, E685=\"Yes\"),\"\",\"\")","v":""},4,true,true,false,true,false]
[null,{"$f":"'Scheme and Member Information'!B691","v":0},{"$f":"'Scheme and Member Information'!C691","v":0},null,null,null,null,null,null,null,null,null,null,null,null,null,null,null,null,null,null,null,null,null,null,null,null,null,null,null,null,null,null,null,null,null,null,null,null,null,null,null,null,null,null,null,null,null,null,null,null,null,null,null,null,null,null,null,null,null,null,null,null,null,null,null,null,null,null,null,null,null,null,null,null,null,null,null,null,null,null,null,null,null,null,null,null,null,null,null,null,null,null,null,null,null,null,null,null,null,null,null,null,null,null,null,null,null,null,null,null,null,null,null,null,null,null,null,null,null,null,null,null,null,null,null,null,null,null,null,null,null,null,null,null,null,null,null,null,null,null,null,null,null,null,null,null,null,null,null,null,null,null,null,null,null,null,null,null,null,null,null,null,null,null,null,null,null,null,null,null,null,null,null,null,null,null,null,null,null,null,null,null,null,null,null,null,null,null,null,null,null,null,null,null,null,null,null,null,null,null,null,null,null,null,null,null,null,null,null,null,null,null,null,null,null,null,null,null,null,null,null,null,null,null,null,null,null,null,null,null,null,null,null,null,null,null,null,null,null,null,null,null,null,null,null,null,null,null,null,null,null,null,null,null,null,null,0,"TRUE","OK",{"$f":"IF(JE691,VLOOKUP(MIN(JF691:JI691),'Data Validation (hidden)'!$G$30:$H$34,2,FALSE),IF(COUNTA(E691:E691)>0,\"'Scheme (Fund) Name' missing but values entered in other columns.\",\"OK\"))","v":"OK"},null,"OK",null,false,1,2,{"$f":"IF(AND(IX691>'Scheme and Member Information'!I691, E691=\"Yes\"),\"\",\"\")","v":""},4,true,true,false,true,false]
[null,{"$f":"'Scheme and Member Information'!B693","v":0},{"$f":"'Scheme and Member Information'!C693","v":0},null,null,null,null,null,null,null,null,null,null,null,null,null,null,null,null,null,null,null,null,null,null,null,null,null,null,null,null,null,null,null,null,null,null,null,null,null,null,null,null,null,null,null,null,null,null,null,null,null,null,null,null,null,null,null,null,null,null,null,null,null,null,null,null,null,null,null,null,null,null,null,null,null,null,null,null,null,null,null,null,null,null,null,null,null,null,null,null,null,null,null,null,null,null,null,null,null,null,null,null,null,null,null,null,null,null,null,null,null,null,null,null,null,null,null,null,null,null,null,null,null,null,null,null,null,null,null,null,null,null,null,null,null,null,null,null,null,null,null,null,null,null,null,null,null,null,null,null,null,null,null,null,null,null,null,null,null,null,null,null,null,null,null,null,null,null,null,null,null,null,null,null,null,null,null,null,null,null,null,null,null,null,null,null,null,null,null,null,null,null,null,null,null,null,null,null,null,null,null,null,null,null,null,null,null,null,null,null,null,null,null,null,null,null,null,null,null,null,null,null,null,null,null,null,null,null,null,null,null,null,null,null,null,null,null,null,null,null,null,null,null,null,null,null,null,null,null,null,null,null,null,null,null,null,0,"TRUE","OK",{"$f":"IF(JE693,VLOOKUP(MIN(JF693:JI693),'Data Validation (hidden)'!$G$30:$H$34,2,FALSE),IF(COUNTA(E693:E693)>0,\"'Scheme (Fund) Name' missing but values entered in other columns.\",\"OK\"))","v":"OK"},null,"OK",null,false,1,2,{"$f":"IF(AND(IX693>'Scheme and Member Information'!I693, E693=\"Yes\"),\"\",\"\")","v":""},4,true,true,false,true,false]
[null,{"$f":"'Scheme and Member Information'!B694","v":0},{"$f":"'Scheme and Member Information'!C694","v":0},null,null,null,null,null,null,null,null,null,null,null,null,null,null,null,null,null,null,null,null,null,null,null,null,null,null,null,null,null,null,null,null,null,null,null,null,null,null,null,null,null,null,null,null,null,null,null,null,null,null,null,null,null,null,null,null,null,null,null,null,null,null,null,null,null,null,null,null,null,null,null,null,null,null,null,null,null,null,null,null,null,null,null,null,null,null,null,null,null,null,null,null,null,null,null,null,null,null,null,null,null,null,null,null,null,null,null,null,null,null,null,null,null,null,null,null,null,null,null,null,null,null,null,null,null,null,null,null,null,null,null,null,null,null,null,null,null,null,null,null,null,null,null,null,null,null,null,null,null,null,null,null,null,null,null,null,null,null,null,null,null,null,null,null,null,null,null,null,null,null,null,null,null,null,null,null,null,null,null,null,null,null,null,null,null,null,null,null,null,null,null,null,null,null,null,null,null,null,null,null,null,null,null,null,null,null,null,null,null,null,null,null,null,null,null,null,null,null,null,null,null,null,null,null,null,null,null,null,null,null,null,null,null,null,null,null,null,null,null,null,null,null,null,null,null,null,null,null,null,null,null,null,null,null,0,"TRUE","OK",{"$f":"IF(JE694,VLOOKUP(MIN(JF694:JI694),'Data Validation (hidden)'!$G$30:$H$34,2,FALSE),IF(COUNTA(E694:E694)>0,\"'Scheme (Fund) Name' missing but values entered in other columns.\",\"OK\"))","v":"OK"},null,"OK",null,false,1,2,{"$f":"IF(AND(IX694>'Scheme and Member Information'!I694, E694=\"Yes\"),\"\",\"\")","v":""},4,true,true,false,true,false]
[null,{"$f":"'Scheme and Member Information'!B695","v":0},{"$f":"'Scheme and Member Information'!C695","v":0},null,null,null,null,null,null,null,null,null,null,null,null,null,null,null,null,null,null,null,null,null,null,null,null,null,null,null,null,null,null,null,null,null,null,null,null,null,null,null,null,null,null,null,null,null,null,null,null,null,null,null,null,null,null,null,null,null,null,null,null,null,null,null,null,null,null,null,null,null,null,null,null,null,null,null,null,null,null,null,null,null,null,null,null,null,null,null,null,null,null,null,null,null,null,null,null,null,null,null,null,null,null,null,null,null,null,null,null,null,null,null,null,null,null,null,null,null,null,null,null,null,null,null,null,null,null,null,null,null,null,null,null,null,null,null,null,null,null,null,null,null,null,null,null,null,null,null,null,null,null,null,null,null,null,null,null,null,null,null,null,null,null,null,null,null,null,null,null,null,null,null,null,null,null,null,null,null,null,null,null,null,null,null,null,null,null,null,null,null,null,null,null,null,null,null,null,null,null,null,null,null,null,null,null,null,null,null,null,null,null,null,null,null,null,null,null,null,null,null,null,null,null,null,null,null,null,null,null,null,null,null,null,null,null,null,null,null,null,null,null,null,null,null,null,null,null,null,null,null,null,null,null,null,null,0,"TRUE","OK",{"$f":"IF(JE695,VLOOKUP(MIN(JF695:JI695),'Data Validation (hidden)'!$G$30:$H$34,2,FALSE),IF(COUNTA(E695:E695)>0,\"'Scheme (Fund) Name' missing but values entered in other columns.\",\"OK\"))","v":"OK"},null,"OK",null,false,1,2,{"$f":"IF(AND(IX695>'Scheme and Member Information'!I695, E695=\"Yes\"),\"\",\"\")","v":""},4,true,true,false,true,false]
[null,{"$f":"'Scheme and Member Information'!B696","v":0},{"$f":"'Scheme and Member Information'!C696","v":0},null,null,null,null,null,null,null,null,null,null,null,null,null,null,null,null,null,null,null,null,null,null,null,null,null,null,null,null,null,null,null,null,null,null,null,null,null,null,null,null,null,null,null,null,null,null,null,null,null,null,null,null,null,null,null,null,null,null,null,null,null,null,null,null,null,null,null,null,null,null,null,null,null,null,null,null,null,null,null,null,null,null,null,null,null,null,null,null,null,null,null,null,null,null,null,null,null,null,null,null,null,null,null,null,null,null,null,null,null,null,null,null,null,null,null,null,null,null,null,null,null,null,null,null,null,null,null,null,null,null,null,null,null,null,null,null,null,null,null,null,null,null,null,null,null,null,null,null,null,null,null,null,null,null,null,null,null,null,null,null,null,null,null,null,null,null,null,null,null,null,null,null,null,null,null,null,null,null,null,null,null,null,null,null,null,null,null,null,null,null,null,null,null,null,null,null,null,null,null,null,null,null,null,null,null,null,null,null,null,null,null,null,null,null,null,null,null,null,null,null,null,null,null,null,null,null,null,null,null,null,null,null,null,null,null,null,null,null,null,null,null,null,null,null,null,null,null,null,null,null,null,null,null,null,0,"TRUE","OK",{"$f":"IF(JE696,VLOOKUP(MIN(JF696:JI696),'Data Validation (hidden)'!$G$30:$H$34,2,FALSE),IF(COUNTA(E696:E696)>0,\"'Scheme (Fund) Name' missing but values entered in other columns.\",\"OK\"))","v":"OK"},null,"OK",null,false,1,2,{"$f":"IF(AND(IX696>'Scheme and Member Information'!I696, E696=\"Yes\"),\"\",\"\")","v":""},4,true,true,false,true,false]
[null,{"$f":"'Scheme and Member Information'!B697","v":0},{"$f":"'Scheme and Member Information'!C697","v":0},null,null,null,null,null,null,null,null,null,null,null,null,null,null,null,null,null,null,null,null,null,null,null,null,null,null,null,null,null,null,null,null,null,null,null,null,null,null,null,null,null,null,null,null,null,null,null,null,null,null,null,null,null,null,null,null,null,null,null,null,null,null,null,null,null,null,null,null,null,null,null,null,null,null,null,null,null,null,null,null,null,null,null,null,null,null,null,null,null,null,null,null,null,null,null,null,null,null,null,null,null,null,null,null,null,null,null,null,null,null,null,null,null,null,null,null,null,null,null,null,null,null,null,null,null,null,null,null,null,null,null,null,null,null,null,null,null,null,null,null,null,null,null,null,null,null,null,null,null,null,null,null,null,null,null,null,null,null,null,null,null,null,null,null,null,null,null,null,null,null,null,null,null,null,null,null,null,null,null,null,null,null,null,null,null,null,null,null,null,null,null,null,null,null,null,null,null,null,null,null,null,null,null,null,null,null,null,null,null,null,null,null,null,null,null,null,null,null,null,null,null,null,null,null,null,null,null,null,null,null,null,null,null,null,null,null,null,null,null,null,null,null,null,null,null,null,null,null,null,null,null,null,null,null,0,"TRUE","OK",{"$f":"IF(JE697,VLOOKUP(MIN(JF697:JI697),'Data Validation (hidden)'!$G$30:$H$34,2,FALSE),IF(COUNTA(E697:E697)>0,\"'Scheme (Fund) Name' missing but values entered in other columns.\",\"OK\"))","v":"OK"},null,"OK",null,false,1,2,{"$f":"IF(AND(IX697>'Scheme and Member Information'!I697, E697=\"Yes\"),\"\",\"\")","v":""},4,true,true,false,true,false]
[null,{"$f":"'Scheme and Member Information'!B698","v":0},{"$f":"'Scheme and Member Information'!C698","v":0},null,null,null,null,null,null,null,null,null,null,null,null,null,null,null,null,null,null,null,null,null,null,null,null,null,null,null,null,null,null,null,null,null,null,null,null,null,null,null,null,null,null,null,null,null,null,null,null,null,null,null,null,null,null,null,null,null,null,null,null,null,null,null,null,null,null,null,null,null,null,null,null,null,null,null,null,null,null,null,null,null,null,null,null,null,null,null,null,null,null,null,null,null,null,null,null,null,null,null,null,null,null,null,null,null,null,null,null,null,null,null,null,null,null,null,null,null,null,null,null,null,null,null,null,null,null,null,null,null,null,null,null,null,null,null,null,null,null,null,null,null,null,null,null,null,null,null,null,null,null,null,null,null,null,null,null,null,null,null,null,null,null,null,null,null,null,null,null,null,null,null,null,null,null,null,null,null,null,null,null,null,null,null,null,null,null,null,null,null,null,null,null,null,null,null,null,null,null,null,null,null,null,null,null,null,null,null,null,null,null,null,null,null,null,null,null,null,null,null,null,null,null,null,null,null,null,null,null,null,null,null,null,null,null,null,null,null,null,null,null,null,null,null,null,null,null,null,null,null,null,null,null,null,null,0,"TRUE","OK",{"$f":"IF(JE698,VLOOKUP(MIN(JF698:JI698),'Data Validation (hidden)'!$G$30:$H$34,2,FALSE),IF(COUNTA(E698:E698)>0,\"'Scheme (Fund) Name' missing but values entered in other columns.\",\"OK\"))","v":"OK"},null,"OK",null,false,1,2,{"$f":"IF(AND(IX698>'Scheme and Member Information'!I698, E698=\"Yes\"),\"\",\"\")","v":""},4,true,true,false,true,false]
[null,{"$f":"'Scheme and Member Information'!B699","v":0},{"$f":"'Scheme and Member Information'!C699","v":0},null,null,null,null,null,null,null,null,null,null,null,null,null,null,null,null,null,null,null,null,null,null,null,null,null,null,null,null,null,null,null,null,null,null,null,null,null,null,null,null,null,null,null,null,null,null,null,null,null,null,null,null,null,null,null,null,null,null,null,null,null,null,null,null,null,null,null,null,null,null,null,null,null,null,null,null,null,null,null,null,null,null,null,null,null,null,null,null,null,null,null,null,null,null,null,null,null,null,null,null,null,null,null,null,null,null,null,null,null,null,null,null,null,null,null,null,null,null,null,null,null,null,null,null,null,null,null,null,null,null,null,null,null,null,null,null,null,null,null,null,null,null,null,null,null,null,null,null,null,null,null,null,null,null,null,null,null,null,null,null,null,null,null,null,null,null,null,null,null,null,null,null,null,null,null,null,null,null,null,null,null,null,null,null,null,null,null,null,null,null,null,null,null,null,null,null,null,null,null,null,null,null,null,null,null,null,null,null,null,null,null,null,null,null,null,null,null,null,null,null,null,null,null,null,null,null,null,null,null,null,null,null,null,null,null,null,null,null,null,null,null,null,null,null,null,null,null,null,null,null,null,null,null,null,0,"TRUE","OK",{"$f":"IF(JE699,VLOOKUP(MIN(JF699:JI699),'Data Validation (hidden)'!$G$30:$H$34,2,FALSE),IF(COUNTA(E699:E699)>0,\"'Scheme (Fund) Name' missing but values entered in other columns.\",\"OK\"))","v":"OK"},null,"OK",null,false,1,2,{"$f":"IF(AND(IX699>'Scheme and Member Information'!I699, E699=\"Yes\"),\"\",\"\")","v":""},4,true,true,false,true,false]
[null,{"$f":"'Scheme and Member Information'!B700","v":0},{"$f":"'Scheme and Member Information'!C700","v":0},null,null,null,null,null,null,null,null,null,null,null,null,null,null,null,null,null,null,null,null,null,null,null,null,null,null,null,null,null,null,null,null,null,null,null,null,null,null,null,null,null,null,null,null,null,null,null,null,null,null,null,null,null,null,null,null,null,null,null,null,null,null,null,null,null,null,null,null,null,null,null,null,null,null,null,null,null,null,null,null,null,null,null,null,null,null,null,null,null,null,null,null,null,null,null,null,null,null,null,null,null,null,null,null,null,null,null,null,null,null,null,null,null,null,null,null,null,null,null,null,null,null,null,null,null,null,null,null,null,null,null,null,null,null,null,null,null,null,null,null,null,null,null,null,null,null,null,null,null,null,null,null,null,null,null,null,null,null,null,null,null,null,null,null,null,null,null,null,null,null,null,null,null,null,null,null,null,null,null,null,null,null,null,null,null,null,null,null,null,null,null,null,null,null,null,null,null,null,null,null,null,null,null,null,null,null,null,null,null,null,null,null,null,null,null,null,null,null,null,null,null,null,null,null,null,null,null,null,null,null,null,null,null,null,null,null,null,null,null,null,null,null,null,null,null,null,null,null,null,null,null,null,null,null,0,"TRUE","OK",{"$f":"IF(JE700,VLOOKUP(MIN(JF700:JI700),'Data Validation (hidden)'!$G$30:$H$34,2,FALSE),IF(COUNTA(E700:E700)>0,\"'Scheme (Fund) Name' missing but values entered in other columns.\",\"OK\"))","v":"OK"},null,"OK",null,false,1,2,{"$f":"IF(AND(IX700>'Scheme and Member Information'!I700, E700=\"Yes\"),\"\",\"\")","v":""},4,true,true,false,true,false]
[null,{"$f":"'Scheme and Member Information'!B701","v":0},{"$f":"'Scheme and Member Information'!C701","v":0},null,null,null,null,null,null,null,null,null,null,null,null,null,null,null,null,null,null,null,null,null,null,null,null,null,null,null,null,null,null,null,null,null,null,null,null,null,null,null,null,null,null,null,null,null,null,null,null,null,null,null,null,null,null,null,null,null,null,null,null,null,null,null,null,null,null,null,null,null,null,null,null,null,null,null,null,null,null,null,null,null,null,null,null,null,null,null,null,null,null,null,null,null,null,null,null,null,null,null,null,null,null,null,null,null,null,null,null,null,null,null,null,null,null,null,null,null,null,null,null,null,null,null,null,null,null,null,null,null,null,null,null,null,null,null,null,null,null,null,null,null,null,null,null,null,null,null,null,null,null,null,null,null,null,null,null,null,null,null,null,null,null,null,null,null,null,null,null,null,null,null,null,null,null,null,null,null,null,null,null,null,null,null,null,null,null,null,null,null,null,null,null,null,null,null,null,null,null,null,null,null,null,null,null,null,null,null,null,null,null,null,null,null,null,null,null,null,null,null,null,null,null,null,null,null,null,null,null,null,null,null,null,null,null,null,null,null,null,null,null,null,null,null,null,null,null,null,null,null,null,null,null,null,null,0,"TRUE","OK",{"$f":"IF(JE701,VLOOKUP(MIN(JF701:JI701),'Data Validation (hidden)'!$G$30:$H$34,2,FALSE),IF(COUNTA(E701:E701)>0,\"'Scheme (Fund) Name' missing but values entered in other columns.\",\"OK\"))","v":"OK"},null,"OK",null,false,1,2,{"$f":"IF(AND(IX701>'Scheme and Member Information'!I701, E701=\"Yes\"),\"\",\"\")","v":""},4,true,true,false,true,false]
[null,{"$f":"'Scheme and Member Information'!B702","v":0},{"$f":"'Scheme and Member Information'!C702","v":0},null,null,null,null,null,null,null,null,null,null,null,null,null,null,null,null,null,null,null,null,null,null,null,null,null,null,null,null,null,null,null,null,null,null,null,null,null,null,null,null,null,null,null,null,null,null,null,null,null,null,null,null,null,null,null,null,null,null,null,null,null,null,null,null,null,null,null,null,null,null,null,null,null,null,null,null,null,null,null,null,null,null,null,null,null,null,null,null,null,null,null,null,null,null,null,null,null,null,null,null,null,null,null,null,null,null,null,null,null,null,null,null,null,null,null,null,null,null,null,null,null,null,null,null,null,null,null,null,null,null,null,null,null,null,null,null,null,null,null,null,null,null,null,null,null,null,null,null,null,null,null,null,null,null,null,null,null,null,null,null,null,null,null,null,null,null,null,null,null,null,null,null,null,null,null,null,null,null,null,null,null,null,null,null,null,null,null,null,null,null,null,null,null,null,null,null,null,null,null,null,null,null,null,null,null,null,null,null,null,null,null,null,null,null,null,null,null,null,null,null,null,null,null,null,null,null,null,null,null,null,null,null,null,null,null,null,null,null,null,null,null,null,null,null,null,null,null,null,null,null,null,null,null,null,0,"TRUE","OK",{"$f":"IF(JE702,VLOOKUP(MIN(JF702:JI702),'Data Validation (hidden)'!$G$30:$H$34,2,FALSE),IF(COUNTA(E702:E702)>0,\"'Scheme (Fund) Name' missing but values entered in other columns.\",\"OK\"))","v":"OK"},null,"OK",null,false,1,2,{"$f":"IF(AND(IX702>'Scheme and Member Information'!I702, E702=\"Yes\"),\"\",\"\")","v":""},4,true,true,false,true,false]
[null,{"$f":"'Scheme and Member Information'!B703","v":0},{"$f":"'Scheme and Member Information'!C703","v":0},null,null,null,null,null,null,null,null,null,null,null,null,null,null,null,null,null,null,null,null,null,null,null,null,null,null,null,null,null,null,null,null,null,null,null,null,null,null,null,null,null,null,null,null,null,null,null,null,null,null,null,null,null,null,null,null,null,null,null,null,null,null,null,null,null,null,null,null,null,null,null,null,null,null,null,null,null,null,null,null,null,null,null,null,null,null,null,null,null,null,null,null,null,null,null,null,null,null,null,null,null,null,null,null,null,null,null,null,null,null,null,null,null,null,null,null,null,null,null,null,null,null,null,null,null,null,null,null,null,null,null,null,null,null,null,null,null,null,null,null,null,null,null,null,null,null,null,null,null,null,null,null,null,null,null,null,null,null,null,null,null,null,null,null,null,null,null,null,null,null,null,null,null,null,null,null,null,null,null,null,null,null,null,null,null,null,null,null,null,null,null,null,null,null,null,null,null,null,null,null,null,null,null,null,null,null,null,null,null,null,null,null,null,null,null,null,null,null,null,null,null,null,null,null,null,null,null,null,null,null,null,null,null,null,null,null,null,null,null,null,null,null,null,null,null,null,null,null,null,null,null,null,null,null,0,"TRUE","OK",{"$f":"IF(JE703,VLOOKUP(MIN(JF703:JI703),'Data Validation (hidden)'!$G$30:$H$34,2,FALSE),IF(COUNTA(E703:E703)>0,\"'Scheme (Fund) Name' missing but values entered in other columns.\",\"OK\"))","v":"OK"},null,"OK",null,false,1,2,{"$f":"IF(AND(IX703>'Scheme and Member Information'!I703, E703=\"Yes\"),\"\",\"\")","v":""},4,true,true,false,true,false]
[null,{"$f":"'Scheme and Member Information'!B704","v":0},{"$f":"'Scheme and Member Information'!C704","v":0},null,null,null,null,null,null,null,null,null,null,null,null,null,null,null,null,null,null,null,null,null,null,null,null,null,null,null,null,null,null,null,null,null,null,null,null,null,null,null,null,null,null,null,null,null,null,null,null,null,null,null,null,null,null,null,null,null,null,null,null,null,null,null,null,null,null,null,null,null,null,null,null,null,null,null,null,null,null,null,null,null,null,null,null,null,null,null,null,null,null,null,null,null,null,null,null,null,null,null,null,null,null,null,null,null,null,null,null,null,null,null,null,null,null,null,null,null,null,null,null,null,null,null,null,null,null,null,null,null,null,null,null,null,null,null,null,null,null,null,null,null,null,null,null,null,null,null,null,null,null,null,null,null,null,null,null,null,null,null,null,null,null,null,null,null,null,null,null,null,null,null,null,null,null,null,null,null,null,null,null,null,null,null,null,null,null,null,null,null,null,null,null,null,null,null,null,null,null,null,null,null,null,null,null,null,null,null,null,null,null,null,null,null,null,null,null,null,null,null,null,null,null,null,null,null,null,null,null,null,null,null,null,null,null,null,null,null,null,null,null,null,null,null,null,null,null,null,null,null,null,null,null,null,null,0,"TRUE","OK",{"$f":"IF(JE704,VLOOKUP(MIN(JF704:JI704),'Data Validation (hidden)'!$G$30:$H$34,2,FALSE),IF(COUNTA(E704:E704)>0,\"'Scheme (Fund) Name' missing but values entered in other columns.\",\"OK\"))","v":"OK"},null,"OK",null,false,1,2,{"$f":"IF(AND(IX704>'Scheme and Member Information'!I704, E704=\"Yes\"),\"\",\"\")","v":""},4,true,true,false,true,false]
[null,{"$f":"'Scheme and Member Information'!B705","v":0},{"$f":"'Scheme and Member Information'!C705","v":0},null,null,null,null,null,null,null,null,null,null,null,null,null,null,null,null,null,null,null,null,null,null,null,null,null,null,null,null,null,null,null,null,null,null,null,null,null,null,null,null,null,null,null,null,null,null,null,null,null,null,null,null,null,null,null,null,null,null,null,null,null,null,null,null,null,null,null,null,null,null,null,null,null,null,null,null,null,null,null,null,null,null,null,null,null,null,null,null,null,null,null,null,null,null,null,null,null,null,null,null,null,null,null,null,null,null,null,null,null,null,null,null,null,null,null,null,null,null,null,null,null,null,null,null,null,null,null,null,null,null,null,null,null,null,null,null,null,null,null,null,null,null,null,null,null,null,null,null,null,null,null,null,null,null,null,null,null,null,null,null,null,null,null,null,null,null,null,null,null,null,null,null,null,null,null,null,null,null,null,null,null,null,null,null,null,null,null,null,null,null,null,null,null,null,null,null,null,null,null,null,null,null,null,null,null,null,null,null,null,null,null,null,null,null,null,null,null,null,null,null,null,null,null,null,null,null,null,null,null,null,null,null,null,null,null,null,null,null,null,null,null,null,null,null,null,null,null,null,null,null,null,null,null,null,0,"TRUE","OK",{"$f":"IF(JE705,VLOOKUP(MIN(JF705:JI705),'Data Validation (hidden)'!$G$30:$H$34,2,FALSE),IF(COUNTA(E705:E705)>0,\"'Scheme (Fund) Name' missing but values entered in other columns.\",\"OK\"))","v":"OK"},null,"OK",null,false,1,2,{"$f":"IF(AND(IX705>'Scheme and Member Information'!I705, E705=\"Yes\"),\"\",\"\")","v":""},4,true,true,false,true,false]
[null,{"$f":"'Scheme and Member Information'!B706","v":0},{"$f":"'Scheme and Member Information'!C706","v":0},null,null,null,null,null,null,null,null,null,null,null,null,null,null,null,null,null,null,null,null,null,null,null,null,null,null,null,null,null,null,null,null,null,null,null,null,null,null,null,null,null,null,null,null,null,null,null,null,null,null,null,null,null,null,null,null,null,null,null,null,null,null,null,null,null,null,null,null,null,null,null,null,null,null,null,null,null,null,null,null,null,null,null,null,null,null,null,null,null,null,null,null,null,null,null,null,null,null,null,null,null,null,null,null,null,null,null,null,null,null,null,null,null,null,null,null,null,null,null,null,null,null,null,null,null,null,null,null,null,null,null,null,null,null,null,null,null,null,null,null,null,null,null,null,null,null,null,null,null,null,null,null,null,null,null,null,null,null,null,null,null,null,null,null,null,null,null,null,null,null,null,null,null,null,null,null,null,null,null,null,null,null,null,null,null,null,null,null,null,null,null,null,null,null,null,null,null,null,null,null,null,null,null,null,null,null,null,null,null,null,null,null,null,null,null,null,null,null,null,null,null,null,null,null,null,null,null,null,null,null,null,null,null,null,null,null,null,null,null,null,null,null,null,null,null,null,null,null,null,null,null,null,null,null,0,"TRUE","OK",{"$f":"IF(JE706,VLOOKUP(MIN(JF706:JI706),'Data Validation (hidden)'!$G$30:$H$34,2,FALSE),IF(COUNTA(E706:E706)>0,\"'Scheme (Fund) Name' missing but values entered in other columns.\",\"OK\"))","v":"OK"},null,"OK",null,false,1,2,{"$f":"IF(AND(IX706>'Scheme and Member Information'!I706, E706=\"Yes\"),\"\",\"\")","v":""},4,true,true,false,true,false]
[null,{"$f":"'Scheme and Member Information'!B707","v":0},{"$f":"'Scheme and Member Information'!C707","v":0},null,null,null,null,null,null,null,null,null,null,null,null,null,null,null,null,null,null,null,null,null,null,null,null,null,null,null,null,null,null,null,null,null,null,null,null,null,null,null,null,null,null,null,null,null,null,null,null,null,null,null,null,null,null,null,null,null,null,null,null,null,null,null,null,null,null,null,null,null,null,null,null,null,null,null,null,null,null,null,null,null,null,null,null,null,null,null,null,null,null,null,null,null,null,null,null,null,null,null,null,null,null,null,null,null,null,null,null,null,null,null,null,null,null,null,null,null,null,null,null,null,null,null,null,null,null,null,null,null,null,null,null,null,null,null,null,null,null,null,null,null,null,null,null,null,null,null,null,null,null,null,null,null,null,null,null,null,null,null,null,null,null,null,null,null,null,null,null,null,null,null,null,null,null,null,null,null,null,null,null,null,null,null,null,null,null,null,null,null,null,null,null,null,null,null,null,null,null,null,null,null,null,null,null,null,null,null,null,null,null,null,null,null,null,null,null,null,null,null,null,null,null,null,null,null,null,null,null,null,null,null,null,null,null,null,null,null,null,null,null,null,null,null,null,null,null,null,null,null,null,null,null,null,null,0,"TRUE","OK",{"$f":"IF(JE707,VLOOKUP(MIN(JF707:JI707),'Data Validation (hidden)'!$G$30:$H$34,2,FALSE),IF(COUNTA(E707:E707)>0,\"'Scheme (Fund) Name' missing but values entered in other columns.\",\"OK\"))","v":"OK"},null,"OK",null,false,1,2,{"$f":"IF(AND(IX707>'Scheme and Member Information'!I707, E707=\"Yes\"),\"\",\"\")","v":""},4,true,true,false,true,false]
[null,{"$f":"'Scheme and Member Information'!B708","v":0},{"$f":"'Scheme and Member Information'!C708","v":0},null,null,null,null,null,null,null,null,null,null,null,null,null,null,null,null,null,null,null,null,null,null,null,null,null,null,null,null,null,null,null,null,null,null,null,null,null,null,null,null,null,null,null,null,null,null,null,null,null,null,null,null,null,null,null,null,null,null,null,null,null,null,null,null,null,null,null,null,null,null,null,null,null,null,null,null,null,null,null,null,null,null,null,null,null,null,null,null,null,null,null,null,null,null,null,null,null,null,null,null,null,null,null,null,null,null,null,null,null,null,null,null,null,null,null,null,null,null,null,null,null,null,null,null,null,null,null,null,null,null,null,null,null,null,null,null,null,null,null,null,null,null,null,null,null,null,null,null,null,null,null,null,null,null,null,null,null,null,null,null,null,null,null,null,null,null,null,null,null,null,null,null,null,null,null,null,null,null,null,null,null,null,null,null,null,null,null,null,null,null,null,null,null,null,null,null,null,null,null,null,null,null,null,null,null,null,null,null,null,null,null,null,null,null,null,null,null,null,null,null,null,null,null,null,null,null,null,null,null,null,null,null,null,null,null,null,null,null,null,null,null,null,null,null,null,null,null,null,null,null,null,null,null,null,0,"TRUE","OK",{"$f":"IF(JE708,VLOOKUP(MIN(JF708:JI708),'Data Validation (hidden)'!$G$30:$H$34,2,FALSE),IF(COUNTA(E708:E708)>0,\"'Scheme (Fund) Name' missing but values entered in other columns.\",\"OK\"))","v":"OK"},null,"OK",null,false,1,2,{"$f":"IF(AND(IX708>'Scheme and Member Information'!I708, E708=\"Yes\"),\"\",\"\")","v":""},4,true,true,false,true,false]
[null,{"$f":"'Scheme and Member Information'!B709","v":0},{"$f":"'Scheme and Member Information'!C709","v":0},null,null,null,null,null,null,null,null,null,null,null,null,null,null,null,null,null,null,null,null,null,null,null,null,null,null,null,null,null,null,null,null,null,null,null,null,null,null,null,null,null,null,null,null,null,null,null,null,null,null,null,null,null,null,null,null,null,null,null,null,null,null,null,null,null,null,null,null,null,null,null,null,null,null,null,null,null,null,null,null,null,null,null,null,null,null,null,null,null,null,null,null,null,null,null,null,null,null,null,null,null,null,null,null,null,null,null,null,null,null,null,null,null,null,null,null,null,null,null,null,null,null,null,null,null,null,null,null,null,null,null,null,null,null,null,null,null,null,null,null,null,null,null,null,null,null,null,null,null,null,null,null,null,null,null,null,null,null,null,null,null,null,null,null,null,null,null,null,null,null,null,null,null,null,null,null,null,null,null,null,null,null,null,null,null,null,null,null,null,null,null,null,null,null,null,null,null,null,null,null,null,null,null,null,null,null,null,null,null,null,null,null,null,null,null,null,null,null,null,null,null,null,null,null,null,null,null,null,null,null,null,null,null,null,null,null,null,null,null,null,null,null,null,null,null,null,null,null,null,null,null,null,null,null,0,"TRUE","OK",{"$f":"IF(JE709,VLOOKUP(MIN(JF709:JI709),'Data Validation (hidden)'!$G$30:$H$34,2,FALSE),IF(COUNTA(E709:E709)>0,\"'Scheme (Fund) Name' missing but values entered in other columns.\",\"OK\"))","v":"OK"},null,"OK",null,false,1,2,{"$f":"IF(AND(IX709>'Scheme and Member Information'!I709, E709=\"Yes\"),\"\",\"\")","v":""},4,true,true,false,true,false]
[null,{"$f":"'Scheme and Member Information'!B710","v":0},{"$f":"'Scheme and Member Information'!C710","v":0},null,null,null,null,null,null,null,null,null,null,null,null,null,null,null,null,null,null,null,null,null,null,null,null,null,null,null,null,null,null,null,null,null,null,null,null,null,null,null,null,null,null,null,null,null,null,null,null,null,null,null,null,null,null,null,null,null,null,null,null,null,null,null,null,null,null,null,null,null,null,null,null,null,null,null,null,null,null,null,null,null,null,null,null,null,null,null,null,null,null,null,null,null,null,null,null,null,null,null,null,null,null,null,null,null,null,null,null,null,null,null,null,null,null,null,null,null,null,null,null,null,null,null,null,null,null,null,null,null,null,null,null,null,null,null,null,null,null,null,null,null,null,null,null,null,null,null,null,null,null,null,null,null,null,null,null,null,null,null,null,null,null,null,null,null,null,null,null,null,null,null,null,null,null,null,null,null,null,null,null,null,null,null,null,null,null,null,null,null,null,null,null,null,null,null,null,null,null,null,null,null,null,null,null,null,null,null,null,null,null,null,null,null,null,null,null,null,null,null,null,null,null,null,null,null,null,null,null,null,null,null,null,null,null,null,null,null,null,null,null,null,null,null,null,null,null,null,null,null,null,null,null,null,null,0,"TRUE","OK",{"$f":"IF(JE710,VLOOKUP(MIN(JF710:JI710),'Data Validation (hidden)'!$G$30:$H$34,2,FALSE),IF(COUNTA(E710:E710)>0,\"'Scheme (Fund) Name' missing but values entered in other columns.\",\"OK\"))","v":"OK"},null,"OK",null,false,1,2,{"$f":"IF(AND(IX710>'Scheme and Member Information'!I710, E710=\"Yes\"),\"\",\"\")","v":""},4,true,true,false,true,false]
[null,{"$f":"'Scheme and Member Information'!B711","v":0},{"$f":"'Scheme and Member Information'!C711","v":0},null,null,null,null,null,null,null,null,null,null,null,null,null,null,null,null,null,null,null,null,null,null,null,null,null,null,null,null,null,null,null,null,null,null,null,null,null,null,null,null,null,null,null,null,null,null,null,null,null,null,null,null,null,null,null,null,null,null,null,null,null,null,null,null,null,null,null,null,null,null,null,null,null,null,null,null,null,null,null,null,null,null,null,null,null,null,null,null,null,null,null,null,null,null,null,null,null,null,null,null,null,null,null,null,null,null,null,null,null,null,null,null,null,null,null,null,null,null,null,null,null,null,null,null,null,null,null,null,null,null,null,null,null,null,null,null,null,null,null,null,null,null,null,null,null,null,null,null,null,null,null,null,null,null,null,null,null,null,null,null,null,null,null,null,null,null,null,null,null,null,null,null,null,null,null,null,null,null,null,null,null,null,null,null,null,null,null,null,null,null,null,null,null,null,null,null,null,null,null,null,null,null,null,null,null,null,null,null,null,null,null,null,null,null,null,null,null,null,null,null,null,null,null,null,null,null,null,null,null,null,null,null,null,null,null,null,null,null,null,null,null,null,null,null,null,null,null,null,null,null,null,null,null,null,0,"TRUE","OK",{"$f":"IF(JE711,VLOOKUP(MIN(JF711:JI711),'Data Validation (hidden)'!$G$30:$H$34,2,FALSE),IF(COUNTA(E711:E711)>0,\"'Scheme (Fund) Name' missing but values entered in other columns.\",\"OK\"))","v":"OK"},null,"OK",null,false,1,2,{"$f":"IF(AND(IX711>'Scheme and Member Information'!I711, E711=\"Yes\"),\"\",\"\")","v":""},4,true,true,false,true,false]
[null,{"$f":"'Scheme and Member Information'!B712","v":0},{"$f":"'Scheme and Member Information'!C712","v":0},null,null,null,null,null,null,null,null,null,null,null,null,null,null,null,null,null,null,null,null,null,null,null,null,null,null,null,null,null,null,null,null,null,null,null,null,null,null,null,null,null,null,null,null,null,null,null,null,null,null,null,null,null,null,null,null,null,null,null,null,null,null,null,null,null,null,null,null,null,null,null,null,null,null,null,null,null,null,null,null,null,null,null,null,null,null,null,null,null,null,null,null,null,null,null,null,null,null,null,null,null,null,null,null,null,null,null,null,null,null,null,null,null,null,null,null,null,null,null,null,null,null,null,null,null,null,null,null,null,null,null,null,null,null,null,null,null,null,null,null,null,null,null,null,null,null,null,null,null,null,null,null,null,null,null,null,null,null,null,null,null,null,null,null,null,null,null,null,null,null,null,null,null,null,null,null,null,null,null,null,null,null,null,null,null,null,null,null,null,null,null,null,null,null,null,null,null,null,null,null,null,null,null,null,null,null,null,null,null,null,null,null,null,null,null,null,null,null,null,null,null,null,null,null,null,null,null,null,null,null,null,null,null,null,null,null,null,null,null,null,null,null,null,null,null,null,null,null,null,null,null,null,null,null,{"$f":"SUM(F712:IW712)","v":0},"TRUE","OK",{"$f":"IF(JE712,VLOOKUP(MIN(JF712:JI712),'Data Validation (hidden)'!$G$30:$H$34,2,FALSE),IF(COUNTA(E712:E712)>0,\"'Scheme (Fund) Name' missing but values entered in other columns.\",\"OK\"))","v":"OK"},null,"OK",null,false,1,2,{"$f":"IF(AND(IX712>'Scheme and Member Information'!I712, E712=\"Yes\"),\"\",\"\")","v":""},4,true,true,false,true,false]
[]
[null,null,null,null,null,null,null,null,null,null,null,null,null,null,null,null,null,null,null,null,null,null,null,null,null,null,null,null,null,null,null,null,null,null,null,null,null,null,null,null,null,null,null,null,null,null,null,null,null,null,null,null,null,null,null,null,null,null,null,null,null,null,null,null,null,null,null,null,null,null,null,null,null,null,null,null,null,null,null,null,null,null,null,null,null,null,null,null,null,null,null,null,null,null,null,null,null,null,null,null,null,null,null,null,null,null,null,null,null,null,null,null,null,null,null,null,null,null,null,null,null,null,null,null,null,null,null,null,null,null,null,null,null,null,null,null,null,null,null,null,null,null,null,null,null,null,null,null,null,null,null,null,null,null,null,null,null,null,null,null,null,null,null,null,null,null,null,null,null,null,null,null,null,null,null,null,null,null,null,null,null,null,null,null,null,null,null,null,null,null,null,null,null,null,null,null,null,null,null,null,null,null,null,null,null,null,null,null,null,null,null,null,null,null,null,null,null,null,null,null,null,null,null,null,null,null,null,null,null,null,null,null,null,null,null,null,null,null,null,null,null,null,null,null,null,null,null,null,null,null,null,null,null,null,null,null,null,null,null,null,null,null,{"$f":"IF(COUNTA(JC8:JC712) - COUNTIF(JC8:JC712,\"OK\") = 0, \"\", \"VALIDATION ERROR IN SHEET\")","v":""}]
[]
[]
[]
[]
[]
[]
[null,null,null,null,"HIDDEN BELOW"]
[]
[null,null,null,null,"HIDDEN ABOVE"]

{"sheet":"Financial Information","index":6,"n_rows":723,"n_cols":56,"rows_kept":723,"cut":false,"hidden":false,"merged":[[1,1,1,16],[5,39,5,54],[2,6,2,12],[2,1,2,5],[3,13,3,16],[3,1,3,5],[3,6,3,12]]}
[null,null,null,null,null,null,null,null,null,null,null,null,null,null,null,null,null,null,null,null,"Today:",null,null,null,null,null,null,{"$f":"TODAY()","v":"2018-12-13"}]
[null,"FINANCIAL INFORMATION",null,null,null,null,null,null,null,null,null,null,null,null,null,null,null,null,null,null,"Validation checks (hidden)"]
[null,"Please provide the following Financial Information for the Scheme\n\n1. Is there a previous set of Financial Statements i.e. Have you produced settlement accounts for the scheme?\n\n2. If the answer to question 1 is 'Yes', then please state the Period End Date of the last finalised set of Financial Statements.\n\n3. Previous Scheme year end or agreed reporting date.\n\n4. Total Market Value of the Scheme as at the previous Scheme year end or agreed reporting date in GBP.\n\n5. Total Contributions received (including transfers in) during the Reporting Period in GBP.\n\n6. Total benefits paid and transfers out in the Reporting Period in GBP.\n\n7. Total income received in the Reporting Period in GBP.\n\n8. Total expenses incurred in the Reporting Period in GBP.\n",null,null,null,null,"9. The Total Market Value of the Scheme is automatically calculated.\n\n10. The Scheme's market value increase/decrease is automatically calculated.\n\n11.  This question is dependant on the percentage increase/decrease of the Scheme's Market Value. Please explain why the Market Value of the Scheme has increased/decreased by 15%.\n\n12. If the Scheme's Total Market Value is less than £1000, please explain why.\n\n13. Licensee revenue from the Scheme during the Reporting Period in GBP (e.g. licensee fees and charges).\n\n14. Any other income generated for the licensee by the Scheme during the period (e.g. retrocessions).",null,null,null,null,null,null,"Total Value of\nSchemes listed",{"$f":"SUM(L8:L717)","v":0}]
[]
[null,null,null,null,null,null,null,null,null,null,null,null,null,null,null,null,null,null,{"$f":"IF(COUNTA(S8:S717) - COUNTIF(S8:S717,\"OK\") - COUNTIF(S8:S717,\"\") = 0, \"Validation Check Passed\", \"Validation error on row \" & S6)","v":"Validation Check Passed"}]
[null,null,null,1,2,3,4,5,6,7,8,9,10,11,12,13,14,null,{"$f":"IFERROR(ROW(INDEX(S8:S717,MATCH(TRUE,BD8:BD717,0),0)),0)","v":0},null,null,null,null,null,null,null,null,null,null,null,null,null,null,null,null,null,null,null,null,"Cell Formatting Checks"]
[null,"Pension Scheme or Gratuity Scheme Name","GFSC Reference (of the Scheme)","Previous\nFinancial\nStatements","Financial\nStatements\nEnd Date","Previous\nYear End","Previous Year\nEnd Market Value\n(GBP)","Total Contributions\ninto the Scheme\n(GBP)","Total Paid or\nTransferred Out\n(GBP)","Total Income\n(GBP)","Total Expenses\n(GBP)","Total Market\nValue\n(GBP)","Total\nIncrease / Decrease\n(GBP)","Market Value\nChange (Reason)","Why the Market Value\n< £1000","Licensee\nRevenue\n(GBP)","Other Income\n(GBP)",null,"Validation Check",null,"Has Scheme (Fund) Name","GFSC Ref","Previous\nFinancial\nStatements","Financial\nStatements\nEnd Date","Previous\nYear End","Previous\nYear End\nMarket\nValue","Total Contributions\ninto the Scheme","Total Paid or Transferred\nOut","Total\nIncome","Total\nExpenses","Total Market\nValue","Total Increase / Decrease","Market Value\nChange","Why Market Value < £1000","Licensee\nRevenue","Other Income","Validation OK","Formatting error","Market Value Increase Decrease Percentage","GFSC Name format valid","GFSC Reference format valid?","Previous\nFinancial\nStatements","Financial\nStatements\nEnd Date","Previous\nYear End","Previous Year End\nMarket Value","Total Contributions into\nthe Scheme","Total Paid or\nTransferred Out","Total Income","Total Expenses","Total Market\nValue","Total Increase / Decrease","Market Value Change","Why Market Value\n< £1000","Licensee Revenue","Other Income","Error status"]
[null,{"$f":"'Scheme and Member Information'!B8","v":0},{"$f":"'Scheme and Member Information'!C8","v":0},null,null,null,null,null,null,null,null,{"$f":"IF(AND(G8<>\"\",H8<>\"\",I8<>\"\",J8<>\"\",K8<>\"\"),(G8+H8+J8)-(I8+K8),\"\")","v":""},{"$f":"IF((L8=\"\"),\"\",(L8-G8))","v":""},null,null,null,null,null,{"$f":"IF(U8,VLOOKUP(MIN(V8:AL8),'Data Validation (hidden)'!$G$2:$H$18,2,FALSE),IF((COUNTA(D8:K8))+(COUNTA(N8:Q8))>0,\"'Scheme Name' missing but values entered in other columns\",\"\"))","v":""},null,{"$f":"AND(B8<>\"\",B8<>0)","v":false},{"$f":"IF(C8=\"\",1,IF(C8=0,1,\"\"))","v":1},{"$f":"IF(D8=\"\",2,\"\")","v":2},{"$f":"IF(D8=\"No\",\"\",IF(E8=\"\",3,\"\"))","v":3},{"$f":"IF(F8=\"\",4,\"\")","v":4},{"$f":"IF(G8=\"\",5,\"\")","v":5},{"$f":"IF(H8=\"\",6,\"\")","v":6},{"$f":"IF(I8=\"\",7,\"\")","v":7},{"$f":"IF(J8=\"\",8,\"\")","v":8},{"$f":"IF(K8=\"\",9,\"\")","v":9},{"$f":"IF(L8=\"\",10,\"\")","v":10},{"$f":"IF(M8=\"\",11,\"\")","v":11},{"$f":"IF(N8=\"\",IF(AM8<0.149,\"\",12),\"\")","v":""},{"$f":"IF(O8=\"\",IF(L8>999,\"\",13),\"\")","v":""},{"$f":"IF(P8=\"\",14,\"\")","v":14},{"$f":"IF(Q8=\"\",15,\"\")","v":15},{"$f":"IF(COUNT(V8:AJ8)=0,\"10\",\"\")","v":""},{"$f":"IF(AND(AN8,AO8,AP8,AQ8,AR8,AS8,AT8,AU8,AV8,AW8,AX8,AY8,AZ8,BA8,BB8,BC8)=TRUE,\"\",16)","v":""},{"$f":"IF(OR(G8=\"\",L8=\"\",AND(G8=0,L8=0)),0,IF((G8>L8),((G8-L8)/G8),((L8-G8)/G8)))","v":0},{"$f":"IF(CELL(\"format\", B8) = \"G\",TRUE,FALSE)","v":true},{"$f":"IF(CELL(\"format\", C8) = \"F0\",TRUE,FALSE)","v":true},{"$f":"IF(CELL(\"format\", D8) = \"G\",TRUE,FALSE)","v":true},{"$f":"IF(CELL(\"format\", E8) = \"D1\",TRUE,FALSE)","v":true},{"$f":"IF(CELL(\"format\", F8) = \"D1\",TRUE,FALSE)","v":true},{"$f":"IF(CELL(\"format\", G8) = \"C0\",TRUE,FALSE)","v":true},true,true,true,true,true,true,{"$f":"IF(CELL(\"format\", N8) = \"G\",TRUE,FALSE)","v":true},{"$f":"IF(CELL(\"format\", O8) = \"G\",TRUE,FALSE)","v":true},{"$f":"IF(CELL(\"format\", P8) = \"C0\",TRUE,FALSE)","v":true},{"$f":"IF(CELL(\"format\", Q8) = \"C0\",TRUE,FALSE)","v":true},{"$f":"IF(S8=\"\",FALSE,IF(S8=\"OK\",FALSE,TRUE))","v":false}]
[null,{"$f":"'Scheme and Member Information'!B9","v":0},{"$f":"'Scheme and Member Information'!C9","v":0},null,null,null,null,null,null,null,null,{"$f":"IF(AND(G9<>\"\",H9<>\"\",I9<>\"\",J9<>\"\",K9<>\"\"),(G9+H9+J9)-(I9+K9),\"\")","v":""},{"$f":"IF((L9=\"\"),\"\",(L9-G9))","v":""},null,null,null,null,null,{"$f":"IF(U9,VLOOKUP(MIN(V9:AL9),'Data Validation (hidden)'!$G$2:$H$18,2,FALSE),IF((COUNTA(D9:K9))+(COUNTA(N9:Q9))>0,\"'Scheme Name' missing but values entered in other columns\",\"\"))","v":""},null,{"$f":"AND(B9<>\"\",B9<>0)","v":false},{"$f":"IF(C9=\"\",1,IF(C9=0,1,\"\"))","v":1},{"$f":"IF(D9=\"\",2,\"\")","v":2},{"$f":"IF(D9=\"No\",\"\",IF(E9=\"\",3,\"\"))","v":3},{"$f":"IF(F9=\"\",4,\"\")","v":4},{"$f":"IF(G9=\"\",5,\"\")","v":5},{"$f":"IF(H9=\"\",6,\"\")","v":6},{"$f":"IF(I9=\"\",7,\"\")","v":7},{"$f":"IF(J9=\"\",8,\"\")","v":8},{"$f":"IF(K9=\"\",9,\"\")","v":9},{"$f":"IF(L9=\"\",10,\"\")","v":10},{"$f":"IF(M9=\"\",11,\"\")","v":11},{"$f":"IF(N9=\"\",IF(AM9<0.14,\"\",12),\"\")","v":""},{"$f":"IF(O9=\"\",IF(L9>999,\"\",13),\"\")","v":""},{"$f":"IF(P9=\"\",14,\"\")","v":14},{"$f":"IF(Q9=\"\",15,\"\")","v":15},{"$f":"IF(COUNT(V9:AJ9)=0,\"10\",\"\")","v":""},{"$f":"IF(AND(AN9,AO9,AP9,AQ9,AR9,AS9,AT9,AU9,AV9,AW9,AX9,AY9,AZ9,BA9,BB9,BC9)=TRUE,\"\",16)","v":""},{"$f":"IF(OR(G9=\"\",L9=\"\",AND(G9=0,L9=0)),0,IF((G9>L9),((G9-L9)/G9),((L9-G9)/G9)))","v":0},{"$f":"IF(CELL(\"format\", B9) = \"G\",TRUE,FALSE)","v":true},{"$f":"IF(CELL(\"format\", C9) = \"F0\",TRUE,FALSE)","v":true},{"$f":"IF(CELL(\"format\", D9) = \"G\",TRUE,FALSE)","v":true},{"$f":"IF(CELL(\"format\", E9) = \"D1\",TRUE,FALSE)","v":true},{"$f":"IF(CELL(\"format\", F9) = \"D1\",TRUE,FALSE)","v":true},{"$f":"IF(CELL(\"format\", G9) = \"C0\",TRUE,FALSE)","v":true},{"$f":"IF(CELL(\"format\", H9) = \"C0\",TRUE,FALSE)","v":true},{"$f":"IF(CELL(\"format\", I9) = \"C0\",TRUE,FALSE)","v":true},{"$f":"IF(CELL(\"format\", J9) = \"C0\",TRUE,FALSE)","v":true},{"$f":"IF(CELL(\"format\", K9) = \"C0\",TRUE,FALSE)","v":true},{"$f":"IF(CELL(\"format\", L9) = \"C0\",TRUE,FALSE)","v":true},{"$f":"IF(CELL(\"format\", M9) = \"C0\",TRUE,FALSE)","v":true},{"$f":"IF(CELL(\"format\", N9) = \"G\",TRUE,FALSE)","v":true},{"$f":"IF(CELL(\"format\", O9) = \"G\",TRUE,FALSE)","v":true},{"$f":"IF(CELL(\"format\", P9) = \"C0\",TRUE,FALSE)","v":true},{"$f":"IF(CELL(\"format\", Q9) = \"C0\",TRUE,FALSE)","v":true},false]
[null,{"$f":"'Scheme and Member Information'!B10","v":0},{"$f":"'Scheme and Member Information'!C10","v":0},null,null,null,null,null,null,null,null,"","",null,null,null,null,null,{"$f":"IF(U10,VLOOKUP(MIN(V10:AL10),'Data Validation (hidden)'!$G$2:$H$18,2,FALSE),IF((COUNTA(D10:K10))+(COUNTA(N10:Q10))>0,\"'Scheme Name' missing but values entered in other columns\",\"\"))","v":""},null,false,1,2,3,4,5,6,7,8,9,10,11,{"$f":"IF(N10=\"\",IF(AM10<0.14,\"\",12),\"\")","v":""},"",14,15,"","",0,true,true,true,true,true,true,true,true,true,true,true,true,true,true,true,true,false]
[null,{"$f":"'Scheme and Member Information'!B11","v":0},{"$f":"'Scheme and Member Information'!C11","v":0},null,null,null,null,null,null,null,null,"","",null,null,null,null,null,{"$f":"IF(U11,VLOOKUP(MIN(V11:AL11),'Data Validation (hidden)'!$G$2:$H$18,2,FALSE),IF((COUNTA(D11:K11))+(COUNTA(N11:Q11))>0,\"'Scheme Name' missing but values entered in other columns\",\"\"))","v":""},null,false,1,2,3,4,5,6,7,8,9,10,11,"","",14,15,"","",0,true,true,true,true,true,true,true,true,true,true,true,true,true,true,true,true,false]
[null,{"$f":"'Scheme and Member Information'!B12","v":0},{"$f":"'Scheme and Member Information'!C12","v":0},null,null,null,null,null,null,null,null,"","",null,null,null,null,null,{"$f":"IF(U12,VLOOKUP(MIN(V12:AL12),'Data Validation (hidden)'!$G$2:$H$18,2,FALSE),IF((COUNTA(D12:K12))+(COUNTA(N12:Q12))>0,\"'Scheme Name' missing but values entered in other columns\",\"\"))","v":""},null,false,1,2,3,4,5,6,7,8,9,10,11,"","",14,15,"","",0,true,true,true,true,true,true,true,true,true,true,true,true,true,true,true,true,false]
[null,{"$f":"'Scheme and Member Information'!B13","v":0},{"$f":"'Scheme and Member Information'!C13","v":0},null,null,null,null,null,null,null,null,"","",null,null,null,null,null,{"$f":"IF(U13,VLOOKUP(MIN(V13:AL13),'Data Validation (hidden)'!$G$2:$H$18,2,FALSE),IF((COUNTA(D13:K13))+(COUNTA(N13:Q13))>0,\"'Scheme Name' missing but values entered in other columns\",\"\"))","v":""},null,false,1,2,3,4,5,6,7,8,9,10,11,"","",14,15,"","",0,true,true,true,true,true,true,true,true,true,true,true,true,true,true,true,true,false]
[null,{"$f":"'Scheme and Member Information'!B14","v":0},{"$f":"'Scheme and Member Information'!C14","v":0},null,null,null,null,null,null,null,null,"","",null,null,null,null,null,{"$f":"IF(U14,VLOOKUP(MIN(V14:AL14),'Data Validation (hidden)'!$G$2:$H$18,2,FALSE),IF((COUNTA(D14:K14))+(COUNTA(N14:Q14))>0,\"'Scheme Name' missing but values entered in other columns\",\"\"))","v":""},null,false,1,2,3,4,5,6,7,8,9,10,11,"","",14,15,"","",0,true,true,true,true,true,true,true,true,true,true,true,true,true,true,true,true,false]
[null,{"$f":"'Scheme and Member Information'!B15","v":0},{"$f":"'Scheme and Member Information'!C15","v":0},null,null,null,null,null,null,null,null,"","",null,null,null,null,null,{"$f":"IF(U15,VLOOKUP(MIN(V15:AL15),'Data Validation (hidden)'!$G$2:$H$18,2,FALSE),IF((COUNTA(D15:K15))+(COUNTA(N15:Q15))>0,\"'Scheme Name' missing but values entered in other columns\",\"\"))","v":""},null,false,1,2,3,4,5,6,7,8,9,10,11,"","",14,15,"","",0,true,true,true,true,true,true,true,true,true,true,true,true,true,true,true,true,false]
[null,{"$f":"'Scheme and Member Information'!B16","v":0},{"$f":"'Scheme and Member Information'!C16","v":0},null,null,null,null,null,null,null,null,"","",null,null,null,null,null,{"$f":"IF(U16,VLOOKUP(MIN(V16:AL16),'Data Validation (hidden)'!$G$2:$H$18,2,FALSE),IF((COUNTA(D16:K16))+(COUNTA(N16:Q16))>0,\"'Scheme Name' missing but values entered in other columns\",\"\"))","v":""},null,false,1,2,3,4,5,6,7,8,9,10,11,"","",14,15,"","",0,true,true,true,true,true,true,true,true,true,true,true,true,true,true,true,true,false]
[null,{"$f":"'Scheme and Member Information'!B17","v":0},{"$f":"'Scheme and Member Information'!C17","v":0},null,null,null,null,null,null,null,null,"","",null,null,null,null,null,{"$f":"IF(U17,VLOOKUP(MIN(V17:AL17),'Data Validation (hidden)'!$G$2:$H$18,2,FALSE),IF((COUNTA(D17:K17))+(COUNTA(N17:Q17))>0,\"'Scheme Name' missing but values entered in other columns\",\"\"))","v":""},null,false,1,2,3,4,5,6,7,8,9,10,11,"","",14,15,"","",0,true,true,true,true,true,true,true,true,true,true,true,true,true,true,true,true,false]
[null,{"$f":"'Scheme and Member Information'!B18","v":0},{"$f":"'Scheme and Member Information'!C18","v":0},null,null,null,null,null,null,null,null,"","",null,null,null,null,null,{"$f":"IF(U18,VLOOKUP(MIN(V18:AL18),'Data Validation (hidden)'!$G$2:$H$18,2,FALSE),IF((COUNTA(D18:K18))+(COUNTA(N18:Q18))>0,\"'Scheme Name' missing but values entered in other columns\",\"\"))","v":""},null,false,1,2,3,4,5,6,7,8,9,10,11,"","",14,15,"","",0,true,true,true,true,true,true,true,true,true,true,true,true,true,true,true,true,false]
[null,{"$f":"'Scheme and Member Information'!B19","v":0},{"$f":"'Scheme and Member Information'!C19","v":0},null,null,null,null,null,null,null,null,"","",null,null,null,null,null,{"$f":"IF(U19,VLOOKUP(MIN(V19:AL19),'Data Validation (hidden)'!$G$2:$H$18,2,FALSE),IF((COUNTA(D19:K19))+(COUNTA(N19:Q19))>0,\"'Scheme Name' missing but values entered in other columns\",\"\"))","v":""},null,false,1,2,3,4,5,6,7,8,9,10,11,"","",14,15,"","",0,true,true,true,true,true,true,true,true,true,true,true,true,true,true,true,true,false]
[null,{"$f":"'Scheme and Member Information'!B20","v":0},{"$f":"'Scheme and Member Information'!C20","v":0},null,null,null,null,null,null,null,null,"","",null,null,null,null,null,{"$f":"IF(U20,VLOOKUP(MIN(V20:AL20),'Data Validation (hidden)'!$G$2:$H$18,2,FALSE),IF((COUNTA(D20:K20))+(COUNTA(N20:Q20))>0,\"'Scheme Name' missing but values entered in other columns\",\"\"))","v":""},null,false,1,2,3,4,5,6,7,8,9,10,11,"","",14,15,"","",0,true,true,true,true,true,true,true,true,true,true,true,true,true,true,true,true,false]
[null,{"$f":"'Scheme and Member Information'!B21","v":0},{"$f":"'Scheme and Member Information'!C21","v":0},null,null,null,null,null,null,null,null,"","",null,null,null,null,null,{"$f":"IF(U21,VLOOKUP(MIN(V21:AL21),'Data Validation (hidden)'!$G$2:$H$18,2,FALSE),IF((COUNTA(D21:K21))+(COUNTA(N21:Q21))>0,\"'Scheme Name' missing but values entered in other columns\",\"\"))","v":""},null,false,1,2,3,4,5,6,7,8,9,10,11,"","",14,15,"","",0,true,true,true,true,true,true,true,true,true,true,true,true,true,true,true,true,false]
[null,{"$f":"'Scheme and Member Information'!B22","v":0},{"$f":"'Scheme and Member Information'!C22","v":0},null,null,null,null,null,null,null,null,"","",null,null,null,null,null,{"$f":"IF(U22,VLOOKUP(MIN(V22:AL22),'Data Validation (hidden)'!$G$2:$H$18,2,FALSE),IF((COUNTA(D22:K22))+(COUNTA(N22:Q22))>0,\"'Scheme Name' missing but values entered in other columns\",\"\"))","v":""},null,false,1,2,3,4,5,6,7,8,9,10,11,"","",14,15,"","",0,true,true,true,true,true,true,true,true,true,true,true,true,true,true,true,true,false]
[null,{"$f":"'Scheme and Member Information'!B23","v":0},{"$f":"'Scheme and Member Information'!C23","v":0},null,null,null,null,null,null,null,null,"","",null,null,null,null,null,{"$f":"IF(U23,VLOOKUP(MIN(V23:AL23),'Data Validation (hidden)'!$G$2:$H$18,2,FALSE),IF((COUNTA(D23:K23))+(COUNTA(N23:Q23))>0,\"'Scheme Name' missing but values entered in other columns\",\"\"))","v":""},null,false,1,2,3,4,5,6,7,8,9,10,11,"","",14,15,"","",0,true,true,true,true,true,true,true,true,true,true,true,true,true,true,true,true,false]
[null,{"$f":"'Scheme and Member Information'!B24","v":0},{"$f":"'Scheme and Member Information'!C24","v":0},null,null,null,null,null,null,null,null,"","",null,null,null,null,null,{"$f":"IF(U24,VLOOKUP(MIN(V24:AL24),'Data Validation (hidden)'!$G$2:$H$18,2,FALSE),IF((COUNTA(D24:K24))+(COUNTA(N24:Q24))>0,\"'Scheme Name' missing but values entered in other columns\",\"\"))","v":""},null,false,1,2,3,4,5,6,7,8,9,10,11,"","",14,15,"","",0,true,true,true,true,true,true,true,true,true,true,true,true,true,true,true,true,false]
[null,{"$f":"'Scheme and Member Information'!B25","v":0},{"$f":"'Scheme and Member Information'!C25","v":0},null,null,null,null,null,null,null,null,"","",null,null,null,null,null,{"$f":"IF(U25,VLOOKUP(MIN(V25:AL25),'Data Validation (hidden)'!$G$2:$H$18,2,FALSE),IF((COUNTA(D25:K25))+(COUNTA(N25:Q25))>0,\"'Scheme Name' missing but values entered in other columns\",\"\"))","v":""},null,false,1,2,3,4,5,6,7,8,9,10,11,"","",14,15,"","",0,true,true,true,true,true,true,true,true,true,true,true,true,true,true,true,true,false]
[null,{"$f":"'Scheme and Member Information'!B26","v":0},{"$f":"'Scheme and Member Information'!C26","v":0},null,null,null,null,null,null,null,null,"","",null,null,null,null,null,{"$f":"IF(U26,VLOOKUP(MIN(V26:AL26),'Data Validation (hidden)'!$G$2:$H$18,2,FALSE),IF((COUNTA(D26:K26))+(COUNTA(N26:Q26))>0,\"'Scheme Name' missing but values entered in other columns\",\"\"))","v":""},null,false,1,2,3,4,5,6,7,8,9,10,11,"","",14,15,"","",0,true,true,true,true,true,true,true,true,true,true,true,true,true,true,true,true,false]
[null,{"$f":"'Scheme and Member Information'!B27","v":0},{"$f":"'Scheme and Member Information'!C27","v":0},null,null,null,null,null,null,null,null,"","",null,null,null,null,null,{"$f":"IF(U27,VLOOKUP(MIN(V27:AL27),'Data Validation (hidden)'!$G$2:$H$18,2,FALSE),IF((COUNTA(D27:K27))+(COUNTA(N27:Q27))>0,\"'Scheme Name' missing but values entered in other columns\",\"\"))","v":""},null,false,1,2,3,4,5,6,7,8,9,10,11,"","",14,15,"","",0,true,true,true,true,true,true,true,true,true,true,true,true,true,true,true,true,false]
[null,{"$f":"'Scheme and Member Information'!B28","v":0},{"$f":"'Scheme and Member Information'!C28","v":0},null,null,null,null,null,null,null,null,"","",null,null,null,null,null,{"$f":"IF(U28,VLOOKUP(MIN(V28:AL28),'Data Validation (hidden)'!$G$2:$H$18,2,FALSE),IF((COUNTA(D28:K28))+(COUNTA(N28:Q28))>0,\"'Scheme Name' missing but values entered in other columns\",\"\"))","v":""},null,false,1,2,3,4,5,6,7,8,9,10,11,"","",14,15,"","",0,true,true,true,true,true,true,true,true,true,true,true,true,true,true,true,true,false]
[null,{"$f":"'Scheme and Member Information'!B29","v":0},{"$f":"'Scheme and Member Information'!C29","v":0},null,null,null,null,null,null,null,null,"","",null,null,null,null,null,{"$f":"IF(U29,VLOOKUP(MIN(V29:AL29),'Data Validation (hidden)'!$G$2:$H$18,2,FALSE),IF((COUNTA(D29:K29))+(COUNTA(N29:Q29))>0,\"'Scheme Name' missing but values entered in other columns\",\"\"))","v":""},null,false,1,2,3,4,5,6,7,8,9,10,11,"","",14,15,"","",0,true,true,true,true,true,true,true,true,true,true,true,true,true,true,true,true,false]
[null,{"$f":"'Scheme and Member Information'!B30","v":0},{"$f":"'Scheme and Member Information'!C30","v":0},null,null,null,null,null,null,null,null,"","",null,null,null,null,null,{"$f":"IF(U30,VLOOKUP(MIN(V30:AL30),'Data Validation (hidden)'!$G$2:$H$18,2,FALSE),IF((COUNTA(D30:K30))+(COUNTA(N30:Q30))>0,\"'Scheme Name' missing but values entered in other columns\",\"\"))","v":""},null,false,1,2,3,4,5,6,7,8,9,10,11,"","",14,15,"","",0,true,true,true,true,true,true,true,true,true,true,true,true,true,true,true,true,false]
[null,{"$f":"'Scheme and Member Information'!B31","v":0},{"$f":"'Scheme and Member Information'!C31","v":0},null,null,null,null,null,null,null,null,"","",null,null,null,null,null,{"$f":"IF(U31,VLOOKUP(MIN(V31:AL31),'Data Validation (hidden)'!$G$2:$H$18,2,FALSE),IF((COUNTA(D31:K31))+(COUNTA(N31:Q31))>0,\"'Scheme Name' missing but values entered in other columns\",\"\"))","v":""},null,false,1,2,3,4,5,6,7,8,9,10,11,"","",14,15,"","",0,true,true,true,true,true,true,true,true,true,true,true,true,true,true,true,true,false]
[null,{"$f":"'Scheme and Member Information'!B32","v":0},{"$f":"'Scheme and Member Information'!C32","v":0},null,null,null,null,null,null,null,null,"","",null,null,null,null,null,{"$f":"IF(U32,VLOOKUP(MIN(V32:AL32),'Data Validation (hidden)'!$G$2:$H$18,2,FALSE),IF((COUNTA(D32:K32))+(COUNTA(N32:Q32))>0,\"'Scheme Name' missing but values entered in other columns\",\"\"))","v":""},null,false,1,2,3,4,5,6,7,8,9,10,11,"","",14,15,"","",0,true,true,true,true,true,true,true,true,true,true,true,true,true,true,true,true,false]
[null,{"$f":"'Scheme and Member Information'!B33","v":0},{"$f":"'Scheme and Member Information'!C33","v":0},null,null,null,null,null,null,null,null,"","",null,null,null,null,null,{"$f":"IF(U33,VLOOKUP(MIN(V33:AL33),'Data Validation (hidden)'!$G$2:$H$18,2,FALSE),IF((COUNTA(D33:K33))+(COUNTA(N33:Q33))>0,\"'Scheme Name' missing but values entered in other columns\",\"\"))","v":""},null,false,1,2,3,4,5,6,7,8,9,10,11,"","",14,15,"","",0,true,true,true,true,true,true,true,true,true,true,true,true,true,true,true,true,false]
[null,{"$f":"'Scheme and Member Information'!B34","v":0},{"$f":"'Scheme and Member Information'!C34","v":0},null,null,null,null,null,null,null,null,"","",null,null,null,null,null,{"$f":"IF(U34,VLOOKUP(MIN(V34:AL34),'Data Validation (hidden)'!$G$2:$H$18,2,FALSE),IF((COUNTA(D34:K34))+(COUNTA(N34:Q34))>0,\"'Scheme Name' missing but values entered in other columns\",\"\"))","v":""},null,false,1,2,3,4,5,6,7,8,9,10,11,"","",14,15,"","",0,true,true,true,true,true,true,true,true,true,true,true,true,true,true,true,true,false]
[null,{"$f":"'Scheme and Member Information'!B35","v":0},{"$f":"'Scheme and Member Information'!C35","v":0},null,null,null,null,null,null,null,null,"","",null,null,null,null,null,{"$f":"IF(U35,VLOOKUP(MIN(V35:AL35),'Data Validation (hidden)'!$G$2:$H$18,2,FALSE),IF((COUNTA(D35:K35))+(COUNTA(N35:Q35))>0,\"'Scheme Name' missing but values entered in other columns\",\"\"))","v":""},null,false,1,2,3,4,5,6,7,8,9,10,11,"","",14,15,"","",0,true,true,true,true,true,true,true,true,true,true,true,true,true,true,true,true,false]
[null,{"$f":"'Scheme and Member Information'!B36","v":0},{"$f":"'Scheme and Member Information'!C36","v":0},null,null,null,null,null,null,null,null,"","",null,null,null,null,null,{"$f":"IF(U36,VLOOKUP(MIN(V36:AL36),'Data Validation (hidden)'!$G$2:$H$18,2,FALSE),IF((COUNTA(D36:K36))+(COUNTA(N36:Q36))>0,\"'Scheme Name' missing but values entered in other columns\",\"\"))","v":""},null,false,1,2,3,4,5,6,7,8,9,10,11,"","",14,15,"","",0,true,true,true,true,true,true,true,true,true,true,true,true,true,true,true,true,false]
[null,{"$f":"'Scheme and Member Information'!B37","v":0},{"$f":"'Scheme and Member Information'!C37","v":0},null,null,null,null,null,null,null,null,"","",null,null,null,null,null,{"$f":"IF(U37,VLOOKUP(MIN(V37:AL37),'Data Validation (hidden)'!$G$2:$H$18,2,FALSE),IF((COUNTA(D37:K37))+(COUNTA(N37:Q37))>0,\"'Scheme Name' missing but values entered in other columns\",\"\"))","v":""},null,false,1,2,3,4,5,6,7,8,9,10,11,"","",14,15,"","",0,true,true,true,true,true,true,true,true,true,true,true,true,true,true,true,true,false]
[null,{"$f":"'Scheme and Member Information'!B38","v":0},{"$f":"'Scheme and Member Information'!C38","v":0},null,null,null,null,null,null,null,null,"","",null,null,null,null,null,{"$f":"IF(U38,VLOOKUP(MIN(V38:AL38),'Data Validation (hidden)'!$G$2:$H$18,2,FALSE),IF((COUNTA(D38:K38))+(COUNTA(N38:Q38))>0,\"'Scheme Name' missing but values entered in other columns\",\"\"))","v":""},null,false,1,2,3,4,5,6,7,8,9,10,11,"","",14,15,"","",0,true,true,true,true,true,true,true,true,true,true,true,true,true,true,true,true,false]
[null,{"$f":"'Scheme and Member Information'!B39","v":0},{"$f":"'Scheme and Member Information'!C39","v":0},null,null,null,null,null,null,null,null,"","",null,null,null,null,null,{"$f":"IF(U39,VLOOKUP(MIN(V39:AL39),'Data Validation (hidden)'!$G$2:$H$18,2,FALSE),IF((COUNTA(D39:K39))+(COUNTA(N39:Q39))>0,\"'Scheme Name' missing but values entered in other columns\",\"\"))","v":""},null,false,1,2,3,4,5,6,7,8,9,10,11,"","",14,15,"","",0,true,true,true,true,true,true,true,true,true,true,true,true,true,true,true,true,false]
[null,{"$f":"'Scheme and Member Information'!B40","v":0},{"$f":"'Scheme and Member Information'!C40","v":0},null,null,null,null,null,null,null,null,"","",null,null,null,null,null,{"$f":"IF(U40,VLOOKUP(MIN(V40:AL40),'Data Validation (hidden)'!$G$2:$H$18,2,FALSE),IF((COUNTA(D40:K40))+(COUNTA(N40:Q40))>0,\"'Scheme Name' missing but values entered in other columns\",\"\"))","v":""},null,false,1,2,3,4,5,6,7,8,9,10,11,"","",14,15,"","",0,true,true,true,true,true,true,true,true,true,true,true,true,true,true,true,true,false]
[null,{"$f":"'Scheme and Member Information'!B41","v":0},{"$f":"'Scheme and Member Information'!C41","v":0},null,null,null,null,null,null,null,null,"","",null,null,null,null,null,{"$f":"IF(U41,VLOOKUP(MIN(V41:AL41),'Data Validation (hidden)'!$G$2:$H$18,2,FALSE),IF((COUNTA(D41:K41))+(COUNTA(N41:Q41))>0,\"'Scheme Name' missing but values entered in other columns\",\"\"))","v":""},null,false,1,2,3,4,5,6,7,8,9,10,11,"","",14,15,"","",0,true,true,true,true,true,true,true,true,true,true,true,true,true,true,true,true,false]
[null,{"$f":"'Scheme and Member Information'!B42","v":0},{"$f":"'Scheme and Member Information'!C42","v":0},null,null,null,null,null,null,null,null,"","",null,null,null,null,null,{"$f":"IF(U42,VLOOKUP(MIN(V42:AL42),'Data Validation (hidden)'!$G$2:$H$18,2,FALSE),IF((COUNTA(D42:K42))+(COUNTA(N42:Q42))>0,\"'Scheme Name' missing but values entered in other columns\",\"\"))","v":""},null,false,1,2,3,4,5,6,7,8,9,10,11,"","",14,15,"","",0,true,true,true,true,true,true,true,true,true,true,true,true,true,true,true,true,false]
[null,{"$f":"'Scheme and Member Information'!B43","v":0},{"$f":"'Scheme and Member Information'!C43","v":0},null,null,null,null,null,null,null,null,"","",null,null,null,null,null,{"$f":"IF(U43,VLOOKUP(MIN(V43:AL43),'Data Validation (hidden)'!$G$2:$H$18,2,FALSE),IF((COUNTA(D43:K43))+(COUNTA(N43:Q43))>0,\"'Scheme Name' missing but values entered in other columns\",\"\"))","v":""},null,false,1,2,3,4,5,6,7,8,9,10,11,"","",14,15,"","",0,true,true,true,true,true,true,true,true,true,true,true,true,true,true,true,true,false]
[null,{"$f":"'Scheme and Member Information'!B44","v":0},{"$f":"'Scheme and Member Information'!C44","v":0},null,null,null,null,null,null,null,null,"","",null,null,null,null,null,{"$f":"IF(U44,VLOOKUP(MIN(V44:AL44),'Data Validation (hidden)'!$G$2:$H$18,2,FALSE),IF((COUNTA(D44:K44))+(COUNTA(N44:Q44))>0,\"'Scheme Name' missing but values entered in other columns\",\"\"))","v":""},null,false,1,2,3,4,5,6,7,8,9,10,11,"","",14,15,"","",0,true,true,true,true,true,true,true,true,true,true,true,true,true,true,true,true,false]
[null,{"$f":"'Scheme and Member Information'!B45","v":0},{"$f":"'Scheme and Member Information'!C45","v":0},null,null,null,null,null,null,null,null,"","",null,null,null,null,null,{"$f":"IF(U45,VLOOKUP(MIN(V45:AL45),'Data Validation (hidden)'!$G$2:$H$18,2,FALSE),IF((COUNTA(D45:K45))+(COUNTA(N45:Q45))>0,\"'Scheme Name' missing but values entered in other columns\",\"\"))","v":""},null,false,1,2,3,4,5,6,7,8,9,10,11,"","",14,15,"","",0,true,true,true,true,true,true,true,true,true,true,true,true,true,true,true,true,false]
[null,{"$f":"'Scheme and Member Information'!B46","v":0},{"$f":"'Scheme and Member Information'!C46","v":0},null,null,null,null,null,null,null,null,"","",null,null,null,null,null,{"$f":"IF(U46,VLOOKUP(MIN(V46:AL46),'Data Validation (hidden)'!$G$2:$H$18,2,FALSE),IF((COUNTA(D46:K46))+(COUNTA(N46:Q46))>0,\"'Scheme Name' missing but values entered in other columns\",\"\"))","v":""},null,false,1,2,3,4,5,6,7,8,9,10,11,"","",14,15,"","",0,true,true,true,true,true,true,true,true,true,true,true,true,true,true,true,true,false]
[null,{"$f":"'Scheme and Member Information'!B47","v":0},{"$f":"'Scheme and Member Information'!C47","v":0},null,null,null,null,null,null,null,null,"","",null,null,null,null,null,{"$f":"IF(U47,VLOOKUP(MIN(V47:AL47),'Data Validation (hidden)'!$G$2:$H$18,2,FALSE),IF((COUNTA(D47:K47))+(COUNTA(N47:Q47))>0,\"'Scheme Name' missing but values entered in other columns\",\"\"))","v":""},null,false,1,2,3,4,5,6,7,8,9,10,11,"","",14,15,"","",0,true,true,true,true,true,true,true,true,true,true,true,true,true,true,true,true,false]
[null,{"$f":"'Scheme and Member Information'!B48","v":0},{"$f":"'Scheme and Member Information'!C48","v":0},null,null,null,null,null,null,null,null,"","",null,null,null,null,null,{"$f":"IF(U48,VLOOKUP(MIN(V48:AL48),'Data Validation (hidden)'!$G$2:$H$18,2,FALSE),IF((COUNTA(D48:K48))+(COUNTA(N48:Q48))>0,\"'Scheme Name' missing but values entered in other columns\",\"\"))","v":""},null,false,1,2,3,4,5,6,7,8,9,10,11,"","",14,15,"","",0,true,true,true,true,true,true,true,true,true,true,true,true,true,true,true,true,false]
[null,{"$f":"'Scheme and Member Information'!B49","v":0},{"$f":"'Scheme and Member Information'!C49","v":0},null,null,null,null,null,null,null,null,"","",null,null,null,null,null,{"$f":"IF(U49,VLOOKUP(MIN(V49:AL49),'Data Validation (hidden)'!$G$2:$H$18,2,FALSE),IF((COUNTA(D49:K49))+(COUNTA(N49:Q49))>0,\"'Scheme Name' missing but values entered in other columns\",\"\"))","v":""},null,false,1,2,3,4,5,6,7,8,9,10,11,"","",14,15,"","",0,true,true,true,true,true,true,true,true,true,true,true,true,true,true,true,true,false]
[null,{"$f":"'Scheme and Member Information'!B50","v":0},{"$f":"'Scheme and Member Information'!C50","v":0},null,null,null,null,null,null,null,null,"","",null,null,null,null,null,{"$f":"IF(U50,VLOOKUP(MIN(V50:AL50),'Data Validation (hidden)'!$G$2:$H$18,2,FALSE),IF((COUNTA(D50:K50))+(COUNTA(N50:Q50))>0,\"'Scheme Name' missing but values entered in other columns\",\"\"))","v":""},null,false,1,2,3,4,5,6,7,8,9,10,11,"","",14,15,"","",0,true,true,true,true,true,true,true,true,true,true,true,true,true,true,true,true,false]
[null,{"$f":"'Scheme and Member Information'!B51","v":0},{"$f":"'Scheme and Member Information'!C51","v":0},null,null,null,null,null,null,null,null,"","",null,null,null,null,null,{"$f":"IF(U51,VLOOKUP(MIN(V51:AL51),'Data Validation (hidden)'!$G$2:$H$18,2,FALSE),IF((COUNTA(D51:K51))+(COUNTA(N51:Q51))>0,\"'Scheme Name' missing but values entered in other columns\",\"\"))","v":""},null,false,1,2,3,4,5,6,7,8,9,10,11,"","",14,15,"","",0,true,true,true,true,true,true,true,true,true,true,true,true,true,true,true,true,false]
[null,{"$f":"'Scheme and Member Information'!B52","v":0},{"$f":"'Scheme and Member Information'!C52","v":0},null,null,null,null,null,null,null,null,"","",null,null,null,null,null,{"$f":"IF(U52,VLOOKUP(MIN(V52:AL52),'Data Validation (hidden)'!$G$2:$H$18,2,FALSE),IF((COUNTA(D52:K52))+(COUNTA(N52:Q52))>0,\"'Scheme Name' missing but values entered in other columns\",\"\"))","v":""},null,false,1,2,3,4,5,6,7,8,9,10,11,"","",14,15,"","",0,true,true,true,true,true,true,true,true,true,true,true,true,true,true,true,true,false]
[null,{"$f":"'Scheme and Member Information'!B53","v":0},{"$f":"'Scheme and Member Information'!C53","v":0},null,null,null,null,null,null,null,null,"","",null,null,null,null,null,{"$f":"IF(U53,VLOOKUP(MIN(V53:AL53),'Data Validation (hidden)'!$G$2:$H$18,2,FALSE),IF((COUNTA(D53:K53))+(COUNTA(N53:Q53))>0,\"'Scheme Name' missing but values entered in other columns\",\"\"))","v":""},null,false,1,2,3,4,5,6,7,8,9,10,11,"","",14,15,"","",0,true,true,true,true,true,true,true,true,true,true,true,true,true,true,true,true,false]
[null,{"$f":"'Scheme and Member Information'!B54","v":0},{"$f":"'Scheme and Member Information'!C54","v":0},null,null,null,null,null,null,null,null,"","",null,null,null,null,null,{"$f":"IF(U54,VLOOKUP(MIN(V54:AL54),'Data Validation (hidden)'!$G$2:$H$18,2,FALSE),IF((COUNTA(D54:K54))+(COUNTA(N54:Q54))>0,\"'Scheme Name' missing but values entered in other columns\",\"\"))","v":""},null,false,1,2,3,4,5,6,7,8,9,10,11,"","",14,15,"","",0,true,true,true,true,true,true,true,true,true,true,true,true,true,true,true,true,false]
[null,{"$f":"'Scheme and Member Information'!B55","v":0},{"$f":"'Scheme and Member Information'!C55","v":0},null,null,null,null,null,null,null,null,"","",null,null,null,null,null,{"$f":"IF(U55,VLOOKUP(MIN(V55:AL55),'Data Validation (hidden)'!$G$2:$H$18,2,FALSE),IF((COUNTA(D55:K55))+(COUNTA(N55:Q55))>0,\"'Scheme Name' missing but values entered in other columns\",\"\"))","v":""},null,false,1,2,3,4,5,6,7,8,9,10,11,"","",14,15,"","",0,true,true,true,true,true,true,true,true,true,true,true,true,true,true,true,true,false]
[null,{"$f":"'Scheme and Member Information'!B56","v":0},{"$f":"'Scheme and Member Information'!C56","v":0},null,null,null,null,null,null,null,null,"","",null,null,null,null,null,{"$f":"IF(U56,VLOOKUP(MIN(V56:AL56),'Data Validation (hidden)'!$G$2:$H$18,2,FALSE),IF((COUNTA(D56:K56))+(COUNTA(N56:Q56))>0,\"'Scheme Name' missing but values entered in other columns\",\"\"))","v":""},null,false,1,2,3,4,5,6,7,8,9,10,11,"","",14,15,"","",0,true,true,true,true,true,true,true,true,true,true,true,true,true,true,true,true,false]
[null,{"$f":"'Scheme and Member Information'!B57","v":0},{"$f":"'Scheme and Member Information'!C57","v":0},null,null,null,null,null,null,null,null,"","",null,null,null,null,null,{"$f":"IF(U57,VLOOKUP(MIN(V57:AL57),'Data Validation (hidden)'!$G$2:$H$18,2,FALSE),IF((COUNTA(D57:K57))+(COUNTA(N57:Q57))>0,\"'Scheme Name' missing but values entered in other columns\",\"\"))","v":""},null,false,1,2,3,4,5,6,7,8,9,10,11,"","",14,15,"","",0,true,true,true,true,true,true,true,true,true,true,true,true,true,true,true,true,false]
[null,{"$f":"'Scheme and Member Information'!B58","v":0},{"$f":"'Scheme and Member Information'!C58","v":0},null,null,null,null,null,null,null,null,"","",null,null,null,null,null,{"$f":"IF(U58,VLOOKUP(MIN(V58:AL58),'Data Validation (hidden)'!$G$2:$H$18,2,FALSE),IF((COUNTA(D58:K58))+(COUNTA(N58:Q58))>0,\"'Scheme Name' missing but values entered in other columns\",\"\"))","v":""},null,false,1,2,3,4,5,6,7,8,9,10,11,"","",14,15,"","",0,true,true,true,true,true,true,true,true,true,true,true,true,true,true,true,true,false]
[null,{"$f":"'Scheme and Member Information'!B59","v":0},{"$f":"'Scheme and Member Information'!C59","v":0},null,null,null,null,null,null,null,null,"","",null,null,null,null,null,{"$f":"IF(U59,VLOOKUP(MIN(V59:AL59),'Data Validation (hidden)'!$G$2:$H$18,2,FALSE),IF((COUNTA(D59:K59))+(COUNTA(N59:Q59))>0,\"'Scheme Name' missing but values entered in other columns\",\"\"))","v":""},null,false,1,2,3,4,5,6,7,8,9,10,11,"","",14,15,"","",0,true,true,true,true,true,true,true,true,true,true,true,true,true,true,true,true,false]
[null,{"$f":"'Scheme and Member Information'!B60","v":0},{"$f":"'Scheme and Member Information'!C60","v":0},null,null,null,null,null,null,null,null,"","",null,null,null,null,null,{"$f":"IF(U60,VLOOKUP(MIN(V60:AL60),'Data Validation (hidden)'!$G$2:$H$18,2,FALSE),IF((COUNTA(D60:K60))+(COUNTA(N60:Q60))>0,\"'Scheme Name' missing but values entered in other columns\",\"\"))","v":""},null,false,1,2,3,4,5,6,7,8,9,10,11,"","",14,15,"","",0,true,true,true,true,true,true,true,true,true,true,true,true,true,true,true,true,false]
[null,{"$f":"'Scheme and Member Information'!B61","v":0},{"$f":"'Scheme and Member Information'!C61","v":0},null,null,null,null,null,null,null,null,"","",null,null,null,null,null,{"$f":"IF(U61,VLOOKUP(MIN(V61:AL61),'Data Validation (hidden)'!$G$2:$H$18,2,FALSE),IF((COUNTA(D61:K61))+(COUNTA(N61:Q61))>0,\"'Scheme Name' missing but values entered in other columns\",\"\"))","v":""},null,false,1,2,3,4,5,6,7,8,9,10,11,"","",14,15,"","",0,true,true,true,true,true,true,true,true,true,true,true,true,true,true,true,true,false]
[null,{"$f":"'Scheme and Member Information'!B62","v":0},{"$f":"'Scheme and Member Information'!C62","v":0},null,null,null,null,null,null,null,null,"","",null,null,null,null,null,{"$f":"IF(U62,VLOOKUP(MIN(V62:AL62),'Data Validation (hidden)'!$G$2:$H$18,2,FALSE),IF((COUNTA(D62:K62))+(COUNTA(N62:Q62))>0,\"'Scheme Name' missing but values entered in other columns\",\"\"))","v":""},null,false,1,2,3,4,5,6,7,8,9,10,11,"","",14,15,"","",0,true,true,true,true,true,true,true,true,true,true,true,true,true,true,true,true,false]
[null,{"$f":"'Scheme and Member Information'!B63","v":0},{"$f":"'Scheme and Member Information'!C63","v":0},null,null,null,null,null,null,null,null,"","",null,null,null,null,null,{"$f":"IF(U63,VLOOKUP(MIN(V63:AL63),'Data Validation (hidden)'!$G$2:$H$18,2,FALSE),IF((COUNTA(D63:K63))+(COUNTA(N63:Q63))>0,\"'Scheme Name' missing but values entered in other columns\",\"\"))","v":""},null,false,1,2,3,4,5,6,7,8,9,10,11,"","",14,15,"","",0,true,true,true,true,true,true,true,true,true,true,true,true,true,true,true,true,false]
[null,{"$f":"'Scheme and Member Information'!B64","v":0},{"$f":"'Scheme and Member Information'!C64","v":0},null,null,null,null,null,null,null,null,"","",null,null,null,null,null,{"$f":"IF(U64,VLOOKUP(MIN(V64:AL64),'Data Validation (hidden)'!$G$2:$H$18,2,FALSE),IF((COUNTA(D64:K64))+(COUNTA(N64:Q64))>0,\"'Scheme Name' missing but values entered in other columns\",\"\"))","v":""},null,false,1,2,3,4,5,6,7,8,9,10,11,"","",14,15,"","",0,true,true,true,true,true,true,true,true,true,true,true,true,true,true,true,true,false]
[null,{"$f":"'Scheme and Member Information'!B65","v":0},{"$f":"'Scheme and Member Information'!C65","v":0},null,null,null,null,null,null,null,null,"","",null,null,null,null,null,{"$f":"IF(U65,VLOOKUP(MIN(V65:AL65),'Data Validation (hidden)'!$G$2:$H$18,2,FALSE),IF((COUNTA(D65:K65))+(COUNTA(N65:Q65))>0,\"'Scheme Name' missing but values entered in other columns\",\"\"))","v":""},null,false,1,2,3,4,5,6,7,8,9,10,11,"","",14,15,"","",0,true,true,true,true,true,true,true,true,true,true,true,true,true,true,true,true,false]
[null,{"$f":"'Scheme and Member Information'!B66","v":0},{"$f":"'Scheme and Member Information'!C66","v":0},null,null,null,null,null,null,null,null,"","",null,null,null,null,null,{"$f":"IF(U66,VLOOKUP(MIN(V66:AL66),'Data Validation (hidden)'!$G$2:$H$18,2,FALSE),IF((COUNTA(D66:K66))+(COUNTA(N66:Q66))>0,\"'Scheme Name' missing but values entered in other columns\",\"\"))","v":""},null,false,1,2,3,4,5,6,7,8,9,10,11,"","",14,15,"","",0,true,true,true,true,true,true,true,true,true,true,true,true,true,true,true,true,false]
[null,{"$f":"'Scheme and Member Information'!B67","v":0},{"$f":"'Scheme and Member Information'!C67","v":0},null,null,null,null,null,null,null,null,"","",null,null,null,null,null,{"$f":"IF(U67,VLOOKUP(MIN(V67:AL67),'Data Validation (hidden)'!$G$2:$H$18,2,FALSE),IF((COUNTA(D67:K67))+(COUNTA(N67:Q67))>0,\"'Scheme Name' missing but values entered in other columns\",\"\"))","v":""},null,false,1,2,3,4,5,6,7,8,9,10,11,"","",14,15,"","",0,true,true,true,true,true,true,true,true,true,true,true,true,true,true,true,true,false]
[null,{"$f":"'Scheme and Member Information'!B68","v":0},{"$f":"'Scheme and Member Information'!C68","v":0},null,null,null,null,null,null,null,null,"","",null,null,null,null,null,{"$f":"IF(U68,VLOOKUP(MIN(V68:AL68),'Data Validation (hidden)'!$G$2:$H$18,2,FALSE),IF((COUNTA(D68:K68))+(COUNTA(N68:Q68))>0,\"'Scheme Name' missing but values entered in other columns\",\"\"))","v":""},null,false,1,2,3,4,5,6,7,8,9,10,11,"","",14,15,"","",0,true,true,true,true,true,true,true,true,true,true,true,true,true,true,true,true,false]
[null,{"$f":"'Scheme and Member Information'!B69","v":0},{"$f":"'Scheme and Member Information'!C69","v":0},null,null,null,null,null,null,null,null,"","",null,null,null,null,null,{"$f":"IF(U69,VLOOKUP(MIN(V69:AL69),'Data Validation (hidden)'!$G$2:$H$18,2,FALSE),IF((COUNTA(D69:K69))+(COUNTA(N69:Q69))>0,\"'Scheme Name' missing but values entered in other columns\",\"\"))","v":""},null,false,1,2,3,4,5,6,7,8,9,10,11,"","",14,15,"","",0,true,true,true,true,true,true,true,true,true,true,true,true,true,true,true,true,false]
[null,{"$f":"'Scheme and Member Information'!B70","v":0},{"$f":"'Scheme and Member Information'!C70","v":0},null,null,null,null,null,null,null,null,"","",null,null,null,null,null,{"$f":"IF(U70,VLOOKUP(MIN(V70:AL70),'Data Validation (hidden)'!$G$2:$H$18,2,FALSE),IF((COUNTA(D70:K70))+(COUNTA(N70:Q70))>0,\"'Scheme Name' missing but values entered in other columns\",\"\"))","v":""},null,false,1,2,3,4,5,6,7,8,9,10,11,"","",14,15,"","",0,true,true,true,true,true,true,true,true,true,true,true,true,true,true,true,true,false]
[null,{"$f":"'Scheme and Member Information'!B71","v":0},{"$f":"'Scheme and Member Information'!C71","v":0},null,null,null,null,null,null,null,null,"","",null,null,null,null,null,{"$f":"IF(U71,VLOOKUP(MIN(V71:AL71),'Data Validation (hidden)'!$G$2:$H$18,2,FALSE),IF((COUNTA(D71:K71))+(COUNTA(N71:Q71))>0,\"'Scheme Name' missing but values entered in other columns\",\"\"))","v":""},null,false,1,2,3,4,5,6,7,8,9,10,11,"","",14,15,"","",0,true,true,true,true,true,true,true,true,true,true,true,true,true,true,true,true,false]
[null,{"$f":"'Scheme and Member Information'!B72","v":0},{"$f":"'Scheme and Member Information'!C72","v":0},null,null,null,null,null,null,null,null,"","",null,null,null,null,null,{"$f":"IF(U72,VLOOKUP(MIN(V72:AL72),'Data Validation (hidden)'!$G$2:$H$18,2,FALSE),IF((COUNTA(D72:K72))+(COUNTA(N72:Q72))>0,\"'Scheme Name' missing but values entered in other columns\",\"\"))","v":""},null,false,1,2,3,4,5,6,7,8,9,10,11,"","",14,15,"","",0,true,true,true,true,true,true,true,true,true,true,true,true,true,true,true,true,{"$f":"IF(S72=\"\",FALSE,IF(S72=\"OK\",FALSE,TRUE))","v":false}]
[null,{"$f":"'Scheme and Member Information'!B73","v":0},{"$f":"'Scheme and Member Information'!C73","v":0},null,null,null,null,null,null,null,null,{"$f":"IF(AND(G73<>\"\",H73<>\"\",I73<>\"\",J73<>\"\",K73<>\"\"),(G73+H73+J73)-(I73+K73),\"\")","v":""},{"$f":"IF((L73=\"\"),\"\",(L73-G73))","v":""},null,null,null,null,null,{"$f":"IF(U73,VLOOKUP(MIN(V73:AL73),'Data Validation (hidden)'!$G$2:$H$18,2,FALSE),IF((COUNTA(D73:K73))+(COUNTA(N73:Q73))>0,\"'Scheme Name' missing but values entered in other columns\",\"\"))","v":""},null,{"$f":"AND(B73<>\"\",B73<>0)","v":false},{"$f":"IF(C73=\"\",1,IF(C73=0,1,\"\"))","v":1},{"$f":"IF(D73=\"\",2,\"\")","v":2},{"$f":"IF(D73=\"No\",\"\",IF(E73=\"\",3,\"\"))","v":3},{"$f":"IF(F73=\"\",4,\"\")","v":4},{"$f":"IF(G73=\"\",5,\"\")","v":5},{"$f":"IF(H73=\"\",6,\"\")","v":6},{"$f":"IF(I73=\"\",7,\"\")","v":7},{"$f":"IF(J73=\"\",8,\"\")","v":8},{"$f":"IF(K73=\"\",9,\"\")","v":9},{"$f":"IF(L73=\"\",10,\"\")","v":10},{"$f":"IF(M73=\"\",11,\"\")","v":11},{"$f":"IF(N73=\"\",IF(AM73<0.14,\"\",12),\"\")","v":""},{"$f":"IF(O73=\"\",IF(L73>999,\"\",13),\"\")","v":""},{"$f":"IF(P73=\"\",14,\"\")","v":14},{"$f":"IF(Q73=\"\",15,\"\")","v":15},{"$f":"IF(COUNT(V73:AJ73)=0,\"10\",\"\")","v":""},{"$f":"IF(AND(AN73,AO73,AP73,AQ73,AR73,AS73,AT73,AU73,AV73,AW73,AX73,AY73,AZ73,BA73,BB73,BC73)=TRUE,\"\",16)","v":""},{"$f":"IF(OR(G73=\"\",L73=\"\",AND(G73=0,L73=0)),0,IF((G73>L73),((G73-L73)/G73),((L73-G73)/G73)))","v":0},{"$f":"IF(CELL(\"format\", B73) = \"G\",TRUE,FALSE)","v":true},{"$f":"IF(CELL(\"format\", C73) = \"F0\",TRUE,FALSE)","v":true},{"$f":"IF(CELL(\"format\", D73) = \"G\",TRUE,FALSE)","v":true},{"$f":"IF(CELL(\"format\", E73) = \"D1\",TRUE,FALSE)","v":true},{"$f":"IF(CELL(\"format\", F73) = \"D1\",TRUE,FALSE)","v":true},{"$f":"IF(CELL(\"format\", G73) = \"C0\",TRUE,FALSE)","v":true},{"$f":"IF(CELL(\"format\", H73) = \"C0\",TRUE,FALSE)","v":true},{"$f":"IF(CELL(\"format\", I73) = \"C0\",TRUE,FALSE)","v":true},{"$f":"IF(CELL(\"format\", J73) = \"C0\",TRUE,FALSE)","v":true},{"$f":"IF(CELL(\"format\", K73) = \"C0\",TRUE,FALSE)","v":true},{"$f":"IF(CELL(\"format\", L73) = \"C0\",TRUE,FALSE)","v":true},{"$f":"IF(CELL(\"format\", M73) = \"C0\",TRUE,FALSE)","v":true},{"$f":"IF(CELL(\"format\", N73) = \"G\",TRUE,FALSE)","v":true},{"$f":"IF(CELL(\"format\", O73) = \"G\",TRUE,FALSE)","v":true},{"$f":"IF(CELL(\"format\", P73) = \"C0\",TRUE,FALSE)","v":true},{"$f":"IF(CELL(\"format\", Q73) = \"C0\",TRUE,FALSE)","v":true},false]
[null,{"$f":"'Scheme and Member Information'!B74","v":0},{"$f":"'Scheme and Member Information'!C74","v":0},null,null,null,null,null,null,null,null,"","",null,null,null,null,null,{"$f":"IF(U74,VLOOKUP(MIN(V74:AL74),'Data Validation (hidden)'!$G$2:$H$18,2,FALSE),IF((COUNTA(D74:K74))+(COUNTA(N74:Q74))>0,\"'Scheme Name' missing but values entered in other columns\",\"\"))","v":""},null,false,1,2,3,4,5,6,7,8,9,10,11,"","",14,15,"","",0,true,true,true,true,true,true,true,true,true,true,true,true,true,true,true,true,false]
[null,{"$f":"'Scheme and Member Information'!B75","v":0},{"$f":"'Scheme and Member Information'!C75","v":0},null,null,null,null,null,null,null,null,"","",null,null,null,null,null,{"$f":"IF(U75,VLOOKUP(MIN(V75:AL75),'Data Validation (hidden)'!$G$2:$H$18,2,FALSE),IF((COUNTA(D75:K75))+(COUNTA(N75:Q75))>0,\"'Scheme Name' missing but values entered in other columns\",\"\"))","v":""},null,false,1,2,3,4,5,6,7,8,9,10,11,"","",14,15,"","",0,true,true,true,true,true,true,true,true,true,true,true,true,true,true,true,true,false]
[null,{"$f":"'Scheme and Member Information'!B76","v":0},{"$f":"'Scheme and Member Information'!C76","v":0},null,null,null,null,null,null,null,null,"","",null,null,null,null,null,{"$f":"IF(U76,VLOOKUP(MIN(V76:AL76),'Data Validation (hidden)'!$G$2:$H$18,2,FALSE),IF((COUNTA(D76:K76))+(COUNTA(N76:Q76))>0,\"'Scheme Name' missing but values entered in other columns\",\"\"))","v":""},null,false,1,2,3,4,5,6,7,8,9,10,11,"","",14,15,"","",0,true,true,true,true,true,true,true,true,true,true,true,true,true,true,true,true,false]
[null,{"$f":"'Scheme and Member Information'!B77","v":0},{"$f":"'Scheme and Member Information'!C77","v":0},null,null,null,null,null,null,null,null,"","",null,null,null,null,null,{"$f":"IF(U77,VLOOKUP(MIN(V77:AL77),'Data Validation (hidden)'!$G$2:$H$18,2,FALSE),IF((COUNTA(D77:K77))+(COUNTA(N77:Q77))>0,\"'Scheme Name' missing but values entered in other columns\",\"\"))","v":""},null,false,1,2,3,4,5,6,7,8,9,10,11,"","",14,15,"","",0,true,true,true,true,true,true,true,true,true,true,true,true,true,true,true,true,false]
[null,{"$f":"'Scheme and Member Information'!B78","v":0},{"$f":"'Scheme and Member Information'!C78","v":0},null,null,null,null,null,null,null,null,"","",null,null,null,null,null,{"$f":"IF(U78,VLOOKUP(MIN(V78:AL78),'Data Validation (hidden)'!$G$2:$H$18,2,FALSE),IF((COUNTA(D78:K78))+(COUNTA(N78:Q78))>0,\"'Scheme Name' missing but values entered in other columns\",\"\"))","v":""},null,false,1,2,3,4,5,6,7,8,9,10,11,"","",14,15,"","",0,true,true,true,true,true,true,true,true,true,true,true,true,true,true,true,true,false]
[null,{"$f":"'Scheme and Member Information'!B79","v":0},{"$f":"'Scheme and Member Information'!C79","v":0},null,null,null,null,null,null,null,null,"","",null,null,null,null,null,{"$f":"IF(U79,VLOOKUP(MIN(V79:AL79),'Data Validation (hidden)'!$G$2:$H$18,2,FALSE),IF((COUNTA(D79:K79))+(COUNTA(N79:Q79))>0,\"'Scheme Name' missing but values entered in other columns\",\"\"))","v":""},null,false,1,2,3,4,5,6,7,8,9,10,11,"","",14,15,"","",0,true,true,true,true,true,true,true,true,true,true,true,true,true,true,true,true,false]
[null,{"$f":"'Scheme and Member Information'!B80","v":0},{"$f":"'Scheme and Member Information'!C80","v":0},null,null,null,null,null,null,null,null,"","",null,null,null,null,null,{"$f":"IF(U80,VLOOKUP(MIN(V80:AL80),'Data Validation (hidden)'!$G$2:$H$18,2,FALSE),IF((COUNTA(D80:K80))+(COUNTA(N80:Q80))>0,\"'Scheme Name' missing but values entered in other columns\",\"\"))","v":""},null,false,1,2,3,4,5,6,7,8,9,10,11,"","",14,15,"","",0,true,true,true,true,true,true,true,true,true,true,true,true,true,true,true,true,false]
[null,{"$f":"'Scheme and Member Information'!B81","v":0},{"$f":"'Scheme and Member Information'!C81","v":0},null,null,null,null,null,null,null,null,"","",null,null,null,null,null,{"$f":"IF(U81,VLOOKUP(MIN(V81:AL81),'Data Validation (hidden)'!$G$2:$H$18,2,FALSE),IF((COUNTA(D81:K81))+(COUNTA(N81:Q81))>0,\"'Scheme Name' missing but values entered in other columns\",\"\"))","v":""},null,false,1,2,3,4,5,6,7,8,9,10,11,"","",14,15,"","",0,true,true,true,true,true,true,true,true,true,true,true,true,true,true,true,true,false]
[null,{"$f":"'Scheme and Member Information'!B82","v":0},{"$f":"'Scheme and Member Information'!C82","v":0},null,null,null,null,null,null,null,null,"","",null,null,null,null,null,{"$f":"IF(U82,VLOOKUP(MIN(V82:AL82),'Data Validation (hidden)'!$G$2:$H$18,2,FALSE),IF((COUNTA(D82:K82))+(COUNTA(N82:Q82))>0,\"'Scheme Name' missing but values entered in other columns\",\"\"))","v":""},null,false,1,2,3,4,5,6,7,8,9,10,11,"","",14,15,"","",0,true,true,true,true,true,true,true,true,true,true,true,true,true,true,true,true,false]
[null,{"$f":"'Scheme and Member Information'!B83","v":0},{"$f":"'Scheme and Member Information'!C83","v":0},null,null,null,null,null,null,null,null,"","",null,null,null,null,null,{"$f":"IF(U83,VLOOKUP(MIN(V83:AL83),'Data Validation (hidden)'!$G$2:$H$18,2,FALSE),IF((COUNTA(D83:K83))+(COUNTA(N83:Q83))>0,\"'Scheme Name' missing but values entered in other columns\",\"\"))","v":""},null,false,1,2,3,4,5,6,7,8,9,10,11,"","",14,15,"","",0,true,true,true,true,true,true,true,true,true,true,true,true,true,true,true,true,false]
[null,{"$f":"'Scheme and Member Information'!B84","v":0},{"$f":"'Scheme and Member Information'!C84","v":0},null,null,null,null,null,null,null,null,"","",null,null,null,null,null,{"$f":"IF(U84,VLOOKUP(MIN(V84:AL84),'Data Validation (hidden)'!$G$2:$H$18,2,FALSE),IF((COUNTA(D84:K84))+(COUNTA(N84:Q84))>0,\"'Scheme Name' missing but values entered in other columns\",\"\"))","v":""},null,false,1,2,3,4,5,6,7,8,9,10,11,"","",14,15,"","",0,true,true,true,true,true,true,true,true,true,true,true,true,true,true,true,true,false]
[null,{"$f":"'Scheme and Member Information'!B85","v":0},{"$f":"'Scheme and Member Information'!C85","v":0},null,null,null,null,null,null,null,null,"","",null,null,null,null,null,{"$f":"IF(U85,VLOOKUP(MIN(V85:AL85),'Data Validation (hidden)'!$G$2:$H$18,2,FALSE),IF((COUNTA(D85:K85))+(COUNTA(N85:Q85))>0,\"'Scheme Name' missing but values entered in other columns\",\"\"))","v":""},null,false,1,2,3,4,5,6,7,8,9,10,11,"","",14,15,"","",0,true,true,true,true,true,true,true,true,true,true,true,true,true,true,true,true,false]
[null,{"$f":"'Scheme and Member Information'!B86","v":0},{"$f":"'Scheme and Member Information'!C86","v":0},null,null,null,null,null,null,null,null,"","",null,null,null,null,null,{"$f":"IF(U86,VLOOKUP(MIN(V86:AL86),'Data Validation (hidden)'!$G$2:$H$18,2,FALSE),IF((COUNTA(D86:K86))+(COUNTA(N86:Q86))>0,\"'Scheme Name' missing but values entered in other columns\",\"\"))","v":""},null,false,1,2,3,4,5,6,7,8,9,10,11,"","",14,15,"","",0,true,true,true,true,true,true,true,true,true,true,true,true,true,true,true,true,false]
[null,{"$f":"'Scheme and Member Information'!B87","v":0},{"$f":"'Scheme and Member Information'!C87","v":0},null,null,null,null,null,null,null,null,"","",null,null,null,null,null,{"$f":"IF(U87,VLOOKUP(MIN(V87:AL87),'Data Validation (hidden)'!$G$2:$H$18,2,FALSE),IF((COUNTA(D87:K87))+(COUNTA(N87:Q87))>0,\"'Scheme Name' missing but values entered in other columns\",\"\"))","v":""},null,false,1,2,3,4,5,6,7,8,9,10,11,"","",14,15,"","",0,true,true,true,true,true,true,true,true,true,true,true,true,true,true,true,true,false]
[null,{"$f":"'Scheme and Member Information'!B88","v":0},{"$f":"'Scheme and Member Information'!C88","v":0},null,null,null,null,null,null,null,null,"","",null,null,null,null,null,{"$f":"IF(U88,VLOOKUP(MIN(V88:AL88),'Data Validation (hidden)'!$G$2:$H$18,2,FALSE),IF((COUNTA(D88:K88))+(COUNTA(N88:Q88))>0,\"'Scheme Name' missing but values entered in other columns\",\"\"))","v":""},null,false,1,2,3,4,5,6,7,8,9,10,11,"","",14,15,"","",0,true,true,true,true,true,true,true,true,true,true,true,true,true,true,true,true,false]
[null,{"$f":"'Scheme and Member Information'!B89","v":0},{"$f":"'Scheme and Member Information'!C89","v":0},null,null,null,null,null,null,null,null,"","",null,null,null,null,null,{"$f":"IF(U89,VLOOKUP(MIN(V89:AL89),'Data Validation (hidden)'!$G$2:$H$18,2,FALSE),IF((COUNTA(D89:K89))+(COUNTA(N89:Q89))>0,\"'Scheme Name' missing but values entered in other columns\",\"\"))","v":""},null,false,1,2,3,4,5,6,7,8,9,10,11,"","",14,15,"","",0,true,true,true,true,true,true,true,true,true,true,true,true,true,true,true,true,false]
[null,{"$f":"'Scheme and Member Information'!B90","v":0},{"$f":"'Scheme and Member Information'!C90","v":0},null,null,null,null,null,null,null,null,"","",null,null,null,null,null,{"$f":"IF(U90,VLOOKUP(MIN(V90:AL90),'Data Validation (hidden)'!$G$2:$H$18,2,FALSE),IF((COUNTA(D90:K90))+(COUNTA(N90:Q90))>0,\"'Scheme Name' missing but values entered in other columns\",\"\"))","v":""},null,false,1,2,3,4,5,6,7,8,9,10,11,"","",14,15,"","",0,true,true,true,true,true,true,true,true,true,true,true,true,true,true,true,true,false]
[null,{"$f":"'Scheme and Member Information'!B91","v":0},{"$f":"'Scheme and Member Information'!C91","v":0},null,null,null,null,null,null,null,null,"","",null,null,null,null,null,{"$f":"IF(U91,VLOOKUP(MIN(V91:AL91),'Data Validation (hidden)'!$G$2:$H$18,2,FALSE),IF((COUNTA(D91:K91))+(COUNTA(N91:Q91))>0,\"'Scheme Name' missing but values entered in other columns\",\"\"))","v":""},null,false,1,2,3,4,5,6,7,8,9,10,11,"","",14,15,"","",0,true,true,true,true,true,true,true,true,true,true,true,true,true,true,true,true,false]
[null,{"$f":"'Scheme and Member Information'!B92","v":0},{"$f":"'Scheme and Member Information'!C92","v":0},null,null,null,null,null,null,null,null,"","",null,null,null,null,null,{"$f":"IF(U92,VLOOKUP(MIN(V92:AL92),'Data Validation (hidden)'!$G$2:$H$18,2,FALSE),IF((COUNTA(D92:K92))+(COUNTA(N92:Q92))>0,\"'Scheme Name' missing but values entered in other columns\",\"\"))","v":""},null,false,1,2,3,4,5,6,7,8,9,10,11,"","",14,15,"","",0,true,true,true,true,true,true,true,true,true,true,true,true,true,true,true,true,false]
[null,{"$f":"'Scheme and Member Information'!B93","v":0},{"$f":"'Scheme and Member Information'!C93","v":0},null,null,null,null,null,null,null,null,"","",null,null,null,null,null,{"$f":"IF(U93,VLOOKUP(MIN(V93:AL93),'Data Validation (hidden)'!$G$2:$H$18,2,FALSE),IF((COUNTA(D93:K93))+(COUNTA(N93:Q93))>0,\"'Scheme Name' missing but values entered in other columns\",\"\"))","v":""},null,false,1,2,3,4,5,6,7,8,9,10,11,"","",14,15,"","",0,true,true,true,true,true,true,true,true,true,true,true,true,true,true,true,true,false]
[null,{"$f":"'Scheme and Member Information'!B94","v":0},{"$f":"'Scheme and Member Information'!C94","v":0},null,null,null,null,null,null,null,null,"","",null,null,null,null,null,{"$f":"IF(U94,VLOOKUP(MIN(V94:AL94),'Data Validation (hidden)'!$G$2:$H$18,2,FALSE),IF((COUNTA(D94:K94))+(COUNTA(N94:Q94))>0,\"'Scheme Name' missing but values entered in other columns\",\"\"))","v":""},null,false,1,2,3,4,5,6,7,8,9,10,11,"","",14,15,"","",0,true,true,true,true,true,true,true,true,true,true,true,true,true,true,true,true,false]
[null,{"$f":"'Scheme and Member Information'!B95","v":0},{"$f":"'Scheme and Member Information'!C95","v":0},null,null,null,null,null,null,null,null,"","",null,null,null,null,null,{"$f":"IF(U95,VLOOKUP(MIN(V95:AL95),'Data Validation (hidden)'!$G$2:$H$18,2,FALSE),IF((COUNTA(D95:K95))+(COUNTA(N95:Q95))>0,\"'Scheme Name' missing but values entered in other columns\",\"\"))","v":""},null,false,1,2,3,4,5,6,7,8,9,10,11,"","",14,15,"","",0,true,true,true,true,true,true,true,true,true,true,true,true,true,true,true,true,false]
[null,{"$f":"'Scheme and Member Information'!B96","v":0},{"$f":"'Scheme and Member Information'!C96","v":0},null,null,null,null,null,null,null,null,"","",null,null,null,null,null,{"$f":"IF(U96,VLOOKUP(MIN(V96:AL96),'Data Validation (hidden)'!$G$2:$H$18,2,FALSE),IF((COUNTA(D96:K96))+(COUNTA(N96:Q96))>0,\"'Scheme Name' missing but values entered in other columns\",\"\"))","v":""},null,false,1,2,3,4,5,6,7,8,9,10,11,"","",14,15,"","",0,true,true,true,true,true,true,true,true,true,true,true,true,true,true,true,true,false]
[null,{"$f":"'Scheme and Member Information'!B97","v":0},{"$f":"'Scheme and Member Information'!C97","v":0},null,null,null,null,null,null,null,null,"","",null,null,null,null,null,{"$f":"IF(U97,VLOOKUP(MIN(V97:AL97),'Data Validation (hidden)'!$G$2:$H$18,2,FALSE),IF((COUNTA(D97:K97))+(COUNTA(N97:Q97))>0,\"'Scheme Name' missing but values entered in other columns\",\"\"))","v":""},null,false,1,2,3,4,5,6,7,8,9,10,11,"","",14,15,"","",0,true,true,true,true,true,true,true,true,true,true,true,true,true,true,true,true,false]
[null,{"$f":"'Scheme and Member Information'!B98","v":0},{"$f":"'Scheme and Member Information'!C98","v":0},null,null,null,null,null,null,null,null,"","",null,null,null,null,null,{"$f":"IF(U98,VLOOKUP(MIN(V98:AL98),'Data Validation (hidden)'!$G$2:$H$18,2,FALSE),IF((COUNTA(D98:K98))+(COUNTA(N98:Q98))>0,\"'Scheme Name' missing but values entered in other columns\",\"\"))","v":""},null,false,1,2,3,4,5,6,7,8,9,10,11,"","",14,15,"","",0,true,true,true,true,true,true,true,true,true,true,true,true,true,true,true,true,false]
[null,{"$f":"'Scheme and Member Information'!B99","v":0},{"$f":"'Scheme and Member Information'!C99","v":0},null,null,null,null,null,null,null,null,"","",null,null,null,null,null,{"$f":"IF(U99,VLOOKUP(MIN(V99:AL99),'Data Validation (hidden)'!$G$2:$H$18,2,FALSE),IF((COUNTA(D99:K99))+(COUNTA(N99:Q99))>0,\"'Scheme Name' missing but values entered in other columns\",\"\"))","v":""},null,false,1,2,3,4,5,6,7,8,9,10,11,"","",14,15,"","",0,true,true,true,true,true,true,true,true,true,true,true,true,true,true,true,true,false]
[null,{"$f":"'Scheme and Member Information'!B100","v":0},{"$f":"'Scheme and Member Information'!C100","v":0},null,null,null,null,null,null,null,null,"","",null,null,null,null,null,{"$f":"IF(U100,VLOOKUP(MIN(V100:AL100),'Data Validation (hidden)'!$G$2:$H$18,2,FALSE),IF((COUNTA(D100:K100))+(COUNTA(N100:Q100))>0,\"'Scheme Name' missing but values entered in other columns\",\"\"))","v":""},null,false,1,2,3,4,5,6,7,8,9,10,11,"","",14,15,"","",0,true,true,true,true,true,true,true,true,true,true,true,true,true,true,true,true,false]
[null,{"$f":"'Scheme and Member Information'!B101","v":0},{"$f":"'Scheme and Member Information'!C101","v":0},null,null,null,null,null,null,null,null,"","",null,null,null,null,null,{"$f":"IF(U101,VLOOKUP(MIN(V101:AL101),'Data Validation (hidden)'!$G$2:$H$18,2,FALSE),IF((COUNTA(D101:K101))+(COUNTA(N101:Q101))>0,\"'Scheme Name' missing but values entered in other columns\",\"\"))","v":""},null,false,1,2,3,4,5,6,7,8,9,10,11,"","",14,15,"","",0,true,true,true,true,true,true,true,true,true,true,true,true,true,true,true,true,false]
[null,{"$f":"'Scheme and Member Information'!B102","v":0},{"$f":"'Scheme and Member Information'!C102","v":0},null,null,null,null,null,null,null,null,"","",null,null,null,null,null,{"$f":"IF(U102,VLOOKUP(MIN(V102:AL102),'Data Validation (hidden)'!$G$2:$H$18,2,FALSE),IF((COUNTA(D102:K102))+(COUNTA(N102:Q102))>0,\"'Scheme Name' missing but values entered in other columns\",\"\"))","v":""},null,false,1,2,3,4,5,6,7,8,9,10,11,"","",14,15,"","",0,true,true,true,true,true,true,true,true,true,true,true,true,true,true,true,true,false]
[null,{"$f":"'Scheme and Member Information'!B103","v":0},{"$f":"'Scheme and Member Information'!C103","v":0},null,null,null,null,null,null,null,null,"","",null,null,null,null,null,{"$f":"IF(U103,VLOOKUP(MIN(V103:AL103),'Data Validation (hidden)'!$G$2:$H$18,2,FALSE),IF((COUNTA(D103:K103))+(COUNTA(N103:Q103))>0,\"'Scheme Name' missing but values entered in other columns\",\"\"))","v":""},null,false,1,2,3,4,5,6,7,8,9,10,11,"","",14,15,"","",0,true,true,true,true,true,true,true,true,true,true,true,true,true,true,true,true,false]
[null,{"$f":"'Scheme and Member Information'!B104","v":0},{"$f":"'Scheme and Member Information'!C104","v":0},null,null,null,null,null,null,null,null,"","",null,null,null,null,null,{"$f":"IF(U104,VLOOKUP(MIN(V104:AL104),'Data Validation (hidden)'!$G$2:$H$18,2,FALSE),IF((COUNTA(D104:K104))+(COUNTA(N104:Q104))>0,\"'Scheme Name' missing but values entered in other columns\",\"\"))","v":""},null,false,1,2,3,4,5,6,7,8,9,10,11,"","",14,15,"","",0,true,true,true,true,true,true,true,true,true,true,true,true,true,true,true,true,false]
[null,{"$f":"'Scheme and Member Information'!B105","v":0},{"$f":"'Scheme and Member Information'!C105","v":0},null,null,null,null,null,null,null,null,"","",null,null,null,null,null,{"$f":"IF(U105,VLOOKUP(MIN(V105:AL105),'Data Validation (hidden)'!$G$2:$H$18,2,FALSE),IF((COUNTA(D105:K105))+(COUNTA(N105:Q105))>0,\"'Scheme Name' missing but values entered in other columns\",\"\"))","v":""},null,false,1,2,3,4,5,6,7,8,9,10,11,"","",14,15,"","",0,true,true,true,true,true,true,true,true,true,true,true,true,true,true,true,true,false]
[null,{"$f":"'Scheme and Member Information'!B106","v":0},{"$f":"'Scheme and Member Information'!C106","v":0},null,null,null,null,null,null,null,null,"","",null,null,null,null,null,{"$f":"IF(U106,VLOOKUP(MIN(V106:AL106),'Data Validation (hidden)'!$G$2:$H$18,2,FALSE),IF((COUNTA(D106:K106))+(COUNTA(N106:Q106))>0,\"'Scheme Name' missing but values entered in other columns\",\"\"))","v":""},null,false,1,2,3,4,5,6,7,8,9,10,11,"","",14,15,"","",0,true,true,true,true,true,true,true,true,true,true,true,true,true,true,true,true,false]
[null,{"$f":"'Scheme and Member Information'!B107","v":0},{"$f":"'Scheme and Member Information'!C107","v":0},null,null,null,null,null,null,null,null,"","",null,null,null,null,null,{"$f":"IF(U107,VLOOKUP(MIN(V107:AL107),'Data Validation (hidden)'!$G$2:$H$18,2,FALSE),IF((COUNTA(D107:K107))+(COUNTA(N107:Q107))>0,\"'Scheme Name' missing but values entered in other columns\",\"\"))","v":""},null,false,1,2,3,4,5,6,7,8,9,10,11,"","",14,15,"","",0,true,true,true,true,true,true,true,true,true,true,true,true,true,true,true,true,false]
[null,{"$f":"'Scheme and Member Information'!B108","v":0},{"$f":"'Scheme and Member Information'!C108","v":0},null,null,null,null,null,null,null,null,"","",null,null,null,null,null,{"$f":"IF(U108,VLOOKUP(MIN(V108:AL108),'Data Validation (hidden)'!$G$2:$H$18,2,FALSE),IF((COUNTA(D108:K108))+(COUNTA(N108:Q108))>0,\"'Scheme Name' missing but values entered in other columns\",\"\"))","v":""},null,false,1,2,3,4,5,6,7,8,9,10,11,"","",14,15,"","",0,true,true,true,true,true,true,true,true,true,true,true,true,true,true,true,true,false]
[null,{"$f":"'Scheme and Member Information'!B109","v":0},{"$f":"'Scheme and Member Information'!C109","v":0},null,null,null,null,null,null,null,null,"","",null,null,null,null,null,{"$f":"IF(U109,VLOOKUP(MIN(V109:AL109),'Data Validation (hidden)'!$G$2:$H$18,2,FALSE),IF((COUNTA(D109:K109))+(COUNTA(N109:Q109))>0,\"'Scheme Name' missing but values entered in other columns\",\"\"))","v":""},null,false,1,2,3,4,5,6,7,8,9,10,11,"","",14,15,"","",0,true,true,true,true,true,true,true,true,true,true,true,true,true,true,true,true,false]
[null,{"$f":"'Scheme and Member Information'!B110","v":0},{"$f":"'Scheme and Member Information'!C110","v":0},null,null,null,null,null,null,null,null,"","",null,null,null,null,null,{"$f":"IF(U110,VLOOKUP(MIN(V110:AL110),'Data Validation (hidden)'!$G$2:$H$18,2,FALSE),IF((COUNTA(D110:K110))+(COUNTA(N110:Q110))>0,\"'Scheme Name' missing but values entered in other columns\",\"\"))","v":""},null,false,1,2,3,4,5,6,7,8,9,10,11,"","",14,15,"","",0,true,true,true,true,true,true,true,true,true,true,true,true,true,true,true,true,false]
[null,{"$f":"'Scheme and Member Information'!B111","v":0},{"$f":"'Scheme and Member Information'!C111","v":0},null,null,null,null,null,null,null,null,"","",null,null,null,null,null,{"$f":"IF(U111,VLOOKUP(MIN(V111:AL111),'Data Validation (hidden)'!$G$2:$H$18,2,FALSE),IF((COUNTA(D111:K111))+(COUNTA(N111:Q111))>0,\"'Scheme Name' missing but values entered in other columns\",\"\"))","v":""},null,false,1,2,3,4,5,6,7,8,9,10,11,"","",14,15,"","",0,true,true,true,true,true,true,true,true,true,true,true,true,true,true,true,true,false]
[null,{"$f":"'Scheme and Member Information'!B112","v":0},{"$f":"'Scheme and Member Information'!C112","v":0},null,null,null,null,null,null,null,null,"","",null,null,null,null,null,{"$f":"IF(U112,VLOOKUP(MIN(V112:AL112),'Data Validation (hidden)'!$G$2:$H$18,2,FALSE),IF((COUNTA(D112:K112))+(COUNTA(N112:Q112))>0,\"'Scheme Name' missing but values entered in other columns\",\"\"))","v":""},null,false,1,2,3,4,5,6,7,8,9,10,11,"","",14,15,"","",0,true,true,true,true,true,true,true,true,true,true,true,true,true,true,true,true,false]
[null,{"$f":"'Scheme and Member Information'!B113","v":0},{"$f":"'Scheme and Member Information'!C113","v":0},null,null,null,null,null,null,null,null,"","",null,null,null,null,null,{"$f":"IF(U113,VLOOKUP(MIN(V113:AL113),'Data Validation (hidden)'!$G$2:$H$18,2,FALSE),IF((COUNTA(D113:K113))+(COUNTA(N113:Q113))>0,\"'Scheme Name' missing but values entered in other columns\",\"\"))","v":""},null,false,1,2,3,4,5,6,7,8,9,10,11,"","",14,15,"","",0,true,true,true,true,true,true,true,true,true,true,true,true,true,true,true,true,false]
[null,{"$f":"'Scheme and Member Information'!B114","v":0},{"$f":"'Scheme and Member Information'!C114","v":0},null,null,null,null,null,null,null,null,"","",null,null,null,null,null,{"$f":"IF(U114,VLOOKUP(MIN(V114:AL114),'Data Validation (hidden)'!$G$2:$H$18,2,FALSE),IF((COUNTA(D114:K114))+(COUNTA(N114:Q114))>0,\"'Scheme Name' missing but values entered in other columns\",\"\"))","v":""},null,false,1,2,3,4,5,6,7,8,9,10,11,"","",14,15,"","",0,true,true,true,true,true,true,true,true,true,true,true,true,true,true,true,true,false]
[null,{"$f":"'Scheme and Member Information'!B115","v":0},{"$f":"'Scheme and Member Information'!C115","v":0},null,null,null,null,null,null,null,null,"","",null,null,null,null,null,{"$f":"IF(U115,VLOOKUP(MIN(V115:AL115),'Data Validation (hidden)'!$G$2:$H$18,2,FALSE),IF((COUNTA(D115:K115))+(COUNTA(N115:Q115))>0,\"'Scheme Name' missing but values entered in other columns\",\"\"))","v":""},null,false,1,2,3,4,5,6,7,8,9,10,11,"","",14,15,"","",0,true,true,true,true,true,true,true,true,true,true,true,true,true,true,true,true,false]
[null,{"$f":"'Scheme and Member Information'!B116","v":0},{"$f":"'Scheme and Member Information'!C116","v":0},null,null,null,null,null,null,null,null,"","",null,null,null,null,null,{"$f":"IF(U116,VLOOKUP(MIN(V116:AL116),'Data Validation (hidden)'!$G$2:$H$18,2,FALSE),IF((COUNTA(D116:K116))+(COUNTA(N116:Q116))>0,\"'Scheme Name' missing but values entered in other columns\",\"\"))","v":""},null,false,1,2,3,4,5,6,7,8,9,10,11,"","",14,15,"","",0,true,true,true,true,true,true,true,true,true,true,true,true,true,true,true,true,false]
[null,{"$f":"'Scheme and Member Information'!B117","v":0},{"$f":"'Scheme and Member Information'!C117","v":0},null,null,null,null,null,null,null,null,"","",null,null,null,null,null,{"$f":"IF(U117,VLOOKUP(MIN(V117:AL117),'Data Validation (hidden)'!$G$2:$H$18,2,FALSE),IF((COUNTA(D117:K117))+(COUNTA(N117:Q117))>0,\"'Scheme Name' missing but values entered in other columns\",\"\"))","v":""},null,false,1,2,3,4,5,6,7,8,9,10,11,"","",14,15,"","",0,true,true,true,true,true,true,true,true,true,true,true,true,true,true,true,true,false]
[null,{"$f":"'Scheme and Member Information'!B118","v":0},{"$f":"'Scheme and Member Information'!C118","v":0},null,null,null,null,null,null,null,null,"","",null,null,null,null,null,{"$f":"IF(U118,VLOOKUP(MIN(V118:AL118),'Data Validation (hidden)'!$G$2:$H$18,2,FALSE),IF((COUNTA(D118:K118))+(COUNTA(N118:Q118))>0,\"'Scheme Name' missing but values entered in other columns\",\"\"))","v":""},null,false,1,2,3,4,5,6,7,8,9,10,11,"","",14,15,"","",0,true,true,true,true,true,true,true,true,true,true,true,true,true,true,true,true,false]
[null,{"$f":"'Scheme and Member Information'!B119","v":0},{"$f":"'Scheme and Member Information'!C119","v":0},null,null,null,null,null,null,null,null,"","",null,null,null,null,null,{"$f":"IF(U119,VLOOKUP(MIN(V119:AL119),'Data Validation (hidden)'!$G$2:$H$18,2,FALSE),IF((COUNTA(D119:K119))+(COUNTA(N119:Q119))>0,\"'Scheme Name' missing but values entered in other columns\",\"\"))","v":""},null,false,1,2,3,4,5,6,7,8,9,10,11,"","",14,15,"","",0,true,true,true,true,true,true,true,true,true,true,true,true,true,true,true,true,false]
[null,{"$f":"'Scheme and Member Information'!B120","v":0},{"$f":"'Scheme and Member Information'!C120","v":0},null,null,null,null,null,null,null,null,"","",null,null,null,null,null,{"$f":"IF(U120,VLOOKUP(MIN(V120:AL120),'Data Validation (hidden)'!$G$2:$H$18,2,FALSE),IF((COUNTA(D120:K120))+(COUNTA(N120:Q120))>0,\"'Scheme Name' missing but values entered in other columns\",\"\"))","v":""},null,false,1,2,3,4,5,6,7,8,9,10,11,"","",14,15,"","",0,true,true,true,true,true,true,true,true,true,true,true,true,true,true,true,true,false]
[null,{"$f":"'Scheme and Member Information'!B121","v":0},{"$f":"'Scheme and Member Information'!C121","v":0},null,null,null,null,null,null,null,null,"","",null,null,null,null,null,{"$f":"IF(U121,VLOOKUP(MIN(V121:AL121),'Data Validation (hidden)'!$G$2:$H$18,2,FALSE),IF((COUNTA(D121:K121))+(COUNTA(N121:Q121))>0,\"'Scheme Name' missing but values entered in other columns\",\"\"))","v":""},null,false,1,2,3,4,5,6,7,8,9,10,11,"","",14,15,"","",0,true,true,true,true,true,true,true,true,true,true,true,true,true,true,true,true,false]
[null,{"$f":"'Scheme and Member Information'!B122","v":0},{"$f":"'Scheme and Member Information'!C122","v":0},null,null,null,null,null,null,null,null,"","",null,null,null,null,null,{"$f":"IF(U122,VLOOKUP(MIN(V122:AL122),'Data Validation (hidden)'!$G$2:$H$18,2,FALSE),IF((COUNTA(D122:K122))+(COUNTA(N122:Q122))>0,\"'Scheme Name' missing but values entered in other columns\",\"\"))","v":""},null,false,1,2,3,4,5,6,7,8,9,10,11,"","",14,15,"","",0,true,true,true,true,true,true,true,true,true,true,true,true,true,true,true,true,false]
[null,{"$f":"'Scheme and Member Information'!B123","v":0},{"$f":"'Scheme and Member Information'!C123","v":0},null,null,null,null,null,null,null,null,"","",null,null,null,null,null,{"$f":"IF(U123,VLOOKUP(MIN(V123:AL123),'Data Validation (hidden)'!$G$2:$H$18,2,FALSE),IF((COUNTA(D123:K123))+(COUNTA(N123:Q123))>0,\"'Scheme Name' missing but values entered in other columns\",\"\"))","v":""},null,false,1,2,3,4,5,6,7,8,9,10,11,"","",14,15,"","",0,true,true,true,true,true,true,true,true,true,true,true,true,true,true,true,true,false]
[null,{"$f":"'Scheme and Member Information'!B124","v":0},{"$f":"'Scheme and Member Information'!C124","v":0},null,null,null,null,null,null,null,null,"","",null,null,null,null,null,{"$f":"IF(U124,VLOOKUP(MIN(V124:AL124),'Data Validation (hidden)'!$G$2:$H$18,2,FALSE),IF((COUNTA(D124:K124))+(COUNTA(N124:Q124))>0,\"'Scheme Name' missing but values entered in other columns\",\"\"))","v":""},null,false,1,2,3,4,5,6,7,8,9,10,11,"","",14,15,"","",0,true,true,true,true,true,true,true,true,true,true,true,true,true,true,true,true,false]
[null,{"$f":"'Scheme and Member Information'!B125","v":0},{"$f":"'Scheme and Member Information'!C125","v":0},null,null,null,null,null,null,null,null,"","",null,null,null,null,null,{"$f":"IF(U125,VLOOKUP(MIN(V125:AL125),'Data Validation (hidden)'!$G$2:$H$18,2,FALSE),IF((COUNTA(D125:K125))+(COUNTA(N125:Q125))>0,\"'Scheme Name' missing but values entered in other columns\",\"\"))","v":""},null,false,1,2,3,4,5,6,7,8,9,10,11,"","",14,15,"","",0,true,true,true,true,true,true,true,true,true,true,true,true,true,true,true,true,false]
[null,{"$f":"'Scheme and Member Information'!B126","v":0},{"$f":"'Scheme and Member Information'!C126","v":0},null,null,null,null,null,null,null,null,"","",null,null,null,null,null,{"$f":"IF(U126,VLOOKUP(MIN(V126:AL126),'Data Validation (hidden)'!$G$2:$H$18,2,FALSE),IF((COUNTA(D126:K126))+(COUNTA(N126:Q126))>0,\"'Scheme Name' missing but values entered in other columns\",\"\"))","v":""},null,false,1,2,3,4,5,6,7,8,9,10,11,"","",14,15,"","",0,true,true,true,true,true,true,true,true,true,true,true,true,true,true,true,true,false]
[null,{"$f":"'Scheme and Member Information'!B127","v":0},{"$f":"'Scheme and Member Information'!C127","v":0},null,null,null,null,null,null,null,null,"","",null,null,null,null,null,{"$f":"IF(U127,VLOOKUP(MIN(V127:AL127),'Data Validation (hidden)'!$G$2:$H$18,2,FALSE),IF((COUNTA(D127:K127))+(COUNTA(N127:Q127))>0,\"'Scheme Name' missing but values entered in other columns\",\"\"))","v":""},null,false,1,2,3,4,5,6,7,8,9,10,11,"","",14,15,"","",0,true,true,true,true,true,true,true,true,true,true,true,true,true,true,true,true,false]
[null,{"$f":"'Scheme and Member Information'!B128","v":0},{"$f":"'Scheme and Member Information'!C128","v":0},null,null,null,null,null,null,null,null,"","",null,null,null,null,null,{"$f":"IF(U128,VLOOKUP(MIN(V128:AL128),'Data Validation (hidden)'!$G$2:$H$18,2,FALSE),IF((COUNTA(D128:K128))+(COUNTA(N128:Q128))>0,\"'Scheme Name' missing but values entered in other columns\",\"\"))","v":""},null,false,1,2,3,4,5,6,7,8,9,10,11,"","",14,15,"","",0,true,true,true,true,true,true,true,true,true,true,true,true,true,true,true,true,false]
[null,{"$f":"'Scheme and Member Information'!B129","v":0},{"$f":"'Scheme and Member Information'!C129","v":0},null,null,null,null,null,null,null,null,"","",null,null,null,null,null,{"$f":"IF(U129,VLOOKUP(MIN(V129:AL129),'Data Validation (hidden)'!$G$2:$H$18,2,FALSE),IF((COUNTA(D129:K129))+(COUNTA(N129:Q129))>0,\"'Scheme Name' missing but values entered in other columns\",\"\"))","v":""},null,false,1,2,3,4,5,6,7,8,9,10,11,"","",14,15,"","",0,true,true,true,true,true,true,true,true,true,true,true,true,true,true,true,true,false]
[null,{"$f":"'Scheme and Member Information'!B130","v":0},{"$f":"'Scheme and Member Information'!C130","v":0},null,null,null,null,null,null,null,null,"","",null,null,null,null,null,{"$f":"IF(U130,VLOOKUP(MIN(V130:AL130),'Data Validation (hidden)'!$G$2:$H$18,2,FALSE),IF((COUNTA(D130:K130))+(COUNTA(N130:Q130))>0,\"'Scheme Name' missing but values entered in other columns\",\"\"))","v":""},null,false,1,2,3,4,5,6,7,8,9,10,11,"","",14,15,"","",0,true,true,true,true,true,true,true,true,true,true,true,true,true,true,true,true,false]
[null,{"$f":"'Scheme and Member Information'!B131","v":0},{"$f":"'Scheme and Member Information'!C131","v":0},null,null,null,null,null,null,null,null,"","",null,null,null,null,null,{"$f":"IF(U131,VLOOKUP(MIN(V131:AL131),'Data Validation (hidden)'!$G$2:$H$18,2,FALSE),IF((COUNTA(D131:K131))+(COUNTA(N131:Q131))>0,\"'Scheme Name' missing but values entered in other columns\",\"\"))","v":""},null,false,1,2,3,4,5,6,7,8,9,10,11,"","",14,15,"","",0,true,true,true,true,true,true,true,true,true,true,true,true,true,true,true,true,false]
[null,{"$f":"'Scheme and Member Information'!B132","v":0},{"$f":"'Scheme and Member Information'!C132","v":0},null,null,null,null,null,null,null,null,"","",null,null,null,null,null,{"$f":"IF(U132,VLOOKUP(MIN(V132:AL132),'Data Validation (hidden)'!$G$2:$H$18,2,FALSE),IF((COUNTA(D132:K132))+(COUNTA(N132:Q132))>0,\"'Scheme Name' missing but values entered in other columns\",\"\"))","v":""},null,false,1,2,3,4,5,6,7,8,9,10,11,"","",14,15,"","",0,true,true,true,true,true,true,true,true,true,true,true,true,true,true,true,true,false]
[null,{"$f":"'Scheme and Member Information'!B133","v":0},{"$f":"'Scheme and Member Information'!C133","v":0},null,null,null,null,null,null,null,null,"","",null,null,null,null,null,{"$f":"IF(U133,VLOOKUP(MIN(V133:AL133),'Data Validation (hidden)'!$G$2:$H$18,2,FALSE),IF((COUNTA(D133:K133))+(COUNTA(N133:Q133))>0,\"'Scheme Name' missing but values entered in other columns\",\"\"))","v":""},null,false,1,2,3,4,5,6,7,8,9,10,11,"","",14,15,"","",0,true,true,true,true,true,true,true,true,true,true,true,true,true,true,true,true,false]
[null,{"$f":"'Scheme and Member Information'!B134","v":0},{"$f":"'Scheme and Member Information'!C134","v":0},null,null,null,null,null,null,null,null,"","",null,null,null,null,null,{"$f":"IF(U134,VLOOKUP(MIN(V134:AL134),'Data Validation (hidden)'!$G$2:$H$18,2,FALSE),IF((COUNTA(D134:K134))+(COUNTA(N134:Q134))>0,\"'Scheme Name' missing but values entered in other columns\",\"\"))","v":""},null,false,1,2,3,4,5,6,7,8,9,10,11,"","",14,15,"","",0,true,true,true,true,true,true,true,true,true,true,true,true,true,true,true,true,false]
[null,{"$f":"'Scheme and Member Information'!B135","v":0},{"$f":"'Scheme and Member Information'!C135","v":0},null,null,null,null,null,null,null,null,"","",null,null,null,null,null,{"$f":"IF(U135,VLOOKUP(MIN(V135:AL135),'Data Validation (hidden)'!$G$2:$H$18,2,FALSE),IF((COUNTA(D135:K135))+(COUNTA(N135:Q135))>0,\"'Scheme Name' missing but values entered in other columns\",\"\"))","v":""},null,false,1,2,3,4,5,6,7,8,9,10,11,"","",14,15,"","",0,true,true,true,true,true,true,true,true,true,true,true,true,true,true,true,true,false]
[null,{"$f":"'Scheme and Member Information'!B136","v":0},{"$f":"'Scheme and Member Information'!C136","v":0},null,null,null,null,null,null,null,null,"","",null,null,null,null,null,{"$f":"IF(U136,VLOOKUP(MIN(V136:AL136),'Data Validation (hidden)'!$G$2:$H$18,2,FALSE),IF((COUNTA(D136:K136))+(COUNTA(N136:Q136))>0,\"'Scheme Name' missing but values entered in other columns\",\"\"))","v":""},null,false,1,2,3,4,5,6,7,8,9,10,11,"","",14,15,"","",0,true,true,true,true,true,true,true,true,true,true,true,true,true,true,true,true,{"$f":"IF(S136=\"\",FALSE,IF(S136=\"OK\",FALSE,TRUE))","v":false}]
[null,{"$f":"'Scheme and Member Information'!B137","v":0},{"$f":"'Scheme and Member Information'!C137","v":0},null,null,null,null,null,null,null,null,{"$f":"IF(AND(G137<>\"\",H137<>\"\",I137<>\"\",J137<>\"\",K137<>\"\"),(G137+H137+J137)-(I137+K137),\"\")","v":""},{"$f":"IF((L137=\"\"),\"\",(L137-G137))","v":""},null,null,null,null,null,{"$f":"IF(U137,VLOOKUP(MIN(V137:AL137),'Data Validation (hidden)'!$G$2:$H$18,2,FALSE),IF((COUNTA(D137:K137))+(COUNTA(N137:Q137))>0,\"'Scheme Name' missing but values entered in other columns\",\"\"))","v":""},null,{"$f":"AND(B137<>\"\",B137<>0)","v":false},{"$f":"IF(C137=\"\",1,IF(C137=0,1,\"\"))","v":1},{"$f":"IF(D137=\"\",2,\"\")","v":2},{"$f":"IF(D137=\"No\",\"\",IF(E137=\"\",3,\"\"))","v":3},{"$f":"IF(F137=\"\",4,\"\")","v":4},{"$f":"IF(G137=\"\",5,\"\")","v":5},{"$f":"IF(H137=\"\",6,\"\")","v":6},{"$f":"IF(I137=\"\",7,\"\")","v":7},{"$f":"IF(J137=\"\",8,\"\")","v":8},{"$f":"IF(K137=\"\",9,\"\")","v":9},{"$f":"IF(L137=\"\",10,\"\")","v":10},{"$f":"IF(M137=\"\",11,\"\")","v":11},{"$f":"IF(N137=\"\",IF(AM137<0.14,\"\",12),\"\")","v":""},{"$f":"IF(O137=\"\",IF(L137>999,\"\",13),\"\")","v":""},{"$f":"IF(P137=\"\",14,\"\")","v":14},{"$f":"IF(Q137=\"\",15,\"\")","v":15},{"$f":"IF(COUNT(V137:AJ137)=0,\"10\",\"\")","v":""},{"$f":"IF(AND(AN137,AO137,AP137,AQ137,AR137,AS137,AT137,AU137,AV137,AW137,AX137,AY137,AZ137,BA137,BB137,BC137)=TRUE,\"\",16)","v":""},{"$f":"IF(OR(G137=\"\",L137=\"\",AND(G137=0,L137=0)),0,IF((G137>L137),((G137-L137)/G137),((L137-G137)/G137)))","v":0},{"$f":"IF(CELL(\"format\", B137) = \"G\",TRUE,FALSE)","v":true},{"$f":"IF(CELL(\"format\", C137) = \"F0\",TRUE,FALSE)","v":true},{"$f":"IF(CELL(\"format\", D137) = \"G\",TRUE,FALSE)","v":true},{"$f":"IF(CELL(\"format\", E137) = \"D1\",TRUE,FALSE)","v":true},{"$f":"IF(CELL(\"format\", F137) = \"D1\",TRUE,FALSE)","v":true},{"$f":"IF(CELL(\"format\", G137) = \"C0\",TRUE,FALSE)","v":true},{"$f":"IF(CELL(\"format\", H137) = \"C0\",TRUE,FALSE)","v":true},{"$f":"IF(CELL(\"format\", I137) = \"C0\",TRUE,FALSE)","v":true},{"$f":"IF(CELL(\"format\", J137) = \"C0\",TRUE,FALSE)","v":true},{"$f":"IF(CELL(\"format\", K137) = \"C0\",TRUE,FALSE)","v":true},{"$f":"IF(CELL(\"format\", L137) = \"C0\",TRUE,FALSE)","v":true},{"$f":"IF(CELL(\"format\", M137) = \"C0\",TRUE,FALSE)","v":true},{"$f":"IF(CELL(\"format\", N137) = \"G\",TRUE,FALSE)","v":true},{"$f":"IF(CELL(\"format\", O137) = \"G\",TRUE,FALSE)","v":true},{"$f":"IF(CELL(\"format\", P137) = \"C0\",TRUE,FALSE)","v":true},{"$f":"IF(CELL(\"format\", Q137) = \"C0\",TRUE,FALSE)","v":true},false]
[null,{"$f":"'Scheme and Member Information'!B138","v":0},{"$f":"'Scheme and Member Information'!C138","v":0},null,null,null,null,null,null,null,null,"","",null,null,null,null,null,{"$f":"IF(U138,VLOOKUP(MIN(V138:AL138),'Data Validation (hidden)'!$G$2:$H$18,2,FALSE),IF((COUNTA(D138:K138))+(COUNTA(N138:Q138))>0,\"'Scheme Name' missing but values entered in other columns\",\"\"))","v":""},null,false,1,2,3,4,5,6,7,8,9,10,11,"","",14,15,"","",0,true,true,true,true,true,true,true,true,true,true,true,true,true,true,true,true,false]
[null,{"$f":"'Scheme and Member Information'!B139","v":0},{"$f":"'Scheme and Member Information'!C139","v":0},null,null,null,null,null,null,null,null,"","",null,null,null,null,null,{"$f":"IF(U139,VLOOKUP(MIN(V139:AL139),'Data Validation (hidden)'!$G$2:$H$18,2,FALSE),IF((COUNTA(D139:K139))+(COUNTA(N139:Q139))>0,\"'Scheme Name' missing but values entered in other columns\",\"\"))","v":""},null,false,1,2,3,4,5,6,7,8,9,10,11,"","",14,15,"","",0,true,true,true,true,true,true,true,true,true,true,true,true,true,true,true,true,false]
[null,{"$f":"'Scheme and Member Information'!B140","v":0},{"$f":"'Scheme and Member Information'!C140","v":0},null,null,null,null,null,null,null,null,"","",null,null,null,null,null,{"$f":"IF(U140,VLOOKUP(MIN(V140:AL140),'Data Validation (hidden)'!$G$2:$H$18,2,FALSE),IF((COUNTA(D140:K140))+(COUNTA(N140:Q140))>0,\"'Scheme Name' missing but values entered in other columns\",\"\"))","v":""},null,false,1,2,3,4,5,6,7,8,9,10,11,"","",14,15,"","",0,true,true,true,true,true,true,true,true,true,true,true,true,true,true,true,true,false]
[null,{"$f":"'Scheme and Member Information'!B141","v":0},{"$f":"'Scheme and Member Information'!C141","v":0},null,null,null,null,null,null,null,null,"","",null,null,null,null,null,{"$f":"IF(U141,VLOOKUP(MIN(V141:AL141),'Data Validation (hidden)'!$G$2:$H$18,2,FALSE),IF((COUNTA(D141:K141))+(COUNTA(N141:Q141))>0,\"'Scheme Name' missing but values entered in other columns\",\"\"))","v":""},null,false,1,2,3,4,5,6,7,8,9,10,11,"","",14,15,"","",0,true,true,true,true,true,true,true,true,true,true,true,true,true,true,true,true,false]
[null,{"$f":"'Scheme and Member Information'!B142","v":0},{"$f":"'Scheme and Member Information'!C142","v":0},null,null,null,null,null,null,null,null,"","",null,null,null,null,null,{"$f":"IF(U142,VLOOKUP(MIN(V142:AL142),'Data Validation (hidden)'!$G$2:$H$18,2,FALSE),IF((COUNTA(D142:K142))+(COUNTA(N142:Q142))>0,\"'Scheme Name' missing but values entered in other columns\",\"\"))","v":""},null,false,1,2,3,4,5,6,7,8,9,10,11,"","",14,15,"","",0,true,true,true,true,true,true,true,true,true,true,true,true,true,true,true,true,false]
[null,{"$f":"'Scheme and Member Information'!B143","v":0},{"$f":"'Scheme and Member Information'!C143","v":0},null,null,null,null,null,null,null,null,"","",null,null,null,null,null,{"$f":"IF(U143,VLOOKUP(MIN(V143:AL143),'Data Validation (hidden)'!$G$2:$H$18,2,FALSE),IF((COUNTA(D143:K143))+(COUNTA(N143:Q143))>0,\"'Scheme Name' missing but values entered in other columns\",\"\"))","v":""},null,false,1,2,3,4,5,6,7,8,9,10,11,"","",14,15,"","",0,true,true,true,true,true,true,true,true,true,true,true,true,true,true,true,true,false]
[null,{"$f":"'Scheme and Member Information'!B144","v":0},{"$f":"'Scheme and Member Information'!C144","v":0},null,null,null,null,null,null,null,null,"","",null,null,null,null,null,{"$f":"IF(U144,VLOOKUP(MIN(V144:AL144),'Data Validation (hidden)'!$G$2:$H$18,2,FALSE),IF((COUNTA(D144:K144))+(COUNTA(N144:Q144))>0,\"'Scheme Name' missing but values entered in other columns\",\"\"))","v":""},null,false,1,2,3,4,5,6,7,8,9,10,11,"","",14,15,"","",0,true,true,true,true,true,true,true,true,true,true,true,true,true,true,true,true,false]
[null,{"$f":"'Scheme and Member Information'!B145","v":0},{"$f":"'Scheme and Member Information'!C145","v":0},null,null,null,null,null,null,null,null,"","",null,null,null,null,null,{"$f":"IF(U145,VLOOKUP(MIN(V145:AL145),'Data Validation (hidden)'!$G$2:$H$18,2,FALSE),IF((COUNTA(D145:K145))+(COUNTA(N145:Q145))>0,\"'Scheme Name' missing but values entered in other columns\",\"\"))","v":""},null,false,1,2,3,4,5,6,7,8,9,10,11,"","",14,15,"","",0,true,true,true,true,true,true,true,true,true,true,true,true,true,true,true,true,false]
[null,{"$f":"'Scheme and Member Information'!B146","v":0},{"$f":"'Scheme and Member Information'!C146","v":0},null,null,null,null,null,null,null,null,"","",null,null,null,null,null,{"$f":"IF(U146,VLOOKUP(MIN(V146:AL146),'Data Validation (hidden)'!$G$2:$H$18,2,FALSE),IF((COUNTA(D146:K146))+(COUNTA(N146:Q146))>0,\"'Scheme Name' missing but values entered in other columns\",\"\"))","v":""},null,false,1,2,3,4,5,6,7,8,9,10,11,"","",14,15,"","",0,true,true,true,true,true,true,true,true,true,true,true,true,true,true,true,true,false]
[null,{"$f":"'Scheme and Member Information'!B147","v":0},{"$f":"'Scheme and Member Information'!C147","v":0},null,null,null,null,null,null,null,null,"","",null,null,null,null,null,{"$f":"IF(U147,VLOOKUP(MIN(V147:AL147),'Data Validation (hidden)'!$G$2:$H$18,2,FALSE),IF((COUNTA(D147:K147))+(COUNTA(N147:Q147))>0,\"'Scheme Name' missing but values entered in other columns\",\"\"))","v":""},null,false,1,2,3,4,5,6,7,8,9,10,11,"","",14,15,"","",0,true,true,true,true,true,true,true,true,true,true,true,true,true,true,true,true,false]
[null,{"$f":"'Scheme and Member Information'!B148","v":0},{"$f":"'Scheme and Member Information'!C148","v":0},null,null,null,null,null,null,null,null,"","",null,null,null,null,null,{"$f":"IF(U148,VLOOKUP(MIN(V148:AL148),'Data Validation (hidden)'!$G$2:$H$18,2,FALSE),IF((COUNTA(D148:K148))+(COUNTA(N148:Q148))>0,\"'Scheme Name' missing but values entered in other columns\",\"\"))","v":""},null,false,1,2,3,4,5,6,7,8,9,10,11,"","",14,15,"","",0,true,true,true,true,true,true,true,true,true,true,true,true,true,true,true,true,false]
[null,{"$f":"'Scheme and Member Information'!B149","v":0},{"$f":"'Scheme and Member Information'!C149","v":0},null,null,null,null,null,null,null,null,"","",null,null,null,null,null,{"$f":"IF(U149,VLOOKUP(MIN(V149:AL149),'Data Validation (hidden)'!$G$2:$H$18,2,FALSE),IF((COUNTA(D149:K149))+(COUNTA(N149:Q149))>0,\"'Scheme Name' missing but values entered in other columns\",\"\"))","v":""},null,false,1,2,3,4,5,6,7,8,9,10,11,"","",14,15,"","",0,true,true,true,true,true,true,true,true,true,true,true,true,true,true,true,true,false]
[null,{"$f":"'Scheme and Member Information'!B150","v":0},{"$f":"'Scheme and Member Information'!C150","v":0},null,null,null,null,null,null,null,null,"","",null,null,null,null,null,{"$f":"IF(U150,VLOOKUP(MIN(V150:AL150),'Data Validation (hidden)'!$G$2:$H$18,2,FALSE),IF((COUNTA(D150:K150))+(COUNTA(N150:Q150))>0,\"'Scheme Name' missing but values entered in other columns\",\"\"))","v":""},null,false,1,2,3,4,5,6,7,8,9,10,11,"","",14,15,"","",0,true,true,true,true,true,true,true,true,true,true,true,true,true,true,true,true,false]
[null,{"$f":"'Scheme and Member Information'!B151","v":0},{"$f":"'Scheme and Member Information'!C151","v":0},null,null,null,null,null,null,null,null,"","",null,null,null,null,null,{"$f":"IF(U151,VLOOKUP(MIN(V151:AL151),'Data Validation (hidden)'!$G$2:$H$18,2,FALSE),IF((COUNTA(D151:K151))+(COUNTA(N151:Q151))>0,\"'Scheme Name' missing but values entered in other columns\",\"\"))","v":""},null,false,1,2,3,4,5,6,7,8,9,10,11,"","",14,15,"","",0,true,true,true,true,true,true,true,true,true,true,true,true,true,true,true,true,false]
[null,{"$f":"'Scheme and Member Information'!B152","v":0},{"$f":"'Scheme and Member Information'!C152","v":0},null,null,null,null,null,null,null,null,"","",null,null,null,null,null,{"$f":"IF(U152,VLOOKUP(MIN(V152:AL152),'Data Validation (hidden)'!$G$2:$H$18,2,FALSE),IF((COUNTA(D152:K152))+(COUNTA(N152:Q152))>0,\"'Scheme Name' missing but values entered in other columns\",\"\"))","v":""},null,false,1,2,3,4,5,6,7,8,9,10,11,"","",14,15,"","",0,true,true,true,true,true,true,true,true,true,true,true,true,true,true,true,true,false]
[null,{"$f":"'Scheme and Member Information'!B153","v":0},{"$f":"'Scheme and Member Information'!C153","v":0},null,null,null,null,null,null,null,null,"","",null,null,null,null,null,{"$f":"IF(U153,VLOOKUP(MIN(V153:AL153),'Data Validation (hidden)'!$G$2:$H$18,2,FALSE),IF((COUNTA(D153:K153))+(COUNTA(N153:Q153))>0,\"'Scheme Name' missing but values entered in other columns\",\"\"))","v":""},null,false,1,2,3,4,5,6,7,8,9,10,11,"","",14,15,"","",0,true,true,true,true,true,true,true,true,true,true,true,true,true,true,true,true,false]
[null,{"$f":"'Scheme and Member Information'!B154","v":0},{"$f":"'Scheme and Member Information'!C154","v":0},null,null,null,null,null,null,null,null,"","",null,null,null,null,null,{"$f":"IF(U154,VLOOKUP(MIN(V154:AL154),'Data Validation (hidden)'!$G$2:$H$18,2,FALSE),IF((COUNTA(D154:K154))+(COUNTA(N154:Q154))>0,\"'Scheme Name' missing but values entered in other columns\",\"\"))","v":""},null,false,1,2,3,4,5,6,7,8,9,10,11,"","",14,15,"","",0,true,true,true,true,true,true,true,true,true,true,true,true,true,true,true,true,false]
[null,{"$f":"'Scheme and Member Information'!B155","v":0},{"$f":"'Scheme and Member Information'!C155","v":0},null,null,null,null,null,null,null,null,"","",null,null,null,null,null,{"$f":"IF(U155,VLOOKUP(MIN(V155:AL155),'Data Validation (hidden)'!$G$2:$H$18,2,FALSE),IF((COUNTA(D155:K155))+(COUNTA(N155:Q155))>0,\"'Scheme Name' missing but values entered in other columns\",\"\"))","v":""},null,false,1,2,3,4,5,6,7,8,9,10,11,"","",14,15,"","",0,true,true,true,true,true,true,true,true,true,true,true,true,true,true,true,true,false]
[null,{"$f":"'Scheme and Member Information'!B156","v":0},{"$f":"'Scheme and Member Information'!C156","v":0},null,null,null,null,null,null,null,null,"","",null,null,null,null,null,{"$f":"IF(U156,VLOOKUP(MIN(V156:AL156),'Data Validation (hidden)'!$G$2:$H$18,2,FALSE),IF((COUNTA(D156:K156))+(COUNTA(N156:Q156))>0,\"'Scheme Name' missing but values entered in other columns\",\"\"))","v":""},null,false,1,2,3,4,5,6,7,8,9,10,11,"","",14,15,"","",0,true,true,true,true,true,true,true,true,true,true,true,true,true,true,true,true,false]
[null,{"$f":"'Scheme and Member Information'!B157","v":0},{"$f":"'Scheme and Member Information'!C157","v":0},null,null,null,null,null,null,null,null,"","",null,null,null,null,null,{"$f":"IF(U157,VLOOKUP(MIN(V157:AL157),'Data Validation (hidden)'!$G$2:$H$18,2,FALSE),IF((COUNTA(D157:K157))+(COUNTA(N157:Q157))>0,\"'Scheme Name' missing but values entered in other columns\",\"\"))","v":""},null,false,1,2,3,4,5,6,7,8,9,10,11,"","",14,15,"","",0,true,true,true,true,true,true,true,true,true,true,true,true,true,true,true,true,false]
[null,{"$f":"'Scheme and Member Information'!B158","v":0},{"$f":"'Scheme and Member Information'!C158","v":0},null,null,null,null,null,null,null,null,"","",null,null,null,null,null,{"$f":"IF(U158,VLOOKUP(MIN(V158:AL158),'Data Validation (hidden)'!$G$2:$H$18,2,FALSE),IF((COUNTA(D158:K158))+(COUNTA(N158:Q158))>0,\"'Scheme Name' missing but values entered in other columns\",\"\"))","v":""},null,false,1,2,3,4,5,6,7,8,9,10,11,"","",14,15,"","",0,true,true,true,true,true,true,true,true,true,true,true,true,true,true,true,true,false]
[null,{"$f":"'Scheme and Member Information'!B159","v":0},{"$f":"'Scheme and Member Information'!C159","v":0},null,null,null,null,null,null,null,null,"","",null,null,null,null,null,{"$f":"IF(U159,VLOOKUP(MIN(V159:AL159),'Data Validation (hidden)'!$G$2:$H$18,2,FALSE),IF((COUNTA(D159:K159))+(COUNTA(N159:Q159))>0,\"'Scheme Name' missing but values entered in other columns\",\"\"))","v":""},null,false,1,2,3,4,5,6,7,8,9,10,11,"","",14,15,"","",0,true,true,true,true,true,true,true,true,true,true,true,true,true,true,true,true,false]
[null,{"$f":"'Scheme and Member Information'!B160","v":0},{"$f":"'Scheme and Member Information'!C160","v":0},null,null,null,null,null,null,null,null,"","",null,null,null,null,null,{"$f":"IF(U160,VLOOKUP(MIN(V160:AL160),'Data Validation (hidden)'!$G$2:$H$18,2,FALSE),IF((COUNTA(D160:K160))+(COUNTA(N160:Q160))>0,\"'Scheme Name' missing but values entered in other columns\",\"\"))","v":""},null,false,1,2,3,4,5,6,7,8,9,10,11,"","",14,15,"","",0,true,true,true,true,true,true,true,true,true,true,true,true,true,true,true,true,false]
[null,{"$f":"'Scheme and Member Information'!B161","v":0},{"$f":"'Scheme and Member Information'!C161","v":0},null,null,null,null,null,null,null,null,"","",null,null,null,null,null,{"$f":"IF(U161,VLOOKUP(MIN(V161:AL161),'Data Validation (hidden)'!$G$2:$H$18,2,FALSE),IF((COUNTA(D161:K161))+(COUNTA(N161:Q161))>0,\"'Scheme Name' missing but values entered in other columns\",\"\"))","v":""},null,false,1,2,3,4,5,6,7,8,9,10,11,"","",14,15,"","",0,true,true,true,true,true,true,true,true,true,true,true,true,true,true,true,true,false]
[null,{"$f":"'Scheme and Member Information'!B162","v":0},{"$f":"'Scheme and Member Information'!C162","v":0},null,null,null,null,null,null,null,null,"","",null,null,null,null,null,{"$f":"IF(U162,VLOOKUP(MIN(V162:AL162),'Data Validation (hidden)'!$G$2:$H$18,2,FALSE),IF((COUNTA(D162:K162))+(COUNTA(N162:Q162))>0,\"'Scheme Name' missing but values entered in other columns\",\"\"))","v":""},null,false,1,2,3,4,5,6,7,8,9,10,11,"","",14,15,"","",0,true,true,true,true,true,true,true,true,true,true,true,true,true,true,true,true,false]
[null,{"$f":"'Scheme and Member Information'!B163","v":0},{"$f":"'Scheme and Member Information'!C163","v":0},null,null,null,null,null,null,null,null,"","",null,null,null,null,null,{"$f":"IF(U163,VLOOKUP(MIN(V163:AL163),'Data Validation (hidden)'!$G$2:$H$18,2,FALSE),IF((COUNTA(D163:K163))+(COUNTA(N163:Q163))>0,\"'Scheme Name' missing but values entered in other columns\",\"\"))","v":""},null,false,1,2,3,4,5,6,7,8,9,10,11,"","",14,15,"","",0,true,true,true,true,true,true,true,true,true,true,true,true,true,true,true,true,false]
[null,{"$f":"'Scheme and Member Information'!B164","v":0},{"$f":"'Scheme and Member Information'!C164","v":0},null,null,null,null,null,null,null,null,"","",null,null,null,null,null,{"$f":"IF(U164,VLOOKUP(MIN(V164:AL164),'Data Validation (hidden)'!$G$2:$H$18,2,FALSE),IF((COUNTA(D164:K164))+(COUNTA(N164:Q164))>0,\"'Scheme Name' missing but values entered in other columns\",\"\"))","v":""},null,false,1,2,3,4,5,6,7,8,9,10,11,"","",14,15,"","",0,true,true,true,true,true,true,true,true,true,true,true,true,true,true,true,true,false]
[null,{"$f":"'Scheme and Member Information'!B165","v":0},{"$f":"'Scheme and Member Information'!C165","v":0},null,null,null,null,null,null,null,null,"","",null,null,null,null,null,{"$f":"IF(U165,VLOOKUP(MIN(V165:AL165),'Data Validation (hidden)'!$G$2:$H$18,2,FALSE),IF((COUNTA(D165:K165))+(COUNTA(N165:Q165))>0,\"'Scheme Name' missing but values entered in other columns\",\"\"))","v":""},null,false,1,2,3,4,5,6,7,8,9,10,11,"","",14,15,"","",0,true,true,true,true,true,true,true,true,true,true,true,true,true,true,true,true,false]
[null,{"$f":"'Scheme and Member Information'!B166","v":0},{"$f":"'Scheme and Member Information'!C166","v":0},null,null,null,null,null,null,null,null,"","",null,null,null,null,null,{"$f":"IF(U166,VLOOKUP(MIN(V166:AL166),'Data Validation (hidden)'!$G$2:$H$18,2,FALSE),IF((COUNTA(D166:K166))+(COUNTA(N166:Q166))>0,\"'Scheme Name' missing but values entered in other columns\",\"\"))","v":""},null,false,1,2,3,4,5,6,7,8,9,10,11,"","",14,15,"","",0,true,true,true,true,true,true,true,true,true,true,true,true,true,true,true,true,false]
[null,{"$f":"'Scheme and Member Information'!B167","v":0},{"$f":"'Scheme and Member Information'!C167","v":0},null,null,null,null,null,null,null,null,"","",null,null,null,null,null,{"$f":"IF(U167,VLOOKUP(MIN(V167:AL167),'Data Validation (hidden)'!$G$2:$H$18,2,FALSE),IF((COUNTA(D167:K167))+(COUNTA(N167:Q167))>0,\"'Scheme Name' missing but values entered in other columns\",\"\"))","v":""},null,false,1,2,3,4,5,6,7,8,9,10,11,"","",14,15,"","",0,true,true,true,true,true,true,true,true,true,true,true,true,true,true,true,true,false]
[null,{"$f":"'Scheme and Member Information'!B168","v":0},{"$f":"'Scheme and Member Information'!C168","v":0},null,null,null,null,null,null,null,null,"","",null,null,null,null,null,{"$f":"IF(U168,VLOOKUP(MIN(V168:AL168),'Data Validation (hidden)'!$G$2:$H$18,2,FALSE),IF((COUNTA(D168:K168))+(COUNTA(N168:Q168))>0,\"'Scheme Name' missing but values entered in other columns\",\"\"))","v":""},null,false,1,2,3,4,5,6,7,8,9,10,11,"","",14,15,"","",0,true,true,true,true,true,true,true,true,true,true,true,true,true,true,true,true,false]
[null,{"$f":"'Scheme and Member Information'!B169","v":0},{"$f":"'Scheme and Member Information'!C169","v":0},null,null,null,null,null,null,null,null,"","",null,null,null,null,null,{"$f":"IF(U169,VLOOKUP(MIN(V169:AL169),'Data Validation (hidden)'!$G$2:$H$18,2,FALSE),IF((COUNTA(D169:K169))+(COUNTA(N169:Q169))>0,\"'Scheme Name' missing but values entered in other columns\",\"\"))","v":""},null,false,1,2,3,4,5,6,7,8,9,10,11,"","",14,15,"","",0,true,true,true,true,true,true,true,true,true,true,true,true,true,true,true,true,false]
[null,{"$f":"'Scheme and Member Information'!B170","v":0},{"$f":"'Scheme and Member Information'!C170","v":0},null,null,null,null,null,null,null,null,"","",null,null,null,null,null,{"$f":"IF(U170,VLOOKUP(MIN(V170:AL170),'Data Validation (hidden)'!$G$2:$H$18,2,FALSE),IF((COUNTA(D170:K170))+(COUNTA(N170:Q170))>0,\"'Scheme Name' missing but values entered in other columns\",\"\"))","v":""},null,false,1,2,3,4,5,6,7,8,9,10,11,"","",14,15,"","",0,true,true,true,true,true,true,true,true,true,true,true,true,true,true,true,true,false]
[null,{"$f":"'Scheme and Member Information'!B171","v":0},{"$f":"'Scheme and Member Information'!C171","v":0},null,null,null,null,null,null,null,null,"","",null,null,null,null,null,{"$f":"IF(U171,VLOOKUP(MIN(V171:AL171),'Data Validation (hidden)'!$G$2:$H$18,2,FALSE),IF((COUNTA(D171:K171))+(COUNTA(N171:Q171))>0,\"'Scheme Name' missing but values entered in other columns\",\"\"))","v":""},null,false,1,2,3,4,5,6,7,8,9,10,11,"","",14,15,"","",0,true,true,true,true,true,true,true,true,true,true,true,true,true,true,true,true,false]
[null,{"$f":"'Scheme and Member Information'!B172","v":0},{"$f":"'Scheme and Member Information'!C172","v":0},null,null,null,null,null,null,null,null,"","",null,null,null,null,null,{"$f":"IF(U172,VLOOKUP(MIN(V172:AL172),'Data Validation (hidden)'!$G$2:$H$18,2,FALSE),IF((COUNTA(D172:K172))+(COUNTA(N172:Q172))>0,\"'Scheme Name' missing but values entered in other columns\",\"\"))","v":""},null,false,1,2,3,4,5,6,7,8,9,10,11,"","",14,15,"","",0,true,true,true,true,true,true,true,true,true,true,true,true,true,true,true,true,false]
[null,{"$f":"'Scheme and Member Information'!B173","v":0},{"$f":"'Scheme and Member Information'!C173","v":0},null,null,null,null,null,null,null,null,"","",null,null,null,null,null,{"$f":"IF(U173,VLOOKUP(MIN(V173:AL173),'Data Validation (hidden)'!$G$2:$H$18,2,FALSE),IF((COUNTA(D173:K173))+(COUNTA(N173:Q173))>0,\"'Scheme Name' missing but values entered in other columns\",\"\"))","v":""},null,false,1,2,3,4,5,6,7,8,9,10,11,"","",14,15,"","",0,true,true,true,true,true,true,true,true,true,true,true,true,true,true,true,true,false]
[null,{"$f":"'Scheme and Member Information'!B174","v":0},{"$f":"'Scheme and Member Information'!C174","v":0},null,null,null,null,null,null,null,null,"","",null,null,null,null,null,{"$f":"IF(U174,VLOOKUP(MIN(V174:AL174),'Data Validation (hidden)'!$G$2:$H$18,2,FALSE),IF((COUNTA(D174:K174))+(COUNTA(N174:Q174))>0,\"'Scheme Name' missing but values entered in other columns\",\"\"))","v":""},null,false,1,2,3,4,5,6,7,8,9,10,11,"","",14,15,"","",0,true,true,true,true,true,true,true,true,true,true,true,true,true,true,true,true,false]
[null,{"$f":"'Scheme and Member Information'!B175","v":0},{"$f":"'Scheme and Member Information'!C175","v":0},null,null,null,null,null,null,null,null,"","",null,null,null,null,null,{"$f":"IF(U175,VLOOKUP(MIN(V175:AL175),'Data Validation (hidden)'!$G$2:$H$18,2,FALSE),IF((COUNTA(D175:K175))+(COUNTA(N175:Q175))>0,\"'Scheme Name' missing but values entered in other columns\",\"\"))","v":""},null,false,1,2,3,4,5,6,7,8,9,10,11,"","",14,15,"","",0,true,true,true,true,true,true,true,true,true,true,true,true,true,true,true,true,false]
[null,{"$f":"'Scheme and Member Information'!B176","v":0},{"$f":"'Scheme and Member Information'!C176","v":0},null,null,null,null,null,null,null,null,"","",null,null,null,null,null,{"$f":"IF(U176,VLOOKUP(MIN(V176:AL176),'Data Validation (hidden)'!$G$2:$H$18,2,FALSE),IF((COUNTA(D176:K176))+(COUNTA(N176:Q176))>0,\"'Scheme Name' missing but values entered in other columns\",\"\"))","v":""},null,false,1,2,3,4,5,6,7,8,9,10,11,"","",14,15,"","",0,true,true,true,true,true,true,true,true,true,true,true,true,true,true,true,true,false]
[null,{"$f":"'Scheme and Member Information'!B177","v":0},{"$f":"'Scheme and Member Information'!C177","v":0},null,null,null,null,null,null,null,null,"","",null,null,null,null,null,{"$f":"IF(U177,VLOOKUP(MIN(V177:AL177),'Data Validation (hidden)'!$G$2:$H$18,2,FALSE),IF((COUNTA(D177:K177))+(COUNTA(N177:Q177))>0,\"'Scheme Name' missing but values entered in other columns\",\"\"))","v":""},null,false,1,2,3,4,5,6,7,8,9,10,11,"","",14,15,"","",0,true,true,true,true,true,true,true,true,true,true,true,true,true,true,true,true,false]
[null,{"$f":"'Scheme and Member Information'!B178","v":0},{"$f":"'Scheme and Member Information'!C178","v":0},null,null,null,null,null,null,null,null,"","",null,null,null,null,null,{"$f":"IF(U178,VLOOKUP(MIN(V178:AL178),'Data Validation (hidden)'!$G$2:$H$18,2,FALSE),IF((COUNTA(D178:K178))+(COUNTA(N178:Q178))>0,\"'Scheme Name' missing but values entered in other columns\",\"\"))","v":""},null,false,1,2,3,4,5,6,7,8,9,10,11,"","",14,15,"","",0,true,true,true,true,true,true,true,true,true,true,true,true,true,true,true,true,false]
[null,{"$f":"'Scheme and Member Information'!B179","v":0},{"$f":"'Scheme and Member Information'!C179","v":0},null,null,null,null,null,null,null,null,"","",null,null,null,null,null,{"$f":"IF(U179,VLOOKUP(MIN(V179:AL179),'Data Validation (hidden)'!$G$2:$H$18,2,FALSE),IF((COUNTA(D179:K179))+(COUNTA(N179:Q179))>0,\"'Scheme Name' missing but values entered in other columns\",\"\"))","v":""},null,false,1,2,3,4,5,6,7,8,9,10,11,"","",14,15,"","",0,true,true,true,true,true,true,true,true,true,true,true,true,true,true,true,true,false]
[null,{"$f":"'Scheme and Member Information'!B180","v":0},{"$f":"'Scheme and Member Information'!C180","v":0},null,null,null,null,null,null,null,null,"","",null,null,null,null,null,{"$f":"IF(U180,VLOOKUP(MIN(V180:AL180),'Data Validation (hidden)'!$G$2:$H$18,2,FALSE),IF((COUNTA(D180:K180))+(COUNTA(N180:Q180))>0,\"'Scheme Name' missing but values entered in other columns\",\"\"))","v":""},null,false,1,2,3,4,5,6,7,8,9,10,11,"","",14,15,"","",0,true,true,true,true,true,true,true,true,true,true,true,true,true,true,true,true,false]
[null,{"$f":"'Scheme and Member Information'!B181","v":0},{"$f":"'Scheme and Member Information'!C181","v":0},null,null,null,null,null,null,null,null,"","",null,null,null,null,null,{"$f":"IF(U181,VLOOKUP(MIN(V181:AL181),'Data Validation (hidden)'!$G$2:$H$18,2,FALSE),IF((COUNTA(D181:K181))+(COUNTA(N181:Q181))>0,\"'Scheme Name' missing but values entered in other columns\",\"\"))","v":""},null,false,1,2,3,4,5,6,7,8,9,10,11,"","",14,15,"","",0,true,true,true,true,true,true,true,true,true,true,true,true,true,true,true,true,false]
[null,{"$f":"'Scheme and Member Information'!B182","v":0},{"$f":"'Scheme and Member Information'!C182","v":0},null,null,null,null,null,null,null,null,"","",null,null,null,null,null,{"$f":"IF(U182,VLOOKUP(MIN(V182:AL182),'Data Validation (hidden)'!$G$2:$H$18,2,FALSE),IF((COUNTA(D182:K182))+(COUNTA(N182:Q182))>0,\"'Scheme Name' missing but values entered in other columns\",\"\"))","v":""},null,false,1,2,3,4,5,6,7,8,9,10,11,"","",14,15,"","",0,true,true,true,true,true,true,true,true,true,true,true,true,true,true,true,true,false]
[null,{"$f":"'Scheme and Member Information'!B183","v":0},{"$f":"'Scheme and Member Information'!C183","v":0},null,null,null,null,null,null,null,null,"","",null,null,null,null,null,{"$f":"IF(U183,VLOOKUP(MIN(V183:AL183),'Data Validation (hidden)'!$G$2:$H$18,2,FALSE),IF((COUNTA(D183:K183))+(COUNTA(N183:Q183))>0,\"'Scheme Name' missing but values entered in other columns\",\"\"))","v":""},null,false,1,2,3,4,5,6,7,8,9,10,11,"","",14,15,"","",0,true,true,true,true,true,true,true,true,true,true,true,true,true,true,true,true,false]
[null,{"$f":"'Scheme and Member Information'!B184","v":0},{"$f":"'Scheme and Member Information'!C184","v":0},null,null,null,null,null,null,null,null,"","",null,null,null,null,null,{"$f":"IF(U184,VLOOKUP(MIN(V184:AL184),'Data Validation (hidden)'!$G$2:$H$18,2,FALSE),IF((COUNTA(D184:K184))+(COUNTA(N184:Q184))>0,\"'Scheme Name' missing but values entered in other columns\",\"\"))","v":""},null,false,1,2,3,4,5,6,7,8,9,10,11,"","",14,15,"","",0,true,true,true,true,true,true,true,true,true,true,true,true,true,true,true,true,false]
[null,{"$f":"'Scheme and Member Information'!B185","v":0},{"$f":"'Scheme and Member Information'!C185","v":0},null,null,null,null,null,null,null,null,"","",null,null,null,null,null,{"$f":"IF(U185,VLOOKUP(MIN(V185:AL185),'Data Validation (hidden)'!$G$2:$H$18,2,FALSE),IF((COUNTA(D185:K185))+(COUNTA(N185:Q185))>0,\"'Scheme Name' missing but values entered in other columns\",\"\"))","v":""},null,false,1,2,3,4,5,6,7,8,9,10,11,"","",14,15,"","",0,true,true,true,true,true,true,true,true,true,true,true,true,true,true,true,true,false]
[null,{"$f":"'Scheme and Member Information'!B186","v":0},{"$f":"'Scheme and Member Information'!C186","v":0},null,null,null,null,null,null,null,null,"","",null,null,null,null,null,{"$f":"IF(U186,VLOOKUP(MIN(V186:AL186),'Data Validation (hidden)'!$G$2:$H$18,2,FALSE),IF((COUNTA(D186:K186))+(COUNTA(N186:Q186))>0,\"'Scheme Name' missing but values entered in other columns\",\"\"))","v":""},null,false,1,2,3,4,5,6,7,8,9,10,11,"","",14,15,"","",0,true,true,true,true,true,true,true,true,true,true,true,true,true,true,true,true,false]
[null,{"$f":"'Scheme and Member Information'!B187","v":0},{"$f":"'Scheme and Member Information'!C187","v":0},null,null,null,null,null,null,null,null,"","",null,null,null,null,null,{"$f":"IF(U187,VLOOKUP(MIN(V187:AL187),'Data Validation (hidden)'!$G$2:$H$18,2,FALSE),IF((COUNTA(D187:K187))+(COUNTA(N187:Q187))>0,\"'Scheme Name' missing but values entered in other columns\",\"\"))","v":""},null,false,1,2,3,4,5,6,7,8,9,10,11,"","",14,15,"","",0,true,true,true,true,true,true,true,true,true,true,true,true,true,true,true,true,false]
[null,{"$f":"'Scheme and Member Information'!B188","v":0},{"$f":"'Scheme and Member Information'!C188","v":0},null,null,null,null,null,null,null,null,"","",null,null,null,null,null,{"$f":"IF(U188,VLOOKUP(MIN(V188:AL188),'Data Validation (hidden)'!$G$2:$H$18,2,FALSE),IF((COUNTA(D188:K188))+(COUNTA(N188:Q188))>0,\"'Scheme Name' missing but values entered in other columns\",\"\"))","v":""},null,false,1,2,3,4,5,6,7,8,9,10,11,"","",14,15,"","",0,true,true,true,true,true,true,true,true,true,true,true,true,true,true,true,true,false]
[null,{"$f":"'Scheme and Member Information'!B189","v":0},{"$f":"'Scheme and Member Information'!C189","v":0},null,null,null,null,null,null,null,null,"","",null,null,null,null,null,{"$f":"IF(U189,VLOOKUP(MIN(V189:AL189),'Data Validation (hidden)'!$G$2:$H$18,2,FALSE),IF((COUNTA(D189:K189))+(COUNTA(N189:Q189))>0,\"'Scheme Name' missing but values entered in other columns\",\"\"))","v":""},null,false,1,2,3,4,5,6,7,8,9,10,11,"","",14,15,"","",0,true,true,true,true,true,true,true,true,true,true,true,true,true,true,true,true,false]
[null,{"$f":"'Scheme and Member Information'!B190","v":0},{"$f":"'Scheme and Member Information'!C190","v":0},null,null,null,null,null,null,null,null,"","",null,null,null,null,null,{"$f":"IF(U190,VLOOKUP(MIN(V190:AL190),'Data Validation (hidden)'!$G$2:$H$18,2,FALSE),IF((COUNTA(D190:K190))+(COUNTA(N190:Q190))>0,\"'Scheme Name' missing but values entered in other columns\",\"\"))","v":""},null,false,1,2,3,4,5,6,7,8,9,10,11,"","",14,15,"","",0,true,true,true,true,true,true,true,true,true,true,true,true,true,true,true,true,false]
[null,{"$f":"'Scheme and Member Information'!B191","v":0},{"$f":"'Scheme and Member Information'!C191","v":0},null,null,null,null,null,null,null,null,"","",null,null,null,null,null,{"$f":"IF(U191,VLOOKUP(MIN(V191:AL191),'Data Validation (hidden)'!$G$2:$H$18,2,FALSE),IF((COUNTA(D191:K191))+(COUNTA(N191:Q191))>0,\"'Scheme Name' missing but values entered in other columns\",\"\"))","v":""},null,false,1,2,3,4,5,6,7,8,9,10,11,"","",14,15,"","",0,true,true,true,true,true,true,true,true,true,true,true,true,true,true,true,true,false]
[null,{"$f":"'Scheme and Member Information'!B192","v":0},{"$f":"'Scheme and Member Information'!C192","v":0},null,null,null,null,null,null,null,null,"","",null,null,null,null,null,{"$f":"IF(U192,VLOOKUP(MIN(V192:AL192),'Data Validation (hidden)'!$G$2:$H$18,2,FALSE),IF((COUNTA(D192:K192))+(COUNTA(N192:Q192))>0,\"'Scheme Name' missing but values entered in other columns\",\"\"))","v":""},null,false,1,2,3,4,5,6,7,8,9,10,11,"","",14,15,"","",0,true,true,true,true,true,true,true,true,true,true,true,true,true,true,true,true,false]
[null,{"$f":"'Scheme and Member Information'!B193","v":0},{"$f":"'Scheme and Member Information'!C193","v":0},null,null,null,null,null,null,null,null,"","",null,null,null,null,null,{"$f":"IF(U193,VLOOKUP(MIN(V193:AL193),'Data Validation (hidden)'!$G$2:$H$18,2,FALSE),IF((COUNTA(D193:K193))+(COUNTA(N193:Q193))>0,\"'Scheme Name' missing but values entered in other columns\",\"\"))","v":""},null,false,1,2,3,4,5,6,7,8,9,10,11,"","",14,15,"","",0,true,true,true,true,true,true,true,true,true,true,true,true,true,true,true,true,false]
[null,{"$f":"'Scheme and Member Information'!B194","v":0},{"$f":"'Scheme and Member Information'!C194","v":0},null,null,null,null,null,null,null,null,"","",null,null,null,null,null,{"$f":"IF(U194,VLOOKUP(MIN(V194:AL194),'Data Validation (hidden)'!$G$2:$H$18,2,FALSE),IF((COUNTA(D194:K194))+(COUNTA(N194:Q194))>0,\"'Scheme Name' missing but values entered in other columns\",\"\"))","v":""},null,false,1,2,3,4,5,6,7,8,9,10,11,"","",14,15,"","",0,true,true,true,true,true,true,true,true,true,true,true,true,true,true,true,true,false]
[null,{"$f":"'Scheme and Member Information'!B195","v":0},{"$f":"'Scheme and Member Information'!C195","v":0},null,null,null,null,null,null,null,null,"","",null,null,null,null,null,{"$f":"IF(U195,VLOOKUP(MIN(V195:AL195),'Data Validation (hidden)'!$G$2:$H$18,2,FALSE),IF((COUNTA(D195:K195))+(COUNTA(N195:Q195))>0,\"'Scheme Name' missing but values entered in other columns\",\"\"))","v":""},null,false,1,2,3,4,5,6,7,8,9,10,11,"","",14,15,"","",0,true,true,true,true,true,true,true,true,true,true,true,true,true,true,true,true,false]
[null,{"$f":"'Scheme and Member Information'!B196","v":0},{"$f":"'Scheme and Member Information'!C196","v":0},null,null,null,null,null,null,null,null,"","",null,null,null,null,null,{"$f":"IF(U196,VLOOKUP(MIN(V196:AL196),'Data Validation (hidden)'!$G$2:$H$18,2,FALSE),IF((COUNTA(D196:K196))+(COUNTA(N196:Q196))>0,\"'Scheme Name' missing but values entered in other columns\",\"\"))","v":""},null,false,1,2,3,4,5,6,7,8,9,10,11,"","",14,15,"","",0,true,true,true,true,true,true,true,true,true,true,true,true,true,true,true,true,false]
[null,{"$f":"'Scheme and Member Information'!B197","v":0},{"$f":"'Scheme and Member Information'!C197","v":0},null,null,null,null,null,null,null,null,"","",null,null,null,null,null,{"$f":"IF(U197,VLOOKUP(MIN(V197:AL197),'Data Validation (hidden)'!$G$2:$H$18,2,FALSE),IF((COUNTA(D197:K197))+(COUNTA(N197:Q197))>0,\"'Scheme Name' missing but values entered in other columns\",\"\"))","v":""},null,false,1,2,3,4,5,6,7,8,9,10,11,"","",14,15,"","",0,true,true,true,true,true,true,true,true,true,true,true,true,true,true,true,true,false]
[null,{"$f":"'Scheme and Member Information'!B198","v":0},{"$f":"'Scheme and Member Information'!C198","v":0},null,null,null,null,null,null,null,null,"","",null,null,null,null,null,{"$f":"IF(U198,VLOOKUP(MIN(V198:AL198),'Data Validation (hidden)'!$G$2:$H$18,2,FALSE),IF((COUNTA(D198:K198))+(COUNTA(N198:Q198))>0,\"'Scheme Name' missing but values entered in other columns\",\"\"))","v":""},null,false,1,2,3,4,5,6,7,8,9,10,11,"","",14,15,"","",0,true,true,true,true,true,true,true,true,true,true,true,true,true,true,true,true,false]
[null,{"$f":"'Scheme and Member Information'!B199","v":0},{"$f":"'Scheme and Member Information'!C199","v":0},null,null,null,null,null,null,null,null,"","",null,null,null,null,null,{"$f":"IF(U199,VLOOKUP(MIN(V199:AL199),'Data Validation (hidden)'!$G$2:$H$18,2,FALSE),IF((COUNTA(D199:K199))+(COUNTA(N199:Q199))>0,\"'Scheme Name' missing but values entered in other columns\",\"\"))","v":""},null,false,1,2,3,4,5,6,7,8,9,10,11,"","",14,15,"","",0,true,true,true,true,true,true,true,true,true,true,true,true,true,true,true,true,false]
[null,{"$f":"'Scheme and Member Information'!B200","v":0},{"$f":"'Scheme and Member Information'!C200","v":0},null,null,null,null,null,null,null,null,"","",null,null,null,null,null,{"$f":"IF(U200,VLOOKUP(MIN(V200:AL200),'Data Validation (hidden)'!$G$2:$H$18,2,FALSE),IF((COUNTA(D200:K200))+(COUNTA(N200:Q200))>0,\"'Scheme Name' missing but values entered in other columns\",\"\"))","v":""},null,false,1,2,3,4,5,6,7,8,9,10,11,"","",14,15,"","",0,true,true,true,true,true,true,true,true,true,true,true,true,true,true,true,true,{"$f":"IF(S200=\"\",FALSE,IF(S200=\"OK\",FALSE,TRUE))","v":false}]
[null,{"$f":"'Scheme and Member Information'!B201","v":0},{"$f":"'Scheme and Member Information'!C201","v":0},null,null,null,null,null,null,null,null,{"$f":"IF(AND(G201<>\"\",H201<>\"\",I201<>\"\",J201<>\"\",K201<>\"\"),(G201+H201+J201)-(I201+K201),\"\")","v":""},{"$f":"IF((L201=\"\"),\"\",(L201-G201))","v":""},null,null,null,null,null,{"$f":"IF(U201,VLOOKUP(MIN(V201:AL201),'Data Validation (hidden)'!$G$2:$H$18,2,FALSE),IF((COUNTA(D201:K201))+(COUNTA(N201:Q201))>0,\"'Scheme Name' missing but values entered in other columns\",\"\"))","v":""},null,{"$f":"AND(B201<>\"\",B201<>0)","v":false},{"$f":"IF(C201=\"\",1,IF(C201=0,1,\"\"))","v":1},{"$f":"IF(D201=\"\",2,\"\")","v":2},{"$f":"IF(D201=\"No\",\"\",IF(E201=\"\",3,\"\"))","v":3},{"$f":"IF(F201=\"\",4,\"\")","v":4},{"$f":"IF(G201=\"\",5,\"\")","v":5},{"$f":"IF(H201=\"\",6,\"\")","v":6},{"$f":"IF(I201=\"\",7,\"\")","v":7},{"$f":"IF(J201=\"\",8,\"\")","v":8},{"$f":"IF(K201=\"\",9,\"\")","v":9},{"$f":"IF(L201=\"\",10,\"\")","v":10},{"$f":"IF(M201=\"\",11,\"\")","v":11},{"$f":"IF(N201=\"\",IF(AM201<0.14,\"\",12),\"\")","v":""},{"$f":"IF(O201=\"\",IF(L201>999,\"\",13),\"\")","v":""},{"$f":"IF(P201=\"\",14,\"\")","v":14},{"$f":"IF(Q201=\"\",15,\"\")","v":15},{"$f":"IF(COUNT(V201:AJ201)=0,\"10\",\"\")","v":""},{"$f":"IF(AND(AN201,AO201,AP201,AQ201,AR201,AS201,AT201,AU201,AV201,AW201,AX201,AY201,AZ201,BA201,BB201,BC201)=TRUE,\"\",16)","v":""},{"$f":"IF(OR(G201=\"\",L201=\"\",AND(G201=0,L201=0)),0,IF((G201>L201),((G201-L201)/G201),((L201-G201)/G201)))","v":0},{"$f":"IF(CELL(\"format\", B201) = \"G\",TRUE,FALSE)","v":true},{"$f":"IF(CELL(\"format\", C201) = \"F0\",TRUE,FALSE)","v":true},{"$f":"IF(CELL(\"format\", D201) = \"G\",TRUE,FALSE)","v":true},{"$f":"IF(CELL(\"format\", E201) = \"D1\",TRUE,FALSE)","v":true},{"$f":"IF(CELL(\"format\", F201) = \"D1\",TRUE,FALSE)","v":true},{"$f":"IF(CELL(\"format\", G201) = \"C0\",TRUE,FALSE)","v":true},{"$f":"IF(CELL(\"format\", H201) = \"C0\",TRUE,FALSE)","v":true},{"$f":"IF(CELL(\"format\", I201) = \"C0\",TRUE,FALSE)","v":true},{"$f":"IF(CELL(\"format\", J201) = \"C0\",TRUE,FALSE)","v":true},{"$f":"IF(CELL(\"format\", K201) = \"C0\",TRUE,FALSE)","v":true},{"$f":"IF(CELL(\"format\", L201) = \"C0\",TRUE,FALSE)","v":true},{"$f":"IF(CELL(\"format\", M201) = \"C0\",TRUE,FALSE)","v":true},{"$f":"IF(CELL(\"format\", N201) = \"G\",TRUE,FALSE)","v":true},{"$f":"IF(CELL(\"format\", O201) = \"G\",TRUE,FALSE)","v":true},{"$f":"IF(CELL(\"format\", P201) = \"C0\",TRUE,FALSE)","v":true},{"$f":"IF(CELL(\"format\", Q201) = \"C0\",TRUE,FALSE)","v":true},false]
[null,{"$f":"'Scheme and Member Information'!B202","v":0},{"$f":"'Scheme and Member Information'!C202","v":0},null,null,null,null,null,null,null,null,"","",null,null,null,null,null,{"$f":"IF(U202,VLOOKUP(MIN(V202:AL202),'Data Validation (hidden)'!$G$2:$H$18,2,FALSE),IF((COUNTA(D202:K202))+(COUNTA(N202:Q202))>0,\"'Scheme Name' missing but values entered in other columns\",\"\"))","v":""},null,false,1,2,3,4,5,6,7,8,9,10,11,"","",14,15,"","",0,true,true,true,true,true,true,true,true,true,true,true,true,true,true,true,true,false]
[null,{"$f":"'Scheme and Member Information'!B203","v":0},{"$f":"'Scheme and Member Information'!C203","v":0},null,null,null,null,null,null,null,null,"","",null,null,null,null,null,{"$f":"IF(U203,VLOOKUP(MIN(V203:AL203),'Data Validation (hidden)'!$G$2:$H$18,2,FALSE),IF((COUNTA(D203:K203))+(COUNTA(N203:Q203))>0,\"'Scheme Name' missing but values entered in other columns\",\"\"))","v":""},null,false,1,2,3,4,5,6,7,8,9,10,11,"","",14,15,"","",0,true,true,true,true,true,true,true,true,true,true,true,true,true,true,true,true,false]
[null,{"$f":"'Scheme and Member Information'!B204","v":0},{"$f":"'Scheme and Member Information'!C204","v":0},null,null,null,null,null,null,null,null,"","",null,null,null,null,null,{"$f":"IF(U204,VLOOKUP(MIN(V204:AL204),'Data Validation (hidden)'!$G$2:$H$18,2,FALSE),IF((COUNTA(D204:K204))+(COUNTA(N204:Q204))>0,\"'Scheme Name' missing but values entered in other columns\",\"\"))","v":""},null,false,1,2,3,4,5,6,7,8,9,10,11,"","",14,15,"","",0,true,true,true,true,true,true,true,true,true,true,true,true,true,true,true,true,false]
[null,{"$f":"'Scheme and Member Information'!B205","v":0},{"$f":"'Scheme and Member Information'!C205","v":0},null,null,null,null,null,null,null,null,"","",null,null,null,null,null,{"$f":"IF(U205,VLOOKUP(MIN(V205:AL205),'Data Validation (hidden)'!$G$2:$H$18,2,FALSE),IF((COUNTA(D205:K205))+(COUNTA(N205:Q205))>0,\"'Scheme Name' missing but values entered in other columns\",\"\"))","v":""},null,false,1,2,3,4,5,6,7,8,9,10,11,"","",14,15,"","",0,true,true,true,true,true,true,true,true,true,true,true,true,true,true,true,true,false]
[null,{"$f":"'Scheme and Member Information'!B206","v":0},{"$f":"'Scheme and Member Information'!C206","v":0},null,null,null,null,null,null,null,null,"","",null,null,null,null,null,{"$f":"IF(U206,VLOOKUP(MIN(V206:AL206),'Data Validation (hidden)'!$G$2:$H$18,2,FALSE),IF((COUNTA(D206:K206))+(COUNTA(N206:Q206))>0,\"'Scheme Name' missing but values entered in other columns\",\"\"))","v":""},null,false,1,2,3,4,5,6,7,8,9,10,11,"","",14,15,"","",0,true,true,true,true,true,true,true,true,true,true,true,true,true,true,true,true,false]
[null,{"$f":"'Scheme and Member Information'!B207","v":0},{"$f":"'Scheme and Member Information'!C207","v":0},null,null,null,null,null,null,null,null,"","",null,null,null,null,null,{"$f":"IF(U207,VLOOKUP(MIN(V207:AL207),'Data Validation (hidden)'!$G$2:$H$18,2,FALSE),IF((COUNTA(D207:K207))+(COUNTA(N207:Q207))>0,\"'Scheme Name' missing but values entered in other columns\",\"\"))","v":""},null,false,1,2,3,4,5,6,7,8,9,10,11,"","",14,15,"","",0,true,true,true,true,true,true,true,true,true,true,true,true,true,true,true,true,false]
[null,{"$f":"'Scheme and Member Information'!B208","v":0},{"$f":"'Scheme and Member Information'!C208","v":0},null,null,null,null,null,null,null,null,"","",null,null,null,null,null,{"$f":"IF(U208,VLOOKUP(MIN(V208:AL208),'Data Validation (hidden)'!$G$2:$H$18,2,FALSE),IF((COUNTA(D208:K208))+(COUNTA(N208:Q208))>0,\"'Scheme Name' missing but values entered in other columns\",\"\"))","v":""},null,false,1,2,3,4,5,6,7,8,9,10,11,"","",14,15,"","",0,true,true,true,true,true,true,true,true,true,true,true,true,true,true,true,true,false]
[null,{"$f":"'Scheme and Member Information'!B209","v":0},{"$f":"'Scheme and Member Information'!C209","v":0},null,null,null,null,null,null,null,null,"","",null,null,null,null,null,{"$f":"IF(U209,VLOOKUP(MIN(V209:AL209),'Data Validation (hidden)'!$G$2:$H$18,2,FALSE),IF((COUNTA(D209:K209))+(COUNTA(N209:Q209))>0,\"'Scheme Name' missing but values entered in other columns\",\"\"))","v":""},null,false,1,2,3,4,5,6,7,8,9,10,11,"","",14,15,"","",0,true,true,true,true,true,true,true,true,true,true,true,true,true,true,true,true,false]
[null,{"$f":"'Scheme and Member Information'!B210","v":0},{"$f":"'Scheme and Member Information'!C210","v":0},null,null,null,null,null,null,null,null,"","",null,null,null,null,null,{"$f":"IF(U210,VLOOKUP(MIN(V210:AL210),'Data Validation (hidden)'!$G$2:$H$18,2,FALSE),IF((COUNTA(D210:K210))+(COUNTA(N210:Q210))>0,\"'Scheme Name' missing but values entered in other columns\",\"\"))","v":""},null,false,1,2,3,4,5,6,7,8,9,10,11,"","",14,15,"","",0,true,true,true,true,true,true,true,true,true,true,true,true,true,true,true,true,false]
[null,{"$f":"'Scheme and Member Information'!B211","v":0},{"$f":"'Scheme and Member Information'!C211","v":0},null,null,null,null,null,null,null,null,"","",null,null,null,null,null,{"$f":"IF(U211,VLOOKUP(MIN(V211:AL211),'Data Validation (hidden)'!$G$2:$H$18,2,FALSE),IF((COUNTA(D211:K211))+(COUNTA(N211:Q211))>0,\"'Scheme Name' missing but values entered in other columns\",\"\"))","v":""},null,false,1,2,3,4,5,6,7,8,9,10,11,"","",14,15,"","",0,true,true,true,true,true,true,true,true,true,true,true,true,true,true,true,true,false]
[null,{"$f":"'Scheme and Member Information'!B212","v":0},{"$f":"'Scheme and Member Information'!C212","v":0},null,null,null,null,null,null,null,null,"","",null,null,null,null,null,{"$f":"IF(U212,VLOOKUP(MIN(V212:AL212),'Data Validation (hidden)'!$G$2:$H$18,2,FALSE),IF((COUNTA(D212:K212))+(COUNTA(N212:Q212))>0,\"'Scheme Name' missing but values entered in other columns\",\"\"))","v":""},null,false,1,2,3,4,5,6,7,8,9,10,11,"","",14,15,"","",0,true,true,true,true,true,true,true,true,true,true,true,true,true,true,true,true,false]
[null,{"$f":"'Scheme and Member Information'!B213","v":0},{"$f":"'Scheme and Member Information'!C213","v":0},null,null,null,null,null,null,null,null,"","",null,null,null,null,null,{"$f":"IF(U213,VLOOKUP(MIN(V213:AL213),'Data Validation (hidden)'!$G$2:$H$18,2,FALSE),IF((COUNTA(D213:K213))+(COUNTA(N213:Q213))>0,\"'Scheme Name' missing but values entered in other columns\",\"\"))","v":""},null,false,1,2,3,4,5,6,7,8,9,10,11,"","",14,15,"","",0,true,true,true,true,true,true,true,true,true,true,true,true,true,true,true,true,false]
[null,{"$f":"'Scheme and Member Information'!B214","v":0},{"$f":"'Scheme and Member Information'!C214","v":0},null,null,null,null,null,null,null,null,"","",null,null,null,null,null,{"$f":"IF(U214,VLOOKUP(MIN(V214:AL214),'Data Validation (hidden)'!$G$2:$H$18,2,FALSE),IF((COUNTA(D214:K214))+(COUNTA(N214:Q214))>0,\"'Scheme Name' missing but values entered in other columns\",\"\"))","v":""},null,false,1,2,3,4,5,6,7,8,9,10,11,"","",14,15,"","",0,true,true,true,true,true,true,true,true,true,true,true,true,true,true,true,true,false]
[null,{"$f":"'Scheme and Member Information'!B215","v":0},{"$f":"'Scheme and Member Information'!C215","v":0},null,null,null,null,null,null,null,null,"","",null,null,null,null,null,{"$f":"IF(U215,VLOOKUP(MIN(V215:AL215),'Data Validation (hidden)'!$G$2:$H$18,2,FALSE),IF((COUNTA(D215:K215))+(COUNTA(N215:Q215))>0,\"'Scheme Name' missing but values entered in other columns\",\"\"))","v":""},null,false,1,2,3,4,5,6,7,8,9,10,11,"","",14,15,"","",0,true,true,true,true,true,true,true,true,true,true,true,true,true,true,true,true,false]
[null,{"$f":"'Scheme and Member Information'!B216","v":0},{"$f":"'Scheme and Member Information'!C216","v":0},null,null,null,null,null,null,null,null,"","",null,null,null,null,null,{"$f":"IF(U216,VLOOKUP(MIN(V216:AL216),'Data Validation (hidden)'!$G$2:$H$18,2,FALSE),IF((COUNTA(D216:K216))+(COUNTA(N216:Q216))>0,\"'Scheme Name' missing but values entered in other columns\",\"\"))","v":""},null,false,1,2,3,4,5,6,7,8,9,10,11,"","",14,15,"","",0,true,true,true,true,true,true,true,true,true,true,true,true,true,true,true,true,false]
[null,{"$f":"'Scheme and Member Information'!B217","v":0},{"$f":"'Scheme and Member Information'!C217","v":0},null,null,null,null,null,null,null,null,"","",null,null,null,null,null,{"$f":"IF(U217,VLOOKUP(MIN(V217:AL217),'Data Validation (hidden)'!$G$2:$H$18,2,FALSE),IF((COUNTA(D217:K217))+(COUNTA(N217:Q217))>0,\"'Scheme Name' missing but values entered in other columns\",\"\"))","v":""},null,false,1,2,3,4,5,6,7,8,9,10,11,"","",14,15,"","",0,true,true,true,true,true,true,true,true,true,true,true,true,true,true,true,true,false]
[null,{"$f":"'Scheme and Member Information'!B218","v":0},{"$f":"'Scheme and Member Information'!C218","v":0},null,null,null,null,null,null,null,null,"","",null,null,null,null,null,{"$f":"IF(U218,VLOOKUP(MIN(V218:AL218),'Data Validation (hidden)'!$G$2:$H$18,2,FALSE),IF((COUNTA(D218:K218))+(COUNTA(N218:Q218))>0,\"'Scheme Name' missing but values entered in other columns\",\"\"))","v":""},null,false,1,2,3,4,5,6,7,8,9,10,11,"","",14,15,"","",0,true,true,true,true,true,true,true,true,true,true,true,true,true,true,true,true,false]
[null,{"$f":"'Scheme and Member Information'!B219","v":0},{"$f":"'Scheme and Member Information'!C219","v":0},null,null,null,null,null,null,null,null,"","",null,null,null,null,null,{"$f":"IF(U219,VLOOKUP(MIN(V219:AL219),'Data Validation (hidden)'!$G$2:$H$18,2,FALSE),IF((COUNTA(D219:K219))+(COUNTA(N219:Q219))>0,\"'Scheme Name' missing but values entered in other columns\",\"\"))","v":""},null,false,1,2,3,4,5,6,7,8,9,10,11,"","",14,15,"","",0,true,true,true,true,true,true,true,true,true,true,true,true,true,true,true,true,false]
[null,{"$f":"'Scheme and Member Information'!B220","v":0},{"$f":"'Scheme and Member Information'!C220","v":0},null,null,null,null,null,null,null,null,"","",null,null,null,null,null,{"$f":"IF(U220,VLOOKUP(MIN(V220:AL220),'Data Validation (hidden)'!$G$2:$H$18,2,FALSE),IF((COUNTA(D220:K220))+(COUNTA(N220:Q220))>0,\"'Scheme Name' missing but values entered in other columns\",\"\"))","v":""},null,false,1,2,3,4,5,6,7,8,9,10,11,"","",14,15,"","",0,true,true,true,true,true,true,true,true,true,true,true,true,true,true,true,true,false]
[null,{"$f":"'Scheme and Member Information'!B221","v":0},{"$f":"'Scheme and Member Information'!C221","v":0},null,null,null,null,null,null,null,null,"","",null,null,null,null,null,{"$f":"IF(U221,VLOOKUP(MIN(V221:AL221),'Data Validation (hidden)'!$G$2:$H$18,2,FALSE),IF((COUNTA(D221:K221))+(COUNTA(N221:Q221))>0,\"'Scheme Name' missing but values entered in other columns\",\"\"))","v":""},null,false,1,2,3,4,5,6,7,8,9,10,11,"","",14,15,"","",0,true,true,true,true,true,true,true,true,true,true,true,true,true,true,true,true,false]
[null,{"$f":"'Scheme and Member Information'!B222","v":0},{"$f":"'Scheme and Member Information'!C222","v":0},null,null,null,null,null,null,null,null,"","",null,null,null,null,null,{"$f":"IF(U222,VLOOKUP(MIN(V222:AL222),'Data Validation (hidden)'!$G$2:$H$18,2,FALSE),IF((COUNTA(D222:K222))+(COUNTA(N222:Q222))>0,\"'Scheme Name' missing but values entered in other columns\",\"\"))","v":""},null,false,1,2,3,4,5,6,7,8,9,10,11,"","",14,15,"","",0,true,true,true,true,true,true,true,true,true,true,true,true,true,true,true,true,false]
[null,{"$f":"'Scheme and Member Information'!B223","v":0},{"$f":"'Scheme and Member Information'!C223","v":0},null,null,null,null,null,null,null,null,"","",null,null,null,null,null,{"$f":"IF(U223,VLOOKUP(MIN(V223:AL223),'Data Validation (hidden)'!$G$2:$H$18,2,FALSE),IF((COUNTA(D223:K223))+(COUNTA(N223:Q223))>0,\"'Scheme Name' missing but values entered in other columns\",\"\"))","v":""},null,false,1,2,3,4,5,6,7,8,9,10,11,"","",14,15,"","",0,true,true,true,true,true,true,true,true,true,true,true,true,true,true,true,true,false]
[null,{"$f":"'Scheme and Member Information'!B224","v":0},{"$f":"'Scheme and Member Information'!C224","v":0},null,null,null,null,null,null,null,null,"","",null,null,null,null,null,{"$f":"IF(U224,VLOOKUP(MIN(V224:AL224),'Data Validation (hidden)'!$G$2:$H$18,2,FALSE),IF((COUNTA(D224:K224))+(COUNTA(N224:Q224))>0,\"'Scheme Name' missing but values entered in other columns\",\"\"))","v":""},null,false,1,2,3,4,5,6,7,8,9,10,11,"","",14,15,"","",0,true,true,true,true,true,true,true,true,true,true,true,true,true,true,true,true,false]
[null,{"$f":"'Scheme and Member Information'!B225","v":0},{"$f":"'Scheme and Member Information'!C225","v":0},null,null,null,null,null,null,null,null,"","",null,null,null,null,null,{"$f":"IF(U225,VLOOKUP(MIN(V225:AL225),'Data Validation (hidden)'!$G$2:$H$18,2,FALSE),IF((COUNTA(D225:K225))+(COUNTA(N225:Q225))>0,\"'Scheme Name' missing but values entered in other columns\",\"\"))","v":""},null,false,1,2,3,4,5,6,7,8,9,10,11,"","",14,15,"","",0,true,true,true,true,true,true,true,true,true,true,true,true,true,true,true,true,false]
[null,{"$f":"'Scheme and Member Information'!B226","v":0},{"$f":"'Scheme and Member Information'!C226","v":0},null,null,null,null,null,null,null,null,"","",null,null,null,null,null,{"$f":"IF(U226,VLOOKUP(MIN(V226:AL226),'Data Validation (hidden)'!$G$2:$H$18,2,FALSE),IF((COUNTA(D226:K226))+(COUNTA(N226:Q226))>0,\"'Scheme Name' missing but values entered in other columns\",\"\"))","v":""},null,false,1,2,3,4,5,6,7,8,9,10,11,"","",14,15,"","",0,true,true,true,true,true,true,true,true,true,true,true,true,true,true,true,true,false]
[null,{"$f":"'Scheme and Member Information'!B227","v":0},{"$f":"'Scheme and Member Information'!C227","v":0},null,null,null,null,null,null,null,null,"","",null,null,null,null,null,{"$f":"IF(U227,VLOOKUP(MIN(V227:AL227),'Data Validation (hidden)'!$G$2:$H$18,2,FALSE),IF((COUNTA(D227:K227))+(COUNTA(N227:Q227))>0,\"'Scheme Name' missing but values entered in other columns\",\"\"))","v":""},null,false,1,2,3,4,5,6,7,8,9,10,11,"","",14,15,"","",0,true,true,true,true,true,true,true,true,true,true,true,true,true,true,true,true,false]
[null,{"$f":"'Scheme and Member Information'!B228","v":0},{"$f":"'Scheme and Member Information'!C228","v":0},null,null,null,null,null,null,null,null,"","",null,null,null,null,null,{"$f":"IF(U228,VLOOKUP(MIN(V228:AL228),'Data Validation (hidden)'!$G$2:$H$18,2,FALSE),IF((COUNTA(D228:K228))+(COUNTA(N228:Q228))>0,\"'Scheme Name' missing but values entered in other columns\",\"\"))","v":""},null,false,1,2,3,4,5,6,7,8,9,10,11,"","",14,15,"","",0,true,true,true,true,true,true,true,true,true,true,true,true,true,true,true,true,false]
[null,{"$f":"'Scheme and Member Information'!B229","v":0},{"$f":"'Scheme and Member Information'!C229","v":0},null,null,null,null,null,null,null,null,"","",null,null,null,null,null,{"$f":"IF(U229,VLOOKUP(MIN(V229:AL229),'Data Validation (hidden)'!$G$2:$H$18,2,FALSE),IF((COUNTA(D229:K229))+(COUNTA(N229:Q229))>0,\"'Scheme Name' missing but values entered in other columns\",\"\"))","v":""},null,false,1,2,3,4,5,6,7,8,9,10,11,"","",14,15,"","",0,true,true,true,true,true,true,true,true,true,true,true,true,true,true,true,true,false]
[null,{"$f":"'Scheme and Member Information'!B230","v":0},{"$f":"'Scheme and Member Information'!C230","v":0},null,null,null,null,null,null,null,null,"","",null,null,null,null,null,{"$f":"IF(U230,VLOOKUP(MIN(V230:AL230),'Data Validation (hidden)'!$G$2:$H$18,2,FALSE),IF((COUNTA(D230:K230))+(COUNTA(N230:Q230))>0,\"'Scheme Name' missing but values entered in other columns\",\"\"))","v":""},null,false,1,2,3,4,5,6,7,8,9,10,11,"","",14,15,"","",0,true,true,true,true,true,true,true,true,true,true,true,true,true,true,true,true,false]
[null,{"$f":"'Scheme and Member Information'!B231","v":0},{"$f":"'Scheme and Member Information'!C231","v":0},null,null,null,null,null,null,null,null,"","",null,null,null,null,null,{"$f":"IF(U231,VLOOKUP(MIN(V231:AL231),'Data Validation (hidden)'!$G$2:$H$18,2,FALSE),IF((COUNTA(D231:K231))+(COUNTA(N231:Q231))>0,\"'Scheme Name' missing but values entered in other columns\",\"\"))","v":""},null,false,1,2,3,4,5,6,7,8,9,10,11,"","",14,15,"","",0,true,true,true,true,true,true,true,true,true,true,true,true,true,true,true,true,false]
[null,{"$f":"'Scheme and Member Information'!B232","v":0},{"$f":"'Scheme and Member Information'!C232","v":0},null,null,null,null,null,null,null,null,"","",null,null,null,null,null,{"$f":"IF(U232,VLOOKUP(MIN(V232:AL232),'Data Validation (hidden)'!$G$2:$H$18,2,FALSE),IF((COUNTA(D232:K232))+(COUNTA(N232:Q232))>0,\"'Scheme Name' missing but values entered in other columns\",\"\"))","v":""},null,false,1,2,3,4,5,6,7,8,9,10,11,"","",14,15,"","",0,true,true,true,true,true,true,true,true,true,true,true,true,true,true,true,true,false]
[null,{"$f":"'Scheme and Member Information'!B233","v":0},{"$f":"'Scheme and Member Information'!C233","v":0},null,null,null,null,null,null,null,null,"","",null,null,null,null,null,{"$f":"IF(U233,VLOOKUP(MIN(V233:AL233),'Data Validation (hidden)'!$G$2:$H$18,2,FALSE),IF((COUNTA(D233:K233))+(COUNTA(N233:Q233))>0,\"'Scheme Name' missing but values entered in other columns\",\"\"))","v":""},null,false,1,2,3,4,5,6,7,8,9,10,11,"","",14,15,"","",0,true,true,true,true,true,true,true,true,true,true,true,true,true,true,true,true,false]
[null,{"$f":"'Scheme and Member Information'!B234","v":0},{"$f":"'Scheme and Member Information'!C234","v":0},null,null,null,null,null,null,null,null,"","",null,null,null,null,null,{"$f":"IF(U234,VLOOKUP(MIN(V234:AL234),'Data Validation (hidden)'!$G$2:$H$18,2,FALSE),IF((COUNTA(D234:K234))+(COUNTA(N234:Q234))>0,\"'Scheme Name' missing but values entered in other columns\",\"\"))","v":""},null,false,1,2,3,4,5,6,7,8,9,10,11,"","",14,15,"","",0,true,true,true,true,true,true,true,true,true,true,true,true,true,true,true,true,false]
[null,{"$f":"'Scheme and Member Information'!B235","v":0},{"$f":"'Scheme and Member Information'!C235","v":0},null,null,null,null,null,null,null,null,"","",null,null,null,null,null,{"$f":"IF(U235,VLOOKUP(MIN(V235:AL235),'Data Validation (hidden)'!$G$2:$H$18,2,FALSE),IF((COUNTA(D235:K235))+(COUNTA(N235:Q235))>0,\"'Scheme Name' missing but values entered in other columns\",\"\"))","v":""},null,false,1,2,3,4,5,6,7,8,9,10,11,"","",14,15,"","",0,true,true,true,true,true,true,true,true,true,true,true,true,true,true,true,true,false]
[null,{"$f":"'Scheme and Member Information'!B236","v":0},{"$f":"'Scheme and Member Information'!C236","v":0},null,null,null,null,null,null,null,null,"","",null,null,null,null,null,{"$f":"IF(U236,VLOOKUP(MIN(V236:AL236),'Data Validation (hidden)'!$G$2:$H$18,2,FALSE),IF((COUNTA(D236:K236))+(COUNTA(N236:Q236))>0,\"'Scheme Name' missing but values entered in other columns\",\"\"))","v":""},null,false,1,2,3,4,5,6,7,8,9,10,11,"","",14,15,"","",0,true,true,true,true,true,true,true,true,true,true,true,true,true,true,true,true,false]
[null,{"$f":"'Scheme and Member Information'!B237","v":0},{"$f":"'Scheme and Member Information'!C237","v":0},null,null,null,null,null,null,null,null,"","",null,null,null,null,null,{"$f":"IF(U237,VLOOKUP(MIN(V237:AL237),'Data Validation (hidden)'!$G$2:$H$18,2,FALSE),IF((COUNTA(D237:K237))+(COUNTA(N237:Q237))>0,\"'Scheme Name' missing but values entered in other columns\",\"\"))","v":""},null,false,1,2,3,4,5,6,7,8,9,10,11,"","",14,15,"","",0,true,true,true,true,true,true,true,true,true,true,true,true,true,true,true,true,false]
[null,{"$f":"'Scheme and Member Information'!B238","v":0},{"$f":"'Scheme and Member Information'!C238","v":0},null,null,null,null,null,null,null,null,"","",null,null,null,null,null,{"$f":"IF(U238,VLOOKUP(MIN(V238:AL238),'Data Validation (hidden)'!$G$2:$H$18,2,FALSE),IF((COUNTA(D238:K238))+(COUNTA(N238:Q238))>0,\"'Scheme Name' missing but values entered in other columns\",\"\"))","v":""},null,false,1,2,3,4,5,6,7,8,9,10,11,"","",14,15,"","",0,true,true,true,true,true,true,true,true,true,true,true,true,true,true,true,true,false]
[null,{"$f":"'Scheme and Member Information'!B239","v":0},{"$f":"'Scheme and Member Information'!C239","v":0},null,null,null,null,null,null,null,null,"","",null,null,null,null,null,{"$f":"IF(U239,VLOOKUP(MIN(V239:AL239),'Data Validation (hidden)'!$G$2:$H$18,2,FALSE),IF((COUNTA(D239:K239))+(COUNTA(N239:Q239))>0,\"'Scheme Name' missing but values entered in other columns\",\"\"))","v":""},null,false,1,2,3,4,5,6,7,8,9,10,11,"","",14,15,"","",0,true,true,true,true,true,true,true,true,true,true,true,true,true,true,true,true,false]
[null,{"$f":"'Scheme and Member Information'!B240","v":0},{"$f":"'Scheme and Member Information'!C240","v":0},null,null,null,null,null,null,null,null,"","",null,null,null,null,null,{"$f":"IF(U240,VLOOKUP(MIN(V240:AL240),'Data Validation (hidden)'!$G$2:$H$18,2,FALSE),IF((COUNTA(D240:K240))+(COUNTA(N240:Q240))>0,\"'Scheme Name' missing but values entered in other columns\",\"\"))","v":""},null,false,1,2,3,4,5,6,7,8,9,10,11,"","",14,15,"","",0,true,true,true,true,true,true,true,true,true,true,true,true,true,true,true,true,false]
[null,{"$f":"'Scheme and Member Information'!B241","v":0},{"$f":"'Scheme and Member Information'!C241","v":0},null,null,null,null,null,null,null,null,"","",null,null,null,null,null,{"$f":"IF(U241,VLOOKUP(MIN(V241:AL241),'Data Validation (hidden)'!$G$2:$H$18,2,FALSE),IF((COUNTA(D241:K241))+(COUNTA(N241:Q241))>0,\"'Scheme Name' missing but values entered in other columns\",\"\"))","v":""},null,false,1,2,3,4,5,6,7,8,9,10,11,"","",14,15,"","",0,true,true,true,true,true,true,true,true,true,true,true,true,true,true,true,true,false]
[null,{"$f":"'Scheme and Member Information'!B242","v":0},{"$f":"'Scheme and Member Information'!C242","v":0},null,null,null,null,null,null,null,null,"","",null,null,null,null,null,{"$f":"IF(U242,VLOOKUP(MIN(V242:AL242),'Data Validation (hidden)'!$G$2:$H$18,2,FALSE),IF((COUNTA(D242:K242))+(COUNTA(N242:Q242))>0,\"'Scheme Name' missing but values entered in other columns\",\"\"))","v":""},null,false,1,2,3,4,5,6,7,8,9,10,11,"","",14,15,"","",0,true,true,true,true,true,true,true,true,true,true,true,true,true,true,true,true,false]
[null,{"$f":"'Scheme and Member Information'!B243","v":0},{"$f":"'Scheme and Member Information'!C243","v":0},null,null,null,null,null,null,null,null,"","",null,null,null,null,null,{"$f":"IF(U243,VLOOKUP(MIN(V243:AL243),'Data Validation (hidden)'!$G$2:$H$18,2,FALSE),IF((COUNTA(D243:K243))+(COUNTA(N243:Q243))>0,\"'Scheme Name' missing but values entered in other columns\",\"\"))","v":""},null,false,1,2,3,4,5,6,7,8,9,10,11,"","",14,15,"","",0,true,true,true,true,true,true,true,true,true,true,true,true,true,true,true,true,false]
[null,{"$f":"'Scheme and Member Information'!B244","v":0},{"$f":"'Scheme and Member Information'!C244","v":0},null,null,null,null,null,null,null,null,"","",null,null,null,null,null,{"$f":"IF(U244,VLOOKUP(MIN(V244:AL244),'Data Validation (hidden)'!$G$2:$H$18,2,FALSE),IF((COUNTA(D244:K244))+(COUNTA(N244:Q244))>0,\"'Scheme Name' missing but values entered in other columns\",\"\"))","v":""},null,false,1,2,3,4,5,6,7,8,9,10,11,"","",14,15,"","",0,true,true,true,true,true,true,true,true,true,true,true,true,true,true,true,true,false]
[null,{"$f":"'Scheme and Member Information'!B245","v":0},{"$f":"'Scheme and Member Information'!C245","v":0},null,null,null,null,null,null,null,null,"","",null,null,null,null,null,{"$f":"IF(U245,VLOOKUP(MIN(V245:AL245),'Data Validation (hidden)'!$G$2:$H$18,2,FALSE),IF((COUNTA(D245:K245))+(COUNTA(N245:Q245))>0,\"'Scheme Name' missing but values entered in other columns\",\"\"))","v":""},null,false,1,2,3,4,5,6,7,8,9,10,11,"","",14,15,"","",0,true,true,true,true,true,true,true,true,true,true,true,true,true,true,true,true,false]
[null,{"$f":"'Scheme and Member Information'!B246","v":0},{"$f":"'Scheme and Member Information'!C246","v":0},null,null,null,null,null,null,null,null,"","",null,null,null,null,null,{"$f":"IF(U246,VLOOKUP(MIN(V246:AL246),'Data Validation (hidden)'!$G$2:$H$18,2,FALSE),IF((COUNTA(D246:K246))+(COUNTA(N246:Q246))>0,\"'Scheme Name' missing but values entered in other columns\",\"\"))","v":""},null,false,1,2,3,4,5,6,7,8,9,10,11,"","",14,15,"","",0,true,true,true,true,true,true,true,true,true,true,true,true,true,true,true,true,false]
[null,{"$f":"'Scheme and Member Information'!B247","v":0},{"$f":"'Scheme and Member Information'!C247","v":0},null,null,null,null,null,null,null,null,"","",null,null,null,null,null,{"$f":"IF(U247,VLOOKUP(MIN(V247:AL247),'Data Validation (hidden)'!$G$2:$H$18,2,FALSE),IF((COUNTA(D247:K247))+(COUNTA(N247:Q247))>0,\"'Scheme Name' missing but values entered in other columns\",\"\"))","v":""},null,false,1,2,3,4,5,6,7,8,9,10,11,"","",14,15,"","",0,true,true,true,true,true,true,true,true,true,true,true,true,true,true,true,true,false]
[null,{"$f":"'Scheme and Member Information'!B248","v":0},{"$f":"'Scheme and Member Information'!C248","v":0},null,null,null,null,null,null,null,null,"","",null,null,null,null,null,{"$f":"IF(U248,VLOOKUP(MIN(V248:AL248),'Data Validation (hidden)'!$G$2:$H$18,2,FALSE),IF((COUNTA(D248:K248))+(COUNTA(N248:Q248))>0,\"'Scheme Name' missing but values entered in other columns\",\"\"))","v":""},null,false,1,2,3,4,5,6,7,8,9,10,11,"","",14,15,"","",0,true,true,true,true,true,true,true,true,true,true,true,true,true,true,true,true,false]
[null,{"$f":"'Scheme and Member Information'!B249","v":0},{"$f":"'Scheme and Member Information'!C249","v":0},null,null,null,null,null,null,null,null,"","",null,null,null,null,null,{"$f":"IF(U249,VLOOKUP(MIN(V249:AL249),'Data Validation (hidden)'!$G$2:$H$18,2,FALSE),IF((COUNTA(D249:K249))+(COUNTA(N249:Q249))>0,\"'Scheme Name' missing but values entered in other columns\",\"\"))","v":""},null,false,1,2,3,4,5,6,7,8,9,10,11,"","",14,15,"","",0,true,true,true,true,true,true,true,true,true,true,true,true,true,true,true,true,false]
[null,{"$f":"'Scheme and Member Information'!B250","v":0},{"$f":"'Scheme and Member Information'!C250","v":0},null,null,null,null,null,null,null,null,"","",null,null,null,null,null,{"$f":"IF(U250,VLOOKUP(MIN(V250:AL250),'Data Validation (hidden)'!$G$2:$H$18,2,FALSE),IF((COUNTA(D250:K250))+(COUNTA(N250:Q250))>0,\"'Scheme Name' missing but values entered in other columns\",\"\"))","v":""},null,false,1,2,3,4,5,6,7,8,9,10,11,"","",14,15,"","",0,true,true,true,true,true,true,true,true,true,true,true,true,true,true,true,true,false]
[null,{"$f":"'Scheme and Member Information'!B251","v":0},{"$f":"'Scheme and Member Information'!C251","v":0},null,null,null,null,null,null,null,null,"","",null,null,null,null,null,{"$f":"IF(U251,VLOOKUP(MIN(V251:AL251),'Data Validation (hidden)'!$G$2:$H$18,2,FALSE),IF((COUNTA(D251:K251))+(COUNTA(N251:Q251))>0,\"'Scheme Name' missing but values entered in other columns\",\"\"))","v":""},null,false,1,2,3,4,5,6,7,8,9,10,11,"","",14,15,"","",0,true,true,true,true,true,true,true,true,true,true,true,true,true,true,true,true,false]
[null,{"$f":"'Scheme and Member Information'!B252","v":0},{"$f":"'Scheme and Member Information'!C252","v":0},null,null,null,null,null,null,null,null,"","",null,null,null,null,null,{"$f":"IF(U252,VLOOKUP(MIN(V252:AL252),'Data Validation (hidden)'!$G$2:$H$18,2,FALSE),IF((COUNTA(D252:K252))+(COUNTA(N252:Q252))>0,\"'Scheme Name' missing but values entered in other columns\",\"\"))","v":""},null,false,1,2,3,4,5,6,7,8,9,10,11,"","",14,15,"","",0,true,true,true,true,true,true,true,true,true,true,true,true,true,true,true,true,false]
[null,{"$f":"'Scheme and Member Information'!B253","v":0},{"$f":"'Scheme and Member Information'!C253","v":0},null,null,null,null,null,null,null,null,"","",null,null,null,null,null,{"$f":"IF(U253,VLOOKUP(MIN(V253:AL253),'Data Validation (hidden)'!$G$2:$H$18,2,FALSE),IF((COUNTA(D253:K253))+(COUNTA(N253:Q253))>0,\"'Scheme Name' missing but values entered in other columns\",\"\"))","v":""},null,false,1,2,3,4,5,6,7,8,9,10,11,"","",14,15,"","",0,true,true,true,true,true,true,true,true,true,true,true,true,true,true,true,true,false]
[null,{"$f":"'Scheme and Member Information'!B254","v":0},{"$f":"'Scheme and Member Information'!C254","v":0},null,null,null,null,null,null,null,null,"","",null,null,null,null,null,{"$f":"IF(U254,VLOOKUP(MIN(V254:AL254),'Data Validation (hidden)'!$G$2:$H$18,2,FALSE),IF((COUNTA(D254:K254))+(COUNTA(N254:Q254))>0,\"'Scheme Name' missing but values entered in other columns\",\"\"))","v":""},null,false,1,2,3,4,5,6,7,8,9,10,11,"","",14,15,"","",0,true,true,true,true,true,true,true,true,true,true,true,true,true,true,true,true,false]
[null,{"$f":"'Scheme and Member Information'!B255","v":0},{"$f":"'Scheme and Member Information'!C255","v":0},null,null,null,null,null,null,null,null,"","",null,null,null,null,null,{"$f":"IF(U255,VLOOKUP(MIN(V255:AL255),'Data Validation (hidden)'!$G$2:$H$18,2,FALSE),IF((COUNTA(D255:K255))+(COUNTA(N255:Q255))>0,\"'Scheme Name' missing but values entered in other columns\",\"\"))","v":""},null,false,1,2,3,4,5,6,7,8,9,10,11,"","",14,15,"","",0,true,true,true,true,true,true,true,true,true,true,true,true,true,true,true,true,false]
[null,{"$f":"'Scheme and Member Information'!B256","v":0},{"$f":"'Scheme and Member Information'!C256","v":0},null,null,null,null,null,null,null,null,"","",null,null,null,null,null,{"$f":"IF(U256,VLOOKUP(MIN(V256:AL256),'Data Validation (hidden)'!$G$2:$H$18,2,FALSE),IF((COUNTA(D256:K256))+(COUNTA(N256:Q256))>0,\"'Scheme Name' missing but values entered in other columns\",\"\"))","v":""},null,false,1,2,3,4,5,6,7,8,9,10,11,"","",14,15,"","",0,true,true,true,true,true,true,true,true,true,true,true,true,true,true,true,true,false]
[null,{"$f":"'Scheme and Member Information'!B257","v":0},{"$f":"'Scheme and Member Information'!C257","v":0},null,null,null,null,null,null,null,null,"","",null,null,null,null,null,{"$f":"IF(U257,VLOOKUP(MIN(V257:AL257),'Data Validation (hidden)'!$G$2:$H$18,2,FALSE),IF((COUNTA(D257:K257))+(COUNTA(N257:Q257))>0,\"'Scheme Name' missing but values entered in other columns\",\"\"))","v":""},null,false,1,2,3,4,5,6,7,8,9,10,11,"","",14,15,"","",0,true,true,true,true,true,true,true,true,true,true,true,true,true,true,true,true,false]
[null,{"$f":"'Scheme and Member Information'!B258","v":0},{"$f":"'Scheme and Member Information'!C258","v":0},null,null,null,null,null,null,null,null,"","",null,null,null,null,null,{"$f":"IF(U258,VLOOKUP(MIN(V258:AL258),'Data Validation (hidden)'!$G$2:$H$18,2,FALSE),IF((COUNTA(D258:K258))+(COUNTA(N258:Q258))>0,\"'Scheme Name' missing but values entered in other columns\",\"\"))","v":""},null,false,1,2,3,4,5,6,7,8,9,10,11,"","",14,15,"","",0,true,true,true,true,true,true,true,true,true,true,true,true,true,true,true,true,false]
[null,{"$f":"'Scheme and Member Information'!B259","v":0},{"$f":"'Scheme and Member Information'!C259","v":0},null,null,null,null,null,null,null,null,"","",null,null,null,null,null,{"$f":"IF(U259,VLOOKUP(MIN(V259:AL259),'Data Validation (hidden)'!$G$2:$H$18,2,FALSE),IF((COUNTA(D259:K259))+(COUNTA(N259:Q259))>0,\"'Scheme Name' missing but values entered in other columns\",\"\"))","v":""},null,false,1,2,3,4,5,6,7,8,9,10,11,"","",14,15,"","",0,true,true,true,true,true,true,true,true,true,true,true,true,true,true,true,true,false]
[null,{"$f":"'Scheme and Member Information'!B260","v":0},{"$f":"'Scheme and Member Information'!C260","v":0},null,null,null,null,null,null,null,null,"","",null,null,null,null,null,{"$f":"IF(U260,VLOOKUP(MIN(V260:AL260),'Data Validation (hidden)'!$G$2:$H$18,2,FALSE),IF((COUNTA(D260:K260))+(COUNTA(N260:Q260))>0,\"'Scheme Name' missing but values entered in other columns\",\"\"))","v":""},null,false,1,2,3,4,5,6,7,8,9,10,11,"","",14,15,"","",0,true,true,true,true,true,true,true,true,true,true,true,true,true,true,true,true,false]
[null,{"$f":"'Scheme and Member Information'!B261","v":0},{"$f":"'Scheme and Member Information'!C261","v":0},null,null,null,null,null,null,null,null,"","",null,null,null,null,null,{"$f":"IF(U261,VLOOKUP(MIN(V261:AL261),'Data Validation (hidden)'!$G$2:$H$18,2,FALSE),IF((COUNTA(D261:K261))+(COUNTA(N261:Q261))>0,\"'Scheme Name' missing but values entered in other columns\",\"\"))","v":""},null,false,1,2,3,4,5,6,7,8,9,10,11,"","",14,15,"","",0,true,true,true,true,true,true,true,true,true,true,true,true,true,true,true,true,false]
[null,{"$f":"'Scheme and Member Information'!B262","v":0},{"$f":"'Scheme and Member Information'!C262","v":0},null,null,null,null,null,null,null,null,"","",null,null,null,null,null,{"$f":"IF(U262,VLOOKUP(MIN(V262:AL262),'Data Validation (hidden)'!$G$2:$H$18,2,FALSE),IF((COUNTA(D262:K262))+(COUNTA(N262:Q262))>0,\"'Scheme Name' missing but values entered in other columns\",\"\"))","v":""},null,false,1,2,3,4,5,6,7,8,9,10,11,"","",14,15,"","",0,true,true,true,true,true,true,true,true,true,true,true,true,true,true,true,true,false]
[null,{"$f":"'Scheme and Member Information'!B263","v":0},{"$f":"'Scheme and Member Information'!C263","v":0},null,null,null,null,null,null,null,null,"","",null,null,null,null,null,{"$f":"IF(U263,VLOOKUP(MIN(V263:AL263),'Data Validation (hidden)'!$G$2:$H$18,2,FALSE),IF((COUNTA(D263:K263))+(COUNTA(N263:Q263))>0,\"'Scheme Name' missing but values entered in other columns\",\"\"))","v":""},null,false,1,2,3,4,5,6,7,8,9,10,11,"","",14,15,"","",0,true,true,true,true,true,true,true,true,true,true,true,true,true,true,true,true,false]
[null,{"$f":"'Scheme and Member Information'!B264","v":0},{"$f":"'Scheme and Member Information'!C264","v":0},null,null,null,null,null,null,null,null,"","",null,null,null,null,null,{"$f":"IF(U264,VLOOKUP(MIN(V264:AL264),'Data Validation (hidden)'!$G$2:$H$18,2,FALSE),IF((COUNTA(D264:K264))+(COUNTA(N264:Q264))>0,\"'Scheme Name' missing but values entered in other columns\",\"\"))","v":""},null,false,1,2,3,4,5,6,7,8,9,10,11,"","",14,15,"","",0,true,true,true,true,true,true,true,true,true,true,true,true,true,true,true,true,{"$f":"IF(S264=\"\",FALSE,IF(S264=\"OK\",FALSE,TRUE))","v":false}]
[null,{"$f":"'Scheme and Member Information'!B265","v":0},{"$f":"'Scheme and Member Information'!C265","v":0},null,null,null,null,null,null,null,null,{"$f":"IF(AND(G265<>\"\",H265<>\"\",I265<>\"\",J265<>\"\",K265<>\"\"),(G265+H265+J265)-(I265+K265),\"\")","v":""},{"$f":"IF((L265=\"\"),\"\",(L265-G265))","v":""},null,null,null,null,null,{"$f":"IF(U265,VLOOKUP(MIN(V265:AL265),'Data Validation (hidden)'!$G$2:$H$18,2,FALSE),IF((COUNTA(D265:K265))+(COUNTA(N265:Q265))>0,\"'Scheme Name' missing but values entered in other columns\",\"\"))","v":""},null,{"$f":"AND(B265<>\"\",B265<>0)","v":false},{"$f":"IF(C265=\"\",1,IF(C265=0,1,\"\"))","v":1},{"$f":"IF(D265=\"\",2,\"\")","v":2},{"$f":"IF(D265=\"No\",\"\",IF(E265=\"\",3,\"\"))","v":3},{"$f":"IF(F265=\"\",4,\"\")","v":4},{"$f":"IF(G265=\"\",5,\"\")","v":5},{"$f":"IF(H265=\"\",6,\"\")","v":6},{"$f":"IF(I265=\"\",7,\"\")","v":7},{"$f":"IF(J265=\"\",8,\"\")","v":8},{"$f":"IF(K265=\"\",9,\"\")","v":9},{"$f":"IF(L265=\"\",10,\"\")","v":10},{"$f":"IF(M265=\"\",11,\"\")","v":11},{"$f":"IF(N265=\"\",IF(AM265<0.14,\"\",12),\"\")","v":""},{"$f":"IF(O265=\"\",IF(L265>999,\"\",13),\"\")","v":""},{"$f":"IF(P265=\"\",14,\"\")","v":14},{"$f":"IF(Q265=\"\",15,\"\")","v":15},{"$f":"IF(COUNT(V265:AJ265)=0,\"10\",\"\")","v":""},{"$f":"IF(AND(AN265,AO265,AP265,AQ265,AR265,AS265,AT265,AU265,AV265,AW265,AX265,AY265,AZ265,BA265,BB265,BC265)=TRUE,\"\",16)","v":""},{"$f":"IF(OR(G265=\"\",L265=\"\",AND(G265=0,L265=0)),0,IF((G265>L265),((G265-L265)/G265),((L265-G265)/G265)))","v":0},{"$f":"IF(CELL(\"format\", B265) = \"G\",TRUE,FALSE)","v":true},{"$f":"IF(CELL(\"format\", C265) = \"F0\",TRUE,FALSE)","v":true},{"$f":"IF(CELL(\"format\", D265) = \"G\",TRUE,FALSE)","v":true},{"$f":"IF(CELL(\"format\", E265) = \"D1\",TRUE,FALSE)","v":true},{"$f":"IF(CELL(\"format\", F265) = \"D1\",TRUE,FALSE)","v":true},{"$f":"IF(CELL(\"format\", G265) = \"C0\",TRUE,FALSE)","v":true},{"$f":"IF(CELL(\"format\", H265) = \"C0\",TRUE,FALSE)","v":true},{"$f":"IF(CELL(\"format\", I265) = \"C0\",TRUE,FALSE)","v":true},{"$f":"IF(CELL(\"format\", J265) = \"C0\",TRUE,FALSE)","v":true},{"$f":"IF(CELL(\"format\", K265) = \"C0\",TRUE,FALSE)","v":true},{"$f":"IF(CELL(\"format\", L265) = \"C0\",TRUE,FALSE)","v":true},{"$f":"IF(CELL(\"format\", M265) = \"C0\",TRUE,FALSE)","v":true},{"$f":"IF(CELL(\"format\", N265) = \"G\",TRUE,FALSE)","v":true},{"$f":"IF(CELL(\"format\", O265) = \"G\",TRUE,FALSE)","v":true},{"$f":"IF(CELL(\"format\", P265) = \"C0\",TRUE,FALSE)","v":true},{"$f":"IF(CELL(\"format\", Q265) = \"C0\",TRUE,FALSE)","v":true},false]
[null,{"$f":"'Scheme and Member Information'!B266","v":0},{"$f":"'Scheme and Member Information'!C266","v":0},null,null,null,null,null,null,null,null,"","",null,null,null,null,null,{"$f":"IF(U266,VLOOKUP(MIN(V266:AL266),'Data Validation (hidden)'!$G$2:$H$18,2,FALSE),IF((COUNTA(D266:K266))+(COUNTA(N266:Q266))>0,\"'Scheme Name' missing but values entered in other columns\",\"\"))","v":""},null,false,1,2,3,4,5,6,7,8,9,10,11,"","",14,15,"","",0,true,true,true,true,true,true,true,true,true,true,true,true,true,true,true,true,false]
[null,{"$f":"'Scheme and Member Information'!B267","v":0},{"$f":"'Scheme and Member Information'!C267","v":0},null,null,null,null,null,null,null,null,"","",null,null,null,null,null,{"$f":"IF(U267,VLOOKUP(MIN(V267:AL267),'Data Validation (hidden)'!$G$2:$H$18,2,FALSE),IF((COUNTA(D267:K267))+(COUNTA(N267:Q267))>0,\"'Scheme Name' missing but values entered in other columns\",\"\"))","v":""},null,false,1,2,3,4,5,6,7,8,9,10,11,"","",14,15,"","",0,true,true,true,true,true,true,true,true,true,true,true,true,true,true,true,true,false]
[null,{"$f":"'Scheme and Member Information'!B268","v":0},{"$f":"'Scheme and Member Information'!C268","v":0},null,null,null,null,null,null,null,null,"","",null,null,null,null,null,{"$f":"IF(U268,VLOOKUP(MIN(V268:AL268),'Data Validation (hidden)'!$G$2:$H$18,2,FALSE),IF((COUNTA(D268:K268))+(COUNTA(N268:Q268))>0,\"'Scheme Name' missing but values entered in other columns\",\"\"))","v":""},null,false,1,2,3,4,5,6,7,8,9,10,11,"","",14,15,"","",0,true,true,true,true,true,true,true,true,true,true,true,true,true,true,true,true,false]
[null,{"$f":"'Scheme and Member Information'!B269","v":0},{"$f":"'Scheme and Member Information'!C269","v":0},null,null,null,null,null,null,null,null,"","",null,null,null,null,null,{"$f":"IF(U269,VLOOKUP(MIN(V269:AL269),'Data Validation (hidden)'!$G$2:$H$18,2,FALSE),IF((COUNTA(D269:K269))+(COUNTA(N269:Q269))>0,\"'Scheme Name' missing but values entered in other columns\",\"\"))","v":""},null,false,1,2,3,4,5,6,7,8,9,10,11,"","",14,15,"","",0,true,true,true,true,true,true,true,true,true,true,true,true,true,true,true,true,false]
[null,{"$f":"'Scheme and Member Information'!B270","v":0},{"$f":"'Scheme and Member Information'!C270","v":0},null,null,null,null,null,null,null,null,"","",null,null,null,null,null,{"$f":"IF(U270,VLOOKUP(MIN(V270:AL270),'Data Validation (hidden)'!$G$2:$H$18,2,FALSE),IF((COUNTA(D270:K270))+(COUNTA(N270:Q270))>0,\"'Scheme Name' missing but values entered in other columns\",\"\"))","v":""},null,false,1,2,3,4,5,6,7,8,9,10,11,"","",14,15,"","",0,true,true,true,true,true,true,true,true,true,true,true,true,true,true,true,true,false]
[null,{"$f":"'Scheme and Member Information'!B271","v":0},{"$f":"'Scheme and Member Information'!C271","v":0},null,null,null,null,null,null,null,null,"","",null,null,null,null,null,{"$f":"IF(U271,VLOOKUP(MIN(V271:AL271),'Data Validation (hidden)'!$G$2:$H$18,2,FALSE),IF((COUNTA(D271:K271))+(COUNTA(N271:Q271))>0,\"'Scheme Name' missing but values entered in other columns\",\"\"))","v":""},null,false,1,2,3,4,5,6,7,8,9,10,11,"","",14,15,"","",0,true,true,true,true,true,true,true,true,true,true,true,true,true,true,true,true,false]
[null,{"$f":"'Scheme and Member Information'!B272","v":0},{"$f":"'Scheme and Member Information'!C272","v":0},null,null,null,null,null,null,null,null,"","",null,null,null,null,null,{"$f":"IF(U272,VLOOKUP(MIN(V272:AL272),'Data Validation (hidden)'!$G$2:$H$18,2,FALSE),IF((COUNTA(D272:K272))+(COUNTA(N272:Q272))>0,\"'Scheme Name' missing but values entered in other columns\",\"\"))","v":""},null,false,1,2,3,4,5,6,7,8,9,10,11,"","",14,15,"","",0,true,true,true,true,true,true,true,true,true,true,true,true,true,true,true,true,false]
[null,{"$f":"'Scheme and Member Information'!B273","v":0},{"$f":"'Scheme and Member Information'!C273","v":0},null,null,null,null,null,null,null,null,"","",null,null,null,null,null,{"$f":"IF(U273,VLOOKUP(MIN(V273:AL273),'Data Validation (hidden)'!$G$2:$H$18,2,FALSE),IF((COUNTA(D273:K273))+(COUNTA(N273:Q273))>0,\"'Scheme Name' missing but values entered in other columns\",\"\"))","v":""},null,false,1,2,3,4,5,6,7,8,9,10,11,"","",14,15,"","",0,true,true,true,true,true,true,true,true,true,true,true,true,true,true,true,true,false]
[null,{"$f":"'Scheme and Member Information'!B274","v":0},{"$f":"'Scheme and Member Information'!C274","v":0},null,null,null,null,null,null,null,null,"","",null,null,null,null,null,{"$f":"IF(U274,VLOOKUP(MIN(V274:AL274),'Data Validation (hidden)'!$G$2:$H$18,2,FALSE),IF((COUNTA(D274:K274))+(COUNTA(N274:Q274))>0,\"'Scheme Name' missing but values entered in other columns\",\"\"))","v":""},null,false,1,2,3,4,5,6,7,8,9,10,11,"","",14,15,"","",0,true,true,true,true,true,true,true,true,true,true,true,true,true,true,true,true,false]
[null,{"$f":"'Scheme and Member Information'!B275","v":0},{"$f":"'Scheme and Member Information'!C275","v":0},null,null,null,null,null,null,null,null,"","",null,null,null,null,null,{"$f":"IF(U275,VLOOKUP(MIN(V275:AL275),'Data Validation (hidden)'!$G$2:$H$18,2,FALSE),IF((COUNTA(D275:K275))+(COUNTA(N275:Q275))>0,\"'Scheme Name' missing but values entered in other columns\",\"\"))","v":""},null,false,1,2,3,4,5,6,7,8,9,10,11,"","",14,15,"","",0,true,true,true,true,true,true,true,true,true,true,true,true,true,true,true,true,false]
[null,{"$f":"'Scheme and Member Information'!B276","v":0},{"$f":"'Scheme and Member Information'!C276","v":0},null,null,null,null,null,null,null,null,"","",null,null,null,null,null,{"$f":"IF(U276,VLOOKUP(MIN(V276:AL276),'Data Validation (hidden)'!$G$2:$H$18,2,FALSE),IF((COUNTA(D276:K276))+(COUNTA(N276:Q276))>0,\"'Scheme Name' missing but values entered in other columns\",\"\"))","v":""},null,false,1,2,3,4,5,6,7,8,9,10,11,"","",14,15,"","",0,true,true,true,true,true,true,true,true,true,true,true,true,true,true,true,true,false]
[null,{"$f":"'Scheme and Member Information'!B277","v":0},{"$f":"'Scheme and Member Information'!C277","v":0},null,null,null,null,null,null,null,null,"","",null,null,null,null,null,{"$f":"IF(U277,VLOOKUP(MIN(V277:AL277),'Data Validation (hidden)'!$G$2:$H$18,2,FALSE),IF((COUNTA(D277:K277))+(COUNTA(N277:Q277))>0,\"'Scheme Name' missing but values entered in other columns\",\"\"))","v":""},null,false,1,2,3,4,5,6,7,8,9,10,11,"","",14,15,"","",0,true,true,true,true,true,true,true,true,true,true,true,true,true,true,true,true,false]
[null,{"$f":"'Scheme and Member Information'!B278","v":0},{"$f":"'Scheme and Member Information'!C278","v":0},null,null,null,null,null,null,null,null,"","",null,null,null,null,null,{"$f":"IF(U278,VLOOKUP(MIN(V278:AL278),'Data Validation (hidden)'!$G$2:$H$18,2,FALSE),IF((COUNTA(D278:K278))+(COUNTA(N278:Q278))>0,\"'Scheme Name' missing but values entered in other columns\",\"\"))","v":""},null,false,1,2,3,4,5,6,7,8,9,10,11,"","",14,15,"","",0,true,true,true,true,true,true,true,true,true,true,true,true,true,true,true,true,false]
[null,{"$f":"'Scheme and Member Information'!B279","v":0},{"$f":"'Scheme and Member Information'!C279","v":0},null,null,null,null,null,null,null,null,"","",null,null,null,null,null,{"$f":"IF(U279,VLOOKUP(MIN(V279:AL279),'Data Validation (hidden)'!$G$2:$H$18,2,FALSE),IF((COUNTA(D279:K279))+(COUNTA(N279:Q279))>0,\"'Scheme Name' missing but values entered in other columns\",\"\"))","v":""},null,false,1,2,3,4,5,6,7,8,9,10,11,"","",14,15,"","",0,true,true,true,true,true,true,true,true,true,true,true,true,true,true,true,true,false]
[null,{"$f":"'Scheme and Member Information'!B280","v":0},{"$f":"'Scheme and Member Information'!C280","v":0},null,null,null,null,null,null,null,null,"","",null,null,null,null,null,{"$f":"IF(U280,VLOOKUP(MIN(V280:AL280),'Data Validation (hidden)'!$G$2:$H$18,2,FALSE),IF((COUNTA(D280:K280))+(COUNTA(N280:Q280))>0,\"'Scheme Name' missing but values entered in other columns\",\"\"))","v":""},null,false,1,2,3,4,5,6,7,8,9,10,11,"","",14,15,"","",0,true,true,true,true,true,true,true,true,true,true,true,true,true,true,true,true,false]
[null,{"$f":"'Scheme and Member Information'!B281","v":0},{"$f":"'Scheme and Member Information'!C281","v":0},null,null,null,null,null,null,null,null,"","",null,null,null,null,null,{"$f":"IF(U281,VLOOKUP(MIN(V281:AL281),'Data Validation (hidden)'!$G$2:$H$18,2,FALSE),IF((COUNTA(D281:K281))+(COUNTA(N281:Q281))>0,\"'Scheme Name' missing but values entered in other columns\",\"\"))","v":""},null,false,1,2,3,4,5,6,7,8,9,10,11,"","",14,15,"","",0,true,true,true,true,true,true,true,true,true,true,true,true,true,true,true,true,false]
[null,{"$f":"'Scheme and Member Information'!B282","v":0},{"$f":"'Scheme and Member Information'!C282","v":0},null,null,null,null,null,null,null,null,"","",null,null,null,null,null,{"$f":"IF(U282,VLOOKUP(MIN(V282:AL282),'Data Validation (hidden)'!$G$2:$H$18,2,FALSE),IF((COUNTA(D282:K282))+(COUNTA(N282:Q282))>0,\"'Scheme Name' missing but values entered in other columns\",\"\"))","v":""},null,false,1,2,3,4,5,6,7,8,9,10,11,"","",14,15,"","",0,true,true,true,true,true,true,true,true,true,true,true,true,true,true,true,true,false]
[null,{"$f":"'Scheme and Member Information'!B283","v":0},{"$f":"'Scheme and Member Information'!C283","v":0},null,null,null,null,null,null,null,null,"","",null,null,null,null,null,{"$f":"IF(U283,VLOOKUP(MIN(V283:AL283),'Data Validation (hidden)'!$G$2:$H$18,2,FALSE),IF((COUNTA(D283:K283))+(COUNTA(N283:Q283))>0,\"'Scheme Name' missing but values entered in other columns\",\"\"))","v":""},null,false,1,2,3,4,5,6,7,8,9,10,11,"","",14,15,"","",0,true,true,true,true,true,true,true,true,true,true,true,true,true,true,true,true,false]
[null,{"$f":"'Scheme and Member Information'!B284","v":0},{"$f":"'Scheme and Member Information'!C284","v":0},null,null,null,null,null,null,null,null,"","",null,null,null,null,null,{"$f":"IF(U284,VLOOKUP(MIN(V284:AL284),'Data Validation (hidden)'!$G$2:$H$18,2,FALSE),IF((COUNTA(D284:K284))+(COUNTA(N284:Q284))>0,\"'Scheme Name' missing but values entered in other columns\",\"\"))","v":""},null,false,1,2,3,4,5,6,7,8,9,10,11,"","",14,15,"","",0,true,true,true,true,true,true,true,true,true,true,true,true,true,true,true,true,false]
[null,{"$f":"'Scheme and Member Information'!B285","v":0},{"$f":"'Scheme and Member Information'!C285","v":0},null,null,null,null,null,null,null,null,"","",null,null,null,null,null,{"$f":"IF(U285,VLOOKUP(MIN(V285:AL285),'Data Validation (hidden)'!$G$2:$H$18,2,FALSE),IF((COUNTA(D285:K285))+(COUNTA(N285:Q285))>0,\"'Scheme Name' missing but values entered in other columns\",\"\"))","v":""},null,false,1,2,3,4,5,6,7,8,9,10,11,"","",14,15,"","",0,true,true,true,true,true,true,true,true,true,true,true,true,true,true,true,true,false]
[null,{"$f":"'Scheme and Member Information'!B286","v":0},{"$f":"'Scheme and Member Information'!C286","v":0},null,null,null,null,null,null,null,null,"","",null,null,null,null,null,{"$f":"IF(U286,VLOOKUP(MIN(V286:AL286),'Data Validation (hidden)'!$G$2:$H$18,2,FALSE),IF((COUNTA(D286:K286))+(COUNTA(N286:Q286))>0,\"'Scheme Name' missing but values entered in other columns\",\"\"))","v":""},null,false,1,2,3,4,5,6,7,8,9,10,11,"","",14,15,"","",0,true,true,true,true,true,true,true,true,true,true,true,true,true,true,true,true,false]
[null,{"$f":"'Scheme and Member Information'!B287","v":0},{"$f":"'Scheme and Member Information'!C287","v":0},null,null,null,null,null,null,null,null,"","",null,null,null,null,null,{"$f":"IF(U287,VLOOKUP(MIN(V287:AL287),'Data Validation (hidden)'!$G$2:$H$18,2,FALSE),IF((COUNTA(D287:K287))+(COUNTA(N287:Q287))>0,\"'Scheme Name' missing but values entered in other columns\",\"\"))","v":""},null,false,1,2,3,4,5,6,7,8,9,10,11,"","",14,15,"","",0,true,true,true,true,true,true,true,true,true,true,true,true,true,true,true,true,false]
[null,{"$f":"'Scheme and Member Information'!B288","v":0},{"$f":"'Scheme and Member Information'!C288","v":0},null,null,null,null,null,null,null,null,"","",null,null,null,null,null,{"$f":"IF(U288,VLOOKUP(MIN(V288:AL288),'Data Validation (hidden)'!$G$2:$H$18,2,FALSE),IF((COUNTA(D288:K288))+(COUNTA(N288:Q288))>0,\"'Scheme Name' missing but values entered in other columns\",\"\"))","v":""},null,false,1,2,3,4,5,6,7,8,9,10,11,"","",14,15,"","",0,true,true,true,true,true,true,true,true,true,true,true,true,true,true,true,true,false]
[null,{"$f":"'Scheme and Member Information'!B289","v":0},{"$f":"'Scheme and Member Information'!C289","v":0},null,null,null,null,null,null,null,null,"","",null,null,null,null,null,{"$f":"IF(U289,VLOOKUP(MIN(V289:AL289),'Data Validation (hidden)'!$G$2:$H$18,2,FALSE),IF((COUNTA(D289:K289))+(COUNTA(N289:Q289))>0,\"'Scheme Name' missing but values entered in other columns\",\"\"))","v":""},null,false,1,2,3,4,5,6,7,8,9,10,11,"","",14,15,"","",0,true,true,true,true,true,true,true,true,true,true,true,true,true,true,true,true,false]
[null,{"$f":"'Scheme and Member Information'!B290","v":0},{"$f":"'Scheme and Member Information'!C290","v":0},null,null,null,null,null,null,null,null,"","",null,null,null,null,null,{"$f":"IF(U290,VLOOKUP(MIN(V290:AL290),'Data Validation (hidden)'!$G$2:$H$18,2,FALSE),IF((COUNTA(D290:K290))+(COUNTA(N290:Q290))>0,\"'Scheme Name' missing but values entered in other columns\",\"\"))","v":""},null,false,1,2,3,4,5,6,7,8,9,10,11,"","",14,15,"","",0,true,true,true,true,true,true,true,true,true,true,true,true,true,true,true,true,false]
[null,{"$f":"'Scheme and Member Information'!B291","v":0},{"$f":"'Scheme and Member Information'!C291","v":0},null,null,null,null,null,null,null,null,"","",null,null,null,null,null,{"$f":"IF(U291,VLOOKUP(MIN(V291:AL291),'Data Validation (hidden)'!$G$2:$H$18,2,FALSE),IF((COUNTA(D291:K291))+(COUNTA(N291:Q291))>0,\"'Scheme Name' missing but values entered in other columns\",\"\"))","v":""},null,false,1,2,3,4,5,6,7,8,9,10,11,"","",14,15,"","",0,true,true,true,true,true,true,true,true,true,true,true,true,true,true,true,true,false]
[null,{"$f":"'Scheme and Member Information'!B292","v":0},{"$f":"'Scheme and Member Information'!C292","v":0},null,null,null,null,null,null,null,null,"","",null,null,null,null,null,{"$f":"IF(U292,VLOOKUP(MIN(V292:AL292),'Data Validation (hidden)'!$G$2:$H$18,2,FALSE),IF((COUNTA(D292:K292))+(COUNTA(N292:Q292))>0,\"'Scheme Name' missing but values entered in other columns\",\"\"))","v":""},null,false,1,2,3,4,5,6,7,8,9,10,11,"","",14,15,"","",0,true,true,true,true,true,true,true,true,true,true,true,true,true,true,true,true,false]
[null,{"$f":"'Scheme and Member Information'!B293","v":0},{"$f":"'Scheme and Member Information'!C293","v":0},null,null,null,null,null,null,null,null,"","",null,null,null,null,null,{"$f":"IF(U293,VLOOKUP(MIN(V293:AL293),'Data Validation (hidden)'!$G$2:$H$18,2,FALSE),IF((COUNTA(D293:K293))+(COUNTA(N293:Q293))>0,\"'Scheme Name' missing but values entered in other columns\",\"\"))","v":""},null,false,1,2,3,4,5,6,7,8,9,10,11,"","",14,15,"","",0,true,true,true,true,true,true,true,true,true,true,true,true,true,true,true,true,false]
[null,{"$f":"'Scheme and Member Information'!B294","v":0},{"$f":"'Scheme and Member Information'!C294","v":0},null,null,null,null,null,null,null,null,"","",null,null,null,null,null,{"$f":"IF(U294,VLOOKUP(MIN(V294:AL294),'Data Validation (hidden)'!$G$2:$H$18,2,FALSE),IF((COUNTA(D294:K294))+(COUNTA(N294:Q294))>0,\"'Scheme Name' missing but values entered in other columns\",\"\"))","v":""},null,false,1,2,3,4,5,6,7,8,9,10,11,"","",14,15,"","",0,true,true,true,true,true,true,true,true,true,true,true,true,true,true,true,true,false]
[null,{"$f":"'Scheme and Member Information'!B295","v":0},{"$f":"'Scheme and Member Information'!C295","v":0},null,null,null,null,null,null,null,null,"","",null,null,null,null,null,{"$f":"IF(U295,VLOOKUP(MIN(V295:AL295),'Data Validation (hidden)'!$G$2:$H$18,2,FALSE),IF((COUNTA(D295:K295))+(COUNTA(N295:Q295))>0,\"'Scheme Name' missing but values entered in other columns\",\"\"))","v":""},null,false,1,2,3,4,5,6,7,8,9,10,11,"","",14,15,"","",0,true,true,true,true,true,true,true,true,true,true,true,true,true,true,true,true,false]
[null,{"$f":"'Scheme and Member Information'!B296","v":0},{"$f":"'Scheme and Member Information'!C296","v":0},null,null,null,null,null,null,null,null,"","",null,null,null,null,null,{"$f":"IF(U296,VLOOKUP(MIN(V296:AL296),'Data Validation (hidden)'!$G$2:$H$18,2,FALSE),IF((COUNTA(D296:K296))+(COUNTA(N296:Q296))>0,\"'Scheme Name' missing but values entered in other columns\",\"\"))","v":""},null,false,1,2,3,4,5,6,7,8,9,10,11,"","",14,15,"","",0,true,true,true,true,true,true,true,true,true,true,true,true,true,true,true,true,false]
[null,{"$f":"'Scheme and Member Information'!B297","v":0},{"$f":"'Scheme and Member Information'!C297","v":0},null,null,null,null,null,null,null,null,"","",null,null,null,null,null,{"$f":"IF(U297,VLOOKUP(MIN(V297:AL297),'Data Validation (hidden)'!$G$2:$H$18,2,FALSE),IF((COUNTA(D297:K297))+(COUNTA(N297:Q297))>0,\"'Scheme Name' missing but values entered in other columns\",\"\"))","v":""},null,false,1,2,3,4,5,6,7,8,9,10,11,"","",14,15,"","",0,true,true,true,true,true,true,true,true,true,true,true,true,true,true,true,true,false]
[null,{"$f":"'Scheme and Member Information'!B298","v":0},{"$f":"'Scheme and Member Information'!C298","v":0},null,null,null,null,null,null,null,null,"","",null,null,null,null,null,{"$f":"IF(U298,VLOOKUP(MIN(V298:AL298),'Data Validation (hidden)'!$G$2:$H$18,2,FALSE),IF((COUNTA(D298:K298))+(COUNTA(N298:Q298))>0,\"'Scheme Name' missing but values entered in other columns\",\"\"))","v":""},null,false,1,2,3,4,5,6,7,8,9,10,11,"","",14,15,"","",0,true,true,true,true,true,true,true,true,true,true,true,true,true,true,true,true,false]
[null,{"$f":"'Scheme and Member Information'!B299","v":0},{"$f":"'Scheme and Member Information'!C299","v":0},null,null,null,null,null,null,null,null,"","",null,null,null,null,null,{"$f":"IF(U299,VLOOKUP(MIN(V299:AL299),'Data Validation (hidden)'!$G$2:$H$18,2,FALSE),IF((COUNTA(D299:K299))+(COUNTA(N299:Q299))>0,\"'Scheme Name' missing but values entered in other columns\",\"\"))","v":""},null,false,1,2,3,4,5,6,7,8,9,10,11,"","",14,15,"","",0,true,true,true,true,true,true,true,true,true,true,true,true,true,true,true,true,false]
[null,{"$f":"'Scheme and Member Information'!B300","v":0},{"$f":"'Scheme and Member Information'!C300","v":0},null,null,null,null,null,null,null,null,"","",null,null,null,null,null,{"$f":"IF(U300,VLOOKUP(MIN(V300:AL300),'Data Validation (hidden)'!$G$2:$H$18,2,FALSE),IF((COUNTA(D300:K300))+(COUNTA(N300:Q300))>0,\"'Scheme Name' missing but values entered in other columns\",\"\"))","v":""},null,false,1,2,3,4,5,6,7,8,9,10,11,"","",14,15,"","",0,true,true,true,true,true,true,true,true,true,true,true,true,true,true,true,true,false]
[null,{"$f":"'Scheme and Member Information'!B301","v":0},{"$f":"'Scheme and Member Information'!C301","v":0},null,null,null,null,null,null,null,null,"","",null,null,null,null,null,{"$f":"IF(U301,VLOOKUP(MIN(V301:AL301),'Data Validation (hidden)'!$G$2:$H$18,2,FALSE),IF((COUNTA(D301:K301))+(COUNTA(N301:Q301))>0,\"'Scheme Name' missing but values entered in other columns\",\"\"))","v":""},null,false,1,2,3,4,5,6,7,8,9,10,11,"","",14,15,"","",0,true,true,true,true,true,true,true,true,true,true,true,true,true,true,true,true,false]
[null,{"$f":"'Scheme and Member Information'!B302","v":0},{"$f":"'Scheme and Member Information'!C302","v":0},null,null,null,null,null,null,null,null,"","",null,null,null,null,null,{"$f":"IF(U302,VLOOKUP(MIN(V302:AL302),'Data Validation (hidden)'!$G$2:$H$18,2,FALSE),IF((COUNTA(D302:K302))+(COUNTA(N302:Q302))>0,\"'Scheme Name' missing but values entered in other columns\",\"\"))","v":""},null,false,1,2,3,4,5,6,7,8,9,10,11,"","",14,15,"","",0,true,true,true,true,true,true,true,true,true,true,true,true,true,true,true,true,false]
[null,{"$f":"'Scheme and Member Information'!B303","v":0},{"$f":"'Scheme and Member Information'!C303","v":0},null,null,null,null,null,null,null,null,"","",null,null,null,null,null,{"$f":"IF(U303,VLOOKUP(MIN(V303:AL303),'Data Validation (hidden)'!$G$2:$H$18,2,FALSE),IF((COUNTA(D303:K303))+(COUNTA(N303:Q303))>0,\"'Scheme Name' missing but values entered in other columns\",\"\"))","v":""},null,false,1,2,3,4,5,6,7,8,9,10,11,"","",14,15,"","",0,true,true,true,true,true,true,true,true,true,true,true,true,true,true,true,true,false]
[null,{"$f":"'Scheme and Member Information'!B304","v":0},{"$f":"'Scheme and Member Information'!C304","v":0},null,null,null,null,null,null,null,null,"","",null,null,null,null,null,{"$f":"IF(U304,VLOOKUP(MIN(V304:AL304),'Data Validation (hidden)'!$G$2:$H$18,2,FALSE),IF((COUNTA(D304:K304))+(COUNTA(N304:Q304))>0,\"'Scheme Name' missing but values entered in other columns\",\"\"))","v":""},null,false,1,2,3,4,5,6,7,8,9,10,11,"","",14,15,"","",0,true,true,true,true,true,true,true,true,true,true,true,true,true,true,true,true,false]
[null,{"$f":"'Scheme and Member Information'!B305","v":0},{"$f":"'Scheme and Member Information'!C305","v":0},null,null,null,null,null,null,null,null,"","",null,null,null,null,null,{"$f":"IF(U305,VLOOKUP(MIN(V305:AL305),'Data Validation (hidden)'!$G$2:$H$18,2,FALSE),IF((COUNTA(D305:K305))+(COUNTA(N305:Q305))>0,\"'Scheme Name' missing but values entered in other columns\",\"\"))","v":""},null,false,1,2,3,4,5,6,7,8,9,10,11,"","",14,15,"","",0,true,true,true,true,true,true,true,true,true,true,true,true,true,true,true,true,false]
[null,{"$f":"'Scheme and Member Information'!B306","v":0},{"$f":"'Scheme and Member Information'!C306","v":0},null,null,null,null,null,null,null,null,"","",null,null,null,null,null,{"$f":"IF(U306,VLOOKUP(MIN(V306:AL306),'Data Validation (hidden)'!$G$2:$H$18,2,FALSE),IF((COUNTA(D306:K306))+(COUNTA(N306:Q306))>0,\"'Scheme Name' missing but values entered in other columns\",\"\"))","v":""},null,false,1,2,3,4,5,6,7,8,9,10,11,"","",14,15,"","",0,true,true,true,true,true,true,true,true,true,true,true,true,true,true,true,true,false]
[null,{"$f":"'Scheme and Member Information'!B307","v":0},{"$f":"'Scheme and Member Information'!C307","v":0},null,null,null,null,null,null,null,null,"","",null,null,null,null,null,{"$f":"IF(U307,VLOOKUP(MIN(V307:AL307),'Data Validation (hidden)'!$G$2:$H$18,2,FALSE),IF((COUNTA(D307:K307))+(COUNTA(N307:Q307))>0,\"'Scheme Name' missing but values entered in other columns\",\"\"))","v":""},null,false,1,2,3,4,5,6,7,8,9,10,11,"","",14,15,"","",0,true,true,true,true,true,true,true,true,true,true,true,true,true,true,true,true,false]
[null,{"$f":"'Scheme and Member Information'!B308","v":0},{"$f":"'Scheme and Member Information'!C308","v":0},null,null,null,null,null,null,null,null,"","",null,null,null,null,null,{"$f":"IF(U308,VLOOKUP(MIN(V308:AL308),'Data Validation (hidden)'!$G$2:$H$18,2,FALSE),IF((COUNTA(D308:K308))+(COUNTA(N308:Q308))>0,\"'Scheme Name' missing but values entered in other columns\",\"\"))","v":""},null,false,1,2,3,4,5,6,7,8,9,10,11,"","",14,15,"","",0,true,true,true,true,true,true,true,true,true,true,true,true,true,true,true,true,false]
[null,{"$f":"'Scheme and Member Information'!B309","v":0},{"$f":"'Scheme and Member Information'!C309","v":0},null,null,null,null,null,null,null,null,"","",null,null,null,null,null,{"$f":"IF(U309,VLOOKUP(MIN(V309:AL309),'Data Validation (hidden)'!$G$2:$H$18,2,FALSE),IF((COUNTA(D309:K309))+(COUNTA(N309:Q309))>0,\"'Scheme Name' missing but values entered in other columns\",\"\"))","v":""},null,false,1,2,3,4,5,6,7,8,9,10,11,"","",14,15,"","",0,true,true,true,true,true,true,true,true,true,true,true,true,true,true,true,true,false]
[null,{"$f":"'Scheme and Member Information'!B310","v":0},{"$f":"'Scheme and Member Information'!C310","v":0},null,null,null,null,null,null,null,null,"","",null,null,null,null,null,{"$f":"IF(U310,VLOOKUP(MIN(V310:AL310),'Data Validation (hidden)'!$G$2:$H$18,2,FALSE),IF((COUNTA(D310:K310))+(COUNTA(N310:Q310))>0,\"'Scheme Name' missing but values entered in other columns\",\"\"))","v":""},null,false,1,2,3,4,5,6,7,8,9,10,11,"","",14,15,"","",0,true,true,true,true,true,true,true,true,true,true,true,true,true,true,true,true,false]
[null,{"$f":"'Scheme and Member Information'!B311","v":0},{"$f":"'Scheme and Member Information'!C311","v":0},null,null,null,null,null,null,null,null,"","",null,null,null,null,null,{"$f":"IF(U311,VLOOKUP(MIN(V311:AL311),'Data Validation (hidden)'!$G$2:$H$18,2,FALSE),IF((COUNTA(D311:K311))+(COUNTA(N311:Q311))>0,\"'Scheme Name' missing but values entered in other columns\",\"\"))","v":""},null,false,1,2,3,4,5,6,7,8,9,10,11,"","",14,15,"","",0,true,true,true,true,true,true,true,true,true,true,true,true,true,true,true,true,false]
[null,{"$f":"'Scheme and Member Information'!B312","v":0},{"$f":"'Scheme and Member Information'!C312","v":0},null,null,null,null,null,null,null,null,"","",null,null,null,null,null,{"$f":"IF(U312,VLOOKUP(MIN(V312:AL312),'Data Validation (hidden)'!$G$2:$H$18,2,FALSE),IF((COUNTA(D312:K312))+(COUNTA(N312:Q312))>0,\"'Scheme Name' missing but values entered in other columns\",\"\"))","v":""},null,false,1,2,3,4,5,6,7,8,9,10,11,"","",14,15,"","",0,true,true,true,true,true,true,true,true,true,true,true,true,true,true,true,true,false]
[null,{"$f":"'Scheme and Member Information'!B313","v":0},{"$f":"'Scheme and Member Information'!C313","v":0},null,null,null,null,null,null,null,null,"","",null,null,null,null,null,{"$f":"IF(U313,VLOOKUP(MIN(V313:AL313),'Data Validation (hidden)'!$G$2:$H$18,2,FALSE),IF((COUNTA(D313:K313))+(COUNTA(N313:Q313))>0,\"'Scheme Name' missing but values entered in other columns\",\"\"))","v":""},null,false,1,2,3,4,5,6,7,8,9,10,11,"","",14,15,"","",0,true,true,true,true,true,true,true,true,true,true,true,true,true,true,true,true,false]
[null,{"$f":"'Scheme and Member Information'!B314","v":0},{"$f":"'Scheme and Member Information'!C314","v":0},null,null,null,null,null,null,null,null,"","",null,null,null,null,null,{"$f":"IF(U314,VLOOKUP(MIN(V314:AL314),'Data Validation (hidden)'!$G$2:$H$18,2,FALSE),IF((COUNTA(D314:K314))+(COUNTA(N314:Q314))>0,\"'Scheme Name' missing but values entered in other columns\",\"\"))","v":""},null,false,1,2,3,4,5,6,7,8,9,10,11,"","",14,15,"","",0,true,true,true,true,true,true,true,true,true,true,true,true,true,true,true,true,false]
[null,{"$f":"'Scheme and Member Information'!B315","v":0},{"$f":"'Scheme and Member Information'!C315","v":0},null,null,null,null,null,null,null,null,"","",null,null,null,null,null,{"$f":"IF(U315,VLOOKUP(MIN(V315:AL315),'Data Validation (hidden)'!$G$2:$H$18,2,FALSE),IF((COUNTA(D315:K315))+(COUNTA(N315:Q315))>0,\"'Scheme Name' missing but values entered in other columns\",\"\"))","v":""},null,false,1,2,3,4,5,6,7,8,9,10,11,"","",14,15,"","",0,true,true,true,true,true,true,true,true,true,true,true,true,true,true,true,true,false]
[null,{"$f":"'Scheme and Member Information'!B316","v":0},{"$f":"'Scheme and Member Information'!C316","v":0},null,null,null,null,null,null,null,null,"","",null,null,null,null,null,{"$f":"IF(U316,VLOOKUP(MIN(V316:AL316),'Data Validation (hidden)'!$G$2:$H$18,2,FALSE),IF((COUNTA(D316:K316))+(COUNTA(N316:Q316))>0,\"'Scheme Name' missing but values entered in other columns\",\"\"))","v":""},null,false,1,2,3,4,5,6,7,8,9,10,11,"","",14,15,"","",0,true,true,true,true,true,true,true,true,true,true,true,true,true,true,true,true,false]
[null,{"$f":"'Scheme and Member Information'!B317","v":0},{"$f":"'Scheme and Member Information'!C317","v":0},null,null,null,null,null,null,null,null,"","",null,null,null,null,null,{"$f":"IF(U317,VLOOKUP(MIN(V317:AL317),'Data Validation (hidden)'!$G$2:$H$18,2,FALSE),IF((COUNTA(D317:K317))+(COUNTA(N317:Q317))>0,\"'Scheme Name' missing but values entered in other columns\",\"\"))","v":""},null,false,1,2,3,4,5,6,7,8,9,10,11,"","",14,15,"","",0,true,true,true,true,true,true,true,true,true,true,true,true,true,true,true,true,false]
[null,{"$f":"'Scheme and Member Information'!B318","v":0},{"$f":"'Scheme and Member Information'!C318","v":0},null,null,null,null,null,null,null,null,"","",null,null,null,null,null,{"$f":"IF(U318,VLOOKUP(MIN(V318:AL318),'Data Validation (hidden)'!$G$2:$H$18,2,FALSE),IF((COUNTA(D318:K318))+(COUNTA(N318:Q318))>0,\"'Scheme Name' missing but values entered in other columns\",\"\"))","v":""},null,false,1,2,3,4,5,6,7,8,9,10,11,"","",14,15,"","",0,true,true,true,true,true,true,true,true,true,true,true,true,true,true,true,true,false]
[null,{"$f":"'Scheme and Member Information'!B319","v":0},{"$f":"'Scheme and Member Information'!C319","v":0},null,null,null,null,null,null,null,null,"","",null,null,null,null,null,{"$f":"IF(U319,VLOOKUP(MIN(V319:AL319),'Data Validation (hidden)'!$G$2:$H$18,2,FALSE),IF((COUNTA(D319:K319))+(COUNTA(N319:Q319))>0,\"'Scheme Name' missing but values entered in other columns\",\"\"))","v":""},null,false,1,2,3,4,5,6,7,8,9,10,11,"","",14,15,"","",0,true,true,true,true,true,true,true,true,true,true,true,true,true,true,true,true,false]
[null,{"$f":"'Scheme and Member Information'!B320","v":0},{"$f":"'Scheme and Member Information'!C320","v":0},null,null,null,null,null,null,null,null,"","",null,null,null,null,null,{"$f":"IF(U320,VLOOKUP(MIN(V320:AL320),'Data Validation (hidden)'!$G$2:$H$18,2,FALSE),IF((COUNTA(D320:K320))+(COUNTA(N320:Q320))>0,\"'Scheme Name' missing but values entered in other columns\",\"\"))","v":""},null,false,1,2,3,4,5,6,7,8,9,10,11,"","",14,15,"","",0,true,true,true,true,true,true,true,true,true,true,true,true,true,true,true,true,false]
[null,{"$f":"'Scheme and Member Information'!B321","v":0},{"$f":"'Scheme and Member Information'!C321","v":0},null,null,null,null,null,null,null,null,"","",null,null,null,null,null,{"$f":"IF(U321,VLOOKUP(MIN(V321:AL321),'Data Validation (hidden)'!$G$2:$H$18,2,FALSE),IF((COUNTA(D321:K321))+(COUNTA(N321:Q321))>0,\"'Scheme Name' missing but values entered in other columns\",\"\"))","v":""},null,false,1,2,3,4,5,6,7,8,9,10,11,"","",14,15,"","",0,true,true,true,true,true,true,true,true,true,true,true,true,true,true,true,true,false]
[null,{"$f":"'Scheme and Member Information'!B322","v":0},{"$f":"'Scheme and Member Information'!C322","v":0},null,null,null,null,null,null,null,null,"","",null,null,null,null,null,{"$f":"IF(U322,VLOOKUP(MIN(V322:AL322),'Data Validation (hidden)'!$G$2:$H$18,2,FALSE),IF((COUNTA(D322:K322))+(COUNTA(N322:Q322))>0,\"'Scheme Name' missing but values entered in other columns\",\"\"))","v":""},null,false,1,2,3,4,5,6,7,8,9,10,11,"","",14,15,"","",0,true,true,true,true,true,true,true,true,true,true,true,true,true,true,true,true,false]
[null,{"$f":"'Scheme and Member Information'!B323","v":0},{"$f":"'Scheme and Member Information'!C323","v":0},null,null,null,null,null,null,null,null,"","",null,null,null,null,null,{"$f":"IF(U323,VLOOKUP(MIN(V323:AL323),'Data Validation (hidden)'!$G$2:$H$18,2,FALSE),IF((COUNTA(D323:K323))+(COUNTA(N323:Q323))>0,\"'Scheme Name' missing but values entered in other columns\",\"\"))","v":""},null,false,1,2,3,4,5,6,7,8,9,10,11,"","",14,15,"","",0,true,true,true,true,true,true,true,true,true,true,true,true,true,true,true,true,false]
[null,{"$f":"'Scheme and Member Information'!B324","v":0},{"$f":"'Scheme and Member Information'!C324","v":0},null,null,null,null,null,null,null,null,"","",null,null,null,null,null,{"$f":"IF(U324,VLOOKUP(MIN(V324:AL324),'Data Validation (hidden)'!$G$2:$H$18,2,FALSE),IF((COUNTA(D324:K324))+(COUNTA(N324:Q324))>0,\"'Scheme Name' missing but values entered in other columns\",\"\"))","v":""},null,false,1,2,3,4,5,6,7,8,9,10,11,"","",14,15,"","",0,true,true,true,true,true,true,true,true,true,true,true,true,true,true,true,true,false]
[null,{"$f":"'Scheme and Member Information'!B325","v":0},{"$f":"'Scheme and Member Information'!C325","v":0},null,null,null,null,null,null,null,null,"","",null,null,null,null,null,{"$f":"IF(U325,VLOOKUP(MIN(V325:AL325),'Data Validation (hidden)'!$G$2:$H$18,2,FALSE),IF((COUNTA(D325:K325))+(COUNTA(N325:Q325))>0,\"'Scheme Name' missing but values entered in other columns\",\"\"))","v":""},null,false,1,2,3,4,5,6,7,8,9,10,11,"","",14,15,"","",0,true,true,true,true,true,true,true,true,true,true,true,true,true,true,true,true,false]
[null,{"$f":"'Scheme and Member Information'!B326","v":0},{"$f":"'Scheme and Member Information'!C326","v":0},null,null,null,null,null,null,null,null,"","",null,null,null,null,null,{"$f":"IF(U326,VLOOKUP(MIN(V326:AL326),'Data Validation (hidden)'!$G$2:$H$18,2,FALSE),IF((COUNTA(D326:K326))+(COUNTA(N326:Q326))>0,\"'Scheme Name' missing but values entered in other columns\",\"\"))","v":""},null,false,1,2,3,4,5,6,7,8,9,10,11,"","",14,15,"","",0,true,true,true,true,true,true,true,true,true,true,true,true,true,true,true,true,false]
[null,{"$f":"'Scheme and Member Information'!B327","v":0},{"$f":"'Scheme and Member Information'!C327","v":0},null,null,null,null,null,null,null,null,"","",null,null,null,null,null,{"$f":"IF(U327,VLOOKUP(MIN(V327:AL327),'Data Validation (hidden)'!$G$2:$H$18,2,FALSE),IF((COUNTA(D327:K327))+(COUNTA(N327:Q327))>0,\"'Scheme Name' missing but values entered in other columns\",\"\"))","v":""},null,false,1,2,3,4,5,6,7,8,9,10,11,"","",14,15,"","",0,true,true,true,true,true,true,true,true,true,true,true,true,true,true,true,true,false]
[null,{"$f":"'Scheme and Member Information'!B328","v":0},{"$f":"'Scheme and Member Information'!C328","v":0},null,null,null,null,null,null,null,null,"","",null,null,null,null,null,{"$f":"IF(U328,VLOOKUP(MIN(V328:AL328),'Data Validation (hidden)'!$G$2:$H$18,2,FALSE),IF((COUNTA(D328:K328))+(COUNTA(N328:Q328))>0,\"'Scheme Name' missing but values entered in other columns\",\"\"))","v":""},null,false,1,2,3,4,5,6,7,8,9,10,11,"","",14,15,"","",0,true,true,true,true,true,true,true,true,true,true,true,true,true,true,true,true,{"$f":"IF(S328=\"\",FALSE,IF(S328=\"OK\",FALSE,TRUE))","v":false}]
[null,{"$f":"'Scheme and Member Information'!B329","v":0},{"$f":"'Scheme and Member Information'!C329","v":0},null,null,null,null,null,null,null,null,{"$f":"IF(AND(G329<>\"\",H329<>\"\",I329<>\"\",J329<>\"\",K329<>\"\"),(G329+H329+J329)-(I329+K329),\"\")","v":""},{"$f":"IF((L329=\"\"),\"\",(L329-G329))","v":""},null,null,null,null,null,{"$f":"IF(U329,VLOOKUP(MIN(V329:AL329),'Data Validation (hidden)'!$G$2:$H$18,2,FALSE),IF((COUNTA(D329:K329))+(COUNTA(N329:Q329))>0,\"'Scheme Name' missing but values entered in other columns\",\"\"))","v":""},null,{"$f":"AND(B329<>\"\",B329<>0)","v":false},{"$f":"IF(C329=\"\",1,IF(C329=0,1,\"\"))","v":1},{"$f":"IF(D329=\"\",2,\"\")","v":2},{"$f":"IF(D329=\"No\",\"\",IF(E329=\"\",3,\"\"))","v":3},{"$f":"IF(F329=\"\",4,\"\")","v":4},{"$f":"IF(G329=\"\",5,\"\")","v":5},{"$f":"IF(H329=\"\",6,\"\")","v":6},{"$f":"IF(I329=\"\",7,\"\")","v":7},{"$f":"IF(J329=\"\",8,\"\")","v":8},{"$f":"IF(K329=\"\",9,\"\")","v":9},{"$f":"IF(L329=\"\",10,\"\")","v":10},{"$f":"IF(M329=\"\",11,\"\")","v":11},{"$f":"IF(N329=\"\",IF(AM329<0.14,\"\",12),\"\")","v":""},{"$f":"IF(O329=\"\",IF(L329>999,\"\",13),\"\")","v":""},{"$f":"IF(P329=\"\",14,\"\")","v":14},{"$f":"IF(Q329=\"\",15,\"\")","v":15},{"$f":"IF(COUNT(V329:AJ329)=0,\"10\",\"\")","v":""},{"$f":"IF(AND(AN329,AO329,AP329,AQ329,AR329,AS329,AT329,AU329,AV329,AW329,AX329,AY329,AZ329,BA329,BB329,BC329)=TRUE,\"\",16)","v":""},{"$f":"IF(OR(G329=\"\",L329=\"\",AND(G329=0,L329=0)),0,IF((G329>L329),((G329-L329)/G329),((L329-G329)/G329)))","v":0},{"$f":"IF(CELL(\"format\", B329) = \"G\",TRUE,FALSE)","v":true},{"$f":"IF(CELL(\"format\", C329) = \"F0\",TRUE,FALSE)","v":true},{"$f":"IF(CELL(\"format\", D329) = \"G\",TRUE,FALSE)","v":true},{"$f":"IF(CELL(\"format\", E329) = \"D1\",TRUE,FALSE)","v":true},{"$f":"IF(CELL(\"format\", F329) = \"D1\",TRUE,FALSE)","v":true},{"$f":"IF(CELL(\"format\", G329) = \"C0\",TRUE,FALSE)","v":true},{"$f":"IF(CELL(\"format\", H329) = \"C0\",TRUE,FALSE)","v":true},{"$f":"IF(CELL(\"format\", I329) = \"C0\",TRUE,FALSE)","v":true},{"$f":"IF(CELL(\"format\", J329) = \"C0\",TRUE,FALSE)","v":true},{"$f":"IF(CELL(\"format\", K329) = \"C0\",TRUE,FALSE)","v":true},{"$f":"IF(CELL(\"format\", L329) = \"C0\",TRUE,FALSE)","v":true},{"$f":"IF(CELL(\"format\", M329) = \"C0\",TRUE,FALSE)","v":true},{"$f":"IF(CELL(\"format\", N329) = \"G\",TRUE,FALSE)","v":true},{"$f":"IF(CELL(\"format\", O329) = \"G\",TRUE,FALSE)","v":true},{"$f":"IF(CELL(\"format\", P329) = \"C0\",TRUE,FALSE)","v":true},{"$f":"IF(CELL(\"format\", Q329) = \"C0\",TRUE,FALSE)","v":true},false]
[null,{"$f":"'Scheme and Member Information'!B330","v":0},{"$f":"'Scheme and Member Information'!C330","v":0},null,null,null,null,null,null,null,null,"","",null,null,null,null,null,{"$f":"IF(U330,VLOOKUP(MIN(V330:AL330),'Data Validation (hidden)'!$G$2:$H$18,2,FALSE),IF((COUNTA(D330:K330))+(COUNTA(N330:Q330))>0,\"'Scheme Name' missing but values entered in other columns\",\"\"))","v":""},null,false,1,2,3,4,5,6,7,8,9,10,11,"","",14,15,"","",0,true,true,true,true,true,true,true,true,true,true,true,true,true,true,true,true,false]
[null,{"$f":"'Scheme and Member Information'!B331","v":0},{"$f":"'Scheme and Member Information'!C331","v":0},null,null,null,null,null,null,null,null,"","",null,null,null,null,null,{"$f":"IF(U331,VLOOKUP(MIN(V331:AL331),'Data Validation (hidden)'!$G$2:$H$18,2,FALSE),IF((COUNTA(D331:K331))+(COUNTA(N331:Q331))>0,\"'Scheme Name' missing but values entered in other columns\",\"\"))","v":""},null,false,1,2,3,4,5,6,7,8,9,10,11,"","",14,15,"","",0,true,true,true,true,true,true,true,true,true,true,true,true,true,true,true,true,false]
[null,{"$f":"'Scheme and Member Information'!B332","v":0},{"$f":"'Scheme and Member Information'!C332","v":0},null,null,null,null,null,null,null,null,"","",null,null,null,null,null,{"$f":"IF(U332,VLOOKUP(MIN(V332:AL332),'Data Validation (hidden)'!$G$2:$H$18,2,FALSE),IF((COUNTA(D332:K332))+(COUNTA(N332:Q332))>0,\"'Scheme Name' missing but values entered in other columns\",\"\"))","v":""},null,false,1,2,3,4,5,6,7,8,9,10,11,"","",14,15,"","",0,true,true,true,true,true,true,true,true,true,true,true,true,true,true,true,true,false]
[null,{"$f":"'Scheme and Member Information'!B333","v":0},{"$f":"'Scheme and Member Information'!C333","v":0},null,null,null,null,null,null,null,null,"","",null,null,null,null,null,{"$f":"IF(U333,VLOOKUP(MIN(V333:AL333),'Data Validation (hidden)'!$G$2:$H$18,2,FALSE),IF((COUNTA(D333:K333))+(COUNTA(N333:Q333))>0,\"'Scheme Name' missing but values entered in other columns\",\"\"))","v":""},null,false,1,2,3,4,5,6,7,8,9,10,11,"","",14,15,"","",0,true,true,true,true,true,true,true,true,true,true,true,true,true,true,true,true,false]
[null,{"$f":"'Scheme and Member Information'!B334","v":0},{"$f":"'Scheme and Member Information'!C334","v":0},null,null,null,null,null,null,null,null,"","",null,null,null,null,null,{"$f":"IF(U334,VLOOKUP(MIN(V334:AL334),'Data Validation (hidden)'!$G$2:$H$18,2,FALSE),IF((COUNTA(D334:K334))+(COUNTA(N334:Q334))>0,\"'Scheme Name' missing but values entered in other columns\",\"\"))","v":""},null,false,1,2,3,4,5,6,7,8,9,10,11,"","",14,15,"","",0,true,true,true,true,true,true,true,true,true,true,true,true,true,true,true,true,false]
[null,{"$f":"'Scheme and Member Information'!B335","v":0},{"$f":"'Scheme and Member Information'!C335","v":0},null,null,null,null,null,null,null,null,"","",null,null,null,null,null,{"$f":"IF(U335,VLOOKUP(MIN(V335:AL335),'Data Validation (hidden)'!$G$2:$H$18,2,FALSE),IF((COUNTA(D335:K335))+(COUNTA(N335:Q335))>0,\"'Scheme Name' missing but values entered in other columns\",\"\"))","v":""},null,false,1,2,3,4,5,6,7,8,9,10,11,"","",14,15,"","",0,true,true,true,true,true,true,true,true,true,true,true,true,true,true,true,true,false]
[null,{"$f":"'Scheme and Member Information'!B336","v":0},{"$f":"'Scheme and Member Information'!C336","v":0},null,null,null,null,null,null,null,null,"","",null,null,null,null,null,{"$f":"IF(U336,VLOOKUP(MIN(V336:AL336),'Data Validation (hidden)'!$G$2:$H$18,2,FALSE),IF((COUNTA(D336:K336))+(COUNTA(N336:Q336))>0,\"'Scheme Name' missing but values entered in other columns\",\"\"))","v":""},null,false,1,2,3,4,5,6,7,8,9,10,11,"","",14,15,"","",0,true,true,true,true,true,true,true,true,true,true,true,true,true,true,true,true,false]
[null,{"$f":"'Scheme and Member Information'!B337","v":0},{"$f":"'Scheme and Member Information'!C337","v":0},null,null,null,null,null,null,null,null,"","",null,null,null,null,null,{"$f":"IF(U337,VLOOKUP(MIN(V337:AL337),'Data Validation (hidden)'!$G$2:$H$18,2,FALSE),IF((COUNTA(D337:K337))+(COUNTA(N337:Q337))>0,\"'Scheme Name' missing but values entered in other columns\",\"\"))","v":""},null,false,1,2,3,4,5,6,7,8,9,10,11,"","",14,15,"","",0,true,true,true,true,true,true,true,true,true,true,true,true,true,true,true,true,false]
[null,{"$f":"'Scheme and Member Information'!B338","v":0},{"$f":"'Scheme and Member Information'!C338","v":0},null,null,null,null,null,null,null,null,"","",null,null,null,null,null,{"$f":"IF(U338,VLOOKUP(MIN(V338:AL338),'Data Validation (hidden)'!$G$2:$H$18,2,FALSE),IF((COUNTA(D338:K338))+(COUNTA(N338:Q338))>0,\"'Scheme Name' missing but values entered in other columns\",\"\"))","v":""},null,false,1,2,3,4,5,6,7,8,9,10,11,"","",14,15,"","",0,true,true,true,true,true,true,true,true,true,true,true,true,true,true,true,true,false]
[null,{"$f":"'Scheme and Member Information'!B339","v":0},{"$f":"'Scheme and Member Information'!C339","v":0},null,null,null,null,null,null,null,null,"","",null,null,null,null,null,{"$f":"IF(U339,VLOOKUP(MIN(V339:AL339),'Data Validation (hidden)'!$G$2:$H$18,2,FALSE),IF((COUNTA(D339:K339))+(COUNTA(N339:Q339))>0,\"'Scheme Name' missing but values entered in other columns\",\"\"))","v":""},null,false,1,2,3,4,5,6,7,8,9,10,11,"","",14,15,"","",0,true,true,true,true,true,true,true,true,true,true,true,true,true,true,true,true,false]
[null,{"$f":"'Scheme and Member Information'!B340","v":0},{"$f":"'Scheme and Member Information'!C340","v":0},null,null,null,null,null,null,null,null,"","",null,null,null,null,null,{"$f":"IF(U340,VLOOKUP(MIN(V340:AL340),'Data Validation (hidden)'!$G$2:$H$18,2,FALSE),IF((COUNTA(D340:K340))+(COUNTA(N340:Q340))>0,\"'Scheme Name' missing but values entered in other columns\",\"\"))","v":""},null,false,1,2,3,4,5,6,7,8,9,10,11,"","",14,15,"","",0,true,true,true,true,true,true,true,true,true,true,true,true,true,true,true,true,false]
[null,{"$f":"'Scheme and Member Information'!B341","v":0},{"$f":"'Scheme and Member Information'!C341","v":0},null,null,null,null,null,null,null,null,"","",null,null,null,null,null,{"$f":"IF(U341,VLOOKUP(MIN(V341:AL341),'Data Validation (hidden)'!$G$2:$H$18,2,FALSE),IF((COUNTA(D341:K341))+(COUNTA(N341:Q341))>0,\"'Scheme Name' missing but values entered in other columns\",\"\"))","v":""},null,false,1,2,3,4,5,6,7,8,9,10,11,"","",14,15,"","",0,true,true,true,true,true,true,true,true,true,true,true,true,true,true,true,true,false]
[null,{"$f":"'Scheme and Member Information'!B342","v":0},{"$f":"'Scheme and Member Information'!C342","v":0},null,null,null,null,null,null,null,null,"","",null,null,null,null,null,{"$f":"IF(U342,VLOOKUP(MIN(V342:AL342),'Data Validation (hidden)'!$G$2:$H$18,2,FALSE),IF((COUNTA(D342:K342))+(COUNTA(N342:Q342))>0,\"'Scheme Name' missing but values entered in other columns\",\"\"))","v":""},null,false,1,2,3,4,5,6,7,8,9,10,11,"","",14,15,"","",0,true,true,true,true,true,true,true,true,true,true,true,true,true,true,true,true,false]
[null,{"$f":"'Scheme and Member Information'!B343","v":0},{"$f":"'Scheme and Member Information'!C343","v":0},null,null,null,null,null,null,null,null,"","",null,null,null,null,null,{"$f":"IF(U343,VLOOKUP(MIN(V343:AL343),'Data Validation (hidden)'!$G$2:$H$18,2,FALSE),IF((COUNTA(D343:K343))+(COUNTA(N343:Q343))>0,\"'Scheme Name' missing but values entered in other columns\",\"\"))","v":""},null,false,1,2,3,4,5,6,7,8,9,10,11,"","",14,15,"","",0,true,true,true,true,true,true,true,true,true,true,true,true,true,true,true,true,false]
[null,{"$f":"'Scheme and Member Information'!B344","v":0},{"$f":"'Scheme and Member Information'!C344","v":0},null,null,null,null,null,null,null,null,"","",null,null,null,null,null,{"$f":"IF(U344,VLOOKUP(MIN(V344:AL344),'Data Validation (hidden)'!$G$2:$H$18,2,FALSE),IF((COUNTA(D344:K344))+(COUNTA(N344:Q344))>0,\"'Scheme Name' missing but values entered in other columns\",\"\"))","v":""},null,false,1,2,3,4,5,6,7,8,9,10,11,"","",14,15,"","",0,true,true,true,true,true,true,true,true,true,true,true,true,true,true,true,true,false]
[null,{"$f":"'Scheme and Member Information'!B345","v":0},{"$f":"'Scheme and Member Information'!C345","v":0},null,null,null,null,null,null,null,null,"","",null,null,null,null,null,{"$f":"IF(U345,VLOOKUP(MIN(V345:AL345),'Data Validation (hidden)'!$G$2:$H$18,2,FALSE),IF((COUNTA(D345:K345))+(COUNTA(N345:Q345))>0,\"'Scheme Name' missing but values entered in other columns\",\"\"))","v":""},null,false,1,2,3,4,5,6,7,8,9,10,11,"","",14,15,"","",0,true,true,true,true,true,true,true,true,true,true,true,true,true,true,true,true,false]
[null,{"$f":"'Scheme and Member Information'!B346","v":0},{"$f":"'Scheme and Member Information'!C346","v":0},null,null,null,null,null,null,null,null,"","",null,null,null,null,null,{"$f":"IF(U346,VLOOKUP(MIN(V346:AL346),'Data Validation (hidden)'!$G$2:$H$18,2,FALSE),IF((COUNTA(D346:K346))+(COUNTA(N346:Q346))>0,\"'Scheme Name' missing but values entered in other columns\",\"\"))","v":""},null,false,1,2,3,4,5,6,7,8,9,10,11,"","",14,15,"","",0,true,true,true,true,true,true,true,true,true,true,true,true,true,true,true,true,false]
[null,{"$f":"'Scheme and Member Information'!B347","v":0},{"$f":"'Scheme and Member Information'!C347","v":0},null,null,null,null,null,null,null,null,"","",null,null,null,null,null,{"$f":"IF(U347,VLOOKUP(MIN(V347:AL347),'Data Validation (hidden)'!$G$2:$H$18,2,FALSE),IF((COUNTA(D347:K347))+(COUNTA(N347:Q347))>0,\"'Scheme Name' missing but values entered in other columns\",\"\"))","v":""},null,false,1,2,3,4,5,6,7,8,9,10,11,"","",14,15,"","",0,true,true,true,true,true,true,true,true,true,true,true,true,true,true,true,true,false]
[null,{"$f":"'Scheme and Member Information'!B348","v":0},{"$f":"'Scheme and Member Information'!C348","v":0},null,null,null,null,null,null,null,null,"","",null,null,null,null,null,{"$f":"IF(U348,VLOOKUP(MIN(V348:AL348),'Data Validation (hidden)'!$G$2:$H$18,2,FALSE),IF((COUNTA(D348:K348))+(COUNTA(N348:Q348))>0,\"'Scheme Name' missing but values entered in other columns\",\"\"))","v":""},null,false,1,2,3,4,5,6,7,8,9,10,11,"","",14,15,"","",0,true,true,true,true,true,true,true,true,true,true,true,true,true,true,true,true,false]
[null,{"$f":"'Scheme and Member Information'!B349","v":0},{"$f":"'Scheme and Member Information'!C349","v":0},null,null,null,null,null,null,null,null,"","",null,null,null,null,null,{"$f":"IF(U349,VLOOKUP(MIN(V349:AL349),'Data Validation (hidden)'!$G$2:$H$18,2,FALSE),IF((COUNTA(D349:K349))+(COUNTA(N349:Q349))>0,\"'Scheme Name' missing but values entered in other columns\",\"\"))","v":""},null,false,1,2,3,4,5,6,7,8,9,10,11,"","",14,15,"","",0,true,true,true,true,true,true,true,true,true,true,true,true,true,true,true,true,false]
[null,{"$f":"'Scheme and Member Information'!B350","v":0},{"$f":"'Scheme and Member Information'!C350","v":0},null,null,null,null,null,null,null,null,"","",null,null,null,null,null,{"$f":"IF(U350,VLOOKUP(MIN(V350:AL350),'Data Validation (hidden)'!$G$2:$H$18,2,FALSE),IF((COUNTA(D350:K350))+(COUNTA(N350:Q350))>0,\"'Scheme Name' missing but values entered in other columns\",\"\"))","v":""},null,false,1,2,3,4,5,6,7,8,9,10,11,"","",14,15,"","",0,true,true,true,true,true,true,true,true,true,true,true,true,true,true,true,true,false]
[null,{"$f":"'Scheme and Member Information'!B351","v":0},{"$f":"'Scheme and Member Information'!C351","v":0},null,null,null,null,null,null,null,null,"","",null,null,null,null,null,{"$f":"IF(U351,VLOOKUP(MIN(V351:AL351),'Data Validation (hidden)'!$G$2:$H$18,2,FALSE),IF((COUNTA(D351:K351))+(COUNTA(N351:Q351))>0,\"'Scheme Name' missing but values entered in other columns\",\"\"))","v":""},null,false,1,2,3,4,5,6,7,8,9,10,11,"","",14,15,"","",0,true,true,true,true,true,true,true,true,true,true,true,true,true,true,true,true,false]
[null,{"$f":"'Scheme and Member Information'!B352","v":0},{"$f":"'Scheme and Member Information'!C352","v":0},null,null,null,null,null,null,null,null,"","",null,null,null,null,null,{"$f":"IF(U352,VLOOKUP(MIN(V352:AL352),'Data Validation (hidden)'!$G$2:$H$18,2,FALSE),IF((COUNTA(D352:K352))+(COUNTA(N352:Q352))>0,\"'Scheme Name' missing but values entered in other columns\",\"\"))","v":""},null,false,1,2,3,4,5,6,7,8,9,10,11,"","",14,15,"","",0,true,true,true,true,true,true,true,true,true,true,true,true,true,true,true,true,false]
[null,{"$f":"'Scheme and Member Information'!B353","v":0},{"$f":"'Scheme and Member Information'!C353","v":0},null,null,null,null,null,null,null,null,"","",null,null,null,null,null,{"$f":"IF(U353,VLOOKUP(MIN(V353:AL353),'Data Validation (hidden)'!$G$2:$H$18,2,FALSE),IF((COUNTA(D353:K353))+(COUNTA(N353:Q353))>0,\"'Scheme Name' missing but values entered in other columns\",\"\"))","v":""},null,false,1,2,3,4,5,6,7,8,9,10,11,"","",14,15,"","",0,true,true,true,true,true,true,true,true,true,true,true,true,true,true,true,true,false]
[null,{"$f":"'Scheme and Member Information'!B354","v":0},{"$f":"'Scheme and Member Information'!C354","v":0},null,null,null,null,null,null,null,null,"","",null,null,null,null,null,{"$f":"IF(U354,VLOOKUP(MIN(V354:AL354),'Data Validation (hidden)'!$G$2:$H$18,2,FALSE),IF((COUNTA(D354:K354))+(COUNTA(N354:Q354))>0,\"'Scheme Name' missing but values entered in other columns\",\"\"))","v":""},null,false,1,2,3,4,5,6,7,8,9,10,11,"","",14,15,"","",0,true,true,true,true,true,true,true,true,true,true,true,true,true,true,true,true,false]
[null,{"$f":"'Scheme and Member Information'!B355","v":0},{"$f":"'Scheme and Member Information'!C355","v":0},null,null,null,null,null,null,null,null,"","",null,null,null,null,null,{"$f":"IF(U355,VLOOKUP(MIN(V355:AL355),'Data Validation (hidden)'!$G$2:$H$18,2,FALSE),IF((COUNTA(D355:K355))+(COUNTA(N355:Q355))>0,\"'Scheme Name' missing but values entered in other columns\",\"\"))","v":""},null,false,1,2,3,4,5,6,7,8,9,10,11,"","",14,15,"","",0,true,true,true,true,true,true,true,true,true,true,true,true,true,true,true,true,false]
[null,{"$f":"'Scheme and Member Information'!B356","v":0},{"$f":"'Scheme and Member Information'!C356","v":0},null,null,null,null,null,null,null,null,"","",null,null,null,null,null,{"$f":"IF(U356,VLOOKUP(MIN(V356:AL356),'Data Validation (hidden)'!$G$2:$H$18,2,FALSE),IF((COUNTA(D356:K356))+(COUNTA(N356:Q356))>0,\"'Scheme Name' missing but values entered in other columns\",\"\"))","v":""},null,false,1,2,3,4,5,6,7,8,9,10,11,"","",14,15,"","",0,true,true,true,true,true,true,true,true,true,true,true,true,true,true,true,true,false]
[null,{"$f":"'Scheme and Member Information'!B357","v":0},{"$f":"'Scheme and Member Information'!C357","v":0},null,null,null,null,null,null,null,null,"","",null,null,null,null,null,{"$f":"IF(U357,VLOOKUP(MIN(V357:AL357),'Data Validation (hidden)'!$G$2:$H$18,2,FALSE),IF((COUNTA(D357:K357))+(COUNTA(N357:Q357))>0,\"'Scheme Name' missing but values entered in other columns\",\"\"))","v":""},null,false,1,2,3,4,5,6,7,8,9,10,11,"","",14,15,"","",0,true,true,true,true,true,true,true,true,true,true,true,true,true,true,true,true,false]
[null,{"$f":"'Scheme and Member Information'!B358","v":0},{"$f":"'Scheme and Member Information'!C358","v":0},null,null,null,null,null,null,null,null,"","",null,null,null,null,null,{"$f":"IF(U358,VLOOKUP(MIN(V358:AL358),'Data Validation (hidden)'!$G$2:$H$18,2,FALSE),IF((COUNTA(D358:K358))+(COUNTA(N358:Q358))>0,\"'Scheme Name' missing but values entered in other columns\",\"\"))","v":""},null,false,1,2,3,4,5,6,7,8,9,10,11,"","",14,15,"","",0,true,true,true,true,true,true,true,true,true,true,true,true,true,true,true,true,false]
[null,{"$f":"'Scheme and Member Information'!B359","v":0},{"$f":"'Scheme and Member Information'!C359","v":0},null,null,null,null,null,null,null,null,"","",null,null,null,null,null,{"$f":"IF(U359,VLOOKUP(MIN(V359:AL359),'Data Validation (hidden)'!$G$2:$H$18,2,FALSE),IF((COUNTA(D359:K359))+(COUNTA(N359:Q359))>0,\"'Scheme Name' missing but values entered in other columns\",\"\"))","v":""},null,false,1,2,3,4,5,6,7,8,9,10,11,"","",14,15,"","",0,true,true,true,true,true,true,true,true,true,true,true,true,true,true,true,true,false]
[null,{"$f":"'Scheme and Member Information'!B360","v":0},{"$f":"'Scheme and Member Information'!C360","v":0},null,null,null,null,null,null,null,null,"","",null,null,null,null,null,{"$f":"IF(U360,VLOOKUP(MIN(V360:AL360),'Data Validation (hidden)'!$G$2:$H$18,2,FALSE),IF((COUNTA(D360:K360))+(COUNTA(N360:Q360))>0,\"'Scheme Name' missing but values entered in other columns\",\"\"))","v":""},null,false,1,2,3,4,5,6,7,8,9,10,11,"","",14,15,"","",0,true,true,true,true,true,true,true,true,true,true,true,true,true,true,true,true,false]
[null,{"$f":"'Scheme and Member Information'!B361","v":0},{"$f":"'Scheme and Member Information'!C361","v":0},null,null,null,null,null,null,null,null,"","",null,null,null,null,null,{"$f":"IF(U361,VLOOKUP(MIN(V361:AL361),'Data Validation (hidden)'!$G$2:$H$18,2,FALSE),IF((COUNTA(D361:K361))+(COUNTA(N361:Q361))>0,\"'Scheme Name' missing but values entered in other columns\",\"\"))","v":""},null,false,1,2,3,4,5,6,7,8,9,10,11,"","",14,15,"","",0,true,true,true,true,true,true,true,true,true,true,true,true,true,true,true,true,false]
[null,{"$f":"'Scheme and Member Information'!B362","v":0},{"$f":"'Scheme and Member Information'!C362","v":0},null,null,null,null,null,null,null,null,"","",null,null,null,null,null,{"$f":"IF(U362,VLOOKUP(MIN(V362:AL362),'Data Validation (hidden)'!$G$2:$H$18,2,FALSE),IF((COUNTA(D362:K362))+(COUNTA(N362:Q362))>0,\"'Scheme Name' missing but values entered in other columns\",\"\"))","v":""},null,false,1,2,3,4,5,6,7,8,9,10,11,"","",14,15,"","",0,true,true,true,true,true,true,true,true,true,true,true,true,true,true,true,true,false]
[null,{"$f":"'Scheme and Member Information'!B363","v":0},{"$f":"'Scheme and Member Information'!C363","v":0},null,null,null,null,null,null,null,null,"","",null,null,null,null,null,{"$f":"IF(U363,VLOOKUP(MIN(V363:AL363),'Data Validation (hidden)'!$G$2:$H$18,2,FALSE),IF((COUNTA(D363:K363))+(COUNTA(N363:Q363))>0,\"'Scheme Name' missing but values entered in other columns\",\"\"))","v":""},null,false,1,2,3,4,5,6,7,8,9,10,11,"","",14,15,"","",0,true,true,true,true,true,true,true,true,true,true,true,true,true,true,true,true,false]
[null,{"$f":"'Scheme and Member Information'!B364","v":0},{"$f":"'Scheme and Member Information'!C364","v":0},null,null,null,null,null,null,null,null,"","",null,null,null,null,null,{"$f":"IF(U364,VLOOKUP(MIN(V364:AL364),'Data Validation (hidden)'!$G$2:$H$18,2,FALSE),IF((COUNTA(D364:K364))+(COUNTA(N364:Q364))>0,\"'Scheme Name' missing but values entered in other columns\",\"\"))","v":""},null,false,1,2,3,4,5,6,7,8,9,10,11,"","",14,15,"","",0,true,true,true,true,true,true,true,true,true,true,true,true,true,true,true,true,false]
[null,{"$f":"'Scheme and Member Information'!B365","v":0},{"$f":"'Scheme and Member Information'!C365","v":0},null,null,null,null,null,null,null,null,"","",null,null,null,null,null,{"$f":"IF(U365,VLOOKUP(MIN(V365:AL365),'Data Validation (hidden)'!$G$2:$H$18,2,FALSE),IF((COUNTA(D365:K365))+(COUNTA(N365:Q365))>0,\"'Scheme Name' missing but values entered in other columns\",\"\"))","v":""},null,false,1,2,3,4,5,6,7,8,9,10,11,"","",14,15,"","",0,true,true,true,true,true,true,true,true,true,true,true,true,true,true,true,true,false]
[null,{"$f":"'Scheme and Member Information'!B366","v":0},{"$f":"'Scheme and Member Information'!C366","v":0},null,null,null,null,null,null,null,null,"","",null,null,null,null,null,{"$f":"IF(U366,VLOOKUP(MIN(V366:AL366),'Data Validation (hidden)'!$G$2:$H$18,2,FALSE),IF((COUNTA(D366:K366))+(COUNTA(N366:Q366))>0,\"'Scheme Name' missing but values entered in other columns\",\"\"))","v":""},null,false,1,2,3,4,5,6,7,8,9,10,11,"","",14,15,"","",0,true,true,true,true,true,true,true,true,true,true,true,true,true,true,true,true,false]
[null,{"$f":"'Scheme and Member Information'!B367","v":0},{"$f":"'Scheme and Member Information'!C367","v":0},null,null,null,null,null,null,null,null,"","",null,null,null,null,null,{"$f":"IF(U367,VLOOKUP(MIN(V367:AL367),'Data Validation (hidden)'!$G$2:$H$18,2,FALSE),IF((COUNTA(D367:K367))+(COUNTA(N367:Q367))>0,\"'Scheme Name' missing but values entered in other columns\",\"\"))","v":""},null,false,1,2,3,4,5,6,7,8,9,10,11,"","",14,15,"","",0,true,true,true,true,true,true,true,true,true,true,true,true,true,true,true,true,false]
[null,{"$f":"'Scheme and Member Information'!B368","v":0},{"$f":"'Scheme and Member Information'!C368","v":0},null,null,null,null,null,null,null,null,"","",null,null,null,null,null,{"$f":"IF(U368,VLOOKUP(MIN(V368:AL368),'Data Validation (hidden)'!$G$2:$H$18,2,FALSE),IF((COUNTA(D368:K368))+(COUNTA(N368:Q368))>0,\"'Scheme Name' missing but values entered in other columns\",\"\"))","v":""},null,false,1,2,3,4,5,6,7,8,9,10,11,"","",14,15,"","",0,true,true,true,true,true,true,true,true,true,true,true,true,true,true,true,true,false]
[null,{"$f":"'Scheme and Member Information'!B369","v":0},{"$f":"'Scheme and Member Information'!C369","v":0},null,null,null,null,null,null,null,null,"","",null,null,null,null,null,{"$f":"IF(U369,VLOOKUP(MIN(V369:AL369),'Data Validation (hidden)'!$G$2:$H$18,2,FALSE),IF((COUNTA(D369:K369))+(COUNTA(N369:Q369))>0,\"'Scheme Name' missing but values entered in other columns\",\"\"))","v":""},null,false,1,2,3,4,5,6,7,8,9,10,11,"","",14,15,"","",0,true,true,true,true,true,true,true,true,true,true,true,true,true,true,true,true,false]
[null,{"$f":"'Scheme and Member Information'!B370","v":0},{"$f":"'Scheme and Member Information'!C370","v":0},null,null,null,null,null,null,null,null,"","",null,null,null,null,null,{"$f":"IF(U370,VLOOKUP(MIN(V370:AL370),'Data Validation (hidden)'!$G$2:$H$18,2,FALSE),IF((COUNTA(D370:K370))+(COUNTA(N370:Q370))>0,\"'Scheme Name' missing but values entered in other columns\",\"\"))","v":""},null,false,1,2,3,4,5,6,7,8,9,10,11,"","",14,15,"","",0,true,true,true,true,true,true,true,true,true,true,true,true,true,true,true,true,false]
[null,{"$f":"'Scheme and Member Information'!B371","v":0},{"$f":"'Scheme and Member Information'!C371","v":0},null,null,null,null,null,null,null,null,"","",null,null,null,null,null,{"$f":"IF(U371,VLOOKUP(MIN(V371:AL371),'Data Validation (hidden)'!$G$2:$H$18,2,FALSE),IF((COUNTA(D371:K371))+(COUNTA(N371:Q371))>0,\"'Scheme Name' missing but values entered in other columns\",\"\"))","v":""},null,false,1,2,3,4,5,6,7,8,9,10,11,"","",14,15,"","",0,true,true,true,true,true,true,true,true,true,true,true,true,true,true,true,true,false]
[null,{"$f":"'Scheme and Member Information'!B372","v":0},{"$f":"'Scheme and Member Information'!C372","v":0},null,null,null,null,null,null,null,null,"","",null,null,null,null,null,{"$f":"IF(U372,VLOOKUP(MIN(V372:AL372),'Data Validation (hidden)'!$G$2:$H$18,2,FALSE),IF((COUNTA(D372:K372))+(COUNTA(N372:Q372))>0,\"'Scheme Name' missing but values entered in other columns\",\"\"))","v":""},null,false,1,2,3,4,5,6,7,8,9,10,11,"","",14,15,"","",0,true,true,true,true,true,true,true,true,true,true,true,true,true,true,true,true,false]
[null,{"$f":"'Scheme and Member Information'!B373","v":0},{"$f":"'Scheme and Member Information'!C373","v":0},null,null,null,null,null,null,null,null,"","",null,null,null,null,null,{"$f":"IF(U373,VLOOKUP(MIN(V373:AL373),'Data Validation (hidden)'!$G$2:$H$18,2,FALSE),IF((COUNTA(D373:K373))+(COUNTA(N373:Q373))>0,\"'Scheme Name' missing but values entered in other columns\",\"\"))","v":""},null,false,1,2,3,4,5,6,7,8,9,10,11,"","",14,15,"","",0,true,true,true,true,true,true,true,true,true,true,true,true,true,true,true,true,false]
[null,{"$f":"'Scheme and Member Information'!B374","v":0},{"$f":"'Scheme and Member Information'!C374","v":0},null,null,null,null,null,null,null,null,"","",null,null,null,null,null,{"$f":"IF(U374,VLOOKUP(MIN(V374:AL374),'Data Validation (hidden)'!$G$2:$H$18,2,FALSE),IF((COUNTA(D374:K374))+(COUNTA(N374:Q374))>0,\"'Scheme Name' missing but values entered in other columns\",\"\"))","v":""},null,false,1,2,3,4,5,6,7,8,9,10,11,"","",14,15,"","",0,true,true,true,true,true,true,true,true,true,true,true,true,true,true,true,true,false]
[null,{"$f":"'Scheme and Member Information'!B375","v":0},{"$f":"'Scheme and Member Information'!C375","v":0},null,null,null,null,null,null,null,null,"","",null,null,null,null,null,{"$f":"IF(U375,VLOOKUP(MIN(V375:AL375),'Data Validation (hidden)'!$G$2:$H$18,2,FALSE),IF((COUNTA(D375:K375))+(COUNTA(N375:Q375))>0,\"'Scheme Name' missing but values entered in other columns\",\"\"))","v":""},null,false,1,2,3,4,5,6,7,8,9,10,11,"","",14,15,"","",0,true,true,true,true,true,true,true,true,true,true,true,true,true,true,true,true,false]
[null,{"$f":"'Scheme and Member Information'!B376","v":0},{"$f":"'Scheme and Member Information'!C376","v":0},null,null,null,null,null,null,null,null,"","",null,null,null,null,null,{"$f":"IF(U376,VLOOKUP(MIN(V376:AL376),'Data Validation (hidden)'!$G$2:$H$18,2,FALSE),IF((COUNTA(D376:K376))+(COUNTA(N376:Q376))>0,\"'Scheme Name' missing but values entered in other columns\",\"\"))","v":""},null,false,1,2,3,4,5,6,7,8,9,10,11,"","",14,15,"","",0,true,true,true,true,true,true,true,true,true,true,true,true,true,true,true,true,false]
[null,{"$f":"'Scheme and Member Information'!B377","v":0},{"$f":"'Scheme and Member Information'!C377","v":0},null,null,null,null,null,null,null,null,"","",null,null,null,null,null,{"$f":"IF(U377,VLOOKUP(MIN(V377:AL377),'Data Validation (hidden)'!$G$2:$H$18,2,FALSE),IF((COUNTA(D377:K377))+(COUNTA(N377:Q377))>0,\"'Scheme Name' missing but values entered in other columns\",\"\"))","v":""},null,false,1,2,3,4,5,6,7,8,9,10,11,"","",14,15,"","",0,true,true,true,true,true,true,true,true,true,true,true,true,true,true,true,true,false]
[null,{"$f":"'Scheme and Member Information'!B378","v":0},{"$f":"'Scheme and Member Information'!C378","v":0},null,null,null,null,null,null,null,null,"","",null,null,null,null,null,{"$f":"IF(U378,VLOOKUP(MIN(V378:AL378),'Data Validation (hidden)'!$G$2:$H$18,2,FALSE),IF((COUNTA(D378:K378))+(COUNTA(N378:Q378))>0,\"'Scheme Name' missing but values entered in other columns\",\"\"))","v":""},null,false,1,2,3,4,5,6,7,8,9,10,11,"","",14,15,"","",0,true,true,true,true,true,true,true,true,true,true,true,true,true,true,true,true,false]
[null,{"$f":"'Scheme and Member Information'!B379","v":0},{"$f":"'Scheme and Member Information'!C379","v":0},null,null,null,null,null,null,null,null,"","",null,null,null,null,null,{"$f":"IF(U379,VLOOKUP(MIN(V379:AL379),'Data Validation (hidden)'!$G$2:$H$18,2,FALSE),IF((COUNTA(D379:K379))+(COUNTA(N379:Q379))>0,\"'Scheme Name' missing but values entered in other columns\",\"\"))","v":""},null,false,1,2,3,4,5,6,7,8,9,10,11,"","",14,15,"","",0,true,true,true,true,true,true,true,true,true,true,true,true,true,true,true,true,false]
[null,{"$f":"'Scheme and Member Information'!B380","v":0},{"$f":"'Scheme and Member Information'!C380","v":0},null,null,null,null,null,null,null,null,"","",null,null,null,null,null,{"$f":"IF(U380,VLOOKUP(MIN(V380:AL380),'Data Validation (hidden)'!$G$2:$H$18,2,FALSE),IF((COUNTA(D380:K380))+(COUNTA(N380:Q380))>0,\"'Scheme Name' missing but values entered in other columns\",\"\"))","v":""},null,false,1,2,3,4,5,6,7,8,9,10,11,"","",14,15,"","",0,true,true,true,true,true,true,true,true,true,true,true,true,true,true,true,true,false]
[null,{"$f":"'Scheme and Member Information'!B381","v":0},{"$f":"'Scheme and Member Information'!C381","v":0},null,null,null,null,null,null,null,null,"","",null,null,null,null,null,{"$f":"IF(U381,VLOOKUP(MIN(V381:AL381),'Data Validation (hidden)'!$G$2:$H$18,2,FALSE),IF((COUNTA(D381:K381))+(COUNTA(N381:Q381))>0,\"'Scheme Name' missing but values entered in other columns\",\"\"))","v":""},null,false,1,2,3,4,5,6,7,8,9,10,11,"","",14,15,"","",0,true,true,true,true,true,true,true,true,true,true,true,true,true,true,true,true,false]
[null,{"$f":"'Scheme and Member Information'!B382","v":0},{"$f":"'Scheme and Member Information'!C382","v":0},null,null,null,null,null,null,null,null,"","",null,null,null,null,null,{"$f":"IF(U382,VLOOKUP(MIN(V382:AL382),'Data Validation (hidden)'!$G$2:$H$18,2,FALSE),IF((COUNTA(D382:K382))+(COUNTA(N382:Q382))>0,\"'Scheme Name' missing but values entered in other columns\",\"\"))","v":""},null,false,1,2,3,4,5,6,7,8,9,10,11,"","",14,15,"","",0,true,true,true,true,true,true,true,true,true,true,true,true,true,true,true,true,false]
[null,{"$f":"'Scheme and Member Information'!B383","v":0},{"$f":"'Scheme and Member Information'!C383","v":0},null,null,null,null,null,null,null,null,"","",null,null,null,null,null,{"$f":"IF(U383,VLOOKUP(MIN(V383:AL383),'Data Validation (hidden)'!$G$2:$H$18,2,FALSE),IF((COUNTA(D383:K383))+(COUNTA(N383:Q383))>0,\"'Scheme Name' missing but values entered in other columns\",\"\"))","v":""},null,false,1,2,3,4,5,6,7,8,9,10,11,"","",14,15,"","",0,true,true,true,true,true,true,true,true,true,true,true,true,true,true,true,true,false]
[null,{"$f":"'Scheme and Member Information'!B384","v":0},{"$f":"'Scheme and Member Information'!C384","v":0},null,null,null,null,null,null,null,null,"","",null,null,null,null,null,{"$f":"IF(U384,VLOOKUP(MIN(V384:AL384),'Data Validation (hidden)'!$G$2:$H$18,2,FALSE),IF((COUNTA(D384:K384))+(COUNTA(N384:Q384))>0,\"'Scheme Name' missing but values entered in other columns\",\"\"))","v":""},null,false,1,2,3,4,5,6,7,8,9,10,11,"","",14,15,"","",0,true,true,true,true,true,true,true,true,true,true,true,true,true,true,true,true,false]
[null,{"$f":"'Scheme and Member Information'!B385","v":0},{"$f":"'Scheme and Member Information'!C385","v":0},null,null,null,null,null,null,null,null,"","",null,null,null,null,null,{"$f":"IF(U385,VLOOKUP(MIN(V385:AL385),'Data Validation (hidden)'!$G$2:$H$18,2,FALSE),IF((COUNTA(D385:K385))+(COUNTA(N385:Q385))>0,\"'Scheme Name' missing but values entered in other columns\",\"\"))","v":""},null,false,1,2,3,4,5,6,7,8,9,10,11,"","",14,15,"","",0,true,true,true,true,true,true,true,true,true,true,true,true,true,true,true,true,false]
[null,{"$f":"'Scheme and Member Information'!B386","v":0},{"$f":"'Scheme and Member Information'!C386","v":0},null,null,null,null,null,null,null,null,"","",null,null,null,null,null,{"$f":"IF(U386,VLOOKUP(MIN(V386:AL386),'Data Validation (hidden)'!$G$2:$H$18,2,FALSE),IF((COUNTA(D386:K386))+(COUNTA(N386:Q386))>0,\"'Scheme Name' missing but values entered in other columns\",\"\"))","v":""},null,false,1,2,3,4,5,6,7,8,9,10,11,"","",14,15,"","",0,true,true,true,true,true,true,true,true,true,true,true,true,true,true,true,true,false]
[null,{"$f":"'Scheme and Member Information'!B387","v":0},{"$f":"'Scheme and Member Information'!C387","v":0},null,null,null,null,null,null,null,null,"","",null,null,null,null,null,{"$f":"IF(U387,VLOOKUP(MIN(V387:AL387),'Data Validation (hidden)'!$G$2:$H$18,2,FALSE),IF((COUNTA(D387:K387))+(COUNTA(N387:Q387))>0,\"'Scheme Name' missing but values entered in other columns\",\"\"))","v":""},null,false,1,2,3,4,5,6,7,8,9,10,11,"","",14,15,"","",0,true,true,true,true,true,true,true,true,true,true,true,true,true,true,true,true,false]
[null,{"$f":"'Scheme and Member Information'!B388","v":0},{"$f":"'Scheme and Member Information'!C388","v":0},null,null,null,null,null,null,null,null,"","",null,null,null,null,null,{"$f":"IF(U388,VLOOKUP(MIN(V388:AL388),'Data Validation (hidden)'!$G$2:$H$18,2,FALSE),IF((COUNTA(D388:K388))+(COUNTA(N388:Q388))>0,\"'Scheme Name' missing but values entered in other columns\",\"\"))","v":""},null,false,1,2,3,4,5,6,7,8,9,10,11,"","",14,15,"","",0,true,true,true,true,true,true,true,true,true,true,true,true,true,true,true,true,false]
[null,{"$f":"'Scheme and Member Information'!B389","v":0},{"$f":"'Scheme and Member Information'!C389","v":0},null,null,null,null,null,null,null,null,"","",null,null,null,null,null,{"$f":"IF(U389,VLOOKUP(MIN(V389:AL389),'Data Validation (hidden)'!$G$2:$H$18,2,FALSE),IF((COUNTA(D389:K389))+(COUNTA(N389:Q389))>0,\"'Scheme Name' missing but values entered in other columns\",\"\"))","v":""},null,false,1,2,3,4,5,6,7,8,9,10,11,"","",14,15,"","",0,true,true,true,true,true,true,true,true,true,true,true,true,true,true,true,true,false]
[null,{"$f":"'Scheme and Member Information'!B390","v":0},{"$f":"'Scheme and Member Information'!C390","v":0},null,null,null,null,null,null,null,null,"","",null,null,null,null,null,{"$f":"IF(U390,VLOOKUP(MIN(V390:AL390),'Data Validation (hidden)'!$G$2:$H$18,2,FALSE),IF((COUNTA(D390:K390))+(COUNTA(N390:Q390))>0,\"'Scheme Name' missing but values entered in other columns\",\"\"))","v":""},null,false,1,2,3,4,5,6,7,8,9,10,11,"","",14,15,"","",0,true,true,true,true,true,true,true,true,true,true,true,true,true,true,true,true,false]
[null,{"$f":"'Scheme and Member Information'!B391","v":0},{"$f":"'Scheme and Member Information'!C391","v":0},null,null,null,null,null,null,null,null,"","",null,null,null,null,null,{"$f":"IF(U391,VLOOKUP(MIN(V391:AL391),'Data Validation (hidden)'!$G$2:$H$18,2,FALSE),IF((COUNTA(D391:K391))+(COUNTA(N391:Q391))>0,\"'Scheme Name' missing but values entered in other columns\",\"\"))","v":""},null,false,1,2,3,4,5,6,7,8,9,10,11,"","",14,15,"","",0,true,true,true,true,true,true,true,true,true,true,true,true,true,true,true,true,false]
[null,{"$f":"'Scheme and Member Information'!B392","v":0},{"$f":"'Scheme and Member Information'!C392","v":0},null,null,null,null,null,null,null,null,"","",null,null,null,null,null,{"$f":"IF(U392,VLOOKUP(MIN(V392:AL392),'Data Validation (hidden)'!$G$2:$H$18,2,FALSE),IF((COUNTA(D392:K392))+(COUNTA(N392:Q392))>0,\"'Scheme Name' missing but values entered in other columns\",\"\"))","v":""},null,false,1,2,3,4,5,6,7,8,9,10,11,"","",14,15,"","",0,true,true,true,true,true,true,true,true,true,true,true,true,true,true,true,true,{"$f":"IF(S392=\"\",FALSE,IF(S392=\"OK\",FALSE,TRUE))","v":false}]
[null,{"$f":"'Scheme and Member Information'!B393","v":0},{"$f":"'Scheme and Member Information'!C393","v":0},null,null,null,null,null,null,null,null,{"$f":"IF(AND(G393<>\"\",H393<>\"\",I393<>\"\",J393<>\"\",K393<>\"\"),(G393+H393+J393)-(I393+K393),\"\")","v":""},{"$f":"IF((L393=\"\"),\"\",(L393-G393))","v":""},null,null,null,null,null,{"$f":"IF(U393,VLOOKUP(MIN(V393:AL393),'Data Validation (hidden)'!$G$2:$H$18,2,FALSE),IF((COUNTA(D393:K393))+(COUNTA(N393:Q393))>0,\"'Scheme Name' missing but values entered in other columns\",\"\"))","v":""},null,{"$f":"AND(B393<>\"\",B393<>0)","v":false},{"$f":"IF(C393=\"\",1,IF(C393=0,1,\"\"))","v":1},{"$f":"IF(D393=\"\",2,\"\")","v":2},{"$f":"IF(D393=\"No\",\"\",IF(E393=\"\",3,\"\"))","v":3},{"$f":"IF(F393=\"\",4,\"\")","v":4},{"$f":"IF(G393=\"\",5,\"\")","v":5},{"$f":"IF(H393=\"\",6,\"\")","v":6},{"$f":"IF(I393=\"\",7,\"\")","v":7},{"$f":"IF(J393=\"\",8,\"\")","v":8},{"$f":"IF(K393=\"\",9,\"\")","v":9},{"$f":"IF(L393=\"\",10,\"\")","v":10},{"$f":"IF(M393=\"\",11,\"\")","v":11},{"$f":"IF(N393=\"\",IF(AM393<0.14,\"\",12),\"\")","v":""},{"$f":"IF(O393=\"\",IF(L393>999,\"\",13),\"\")","v":""},{"$f":"IF(P393=\"\",14,\"\")","v":14},{"$f":"IF(Q393=\"\",15,\"\")","v":15},{"$f":"IF(COUNT(V393:AJ393)=0,\"10\",\"\")","v":""},{"$f":"IF(AND(AN393,AO393,AP393,AQ393,AR393,AS393,AT393,AU393,AV393,AW393,AX393,AY393,AZ393,BA393,BB393,BC393)=TRUE,\"\",16)","v":""},{"$f":"IF(OR(G393=\"\",L393=\"\",AND(G393=0,L393=0)),0,IF((G393>L393),((G393-L393)/G393),((L393-G393)/G393)))","v":0},{"$f":"IF(CELL(\"format\", B393) = \"G\",TRUE,FALSE)","v":true},{"$f":"IF(CELL(\"format\", C393) = \"F0\",TRUE,FALSE)","v":true},{"$f":"IF(CELL(\"format\", D393) = \"G\",TRUE,FALSE)","v":true},{"$f":"IF(CELL(\"format\", E393) = \"D1\",TRUE,FALSE)","v":true},{"$f":"IF(CELL(\"format\", F393) = \"D1\",TRUE,FALSE)","v":true},{"$f":"IF(CELL(\"format\", G393) = \"C0\",TRUE,FALSE)","v":true},{"$f":"IF(CELL(\"format\", H393) = \"C0\",TRUE,FALSE)","v":true},{"$f":"IF(CELL(\"format\", I393) = \"C0\",TRUE,FALSE)","v":true},{"$f":"IF(CELL(\"format\", J393) = \"C0\",TRUE,FALSE)","v":true},{"$f":"IF(CELL(\"format\", K393) = \"C0\",TRUE,FALSE)","v":true},{"$f":"IF(CELL(\"format\", L393) = \"C0\",TRUE,FALSE)","v":true},{"$f":"IF(CELL(\"format\", M393) = \"C0\",TRUE,FALSE)","v":true},{"$f":"IF(CELL(\"format\", N393) = \"G\",TRUE,FALSE)","v":true},{"$f":"IF(CELL(\"format\", O393) = \"G\",TRUE,FALSE)","v":true},{"$f":"IF(CELL(\"format\", P393) = \"C0\",TRUE,FALSE)","v":true},{"$f":"IF(CELL(\"format\", Q393) = \"C0\",TRUE,FALSE)","v":true},false]
[null,{"$f":"'Scheme and Member Information'!B394","v":0},{"$f":"'Scheme and Member Information'!C394","v":0},null,null,null,null,null,null,null,null,"","",null,null,null,null,null,{"$f":"IF(U394,VLOOKUP(MIN(V394:AL394),'Data Validation (hidden)'!$G$2:$H$18,2,FALSE),IF((COUNTA(D394:K394))+(COUNTA(N394:Q394))>0,\"'Scheme Name' missing but values entered in other columns\",\"\"))","v":""},null,false,1,2,3,4,5,6,7,8,9,10,11,"","",14,15,"","",0,true,true,true,true,true,true,true,true,true,true,true,true,true,true,true,true,false]
[null,{"$f":"'Scheme and Member Information'!B395","v":0},{"$f":"'Scheme and Member Information'!C395","v":0},null,null,null,null,null,null,null,null,"","",null,null,null,null,null,{"$f":"IF(U395,VLOOKUP(MIN(V395:AL395),'Data Validation (hidden)'!$G$2:$H$18,2,FALSE),IF((COUNTA(D395:K395))+(COUNTA(N395:Q395))>0,\"'Scheme Name' missing but values entered in other columns\",\"\"))","v":""},null,false,1,2,3,4,5,6,7,8,9,10,11,"","",14,15,"","",0,true,true,true,true,true,true,true,true,true,true,true,true,true,true,true,true,false]
[null,{"$f":"'Scheme and Member Information'!B396","v":0},{"$f":"'Scheme and Member Information'!C396","v":0},null,null,null,null,null,null,null,null,"","",null,null,null,null,null,{"$f":"IF(U396,VLOOKUP(MIN(V396:AL396),'Data Validation (hidden)'!$G$2:$H$18,2,FALSE),IF((COUNTA(D396:K396))+(COUNTA(N396:Q396))>0,\"'Scheme Name' missing but values entered in other columns\",\"\"))","v":""},null,false,1,2,3,4,5,6,7,8,9,10,11,"","",14,15,"","",0,true,true,true,true,true,true,true,true,true,true,true,true,true,true,true,true,false]
[null,{"$f":"'Scheme and Member Information'!B397","v":0},{"$f":"'Scheme and Member Information'!C397","v":0},null,null,null,null,null,null,null,null,"","",null,null,null,null,null,{"$f":"IF(U397,VLOOKUP(MIN(V397:AL397),'Data Validation (hidden)'!$G$2:$H$18,2,FALSE),IF((COUNTA(D397:K397))+(COUNTA(N397:Q397))>0,\"'Scheme Name' missing but values entered in other columns\",\"\"))","v":""},null,false,1,2,3,4,5,6,7,8,9,10,11,"","",14,15,"","",0,true,true,true,true,true,true,true,true,true,true,true,true,true,true,true,true,false]
[null,{"$f":"'Scheme and Member Information'!B398","v":0},{"$f":"'Scheme and Member Information'!C398","v":0},null,null,null,null,null,null,null,null,"","",null,null,null,null,null,{"$f":"IF(U398,VLOOKUP(MIN(V398:AL398),'Data Validation (hidden)'!$G$2:$H$18,2,FALSE),IF((COUNTA(D398:K398))+(COUNTA(N398:Q398))>0,\"'Scheme Name' missing but values entered in other columns\",\"\"))","v":""},null,false,1,2,3,4,5,6,7,8,9,10,11,"","",14,15,"","",0,true,true,true,true,true,true,true,true,true,true,true,true,true,true,true,true,false]
[null,{"$f":"'Scheme and Member Information'!B399","v":0},{"$f":"'Scheme and Member Information'!C399","v":0},null,null,null,null,null,null,null,null,"","",null,null,null,null,null,{"$f":"IF(U399,VLOOKUP(MIN(V399:AL399),'Data Validation (hidden)'!$G$2:$H$18,2,FALSE),IF((COUNTA(D399:K399))+(COUNTA(N399:Q399))>0,\"'Scheme Name' missing but values entered in other columns\",\"\"))","v":""},null,false,1,2,3,4,5,6,7,8,9,10,11,"","",14,15,"","",0,true,true,true,true,true,true,true,true,true,true,true,true,true,true,true,true,false]
[null,{"$f":"'Scheme and Member Information'!B400","v":0},{"$f":"'Scheme and Member Information'!C400","v":0},null,null,null,null,null,null,null,null,"","",null,null,null,null,null,{"$f":"IF(U400,VLOOKUP(MIN(V400:AL400),'Data Validation (hidden)'!$G$2:$H$18,2,FALSE),IF((COUNTA(D400:K400))+(COUNTA(N400:Q400))>0,\"'Scheme Name' missing but values entered in other columns\",\"\"))","v":""},null,false,1,2,3,4,5,6,7,8,9,10,11,"","",14,15,"","",0,true,true,true,true,true,true,true,true,true,true,true,true,true,true,true,true,false]
[null,{"$f":"'Scheme and Member Information'!B401","v":0},{"$f":"'Scheme and Member Information'!C401","v":0},null,null,null,null,null,null,null,null,"","",null,null,null,null,null,{"$f":"IF(U401,VLOOKUP(MIN(V401:AL401),'Data Validation (hidden)'!$G$2:$H$18,2,FALSE),IF((COUNTA(D401:K401))+(COUNTA(N401:Q401))>0,\"'Scheme Name' missing but values entered in other columns\",\"\"))","v":""},null,false,1,2,3,4,5,6,7,8,9,10,11,"","",14,15,"","",0,true,true,true,true,true,true,true,true,true,true,true,true,true,true,true,true,false]
[null,{"$f":"'Scheme and Member Information'!B402","v":0},{"$f":"'Scheme and Member Information'!C402","v":0},null,null,null,null,null,null,null,null,"","",null,null,null,null,null,{"$f":"IF(U402,VLOOKUP(MIN(V402:AL402),'Data Validation (hidden)'!$G$2:$H$18,2,FALSE),IF((COUNTA(D402:K402))+(COUNTA(N402:Q402))>0,\"'Scheme Name' missing but values entered in other columns\",\"\"))","v":""},null,false,1,2,3,4,5,6,7,8,9,10,11,"","",14,15,"","",0,true,true,true,true,true,true,true,true,true,true,true,true,true,true,true,true,false]
[null,{"$f":"'Scheme and Member Information'!B403","v":0},{"$f":"'Scheme and Member Information'!C403","v":0},null,null,null,null,null,null,null,null,"","",null,null,null,null,null,{"$f":"IF(U403,VLOOKUP(MIN(V403:AL403),'Data Validation (hidden)'!$G$2:$H$18,2,FALSE),IF((COUNTA(D403:K403))+(COUNTA(N403:Q403))>0,\"'Scheme Name' missing but values entered in other columns\",\"\"))","v":""},null,false,1,2,3,4,5,6,7,8,9,10,11,"","",14,15,"","",0,true,true,true,true,true,true,true,true,true,true,true,true,true,true,true,true,false]
[null,{"$f":"'Scheme and Member Information'!B404","v":0},{"$f":"'Scheme and Member Information'!C404","v":0},null,null,null,null,null,null,null,null,"","",null,null,null,null,null,{"$f":"IF(U404,VLOOKUP(MIN(V404:AL404),'Data Validation (hidden)'!$G$2:$H$18,2,FALSE),IF((COUNTA(D404:K404))+(COUNTA(N404:Q404))>0,\"'Scheme Name' missing but values entered in other columns\",\"\"))","v":""},null,false,1,2,3,4,5,6,7,8,9,10,11,"","",14,15,"","",0,true,true,true,true,true,true,true,true,true,true,true,true,true,true,true,true,false]
[null,{"$f":"'Scheme and Member Information'!B405","v":0},{"$f":"'Scheme and Member Information'!C405","v":0},null,null,null,null,null,null,null,null,"","",null,null,null,null,null,{"$f":"IF(U405,VLOOKUP(MIN(V405:AL405),'Data Validation (hidden)'!$G$2:$H$18,2,FALSE),IF((COUNTA(D405:K405))+(COUNTA(N405:Q405))>0,\"'Scheme Name' missing but values entered in other columns\",\"\"))","v":""},null,false,1,2,3,4,5,6,7,8,9,10,11,"","",14,15,"","",0,true,true,true,true,true,true,true,true,true,true,true,true,true,true,true,true,false]
[null,{"$f":"'Scheme and Member Information'!B406","v":0},{"$f":"'Scheme and Member Information'!C406","v":0},null,null,null,null,null,null,null,null,"","",null,null,null,null,null,{"$f":"IF(U406,VLOOKUP(MIN(V406:AL406),'Data Validation (hidden)'!$G$2:$H$18,2,FALSE),IF((COUNTA(D406:K406))+(COUNTA(N406:Q406))>0,\"'Scheme Name' missing but values entered in other columns\",\"\"))","v":""},null,false,1,2,3,4,5,6,7,8,9,10,11,"","",14,15,"","",0,true,true,true,true,true,true,true,true,true,true,true,true,true,true,true,true,false]
[null,{"$f":"'Scheme and Member Information'!B407","v":0},{"$f":"'Scheme and Member Information'!C407","v":0},null,null,null,null,null,null,null,null,"","",null,null,null,null,null,{"$f":"IF(U407,VLOOKUP(MIN(V407:AL407),'Data Validation (hidden)'!$G$2:$H$18,2,FALSE),IF((COUNTA(D407:K407))+(COUNTA(N407:Q407))>0,\"'Scheme Name' missing but values entered in other columns\",\"\"))","v":""},null,false,1,2,3,4,5,6,7,8,9,10,11,"","",14,15,"","",0,true,true,true,true,true,true,true,true,true,true,true,true,true,true,true,true,false]
[null,{"$f":"'Scheme and Member Information'!B408","v":0},{"$f":"'Scheme and Member Information'!C408","v":0},null,null,null,null,null,null,null,null,"","",null,null,null,null,null,{"$f":"IF(U408,VLOOKUP(MIN(V408:AL408),'Data Validation (hidden)'!$G$2:$H$18,2,FALSE),IF((COUNTA(D408:K408))+(COUNTA(N408:Q408))>0,\"'Scheme Name' missing but values entered in other columns\",\"\"))","v":""},null,false,1,2,3,4,5,6,7,8,9,10,11,"","",14,15,"","",0,true,true,true,true,true,true,true,true,true,true,true,true,true,true,true,true,false]
[null,{"$f":"'Scheme and Member Information'!B409","v":0},{"$f":"'Scheme and Member Information'!C409","v":0},null,null,null,null,null,null,null,null,"","",null,null,null,null,null,{"$f":"IF(U409,VLOOKUP(MIN(V409:AL409),'Data Validation (hidden)'!$G$2:$H$18,2,FALSE),IF((COUNTA(D409:K409))+(COUNTA(N409:Q409))>0,\"'Scheme Name' missing but values entered in other columns\",\"\"))","v":""},null,false,1,2,3,4,5,6,7,8,9,10,11,"","",14,15,"","",0,true,true,true,true,true,true,true,true,true,true,true,true,true,true,true,true,false]
[null,{"$f":"'Scheme and Member Information'!B410","v":0},{"$f":"'Scheme and Member Information'!C410","v":0},null,null,null,null,null,null,null,null,"","",null,null,null,null,null,{"$f":"IF(U410,VLOOKUP(MIN(V410:AL410),'Data Validation (hidden)'!$G$2:$H$18,2,FALSE),IF((COUNTA(D410:K410))+(COUNTA(N410:Q410))>0,\"'Scheme Name' missing but values entered in other columns\",\"\"))","v":""},null,false,1,2,3,4,5,6,7,8,9,10,11,"","",14,15,"","",0,true,true,true,true,true,true,true,true,true,true,true,true,true,true,true,true,false]
[null,{"$f":"'Scheme and Member Information'!B411","v":0},{"$f":"'Scheme and Member Information'!C411","v":0},null,null,null,null,null,null,null,null,"","",null,null,null,null,null,{"$f":"IF(U411,VLOOKUP(MIN(V411:AL411),'Data Validation (hidden)'!$G$2:$H$18,2,FALSE),IF((COUNTA(D411:K411))+(COUNTA(N411:Q411))>0,\"'Scheme Name' missing but values entered in other columns\",\"\"))","v":""},null,false,1,2,3,4,5,6,7,8,9,10,11,"","",14,15,"","",0,true,true,true,true,true,true,true,true,true,true,true,true,true,true,true,true,false]
[null,{"$f":"'Scheme and Member Information'!B412","v":0},{"$f":"'Scheme and Member Information'!C412","v":0},null,null,null,null,null,null,null,null,"","",null,null,null,null,null,{"$f":"IF(U412,VLOOKUP(MIN(V412:AL412),'Data Validation (hidden)'!$G$2:$H$18,2,FALSE),IF((COUNTA(D412:K412))+(COUNTA(N412:Q412))>0,\"'Scheme Name' missing but values entered in other columns\",\"\"))","v":""},null,false,1,2,3,4,5,6,7,8,9,10,11,"","",14,15,"","",0,true,true,true,true,true,true,true,true,true,true,true,true,true,true,true,true,false]
[null,{"$f":"'Scheme and Member Information'!B413","v":0},{"$f":"'Scheme and Member Information'!C413","v":0},null,null,null,null,null,null,null,null,"","",null,null,null,null,null,{"$f":"IF(U413,VLOOKUP(MIN(V413:AL413),'Data Validation (hidden)'!$G$2:$H$18,2,FALSE),IF((COUNTA(D413:K413))+(COUNTA(N413:Q413))>0,\"'Scheme Name' missing but values entered in other columns\",\"\"))","v":""},null,false,1,2,3,4,5,6,7,8,9,10,11,"","",14,15,"","",0,true,true,true,true,true,true,true,true,true,true,true,true,true,true,true,true,false]
[null,{"$f":"'Scheme and Member Information'!B414","v":0},{"$f":"'Scheme and Member Information'!C414","v":0},null,null,null,null,null,null,null,null,"","",null,null,null,null,null,{"$f":"IF(U414,VLOOKUP(MIN(V414:AL414),'Data Validation (hidden)'!$G$2:$H$18,2,FALSE),IF((COUNTA(D414:K414))+(COUNTA(N414:Q414))>0,\"'Scheme Name' missing but values entered in other columns\",\"\"))","v":""},null,false,1,2,3,4,5,6,7,8,9,10,11,"","",14,15,"","",0,true,true,true,true,true,true,true,true,true,true,true,true,true,true,true,true,false]
[null,{"$f":"'Scheme and Member Information'!B415","v":0},{"$f":"'Scheme and Member Information'!C415","v":0},null,null,null,null,null,null,null,null,"","",null,null,null,null,null,{"$f":"IF(U415,VLOOKUP(MIN(V415:AL415),'Data Validation (hidden)'!$G$2:$H$18,2,FALSE),IF((COUNTA(D415:K415))+(COUNTA(N415:Q415))>0,\"'Scheme Name' missing but values entered in other columns\",\"\"))","v":""},null,false,1,2,3,4,5,6,7,8,9,10,11,"","",14,15,"","",0,true,true,true,true,true,true,true,true,true,true,true,true,true,true,true,true,false]
[null,{"$f":"'Scheme and Member Information'!B416","v":0},{"$f":"'Scheme and Member Information'!C416","v":0},null,null,null,null,null,null,null,null,"","",null,null,null,null,null,{"$f":"IF(U416,VLOOKUP(MIN(V416:AL416),'Data Validation (hidden)'!$G$2:$H$18,2,FALSE),IF((COUNTA(D416:K416))+(COUNTA(N416:Q416))>0,\"'Scheme Name' missing but values entered in other columns\",\"\"))","v":""},null,false,1,2,3,4,5,6,7,8,9,10,11,"","",14,15,"","",0,true,true,true,true,true,true,true,true,true,true,true,true,true,true,true,true,false]
[null,{"$f":"'Scheme and Member Information'!B417","v":0},{"$f":"'Scheme and Member Information'!C417","v":0},null,null,null,null,null,null,null,null,"","",null,null,null,null,null,{"$f":"IF(U417,VLOOKUP(MIN(V417:AL417),'Data Validation (hidden)'!$G$2:$H$18,2,FALSE),IF((COUNTA(D417:K417))+(COUNTA(N417:Q417))>0,\"'Scheme Name' missing but values entered in other columns\",\"\"))","v":""},null,false,1,2,3,4,5,6,7,8,9,10,11,"","",14,15,"","",0,true,true,true,true,true,true,true,true,true,true,true,true,true,true,true,true,false]
[null,{"$f":"'Scheme and Member Information'!B418","v":0},{"$f":"'Scheme and Member Information'!C418","v":0},null,null,null,null,null,null,null,null,"","",null,null,null,null,null,{"$f":"IF(U418,VLOOKUP(MIN(V418:AL418),'Data Validation (hidden)'!$G$2:$H$18,2,FALSE),IF((COUNTA(D418:K418))+(COUNTA(N418:Q418))>0,\"'Scheme Name' missing but values entered in other columns\",\"\"))","v":""},null,false,1,2,3,4,5,6,7,8,9,10,11,"","",14,15,"","",0,true,true,true,true,true,true,true,true,true,true,true,true,true,true,true,true,false]
[null,{"$f":"'Scheme and Member Information'!B419","v":0},{"$f":"'Scheme and Member Information'!C419","v":0},null,null,null,null,null,null,null,null,"","",null,null,null,null,null,{"$f":"IF(U419,VLOOKUP(MIN(V419:AL419),'Data Validation (hidden)'!$G$2:$H$18,2,FALSE),IF((COUNTA(D419:K419))+(COUNTA(N419:Q419))>0,\"'Scheme Name' missing but values entered in other columns\",\"\"))","v":""},null,false,1,2,3,4,5,6,7,8,9,10,11,"","",14,15,"","",0,true,true,true,true,true,true,true,true,true,true,true,true,true,true,true,true,false]
[null,{"$f":"'Scheme and Member Information'!B420","v":0},{"$f":"'Scheme and Member Information'!C420","v":0},null,null,null,null,null,null,null,null,"","",null,null,null,null,null,{"$f":"IF(U420,VLOOKUP(MIN(V420:AL420),'Data Validation (hidden)'!$G$2:$H$18,2,FALSE),IF((COUNTA(D420:K420))+(COUNTA(N420:Q420))>0,\"'Scheme Name' missing but values entered in other columns\",\"\"))","v":""},null,false,1,2,3,4,5,6,7,8,9,10,11,"","",14,15,"","",0,true,true,true,true,true,true,true,true,true,true,true,true,true,true,true,true,false]
[null,{"$f":"'Scheme and Member Information'!B421","v":0},{"$f":"'Scheme and Member Information'!C421","v":0},null,null,null,null,null,null,null,null,"","",null,null,null,null,null,{"$f":"IF(U421,VLOOKUP(MIN(V421:AL421),'Data Validation (hidden)'!$G$2:$H$18,2,FALSE),IF((COUNTA(D421:K421))+(COUNTA(N421:Q421))>0,\"'Scheme Name' missing but values entered in other columns\",\"\"))","v":""},null,false,1,2,3,4,5,6,7,8,9,10,11,"","",14,15,"","",0,true,true,true,true,true,true,true,true,true,true,true,true,true,true,true,true,false]
[null,{"$f":"'Scheme and Member Information'!B422","v":0},{"$f":"'Scheme and Member Information'!C422","v":0},null,null,null,null,null,null,null,null,"","",null,null,null,null,null,{"$f":"IF(U422,VLOOKUP(MIN(V422:AL422),'Data Validation (hidden)'!$G$2:$H$18,2,FALSE),IF((COUNTA(D422:K422))+(COUNTA(N422:Q422))>0,\"'Scheme Name' missing but values entered in other columns\",\"\"))","v":""},null,false,1,2,3,4,5,6,7,8,9,10,11,"","",14,15,"","",0,true,true,true,true,true,true,true,true,true,true,true,true,true,true,true,true,false]
[null,{"$f":"'Scheme and Member Information'!B423","v":0},{"$f":"'Scheme and Member Information'!C423","v":0},null,null,null,null,null,null,null,null,"","",null,null,null,null,null,{"$f":"IF(U423,VLOOKUP(MIN(V423:AL423),'Data Validation (hidden)'!$G$2:$H$18,2,FALSE),IF((COUNTA(D423:K423))+(COUNTA(N423:Q423))>0,\"'Scheme Name' missing but values entered in other columns\",\"\"))","v":""},null,false,1,2,3,4,5,6,7,8,9,10,11,"","",14,15,"","",0,true,true,true,true,true,true,true,true,true,true,true,true,true,true,true,true,false]
[null,{"$f":"'Scheme and Member Information'!B424","v":0},{"$f":"'Scheme and Member Information'!C424","v":0},null,null,null,null,null,null,null,null,"","",null,null,null,null,null,{"$f":"IF(U424,VLOOKUP(MIN(V424:AL424),'Data Validation (hidden)'!$G$2:$H$18,2,FALSE),IF((COUNTA(D424:K424))+(COUNTA(N424:Q424))>0,\"'Scheme Name' missing but values entered in other columns\",\"\"))","v":""},null,false,1,2,3,4,5,6,7,8,9,10,11,"","",14,15,"","",0,true,true,true,true,true,true,true,true,true,true,true,true,true,true,true,true,false]
[null,{"$f":"'Scheme and Member Information'!B425","v":0},{"$f":"'Scheme and Member Information'!C425","v":0},null,null,null,null,null,null,null,null,"","",null,null,null,null,null,{"$f":"IF(U425,VLOOKUP(MIN(V425:AL425),'Data Validation (hidden)'!$G$2:$H$18,2,FALSE),IF((COUNTA(D425:K425))+(COUNTA(N425:Q425))>0,\"'Scheme Name' missing but values entered in other columns\",\"\"))","v":""},null,false,1,2,3,4,5,6,7,8,9,10,11,"","",14,15,"","",0,true,true,true,true,true,true,true,true,true,true,true,true,true,true,true,true,false]
[null,{"$f":"'Scheme and Member Information'!B426","v":0},{"$f":"'Scheme and Member Information'!C426","v":0},null,null,null,null,null,null,null,null,"","",null,null,null,null,null,{"$f":"IF(U426,VLOOKUP(MIN(V426:AL426),'Data Validation (hidden)'!$G$2:$H$18,2,FALSE),IF((COUNTA(D426:K426))+(COUNTA(N426:Q426))>0,\"'Scheme Name' missing but values entered in other columns\",\"\"))","v":""},null,false,1,2,3,4,5,6,7,8,9,10,11,"","",14,15,"","",0,true,true,true,true,true,true,true,true,true,true,true,true,true,true,true,true,false]
[null,{"$f":"'Scheme and Member Information'!B427","v":0},{"$f":"'Scheme and Member Information'!C427","v":0},null,null,null,null,null,null,null,null,"","",null,null,null,null,null,{"$f":"IF(U427,VLOOKUP(MIN(V427:AL427),'Data Validation (hidden)'!$G$2:$H$18,2,FALSE),IF((COUNTA(D427:K427))+(COUNTA(N427:Q427))>0,\"'Scheme Name' missing but values entered in other columns\",\"\"))","v":""},null,false,1,2,3,4,5,6,7,8,9,10,11,"","",14,15,"","",0,true,true,true,true,true,true,true,true,true,true,true,true,true,true,true,true,false]
[null,{"$f":"'Scheme and Member Information'!B428","v":0},{"$f":"'Scheme and Member Information'!C428","v":0},null,null,null,null,null,null,null,null,"","",null,null,null,null,null,{"$f":"IF(U428,VLOOKUP(MIN(V428:AL428),'Data Validation (hidden)'!$G$2:$H$18,2,FALSE),IF((COUNTA(D428:K428))+(COUNTA(N428:Q428))>0,\"'Scheme Name' missing but values entered in other columns\",\"\"))","v":""},null,false,1,2,3,4,5,6,7,8,9,10,11,"","",14,15,"","",0,true,true,true,true,true,true,true,true,true,true,true,true,true,true,true,true,false]
[null,{"$f":"'Scheme and Member Information'!B429","v":0},{"$f":"'Scheme and Member Information'!C429","v":0},null,null,null,null,null,null,null,null,"","",null,null,null,null,null,{"$f":"IF(U429,VLOOKUP(MIN(V429:AL429),'Data Validation (hidden)'!$G$2:$H$18,2,FALSE),IF((COUNTA(D429:K429))+(COUNTA(N429:Q429))>0,\"'Scheme Name' missing but values entered in other columns\",\"\"))","v":""},null,false,1,2,3,4,5,6,7,8,9,10,11,"","",14,15,"","",0,true,true,true,true,true,true,true,true,true,true,true,true,true,true,true,true,false]
[null,{"$f":"'Scheme and Member Information'!B430","v":0},{"$f":"'Scheme and Member Information'!C430","v":0},null,null,null,null,null,null,null,null,"","",null,null,null,null,null,{"$f":"IF(U430,VLOOKUP(MIN(V430:AL430),'Data Validation (hidden)'!$G$2:$H$18,2,FALSE),IF((COUNTA(D430:K430))+(COUNTA(N430:Q430))>0,\"'Scheme Name' missing but values entered in other columns\",\"\"))","v":""},null,false,1,2,3,4,5,6,7,8,9,10,11,"","",14,15,"","",0,true,true,true,true,true,true,true,true,true,true,true,true,true,true,true,true,false]
[null,{"$f":"'Scheme and Member Information'!B431","v":0},{"$f":"'Scheme and Member Information'!C431","v":0},null,null,null,null,null,null,null,null,"","",null,null,null,null,null,{"$f":"IF(U431,VLOOKUP(MIN(V431:AL431),'Data Validation (hidden)'!$G$2:$H$18,2,FALSE),IF((COUNTA(D431:K431))+(COUNTA(N431:Q431))>0,\"'Scheme Name' missing but values entered in other columns\",\"\"))","v":""},null,false,1,2,3,4,5,6,7,8,9,10,11,"","",14,15,"","",0,true,true,true,true,true,true,true,true,true,true,true,true,true,true,true,true,false]
[null,{"$f":"'Scheme and Member Information'!B432","v":0},{"$f":"'Scheme and Member Information'!C432","v":0},null,null,null,null,null,null,null,null,"","",null,null,null,null,null,{"$f":"IF(U432,VLOOKUP(MIN(V432:AL432),'Data Validation (hidden)'!$G$2:$H$18,2,FALSE),IF((COUNTA(D432:K432))+(COUNTA(N432:Q432))>0,\"'Scheme Name' missing but values entered in other columns\",\"\"))","v":""},null,false,1,2,3,4,5,6,7,8,9,10,11,"","",14,15,"","",0,true,true,true,true,true,true,true,true,true,true,true,true,true,true,true,true,false]
[null,{"$f":"'Scheme and Member Information'!B433","v":0},{"$f":"'Scheme and Member Information'!C433","v":0},null,null,null,null,null,null,null,null,"","",null,null,null,null,null,{"$f":"IF(U433,VLOOKUP(MIN(V433:AL433),'Data Validation (hidden)'!$G$2:$H$18,2,FALSE),IF((COUNTA(D433:K433))+(COUNTA(N433:Q433))>0,\"'Scheme Name' missing but values entered in other columns\",\"\"))","v":""},null,false,1,2,3,4,5,6,7,8,9,10,11,"","",14,15,"","",0,true,true,true,true,true,true,true,true,true,true,true,true,true,true,true,true,false]
[null,{"$f":"'Scheme and Member Information'!B434","v":0},{"$f":"'Scheme and Member Information'!C434","v":0},null,null,null,null,null,null,null,null,"","",null,null,null,null,null,{"$f":"IF(U434,VLOOKUP(MIN(V434:AL434),'Data Validation (hidden)'!$G$2:$H$18,2,FALSE),IF((COUNTA(D434:K434))+(COUNTA(N434:Q434))>0,\"'Scheme Name' missing but values entered in other columns\",\"\"))","v":""},null,false,1,2,3,4,5,6,7,8,9,10,11,"","",14,15,"","",0,true,true,true,true,true,true,true,true,true,true,true,true,true,true,true,true,false]
[null,{"$f":"'Scheme and Member Information'!B435","v":0},{"$f":"'Scheme and Member Information'!C435","v":0},null,null,null,null,null,null,null,null,"","",null,null,null,null,null,{"$f":"IF(U435,VLOOKUP(MIN(V435:AL435),'Data Validation (hidden)'!$G$2:$H$18,2,FALSE),IF((COUNTA(D435:K435))+(COUNTA(N435:Q435))>0,\"'Scheme Name' missing but values entered in other columns\",\"\"))","v":""},null,false,1,2,3,4,5,6,7,8,9,10,11,"","",14,15,"","",0,true,true,true,true,true,true,true,true,true,true,true,true,true,true,true,true,false]
[null,{"$f":"'Scheme and Member Information'!B436","v":0},{"$f":"'Scheme and Member Information'!C436","v":0},null,null,null,null,null,null,null,null,"","",null,null,null,null,null,{"$f":"IF(U436,VLOOKUP(MIN(V436:AL436),'Data Validation (hidden)'!$G$2:$H$18,2,FALSE),IF((COUNTA(D436:K436))+(COUNTA(N436:Q436))>0,\"'Scheme Name' missing but values entered in other columns\",\"\"))","v":""},null,false,1,2,3,4,5,6,7,8,9,10,11,"","",14,15,"","",0,true,true,true,true,true,true,true,true,true,true,true,true,true,true,true,true,false]
[null,{"$f":"'Scheme and Member Information'!B437","v":0},{"$f":"'Scheme and Member Information'!C437","v":0},null,null,null,null,null,null,null,null,"","",null,null,null,null,null,{"$f":"IF(U437,VLOOKUP(MIN(V437:AL437),'Data Validation (hidden)'!$G$2:$H$18,2,FALSE),IF((COUNTA(D437:K437))+(COUNTA(N437:Q437))>0,\"'Scheme Name' missing but values entered in other columns\",\"\"))","v":""},null,false,1,2,3,4,5,6,7,8,9,10,11,"","",14,15,"","",0,true,true,true,true,true,true,true,true,true,true,true,true,true,true,true,true,false]
[null,{"$f":"'Scheme and Member Information'!B438","v":0},{"$f":"'Scheme and Member Information'!C438","v":0},null,null,null,null,null,null,null,null,"","",null,null,null,null,null,{"$f":"IF(U438,VLOOKUP(MIN(V438:AL438),'Data Validation (hidden)'!$G$2:$H$18,2,FALSE),IF((COUNTA(D438:K438))+(COUNTA(N438:Q438))>0,\"'Scheme Name' missing but values entered in other columns\",\"\"))","v":""},null,false,1,2,3,4,5,6,7,8,9,10,11,"","",14,15,"","",0,true,true,true,true,true,true,true,true,true,true,true,true,true,true,true,true,false]
[null,{"$f":"'Scheme and Member Information'!B439","v":0},{"$f":"'Scheme and Member Information'!C439","v":0},null,null,null,null,null,null,null,null,"","",null,null,null,null,null,{"$f":"IF(U439,VLOOKUP(MIN(V439:AL439),'Data Validation (hidden)'!$G$2:$H$18,2,FALSE),IF((COUNTA(D439:K439))+(COUNTA(N439:Q439))>0,\"'Scheme Name' missing but values entered in other columns\",\"\"))","v":""},null,false,1,2,3,4,5,6,7,8,9,10,11,"","",14,15,"","",0,true,true,true,true,true,true,true,true,true,true,true,true,true,true,true,true,false]
[null,{"$f":"'Scheme and Member Information'!B440","v":0},{"$f":"'Scheme and Member Information'!C440","v":0},null,null,null,null,null,null,null,null,"","",null,null,null,null,null,{"$f":"IF(U440,VLOOKUP(MIN(V440:AL440),'Data Validation (hidden)'!$G$2:$H$18,2,FALSE),IF((COUNTA(D440:K440))+(COUNTA(N440:Q440))>0,\"'Scheme Name' missing but values entered in other columns\",\"\"))","v":""},null,false,1,2,3,4,5,6,7,8,9,10,11,"","",14,15,"","",0,true,true,true,true,true,true,true,true,true,true,true,true,true,true,true,true,false]
[null,{"$f":"'Scheme and Member Information'!B441","v":0},{"$f":"'Scheme and Member Information'!C441","v":0},null,null,null,null,null,null,null,null,"","",null,null,null,null,null,{"$f":"IF(U441,VLOOKUP(MIN(V441:AL441),'Data Validation (hidden)'!$G$2:$H$18,2,FALSE),IF((COUNTA(D441:K441))+(COUNTA(N441:Q441))>0,\"'Scheme Name' missing but values entered in other columns\",\"\"))","v":""},null,false,1,2,3,4,5,6,7,8,9,10,11,"","",14,15,"","",0,true,true,true,true,true,true,true,true,true,true,true,true,true,true,true,true,false]
[null,{"$f":"'Scheme and Member Information'!B442","v":0},{"$f":"'Scheme and Member Information'!C442","v":0},null,null,null,null,null,null,null,null,"","",null,null,null,null,null,{"$f":"IF(U442,VLOOKUP(MIN(V442:AL442),'Data Validation (hidden)'!$G$2:$H$18,2,FALSE),IF((COUNTA(D442:K442))+(COUNTA(N442:Q442))>0,\"'Scheme Name' missing but values entered in other columns\",\"\"))","v":""},null,false,1,2,3,4,5,6,7,8,9,10,11,"","",14,15,"","",0,true,true,true,true,true,true,true,true,true,true,true,true,true,true,true,true,false]
[null,{"$f":"'Scheme and Member Information'!B443","v":0},{"$f":"'Scheme and Member Information'!C443","v":0},null,null,null,null,null,null,null,null,"","",null,null,null,null,null,{"$f":"IF(U443,VLOOKUP(MIN(V443:AL443),'Data Validation (hidden)'!$G$2:$H$18,2,FALSE),IF((COUNTA(D443:K443))+(COUNTA(N443:Q443))>0,\"'Scheme Name' missing but values entered in other columns\",\"\"))","v":""},null,false,1,2,3,4,5,6,7,8,9,10,11,"","",14,15,"","",0,true,true,true,true,true,true,true,true,true,true,true,true,true,true,true,true,false]
[null,{"$f":"'Scheme and Member Information'!B444","v":0},{"$f":"'Scheme and Member Information'!C444","v":0},null,null,null,null,null,null,null,null,"","",null,null,null,null,null,{"$f":"IF(U444,VLOOKUP(MIN(V444:AL444),'Data Validation (hidden)'!$G$2:$H$18,2,FALSE),IF((COUNTA(D444:K444))+(COUNTA(N444:Q444))>0,\"'Scheme Name' missing but values entered in other columns\",\"\"))","v":""},null,false,1,2,3,4,5,6,7,8,9,10,11,"","",14,15,"","",0,true,true,true,true,true,true,true,true,true,true,true,true,true,true,true,true,false]
[null,{"$f":"'Scheme and Member Information'!B445","v":0},{"$f":"'Scheme and Member Information'!C445","v":0},null,null,null,null,null,null,null,null,"","",null,null,null,null,null,{"$f":"IF(U445,VLOOKUP(MIN(V445:AL445),'Data Validation (hidden)'!$G$2:$H$18,2,FALSE),IF((COUNTA(D445:K445))+(COUNTA(N445:Q445))>0,\"'Scheme Name' missing but values entered in other columns\",\"\"))","v":""},null,false,1,2,3,4,5,6,7,8,9,10,11,"","",14,15,"","",0,true,true,true,true,true,true,true,true,true,true,true,true,true,true,true,true,false]
[null,{"$f":"'Scheme and Member Information'!B446","v":0},{"$f":"'Scheme and Member Information'!C446","v":0},null,null,null,null,null,null,null,null,"","",null,null,null,null,null,{"$f":"IF(U446,VLOOKUP(MIN(V446:AL446),'Data Validation (hidden)'!$G$2:$H$18,2,FALSE),IF((COUNTA(D446:K446))+(COUNTA(N446:Q446))>0,\"'Scheme Name' missing but values entered in other columns\",\"\"))","v":""},null,false,1,2,3,4,5,6,7,8,9,10,11,"","",14,15,"","",0,true,true,true,true,true,true,true,true,true,true,true,true,true,true,true,true,false]
[null,{"$f":"'Scheme and Member Information'!B447","v":0},{"$f":"'Scheme and Member Information'!C447","v":0},null,null,null,null,null,null,null,null,"","",null,null,null,null,null,{"$f":"IF(U447,VLOOKUP(MIN(V447:AL447),'Data Validation (hidden)'!$G$2:$H$18,2,FALSE),IF((COUNTA(D447:K447))+(COUNTA(N447:Q447))>0,\"'Scheme Name' missing but values entered in other columns\",\"\"))","v":""},null,false,1,2,3,4,5,6,7,8,9,10,11,"","",14,15,"","",0,true,true,true,true,true,true,true,true,true,true,true,true,true,true,true,true,false]
[null,{"$f":"'Scheme and Member Information'!B448","v":0},{"$f":"'Scheme and Member Information'!C448","v":0},null,null,null,null,null,null,null,null,"","",null,null,null,null,null,{"$f":"IF(U448,VLOOKUP(MIN(V448:AL448),'Data Validation (hidden)'!$G$2:$H$18,2,FALSE),IF((COUNTA(D448:K448))+(COUNTA(N448:Q448))>0,\"'Scheme Name' missing but values entered in other columns\",\"\"))","v":""},null,false,1,2,3,4,5,6,7,8,9,10,11,"","",14,15,"","",0,true,true,true,true,true,true,true,true,true,true,true,true,true,true,true,true,false]
[null,{"$f":"'Scheme and Member Information'!B449","v":0},{"$f":"'Scheme and Member Information'!C449","v":0},null,null,null,null,null,null,null,null,"","",null,null,null,null,null,{"$f":"IF(U449,VLOOKUP(MIN(V449:AL449),'Data Validation (hidden)'!$G$2:$H$18,2,FALSE),IF((COUNTA(D449:K449))+(COUNTA(N449:Q449))>0,\"'Scheme Name' missing but values entered in other columns\",\"\"))","v":""},null,false,1,2,3,4,5,6,7,8,9,10,11,"","",14,15,"","",0,true,true,true,true,true,true,true,true,true,true,true,true,true,true,true,true,false]
[null,{"$f":"'Scheme and Member Information'!B450","v":0},{"$f":"'Scheme and Member Information'!C450","v":0},null,null,null,null,null,null,null,null,"","",null,null,null,null,null,{"$f":"IF(U450,VLOOKUP(MIN(V450:AL450),'Data Validation (hidden)'!$G$2:$H$18,2,FALSE),IF((COUNTA(D450:K450))+(COUNTA(N450:Q450))>0,\"'Scheme Name' missing but values entered in other columns\",\"\"))","v":""},null,false,1,2,3,4,5,6,7,8,9,10,11,"","",14,15,"","",0,true,true,true,true,true,true,true,true,true,true,true,true,true,true,true,true,false]
[null,{"$f":"'Scheme and Member Information'!B451","v":0},{"$f":"'Scheme and Member Information'!C451","v":0},null,null,null,null,null,null,null,null,"","",null,null,null,null,null,{"$f":"IF(U451,VLOOKUP(MIN(V451:AL451),'Data Validation (hidden)'!$G$2:$H$18,2,FALSE),IF((COUNTA(D451:K451))+(COUNTA(N451:Q451))>0,\"'Scheme Name' missing but values entered in other columns\",\"\"))","v":""},null,false,1,2,3,4,5,6,7,8,9,10,11,"","",14,15,"","",0,true,true,true,true,true,true,true,true,true,true,true,true,true,true,true,true,false]
[null,{"$f":"'Scheme and Member Information'!B452","v":0},{"$f":"'Scheme and Member Information'!C452","v":0},null,null,null,null,null,null,null,null,"","",null,null,null,null,null,{"$f":"IF(U452,VLOOKUP(MIN(V452:AL452),'Data Validation (hidden)'!$G$2:$H$18,2,FALSE),IF((COUNTA(D452:K452))+(COUNTA(N452:Q452))>0,\"'Scheme Name' missing but values entered in other columns\",\"\"))","v":""},null,false,1,2,3,4,5,6,7,8,9,10,11,"","",14,15,"","",0,true,true,true,true,true,true,true,true,true,true,true,true,true,true,true,true,false]
[null,{"$f":"'Scheme and Member Information'!B453","v":0},{"$f":"'Scheme and Member Information'!C453","v":0},null,null,null,null,null,null,null,null,"","",null,null,null,null,null,{"$f":"IF(U453,VLOOKUP(MIN(V453:AL453),'Data Validation (hidden)'!$G$2:$H$18,2,FALSE),IF((COUNTA(D453:K453))+(COUNTA(N453:Q453))>0,\"'Scheme Name' missing but values entered in other columns\",\"\"))","v":""},null,false,1,2,3,4,5,6,7,8,9,10,11,"","",14,15,"","",0,true,true,true,true,true,true,true,true,true,true,true,true,true,true,true,true,false]
[null,{"$f":"'Scheme and Member Information'!B454","v":0},{"$f":"'Scheme and Member Information'!C454","v":0},null,null,null,null,null,null,null,null,"","",null,null,null,null,null,{"$f":"IF(U454,VLOOKUP(MIN(V454:AL454),'Data Validation (hidden)'!$G$2:$H$18,2,FALSE),IF((COUNTA(D454:K454))+(COUNTA(N454:Q454))>0,\"'Scheme Name' missing but values entered in other columns\",\"\"))","v":""},null,false,1,2,3,4,5,6,7,8,9,10,11,"","",14,15,"","",0,true,true,true,true,true,true,true,true,true,true,true,true,true,true,true,true,false]
[null,{"$f":"'Scheme and Member Information'!B455","v":0},{"$f":"'Scheme and Member Information'!C455","v":0},null,null,null,null,null,null,null,null,"","",null,null,null,null,null,{"$f":"IF(U455,VLOOKUP(MIN(V455:AL455),'Data Validation (hidden)'!$G$2:$H$18,2,FALSE),IF((COUNTA(D455:K455))+(COUNTA(N455:Q455))>0,\"'Scheme Name' missing but values entered in other columns\",\"\"))","v":""},null,false,1,2,3,4,5,6,7,8,9,10,11,"","",14,15,"","",0,true,true,true,true,true,true,true,true,true,true,true,true,true,true,true,true,false]
[null,{"$f":"'Scheme and Member Information'!B456","v":0},{"$f":"'Scheme and Member Information'!C456","v":0},null,null,null,null,null,null,null,null,"","",null,null,null,null,null,{"$f":"IF(U456,VLOOKUP(MIN(V456:AL456),'Data Validation (hidden)'!$G$2:$H$18,2,FALSE),IF((COUNTA(D456:K456))+(COUNTA(N456:Q456))>0,\"'Scheme Name' missing but values entered in other columns\",\"\"))","v":""},null,false,1,2,3,4,5,6,7,8,9,10,11,"","",14,15,"","",0,true,true,true,true,true,true,true,true,true,true,true,true,true,true,true,true,{"$f":"IF(S456=\"\",FALSE,IF(S456=\"OK\",FALSE,TRUE))","v":false}]
[null,{"$f":"'Scheme and Member Information'!B457","v":0},{"$f":"'Scheme and Member Information'!C457","v":0},null,null,null,null,null,null,null,null,{"$f":"IF(AND(G457<>\"\",H457<>\"\",I457<>\"\",J457<>\"\",K457<>\"\"),(G457+H457+J457)-(I457+K457),\"\")","v":""},{"$f":"IF((L457=\"\"),\"\",(L457-G457))","v":""},null,null,null,null,null,{"$f":"IF(U457,VLOOKUP(MIN(V457:AL457),'Data Validation (hidden)'!$G$2:$H$18,2,FALSE),IF((COUNTA(D457:K457))+(COUNTA(N457:Q457))>0,\"'Scheme Name' missing but values entered in other columns\",\"\"))","v":""},null,{"$f":"AND(B457<>\"\",B457<>0)","v":false},{"$f":"IF(C457=\"\",1,IF(C457=0,1,\"\"))","v":1},{"$f":"IF(D457=\"\",2,\"\")","v":2},{"$f":"IF(D457=\"No\",\"\",IF(E457=\"\",3,\"\"))","v":3},{"$f":"IF(F457=\"\",4,\"\")","v":4},{"$f":"IF(G457=\"\",5,\"\")","v":5},{"$f":"IF(H457=\"\",6,\"\")","v":6},{"$f":"IF(I457=\"\",7,\"\")","v":7},{"$f":"IF(J457=\"\",8,\"\")","v":8},{"$f":"IF(K457=\"\",9,\"\")","v":9},{"$f":"IF(L457=\"\",10,\"\")","v":10},{"$f":"IF(M457=\"\",11,\"\")","v":11},{"$f":"IF(N457=\"\",IF(AM457<0.14,\"\",12),\"\")","v":""},{"$f":"IF(O457=\"\",IF(L457>999,\"\",13),\"\")","v":""},{"$f":"IF(P457=\"\",14,\"\")","v":14},{"$f":"IF(Q457=\"\",15,\"\")","v":15},{"$f":"IF(COUNT(V457:AJ457)=0,\"10\",\"\")","v":""},{"$f":"IF(AND(AN457,AO457,AP457,AQ457,AR457,AS457,AT457,AU457,AV457,AW457,AX457,AY457,AZ457,BA457,BB457,BC457)=TRUE,\"\",16)","v":""},{"$f":"IF(OR(G457=\"\",L457=\"\",AND(G457=0,L457=0)),0,IF((G457>L457),((G457-L457)/G457),((L457-G457)/G457)))","v":0},{"$f":"IF(CELL(\"format\", B457) = \"G\",TRUE,FALSE)","v":true},{"$f":"IF(CELL(\"format\", C457) = \"F0\",TRUE,FALSE)","v":true},{"$f":"IF(CELL(\"format\", D457) = \"G\",TRUE,FALSE)","v":true},{"$f":"IF(CELL(\"format\", E457) = \"D1\",TRUE,FALSE)","v":true},{"$f":"IF(CELL(\"format\", F457) = \"D1\",TRUE,FALSE)","v":true},{"$f":"IF(CELL(\"format\", G457) = \"C0\",TRUE,FALSE)","v":true},{"$f":"IF(CELL(\"format\", H457) = \"C0\",TRUE,FALSE)","v":true},{"$f":"IF(CELL(\"format\", I457) = \"C0\",TRUE,FALSE)","v":true},{"$f":"IF(CELL(\"format\", J457) = \"C0\",TRUE,FALSE)","v":true},{"$f":"IF(CELL(\"format\", K457) = \"C0\",TRUE,FALSE)","v":true},{"$f":"IF(CELL(\"format\", L457) = \"C0\",TRUE,FALSE)","v":true},{"$f":"IF(CELL(\"format\", M457) = \"C0\",TRUE,FALSE)","v":true},{"$f":"IF(CELL(\"format\", N457) = \"G\",TRUE,FALSE)","v":true},{"$f":"IF(CELL(\"format\", O457) = \"G\",TRUE,FALSE)","v":true},{"$f":"IF(CELL(\"format\", P457) = \"C0\",TRUE,FALSE)","v":true},{"$f":"IF(CELL(\"format\", Q457) = \"C0\",TRUE,FALSE)","v":true},false]
[null,{"$f":"'Scheme and Member Information'!B458","v":0},{"$f":"'Scheme and Member Information'!C458","v":0},null,null,null,null,null,null,null,null,"","",null,null,null,null,null,{"$f":"IF(U458,VLOOKUP(MIN(V458:AL458),'Data Validation (hidden)'!$G$2:$H$18,2,FALSE),IF((COUNTA(D458:K458))+(COUNTA(N458:Q458))>0,\"'Scheme Name' missing but values entered in other columns\",\"\"))","v":""},null,false,1,2,3,4,5,6,7,8,9,10,11,"","",14,15,"","",0,true,true,true,true,true,true,true,true,true,true,true,true,true,true,true,true,false]
[null,{"$f":"'Scheme and Member Information'!B459","v":0},{"$f":"'Scheme and Member Information'!C459","v":0},null,null,null,null,null,null,null,null,"","",null,null,null,null,null,{"$f":"IF(U459,VLOOKUP(MIN(V459:AL459),'Data Validation (hidden)'!$G$2:$H$18,2,FALSE),IF((COUNTA(D459:K459))+(COUNTA(N459:Q459))>0,\"'Scheme Name' missing but values entered in other columns\",\"\"))","v":""},null,false,1,2,3,4,5,6,7,8,9,10,11,"","",14,15,"","",0,true,true,true,true,true,true,true,true,true,true,true,true,true,true,true,true,false]
[null,{"$f":"'Scheme and Member Information'!B460","v":0},{"$f":"'Scheme and Member Information'!C460","v":0},null,null,null,null,null,null,null,null,"","",null,null,null,null,null,{"$f":"IF(U460,VLOOKUP(MIN(V460:AL460),'Data Validation (hidden)'!$G$2:$H$18,2,FALSE),IF((COUNTA(D460:K460))+(COUNTA(N460:Q460))>0,\"'Scheme Name' missing but values entered in other columns\",\"\"))","v":""},null,false,1,2,3,4,5,6,7,8,9,10,11,"","",14,15,"","",0,true,true,true,true,true,true,true,true,true,true,true,true,true,true,true,true,false]
[null,{"$f":"'Scheme and Member Information'!B461","v":0},{"$f":"'Scheme and Member Information'!C461","v":0},null,null,null,null,null,null,null,null,"","",null,null,null,null,null,{"$f":"IF(U461,VLOOKUP(MIN(V461:AL461),'Data Validation (hidden)'!$G$2:$H$18,2,FALSE),IF((COUNTA(D461:K461))+(COUNTA(N461:Q461))>0,\"'Scheme Name' missing but values entered in other columns\",\"\"))","v":""},null,false,1,2,3,4,5,6,7,8,9,10,11,"","",14,15,"","",0,true,true,true,true,true,true,true,true,true,true,true,true,true,true,true,true,false]
[null,{"$f":"'Scheme and Member Information'!B462","v":0},{"$f":"'Scheme and Member Information'!C462","v":0},null,null,null,null,null,null,null,null,"","",null,null,null,null,null,{"$f":"IF(U462,VLOOKUP(MIN(V462:AL462),'Data Validation (hidden)'!$G$2:$H$18,2,FALSE),IF((COUNTA(D462:K462))+(COUNTA(N462:Q462))>0,\"'Scheme Name' missing but values entered in other columns\",\"\"))","v":""},null,false,1,2,3,4,5,6,7,8,9,10,11,"","",14,15,"","",0,true,true,true,true,true,true,true,true,true,true,true,true,true,true,true,true,false]
[null,{"$f":"'Scheme and Member Information'!B463","v":0},{"$f":"'Scheme and Member Information'!C463","v":0},null,null,null,null,null,null,null,null,"","",null,null,null,null,null,{"$f":"IF(U463,VLOOKUP(MIN(V463:AL463),'Data Validation (hidden)'!$G$2:$H$18,2,FALSE),IF((COUNTA(D463:K463))+(COUNTA(N463:Q463))>0,\"'Scheme Name' missing but values entered in other columns\",\"\"))","v":""},null,false,1,2,3,4,5,6,7,8,9,10,11,"","",14,15,"","",0,true,true,true,true,true,true,true,true,true,true,true,true,true,true,true,true,false]
[null,{"$f":"'Scheme and Member Information'!B464","v":0},{"$f":"'Scheme and Member Information'!C464","v":0},null,null,null,null,null,null,null,null,"","",null,null,null,null,null,{"$f":"IF(U464,VLOOKUP(MIN(V464:AL464),'Data Validation (hidden)'!$G$2:$H$18,2,FALSE),IF((COUNTA(D464:K464))+(COUNTA(N464:Q464))>0,\"'Scheme Name' missing but values entered in other columns\",\"\"))","v":""},null,false,1,2,3,4,5,6,7,8,9,10,11,"","",14,15,"","",0,true,true,true,true,true,true,true,true,true,true,true,true,true,true,true,true,false]
[null,{"$f":"'Scheme and Member Information'!B465","v":0},{"$f":"'Scheme and Member Information'!C465","v":0},null,null,null,null,null,null,null,null,"","",null,null,null,null,null,{"$f":"IF(U465,VLOOKUP(MIN(V465:AL465),'Data Validation (hidden)'!$G$2:$H$18,2,FALSE),IF((COUNTA(D465:K465))+(COUNTA(N465:Q465))>0,\"'Scheme Name' missing but values entered in other columns\",\"\"))","v":""},null,false,1,2,3,4,5,6,7,8,9,10,11,"","",14,15,"","",0,true,true,true,true,true,true,true,true,true,true,true,true,true,true,true,true,false]
[null,{"$f":"'Scheme and Member Information'!B466","v":0},{"$f":"'Scheme and Member Information'!C466","v":0},null,null,null,null,null,null,null,null,"","",null,null,null,null,null,{"$f":"IF(U466,VLOOKUP(MIN(V466:AL466),'Data Validation (hidden)'!$G$2:$H$18,2,FALSE),IF((COUNTA(D466:K466))+(COUNTA(N466:Q466))>0,\"'Scheme Name' missing but values entered in other columns\",\"\"))","v":""},null,false,1,2,3,4,5,6,7,8,9,10,11,"","",14,15,"","",0,true,true,true,true,true,true,true,true,true,true,true,true,true,true,true,true,false]
[null,{"$f":"'Scheme and Member Information'!B467","v":0},{"$f":"'Scheme and Member Information'!C467","v":0},null,null,null,null,null,null,null,null,"","",null,null,null,null,null,{"$f":"IF(U467,VLOOKUP(MIN(V467:AL467),'Data Validation (hidden)'!$G$2:$H$18,2,FALSE),IF((COUNTA(D467:K467))+(COUNTA(N467:Q467))>0,\"'Scheme Name' missing but values entered in other columns\",\"\"))","v":""},null,false,1,2,3,4,5,6,7,8,9,10,11,"","",14,15,"","",0,true,true,true,true,true,true,true,true,true,true,true,true,true,true,true,true,false]
[null,{"$f":"'Scheme and Member Information'!B468","v":0},{"$f":"'Scheme and Member Information'!C468","v":0},null,null,null,null,null,null,null,null,"","",null,null,null,null,null,{"$f":"IF(U468,VLOOKUP(MIN(V468:AL468),'Data Validation (hidden)'!$G$2:$H$18,2,FALSE),IF((COUNTA(D468:K468))+(COUNTA(N468:Q468))>0,\"'Scheme Name' missing but values entered in other columns\",\"\"))","v":""},null,false,1,2,3,4,5,6,7,8,9,10,11,"","",14,15,"","",0,true,true,true,true,true,true,true,true,true,true,true,true,true,true,true,true,false]
[null,{"$f":"'Scheme and Member Information'!B469","v":0},{"$f":"'Scheme and Member Information'!C469","v":0},null,null,null,null,null,null,null,null,"","",null,null,null,null,null,{"$f":"IF(U469,VLOOKUP(MIN(V469:AL469),'Data Validation (hidden)'!$G$2:$H$18,2,FALSE),IF((COUNTA(D469:K469))+(COUNTA(N469:Q469))>0,\"'Scheme Name' missing but values entered in other columns\",\"\"))","v":""},null,false,1,2,3,4,5,6,7,8,9,10,11,"","",14,15,"","",0,true,true,true,true,true,true,true,true,true,true,true,true,true,true,true,true,false]
[null,{"$f":"'Scheme and Member Information'!B470","v":0},{"$f":"'Scheme and Member Information'!C470","v":0},null,null,null,null,null,null,null,null,"","",null,null,null,null,null,{"$f":"IF(U470,VLOOKUP(MIN(V470:AL470),'Data Validation (hidden)'!$G$2:$H$18,2,FALSE),IF((COUNTA(D470:K470))+(COUNTA(N470:Q470))>0,\"'Scheme Name' missing but values entered in other columns\",\"\"))","v":""},null,false,1,2,3,4,5,6,7,8,9,10,11,"","",14,15,"","",0,true,true,true,true,true,true,true,true,true,true,true,true,true,true,true,true,false]
[null,{"$f":"'Scheme and Member Information'!B471","v":0},{"$f":"'Scheme and Member Information'!C471","v":0},null,null,null,null,null,null,null,null,"","",null,null,null,null,null,{"$f":"IF(U471,VLOOKUP(MIN(V471:AL471),'Data Validation (hidden)'!$G$2:$H$18,2,FALSE),IF((COUNTA(D471:K471))+(COUNTA(N471:Q471))>0,\"'Scheme Name' missing but values entered in other columns\",\"\"))","v":""},null,false,1,2,3,4,5,6,7,8,9,10,11,"","",14,15,"","",0,true,true,true,true,true,true,true,true,true,true,true,true,true,true,true,true,false]
[null,{"$f":"'Scheme and Member Information'!B472","v":0},{"$f":"'Scheme and Member Information'!C472","v":0},null,null,null,null,null,null,null,null,"","",null,null,null,null,null,{"$f":"IF(U472,VLOOKUP(MIN(V472:AL472),'Data Validation (hidden)'!$G$2:$H$18,2,FALSE),IF((COUNTA(D472:K472))+(COUNTA(N472:Q472))>0,\"'Scheme Name' missing but values entered in other columns\",\"\"))","v":""},null,false,1,2,3,4,5,6,7,8,9,10,11,"","",14,15,"","",0,true,true,true,true,true,true,true,true,true,true,true,true,true,true,true,true,false]
[null,{"$f":"'Scheme and Member Information'!B473","v":0},{"$f":"'Scheme and Member Information'!C473","v":0},null,null,null,null,null,null,null,null,"","",null,null,null,null,null,{"$f":"IF(U473,VLOOKUP(MIN(V473:AL473),'Data Validation (hidden)'!$G$2:$H$18,2,FALSE),IF((COUNTA(D473:K473))+(COUNTA(N473:Q473))>0,\"'Scheme Name' missing but values entered in other columns\",\"\"))","v":""},null,false,1,2,3,4,5,6,7,8,9,10,11,"","",14,15,"","",0,true,true,true,true,true,true,true,true,true,true,true,true,true,true,true,true,false]
[null,{"$f":"'Scheme and Member Information'!B474","v":0},{"$f":"'Scheme and Member Information'!C474","v":0},null,null,null,null,null,null,null,null,"","",null,null,null,null,null,{"$f":"IF(U474,VLOOKUP(MIN(V474:AL474),'Data Validation (hidden)'!$G$2:$H$18,2,FALSE),IF((COUNTA(D474:K474))+(COUNTA(N474:Q474))>0,\"'Scheme Name' missing but values entered in other columns\",\"\"))","v":""},null,false,1,2,3,4,5,6,7,8,9,10,11,"","",14,15,"","",0,true,true,true,true,true,true,true,true,true,true,true,true,true,true,true,true,false]
[null,{"$f":"'Scheme and Member Information'!B475","v":0},{"$f":"'Scheme and Member Information'!C475","v":0},null,null,null,null,null,null,null,null,"","",null,null,null,null,null,{"$f":"IF(U475,VLOOKUP(MIN(V475:AL475),'Data Validation (hidden)'!$G$2:$H$18,2,FALSE),IF((COUNTA(D475:K475))+(COUNTA(N475:Q475))>0,\"'Scheme Name' missing but values entered in other columns\",\"\"))","v":""},null,false,1,2,3,4,5,6,7,8,9,10,11,"","",14,15,"","",0,true,true,true,true,true,true,true,true,true,true,true,true,true,true,true,true,false]
[null,{"$f":"'Scheme and Member Information'!B476","v":0},{"$f":"'Scheme and Member Information'!C476","v":0},null,null,null,null,null,null,null,null,"","",null,null,null,null,null,{"$f":"IF(U476,VLOOKUP(MIN(V476:AL476),'Data Validation (hidden)'!$G$2:$H$18,2,FALSE),IF((COUNTA(D476:K476))+(COUNTA(N476:Q476))>0,\"'Scheme Name' missing but values entered in other columns\",\"\"))","v":""},null,false,1,2,3,4,5,6,7,8,9,10,11,"","",14,15,"","",0,true,true,true,true,true,true,true,true,true,true,true,true,true,true,true,true,false]
[null,{"$f":"'Scheme and Member Information'!B477","v":0},{"$f":"'Scheme and Member Information'!C477","v":0},null,null,null,null,null,null,null,null,"","",null,null,null,null,null,{"$f":"IF(U477,VLOOKUP(MIN(V477:AL477),'Data Validation (hidden)'!$G$2:$H$18,2,FALSE),IF((COUNTA(D477:K477))+(COUNTA(N477:Q477))>0,\"'Scheme Name' missing but values entered in other columns\",\"\"))","v":""},null,false,1,2,3,4,5,6,7,8,9,10,11,"","",14,15,"","",0,true,true,true,true,true,true,true,true,true,true,true,true,true,true,true,true,false]
[null,{"$f":"'Scheme and Member Information'!B478","v":0},{"$f":"'Scheme and Member Information'!C478","v":0},null,null,null,null,null,null,null,null,"","",null,null,null,null,null,{"$f":"IF(U478,VLOOKUP(MIN(V478:AL478),'Data Validation (hidden)'!$G$2:$H$18,2,FALSE),IF((COUNTA(D478:K478))+(COUNTA(N478:Q478))>0,\"'Scheme Name' missing but values entered in other columns\",\"\"))","v":""},null,false,1,2,3,4,5,6,7,8,9,10,11,"","",14,15,"","",0,true,true,true,true,true,true,true,true,true,true,true,true,true,true,true,true,false]
[null,{"$f":"'Scheme and Member Information'!B479","v":0},{"$f":"'Scheme and Member Information'!C479","v":0},null,null,null,null,null,null,null,null,"","",null,null,null,null,null,{"$f":"IF(U479,VLOOKUP(MIN(V479:AL479),'Data Validation (hidden)'!$G$2:$H$18,2,FALSE),IF((COUNTA(D479:K479))+(COUNTA(N479:Q479))>0,\"'Scheme Name' missing but values entered in other columns\",\"\"))","v":""},null,false,1,2,3,4,5,6,7,8,9,10,11,"","",14,15,"","",0,true,true,true,true,true,true,true,true,true,true,true,true,true,true,true,true,false]
[null,{"$f":"'Scheme and Member Information'!B480","v":0},{"$f":"'Scheme and Member Information'!C480","v":0},null,null,null,null,null,null,null,null,"","",null,null,null,null,null,{"$f":"IF(U480,VLOOKUP(MIN(V480:AL480),'Data Validation (hidden)'!$G$2:$H$18,2,FALSE),IF((COUNTA(D480:K480))+(COUNTA(N480:Q480))>0,\"'Scheme Name' missing but values entered in other columns\",\"\"))","v":""},null,false,1,2,3,4,5,6,7,8,9,10,11,"","",14,15,"","",0,true,true,true,true,true,true,true,true,true,true,true,true,true,true,true,true,false]
[null,{"$f":"'Scheme and Member Information'!B481","v":0},{"$f":"'Scheme and Member Information'!C481","v":0},null,null,null,null,null,null,null,null,"","",null,null,null,null,null,{"$f":"IF(U481,VLOOKUP(MIN(V481:AL481),'Data Validation (hidden)'!$G$2:$H$18,2,FALSE),IF((COUNTA(D481:K481))+(COUNTA(N481:Q481))>0,\"'Scheme Name' missing but values entered in other columns\",\"\"))","v":""},null,false,1,2,3,4,5,6,7,8,9,10,11,"","",14,15,"","",0,true,true,true,true,true,true,true,true,true,true,true,true,true,true,true,true,false]
[null,{"$f":"'Scheme and Member Information'!B482","v":0},{"$f":"'Scheme and Member Information'!C482","v":0},null,null,null,null,null,null,null,null,"","",null,null,null,null,null,{"$f":"IF(U482,VLOOKUP(MIN(V482:AL482),'Data Validation (hidden)'!$G$2:$H$18,2,FALSE),IF((COUNTA(D482:K482))+(COUNTA(N482:Q482))>0,\"'Scheme Name' missing but values entered in other columns\",\"\"))","v":""},null,false,1,2,3,4,5,6,7,8,9,10,11,"","",14,15,"","",0,true,true,true,true,true,true,true,true,true,true,true,true,true,true,true,true,false]
[null,{"$f":"'Scheme and Member Information'!B483","v":0},{"$f":"'Scheme and Member Information'!C483","v":0},null,null,null,null,null,null,null,null,"","",null,null,null,null,null,{"$f":"IF(U483,VLOOKUP(MIN(V483:AL483),'Data Validation (hidden)'!$G$2:$H$18,2,FALSE),IF((COUNTA(D483:K483))+(COUNTA(N483:Q483))>0,\"'Scheme Name' missing but values entered in other columns\",\"\"))","v":""},null,false,1,2,3,4,5,6,7,8,9,10,11,"","",14,15,"","",0,true,true,true,true,true,true,true,true,true,true,true,true,true,true,true,true,false]
[null,{"$f":"'Scheme and Member Information'!B484","v":0},{"$f":"'Scheme and Member Information'!C484","v":0},null,null,null,null,null,null,null,null,"","",null,null,null,null,null,{"$f":"IF(U484,VLOOKUP(MIN(V484:AL484),'Data Validation (hidden)'!$G$2:$H$18,2,FALSE),IF((COUNTA(D484:K484))+(COUNTA(N484:Q484))>0,\"'Scheme Name' missing but values entered in other columns\",\"\"))","v":""},null,false,1,2,3,4,5,6,7,8,9,10,11,"","",14,15,"","",0,true,true,true,true,true,true,true,true,true,true,true,true,true,true,true,true,false]
[null,{"$f":"'Scheme and Member Information'!B485","v":0},{"$f":"'Scheme and Member Information'!C485","v":0},null,null,null,null,null,null,null,null,"","",null,null,null,null,null,{"$f":"IF(U485,VLOOKUP(MIN(V485:AL485),'Data Validation (hidden)'!$G$2:$H$18,2,FALSE),IF((COUNTA(D485:K485))+(COUNTA(N485:Q485))>0,\"'Scheme Name' missing but values entered in other columns\",\"\"))","v":""},null,false,1,2,3,4,5,6,7,8,9,10,11,"","",14,15,"","",0,true,true,true,true,true,true,true,true,true,true,true,true,true,true,true,true,false]
[null,{"$f":"'Scheme and Member Information'!B486","v":0},{"$f":"'Scheme and Member Information'!C486","v":0},null,null,null,null,null,null,null,null,"","",null,null,null,null,null,{"$f":"IF(U486,VLOOKUP(MIN(V486:AL486),'Data Validation (hidden)'!$G$2:$H$18,2,FALSE),IF((COUNTA(D486:K486))+(COUNTA(N486:Q486))>0,\"'Scheme Name' missing but values entered in other columns\",\"\"))","v":""},null,false,1,2,3,4,5,6,7,8,9,10,11,"","",14,15,"","",0,true,true,true,true,true,true,true,true,true,true,true,true,true,true,true,true,false]
[null,{"$f":"'Scheme and Member Information'!B487","v":0},{"$f":"'Scheme and Member Information'!C487","v":0},null,null,null,null,null,null,null,null,"","",null,null,null,null,null,{"$f":"IF(U487,VLOOKUP(MIN(V487:AL487),'Data Validation (hidden)'!$G$2:$H$18,2,FALSE),IF((COUNTA(D487:K487))+(COUNTA(N487:Q487))>0,\"'Scheme Name' missing but values entered in other columns\",\"\"))","v":""},null,false,1,2,3,4,5,6,7,8,9,10,11,"","",14,15,"","",0,true,true,true,true,true,true,true,true,true,true,true,true,true,true,true,true,false]
[null,{"$f":"'Scheme and Member Information'!B488","v":0},{"$f":"'Scheme and Member Information'!C488","v":0},null,null,null,null,null,null,null,null,"","",null,null,null,null,null,{"$f":"IF(U488,VLOOKUP(MIN(V488:AL488),'Data Validation (hidden)'!$G$2:$H$18,2,FALSE),IF((COUNTA(D488:K488))+(COUNTA(N488:Q488))>0,\"'Scheme Name' missing but values entered in other columns\",\"\"))","v":""},null,false,1,2,3,4,5,6,7,8,9,10,11,"","",14,15,"","",0,true,true,true,true,true,true,true,true,true,true,true,true,true,true,true,true,false]
[null,{"$f":"'Scheme and Member Information'!B489","v":0},{"$f":"'Scheme and Member Information'!C489","v":0},null,null,null,null,null,null,null,null,"","",null,null,null,null,null,{"$f":"IF(U489,VLOOKUP(MIN(V489:AL489),'Data Validation (hidden)'!$G$2:$H$18,2,FALSE),IF((COUNTA(D489:K489))+(COUNTA(N489:Q489))>0,\"'Scheme Name' missing but values entered in other columns\",\"\"))","v":""},null,false,1,2,3,4,5,6,7,8,9,10,11,"","",14,15,"","",0,true,true,true,true,true,true,true,true,true,true,true,true,true,true,true,true,false]
[null,{"$f":"'Scheme and Member Information'!B490","v":0},{"$f":"'Scheme and Member Information'!C490","v":0},null,null,null,null,null,null,null,null,"","",null,null,null,null,null,{"$f":"IF(U490,VLOOKUP(MIN(V490:AL490),'Data Validation (hidden)'!$G$2:$H$18,2,FALSE),IF((COUNTA(D490:K490))+(COUNTA(N490:Q490))>0,\"'Scheme Name' missing but values entered in other columns\",\"\"))","v":""},null,false,1,2,3,4,5,6,7,8,9,10,11,"","",14,15,"","",0,true,true,true,true,true,true,true,true,true,true,true,true,true,true,true,true,false]
[null,{"$f":"'Scheme and Member Information'!B491","v":0},{"$f":"'Scheme and Member Information'!C491","v":0},null,null,null,null,null,null,null,null,"","",null,null,null,null,null,{"$f":"IF(U491,VLOOKUP(MIN(V491:AL491),'Data Validation (hidden)'!$G$2:$H$18,2,FALSE),IF((COUNTA(D491:K491))+(COUNTA(N491:Q491))>0,\"'Scheme Name' missing but values entered in other columns\",\"\"))","v":""},null,false,1,2,3,4,5,6,7,8,9,10,11,"","",14,15,"","",0,true,true,true,true,true,true,true,true,true,true,true,true,true,true,true,true,false]
[null,{"$f":"'Scheme and Member Information'!B492","v":0},{"$f":"'Scheme and Member Information'!C492","v":0},null,null,null,null,null,null,null,null,"","",null,null,null,null,null,{"$f":"IF(U492,VLOOKUP(MIN(V492:AL492),'Data Validation (hidden)'!$G$2:$H$18,2,FALSE),IF((COUNTA(D492:K492))+(COUNTA(N492:Q492))>0,\"'Scheme Name' missing but values entered in other columns\",\"\"))","v":""},null,false,1,2,3,4,5,6,7,8,9,10,11,"","",14,15,"","",0,true,true,true,true,true,true,true,true,true,true,true,true,true,true,true,true,false]
[null,{"$f":"'Scheme and Member Information'!B493","v":0},{"$f":"'Scheme and Member Information'!C493","v":0},null,null,null,null,null,null,null,null,"","",null,null,null,null,null,{"$f":"IF(U493,VLOOKUP(MIN(V493:AL493),'Data Validation (hidden)'!$G$2:$H$18,2,FALSE),IF((COUNTA(D493:K493))+(COUNTA(N493:Q493))>0,\"'Scheme Name' missing but values entered in other columns\",\"\"))","v":""},null,false,1,2,3,4,5,6,7,8,9,10,11,"","",14,15,"","",0,true,true,true,true,true,true,true,true,true,true,true,true,true,true,true,true,false]
[null,{"$f":"'Scheme and Member Information'!B494","v":0},{"$f":"'Scheme and Member Information'!C494","v":0},null,null,null,null,null,null,null,null,"","",null,null,null,null,null,{"$f":"IF(U494,VLOOKUP(MIN(V494:AL494),'Data Validation (hidden)'!$G$2:$H$18,2,FALSE),IF((COUNTA(D494:K494))+(COUNTA(N494:Q494))>0,\"'Scheme Name' missing but values entered in other columns\",\"\"))","v":""},null,false,1,2,3,4,5,6,7,8,9,10,11,"","",14,15,"","",0,true,true,true,true,true,true,true,true,true,true,true,true,true,true,true,true,false]
[null,{"$f":"'Scheme and Member Information'!B495","v":0},{"$f":"'Scheme and Member Information'!C495","v":0},null,null,null,null,null,null,null,null,"","",null,null,null,null,null,{"$f":"IF(U495,VLOOKUP(MIN(V495:AL495),'Data Validation (hidden)'!$G$2:$H$18,2,FALSE),IF((COUNTA(D495:K495))+(COUNTA(N495:Q495))>0,\"'Scheme Name' missing but values entered in other columns\",\"\"))","v":""},null,false,1,2,3,4,5,6,7,8,9,10,11,"","",14,15,"","",0,true,true,true,true,true,true,true,true,true,true,true,true,true,true,true,true,false]
[null,{"$f":"'Scheme and Member Information'!B496","v":0},{"$f":"'Scheme and Member Information'!C496","v":0},null,null,null,null,null,null,null,null,"","",null,null,null,null,null,{"$f":"IF(U496,VLOOKUP(MIN(V496:AL496),'Data Validation (hidden)'!$G$2:$H$18,2,FALSE),IF((COUNTA(D496:K496))+(COUNTA(N496:Q496))>0,\"'Scheme Name' missing but values entered in other columns\",\"\"))","v":""},null,false,1,2,3,4,5,6,7,8,9,10,11,"","",14,15,"","",0,true,true,true,true,true,true,true,true,true,true,true,true,true,true,true,true,false]
[null,{"$f":"'Scheme and Member Information'!B497","v":0},{"$f":"'Scheme and Member Information'!C497","v":0},null,null,null,null,null,null,null,null,"","",null,null,null,null,null,{"$f":"IF(U497,VLOOKUP(MIN(V497:AL497),'Data Validation (hidden)'!$G$2:$H$18,2,FALSE),IF((COUNTA(D497:K497))+(COUNTA(N497:Q497))>0,\"'Scheme Name' missing but values entered in other columns\",\"\"))","v":""},null,false,1,2,3,4,5,6,7,8,9,10,11,"","",14,15,"","",0,true,true,true,true,true,true,true,true,true,true,true,true,true,true,true,true,false]
[null,{"$f":"'Scheme and Member Information'!B498","v":0},{"$f":"'Scheme and Member Information'!C498","v":0},null,null,null,null,null,null,null,null,"","",null,null,null,null,null,{"$f":"IF(U498,VLOOKUP(MIN(V498:AL498),'Data Validation (hidden)'!$G$2:$H$18,2,FALSE),IF((COUNTA(D498:K498))+(COUNTA(N498:Q498))>0,\"'Scheme Name' missing but values entered in other columns\",\"\"))","v":""},null,false,1,2,3,4,5,6,7,8,9,10,11,"","",14,15,"","",0,true,true,true,true,true,true,true,true,true,true,true,true,true,true,true,true,false]
[null,{"$f":"'Scheme and Member Information'!B499","v":0},{"$f":"'Scheme and Member Information'!C499","v":0},null,null,null,null,null,null,null,null,"","",null,null,null,null,null,{"$f":"IF(U499,VLOOKUP(MIN(V499:AL499),'Data Validation (hidden)'!$G$2:$H$18,2,FALSE),IF((COUNTA(D499:K499))+(COUNTA(N499:Q499))>0,\"'Scheme Name' missing but values entered in other columns\",\"\"))","v":""},null,false,1,2,3,4,5,6,7,8,9,10,11,"","",14,15,"","",0,true,true,true,true,true,true,true,true,true,true,true,true,true,true,true,true,false]
[null,{"$f":"'Scheme and Member Information'!B500","v":0},{"$f":"'Scheme and Member Information'!C500","v":0},null,null,null,null,null,null,null,null,"","",null,null,null,null,null,{"$f":"IF(U500,VLOOKUP(MIN(V500:AL500),'Data Validation (hidden)'!$G$2:$H$18,2,FALSE),IF((COUNTA(D500:K500))+(COUNTA(N500:Q500))>0,\"'Scheme Name' missing but values entered in other columns\",\"\"))","v":""},null,false,1,2,3,4,5,6,7,8,9,10,11,"","",14,15,"","",0,true,true,true,true,true,true,true,true,true,true,true,true,true,true,true,true,false]
[null,{"$f":"'Scheme and Member Information'!B501","v":0},{"$f":"'Scheme and Member Information'!C501","v":0},null,null,null,null,null,null,null,null,"","",null,null,null,null,null,{"$f":"IF(U501,VLOOKUP(MIN(V501:AL501),'Data Validation (hidden)'!$G$2:$H$18,2,FALSE),IF((COUNTA(D501:K501))+(COUNTA(N501:Q501))>0,\"'Scheme Name' missing but values entered in other columns\",\"\"))","v":""},null,false,1,2,3,4,5,6,7,8,9,10,11,"","",14,15,"","",0,true,true,true,true,true,true,true,true,true,true,true,true,true,true,true,true,false]
[null,{"$f":"'Scheme and Member Information'!B502","v":0},{"$f":"'Scheme and Member Information'!C502","v":0},null,null,null,null,null,null,null,null,"","",null,null,null,null,null,{"$f":"IF(U502,VLOOKUP(MIN(V502:AL502),'Data Validation (hidden)'!$G$2:$H$18,2,FALSE),IF((COUNTA(D502:K502))+(COUNTA(N502:Q502))>0,\"'Scheme Name' missing but values entered in other columns\",\"\"))","v":""},null,false,1,2,3,4,5,6,7,8,9,10,11,"","",14,15,"","",0,true,true,true,true,true,true,true,true,true,true,true,true,true,true,true,true,false]
[null,{"$f":"'Scheme and Member Information'!B503","v":0},{"$f":"'Scheme and Member Information'!C503","v":0},null,null,null,null,null,null,null,null,"","",null,null,null,null,null,{"$f":"IF(U503,VLOOKUP(MIN(V503:AL503),'Data Validation (hidden)'!$G$2:$H$18,2,FALSE),IF((COUNTA(D503:K503))+(COUNTA(N503:Q503))>0,\"'Scheme Name' missing but values entered in other columns\",\"\"))","v":""},null,false,1,2,3,4,5,6,7,8,9,10,11,"","",14,15,"","",0,true,true,true,true,true,true,true,true,true,true,true,true,true,true,true,true,false]
[null,{"$f":"'Scheme and Member Information'!B504","v":0},{"$f":"'Scheme and Member Information'!C504","v":0},null,null,null,null,null,null,null,null,"","",null,null,null,null,null,{"$f":"IF(U504,VLOOKUP(MIN(V504:AL504),'Data Validation (hidden)'!$G$2:$H$18,2,FALSE),IF((COUNTA(D504:K504))+(COUNTA(N504:Q504))>0,\"'Scheme Name' missing but values entered in other columns\",\"\"))","v":""},null,false,1,2,3,4,5,6,7,8,9,10,11,"","",14,15,"","",0,true,true,true,true,true,true,true,true,true,true,true,true,true,true,true,true,false]
[null,{"$f":"'Scheme and Member Information'!B505","v":0},{"$f":"'Scheme and Member Information'!C505","v":0},null,null,null,null,null,null,null,null,"","",null,null,null,null,null,{"$f":"IF(U505,VLOOKUP(MIN(V505:AL505),'Data Validation (hidden)'!$G$2:$H$18,2,FALSE),IF((COUNTA(D505:K505))+(COUNTA(N505:Q505))>0,\"'Scheme Name' missing but values entered in other columns\",\"\"))","v":""},null,false,1,2,3,4,5,6,7,8,9,10,11,"","",14,15,"","",0,true,true,true,true,true,true,true,true,true,true,true,true,true,true,true,true,false]
[null,{"$f":"'Scheme and Member Information'!B506","v":0},{"$f":"'Scheme and Member Information'!C506","v":0},null,null,null,null,null,null,null,null,"","",null,null,null,null,null,{"$f":"IF(U506,VLOOKUP(MIN(V506:AL506),'Data Validation (hidden)'!$G$2:$H$18,2,FALSE),IF((COUNTA(D506:K506))+(COUNTA(N506:Q506))>0,\"'Scheme Name' missing but values entered in other columns\",\"\"))","v":""},null,false,1,2,3,4,5,6,7,8,9,10,11,"","",14,15,"","",0,true,true,true,true,true,true,true,true,true,true,true,true,true,true,true,true,false]
[null,{"$f":"'Scheme and Member Information'!B507","v":0},{"$f":"'Scheme and Member Information'!C507","v":0},null,null,null,null,null,null,null,null,"","",null,null,null,null,null,{"$f":"IF(U507,VLOOKUP(MIN(V507:AL507),'Data Validation (hidden)'!$G$2:$H$18,2,FALSE),IF((COUNTA(D507:K507))+(COUNTA(N507:Q507))>0,\"'Scheme Name' missing but values entered in other columns\",\"\"))","v":""},null,false,1,2,3,4,5,6,7,8,9,10,11,"","",14,15,"","",0,true,true,true,true,true,true,true,true,true,true,true,true,true,true,true,true,false]
[null,{"$f":"'Scheme and Member Information'!B508","v":0},{"$f":"'Scheme and Member Information'!C508","v":0},null,null,null,null,null,null,null,null,"","",null,null,null,null,null,{"$f":"IF(U508,VLOOKUP(MIN(V508:AL508),'Data Validation (hidden)'!$G$2:$H$18,2,FALSE),IF((COUNTA(D508:K508))+(COUNTA(N508:Q508))>0,\"'Scheme Name' missing but values entered in other columns\",\"\"))","v":""},null,false,1,2,3,4,5,6,7,8,9,10,11,"","",14,15,"","",0,true,true,true,true,true,true,true,true,true,true,true,true,true,true,true,true,false]
[null,{"$f":"'Scheme and Member Information'!B509","v":0},{"$f":"'Scheme and Member Information'!C509","v":0},null,null,null,null,null,null,null,null,"","",null,null,null,null,null,{"$f":"IF(U509,VLOOKUP(MIN(V509:AL509),'Data Validation (hidden)'!$G$2:$H$18,2,FALSE),IF((COUNTA(D509:K509))+(COUNTA(N509:Q509))>0,\"'Scheme Name' missing but values entered in other columns\",\"\"))","v":""},null,false,1,2,3,4,5,6,7,8,9,10,11,"","",14,15,"","",0,true,true,true,true,true,true,true,true,true,true,true,true,true,true,true,true,false]
[null,{"$f":"'Scheme and Member Information'!B510","v":0},{"$f":"'Scheme and Member Information'!C510","v":0},null,null,null,null,null,null,null,null,"","",null,null,null,null,null,{"$f":"IF(U510,VLOOKUP(MIN(V510:AL510),'Data Validation (hidden)'!$G$2:$H$18,2,FALSE),IF((COUNTA(D510:K510))+(COUNTA(N510:Q510))>0,\"'Scheme Name' missing but values entered in other columns\",\"\"))","v":""},null,false,1,2,3,4,5,6,7,8,9,10,11,"","",14,15,"","",0,true,true,true,true,true,true,true,true,true,true,true,true,true,true,true,true,false]
[null,{"$f":"'Scheme and Member Information'!B511","v":0},{"$f":"'Scheme and Member Information'!C511","v":0},null,null,null,null,null,null,null,null,"","",null,null,null,null,null,{"$f":"IF(U511,VLOOKUP(MIN(V511:AL511),'Data Validation (hidden)'!$G$2:$H$18,2,FALSE),IF((COUNTA(D511:K511))+(COUNTA(N511:Q511))>0,\"'Scheme Name' missing but values entered in other columns\",\"\"))","v":""},null,false,1,2,3,4,5,6,7,8,9,10,11,"","",14,15,"","",0,true,true,true,true,true,true,true,true,true,true,true,true,true,true,true,true,false]
[null,{"$f":"'Scheme and Member Information'!B512","v":0},{"$f":"'Scheme and Member Information'!C512","v":0},null,null,null,null,null,null,null,null,"","",null,null,null,null,null,{"$f":"IF(U512,VLOOKUP(MIN(V512:AL512),'Data Validation (hidden)'!$G$2:$H$18,2,FALSE),IF((COUNTA(D512:K512))+(COUNTA(N512:Q512))>0,\"'Scheme Name' missing but values entered in other columns\",\"\"))","v":""},null,false,1,2,3,4,5,6,7,8,9,10,11,"","",14,15,"","",0,true,true,true,true,true,true,true,true,true,true,true,true,true,true,true,true,false]
[null,{"$f":"'Scheme and Member Information'!B513","v":0},{"$f":"'Scheme and Member Information'!C513","v":0},null,null,null,null,null,null,null,null,"","",null,null,null,null,null,{"$f":"IF(U513,VLOOKUP(MIN(V513:AL513),'Data Validation (hidden)'!$G$2:$H$18,2,FALSE),IF((COUNTA(D513:K513))+(COUNTA(N513:Q513))>0,\"'Scheme Name' missing but values entered in other columns\",\"\"))","v":""},null,false,1,2,3,4,5,6,7,8,9,10,11,"","",14,15,"","",0,true,true,true,true,true,true,true,true,true,true,true,true,true,true,true,true,false]
[null,{"$f":"'Scheme and Member Information'!B514","v":0},{"$f":"'Scheme and Member Information'!C514","v":0},null,null,null,null,null,null,null,null,"","",null,null,null,null,null,{"$f":"IF(U514,VLOOKUP(MIN(V514:AL514),'Data Validation (hidden)'!$G$2:$H$18,2,FALSE),IF((COUNTA(D514:K514))+(COUNTA(N514:Q514))>0,\"'Scheme Name' missing but values entered in other columns\",\"\"))","v":""},null,false,1,2,3,4,5,6,7,8,9,10,11,"","",14,15,"","",0,true,true,true,true,true,true,true,true,true,true,true,true,true,true,true,true,false]
[null,{"$f":"'Scheme and Member Information'!B515","v":0},{"$f":"'Scheme and Member Information'!C515","v":0},null,null,null,null,null,null,null,null,"","",null,null,null,null,null,{"$f":"IF(U515,VLOOKUP(MIN(V515:AL515),'Data Validation (hidden)'!$G$2:$H$18,2,FALSE),IF((COUNTA(D515:K515))+(COUNTA(N515:Q515))>0,\"'Scheme Name' missing but values entered in other columns\",\"\"))","v":""},null,false,1,2,3,4,5,6,7,8,9,10,11,"","",14,15,"","",0,true,true,true,true,true,true,true,true,true,true,true,true,true,true,true,true,false]
[null,{"$f":"'Scheme and Member Information'!B516","v":0},{"$f":"'Scheme and Member Information'!C516","v":0},null,null,null,null,null,null,null,null,"","",null,null,null,null,null,{"$f":"IF(U516,VLOOKUP(MIN(V516:AL516),'Data Validation (hidden)'!$G$2:$H$18,2,FALSE),IF((COUNTA(D516:K516))+(COUNTA(N516:Q516))>0,\"'Scheme Name' missing but values entered in other columns\",\"\"))","v":""},null,false,1,2,3,4,5,6,7,8,9,10,11,"","",14,15,"","",0,true,true,true,true,true,true,true,true,true,true,true,true,true,true,true,true,false]
[null,{"$f":"'Scheme and Member Information'!B517","v":0},{"$f":"'Scheme and Member Information'!C517","v":0},null,null,null,null,null,null,null,null,"","",null,null,null,null,null,{"$f":"IF(U517,VLOOKUP(MIN(V517:AL517),'Data Validation (hidden)'!$G$2:$H$18,2,FALSE),IF((COUNTA(D517:K517))+(COUNTA(N517:Q517))>0,\"'Scheme Name' missing but values entered in other columns\",\"\"))","v":""},null,false,1,2,3,4,5,6,7,8,9,10,11,"","",14,15,"","",0,true,true,true,true,true,true,true,true,true,true,true,true,true,true,true,true,false]
[null,{"$f":"'Scheme and Member Information'!B518","v":0},{"$f":"'Scheme and Member Information'!C518","v":0},null,null,null,null,null,null,null,null,"","",null,null,null,null,null,{"$f":"IF(U518,VLOOKUP(MIN(V518:AL518),'Data Validation (hidden)'!$G$2:$H$18,2,FALSE),IF((COUNTA(D518:K518))+(COUNTA(N518:Q518))>0,\"'Scheme Name' missing but values entered in other columns\",\"\"))","v":""},null,false,1,2,3,4,5,6,7,8,9,10,11,"","",14,15,"","",0,true,true,true,true,true,true,true,true,true,true,true,true,true,true,true,true,false]
[null,{"$f":"'Scheme and Member Information'!B519","v":0},{"$f":"'Scheme and Member Information'!C519","v":0},null,null,null,null,null,null,null,null,"","",null,null,null,null,null,{"$f":"IF(U519,VLOOKUP(MIN(V519:AL519),'Data Validation (hidden)'!$G$2:$H$18,2,FALSE),IF((COUNTA(D519:K519))+(COUNTA(N519:Q519))>0,\"'Scheme Name' missing but values entered in other columns\",\"\"))","v":""},null,false,1,2,3,4,5,6,7,8,9,10,11,"","",14,15,"","",0,true,true,true,true,true,true,true,true,true,true,true,true,true,true,true,true,false]
[null,{"$f":"'Scheme and Member Information'!B520","v":0},{"$f":"'Scheme and Member Information'!C520","v":0},null,null,null,null,null,null,null,null,"","",null,null,null,null,null,{"$f":"IF(U520,VLOOKUP(MIN(V520:AL520),'Data Validation (hidden)'!$G$2:$H$18,2,FALSE),IF((COUNTA(D520:K520))+(COUNTA(N520:Q520))>0,\"'Scheme Name' missing but values entered in other columns\",\"\"))","v":""},null,false,1,2,3,4,5,6,7,8,9,10,11,"","",14,15,"","",0,true,true,true,true,true,true,true,true,true,true,true,true,true,true,true,true,{"$f":"IF(S520=\"\",FALSE,IF(S520=\"OK\",FALSE,TRUE))","v":false}]
[null,{"$f":"'Scheme and Member Information'!B521","v":0},{"$f":"'Scheme and Member Information'!C521","v":0},null,null,null,null,null,null,null,null,{"$f":"IF(AND(G521<>\"\",H521<>\"\",I521<>\"\",J521<>\"\",K521<>\"\"),(G521+H521+J521)-(I521+K521),\"\")","v":""},{"$f":"IF((L521=\"\"),\"\",(L521-G521))","v":""},null,null,null,null,null,{"$f":"IF(U521,VLOOKUP(MIN(V521:AL521),'Data Validation (hidden)'!$G$2:$H$18,2,FALSE),IF((COUNTA(D521:K521))+(COUNTA(N521:Q521))>0,\"'Scheme Name' missing but values entered in other columns\",\"\"))","v":""},null,{"$f":"AND(B521<>\"\",B521<>0)","v":false},{"$f":"IF(C521=\"\",1,IF(C521=0,1,\"\"))","v":1},{"$f":"IF(D521=\"\",2,\"\")","v":2},{"$f":"IF(D521=\"No\",\"\",IF(E521=\"\",3,\"\"))","v":3},{"$f":"IF(F521=\"\",4,\"\")","v":4},{"$f":"IF(G521=\"\",5,\"\")","v":5},{"$f":"IF(H521=\"\",6,\"\")","v":6},{"$f":"IF(I521=\"\",7,\"\")","v":7},{"$f":"IF(J521=\"\",8,\"\")","v":8},{"$f":"IF(K521=\"\",9,\"\")","v":9},{"$f":"IF(L521=\"\",10,\"\")","v":10},{"$f":"IF(M521=\"\",11,\"\")","v":11},{"$f":"IF(N521=\"\",IF(AM521<0.14,\"\",12),\"\")","v":""},{"$f":"IF(O521=\"\",IF(L521>999,\"\",13),\"\")","v":""},{"$f":"IF(P521=\"\",14,\"\")","v":14},{"$f":"IF(Q521=\"\",15,\"\")","v":15},{"$f":"IF(COUNT(V521:AJ521)=0,\"10\",\"\")","v":""},{"$f":"IF(AND(AN521,AO521,AP521,AQ521,AR521,AS521,AT521,AU521,AV521,AW521,AX521,AY521,AZ521,BA521,BB521,BC521)=TRUE,\"\",16)","v":""},{"$f":"IF(OR(G521=\"\",L521=\"\",AND(G521=0,L521=0)),0,IF((G521>L521),((G521-L521)/G521),((L521-G521)/G521)))","v":0},{"$f":"IF(CELL(\"format\", B521) = \"G\",TRUE,FALSE)","v":true},{"$f":"IF(CELL(\"format\", C521) = \"F0\",TRUE,FALSE)","v":true},{"$f":"IF(CELL(\"format\", D521) = \"G\",TRUE,FALSE)","v":true},{"$f":"IF(CELL(\"format\", E521) = \"D1\",TRUE,FALSE)","v":true},{"$f":"IF(CELL(\"format\", F521) = \"D1\",TRUE,FALSE)","v":true},{"$f":"IF(CELL(\"format\", G521) = \"C0\",TRUE,FALSE)","v":true},{"$f":"IF(CELL(\"format\", H521) = \"C0\",TRUE,FALSE)","v":true},{"$f":"IF(CELL(\"format\", I521) = \"C0\",TRUE,FALSE)","v":true},{"$f":"IF(CELL(\"format\", J521) = \"C0\",TRUE,FALSE)","v":true},{"$f":"IF(CELL(\"format\", K521) = \"C0\",TRUE,FALSE)","v":true},{"$f":"IF(CELL(\"format\", L521) = \"C0\",TRUE,FALSE)","v":true},{"$f":"IF(CELL(\"format\", M521) = \"C0\",TRUE,FALSE)","v":true},{"$f":"IF(CELL(\"format\", N521) = \"G\",TRUE,FALSE)","v":true},{"$f":"IF(CELL(\"format\", O521) = \"G\",TRUE,FALSE)","v":true},{"$f":"IF(CELL(\"format\", P521) = \"C0\",TRUE,FALSE)","v":true},{"$f":"IF(CELL(\"format\", Q521) = \"C0\",TRUE,FALSE)","v":true},false]
[null,{"$f":"'Scheme and Member Information'!B522","v":0},{"$f":"'Scheme and Member Information'!C522","v":0},null,null,null,null,null,null,null,null,"","",null,null,null,null,null,{"$f":"IF(U522,VLOOKUP(MIN(V522:AL522),'Data Validation (hidden)'!$G$2:$H$18,2,FALSE),IF((COUNTA(D522:K522))+(COUNTA(N522:Q522))>0,\"'Scheme Name' missing but values entered in other columns\",\"\"))","v":""},null,false,1,2,3,4,5,6,7,8,9,10,11,"","",14,15,"","",0,true,true,true,true,true,true,true,true,true,true,true,true,true,true,true,true,false]
[null,{"$f":"'Scheme and Member Information'!B523","v":0},{"$f":"'Scheme and Member Information'!C523","v":0},null,null,null,null,null,null,null,null,"","",null,null,null,null,null,{"$f":"IF(U523,VLOOKUP(MIN(V523:AL523),'Data Validation (hidden)'!$G$2:$H$18,2,FALSE),IF((COUNTA(D523:K523))+(COUNTA(N523:Q523))>0,\"'Scheme Name' missing but values entered in other columns\",\"\"))","v":""},null,false,1,2,3,4,5,6,7,8,9,10,11,"","",14,15,"","",0,true,true,true,true,true,true,true,true,true,true,true,true,true,true,true,true,false]
[null,{"$f":"'Scheme and Member Information'!B524","v":0},{"$f":"'Scheme and Member Information'!C524","v":0},null,null,null,null,null,null,null,null,"","",null,null,null,null,null,{"$f":"IF(U524,VLOOKUP(MIN(V524:AL524),'Data Validation (hidden)'!$G$2:$H$18,2,FALSE),IF((COUNTA(D524:K524))+(COUNTA(N524:Q524))>0,\"'Scheme Name' missing but values entered in other columns\",\"\"))","v":""},null,false,1,2,3,4,5,6,7,8,9,10,11,"","",14,15,"","",0,true,true,true,true,true,true,true,true,true,true,true,true,true,true,true,true,false]
[null,{"$f":"'Scheme and Member Information'!B525","v":0},{"$f":"'Scheme and Member Information'!C525","v":0},null,null,null,null,null,null,null,null,"","",null,null,null,null,null,{"$f":"IF(U525,VLOOKUP(MIN(V525:AL525),'Data Validation (hidden)'!$G$2:$H$18,2,FALSE),IF((COUNTA(D525:K525))+(COUNTA(N525:Q525))>0,\"'Scheme Name' missing but values entered in other columns\",\"\"))","v":""},null,false,1,2,3,4,5,6,7,8,9,10,11,"","",14,15,"","",0,true,true,true,true,true,true,true,true,true,true,true,true,true,true,true,true,false]
[null,{"$f":"'Scheme and Member Information'!B526","v":0},{"$f":"'Scheme and Member Information'!C526","v":0},null,null,null,null,null,null,null,null,"","",null,null,null,null,null,{"$f":"IF(U526,VLOOKUP(MIN(V526:AL526),'Data Validation (hidden)'!$G$2:$H$18,2,FALSE),IF((COUNTA(D526:K526))+(COUNTA(N526:Q526))>0,\"'Scheme Name' missing but values entered in other columns\",\"\"))","v":""},null,false,1,2,3,4,5,6,7,8,9,10,11,"","",14,15,"","",0,true,true,true,true,true,true,true,true,true,true,true,true,true,true,true,true,false]
[null,{"$f":"'Scheme and Member Information'!B527","v":0},{"$f":"'Scheme and Member Information'!C527","v":0},null,null,null,null,null,null,null,null,"","",null,null,null,null,null,{"$f":"IF(U527,VLOOKUP(MIN(V527:AL527),'Data Validation (hidden)'!$G$2:$H$18,2,FALSE),IF((COUNTA(D527:K527))+(COUNTA(N527:Q527))>0,\"'Scheme Name' missing but values entered in other columns\",\"\"))","v":""},null,false,1,2,3,4,5,6,7,8,9,10,11,"","",14,15,"","",0,true,true,true,true,true,true,true,true,true,true,true,true,true,true,true,true,false]
[null,{"$f":"'Scheme and Member Information'!B528","v":0},{"$f":"'Scheme and Member Information'!C528","v":0},null,null,null,null,null,null,null,null,"","",null,null,null,null,null,{"$f":"IF(U528,VLOOKUP(MIN(V528:AL528),'Data Validation (hidden)'!$G$2:$H$18,2,FALSE),IF((COUNTA(D528:K528))+(COUNTA(N528:Q528))>0,\"'Scheme Name' missing but values entered in other columns\",\"\"))","v":""},null,false,1,2,3,4,5,6,7,8,9,10,11,"","",14,15,"","",0,true,true,true,true,true,true,true,true,true,true,true,true,true,true,true,true,false]
[null,{"$f":"'Scheme and Member Information'!B529","v":0},{"$f":"'Scheme and Member Information'!C529","v":0},null,null,null,null,null,null,null,null,"","",null,null,null,null,null,{"$f":"IF(U529,VLOOKUP(MIN(V529:AL529),'Data Validation (hidden)'!$G$2:$H$18,2,FALSE),IF((COUNTA(D529:K529))+(COUNTA(N529:Q529))>0,\"'Scheme Name' missing but values entered in other columns\",\"\"))","v":""},null,false,1,2,3,4,5,6,7,8,9,10,11,"","",14,15,"","",0,true,true,true,true,true,true,true,true,true,true,true,true,true,true,true,true,false]
[null,{"$f":"'Scheme and Member Information'!B530","v":0},{"$f":"'Scheme and Member Information'!C530","v":0},null,null,null,null,null,null,null,null,"","",null,null,null,null,null,{"$f":"IF(U530,VLOOKUP(MIN(V530:AL530),'Data Validation (hidden)'!$G$2:$H$18,2,FALSE),IF((COUNTA(D530:K530))+(COUNTA(N530:Q530))>0,\"'Scheme Name' missing but values entered in other columns\",\"\"))","v":""},null,false,1,2,3,4,5,6,7,8,9,10,11,"","",14,15,"","",0,true,true,true,true,true,true,true,true,true,true,true,true,true,true,true,true,false]
[null,{"$f":"'Scheme and Member Information'!B531","v":0},{"$f":"'Scheme and Member Information'!C531","v":0},null,null,null,null,null,null,null,null,"","",null,null,null,null,null,{"$f":"IF(U531,VLOOKUP(MIN(V531:AL531),'Data Validation (hidden)'!$G$2:$H$18,2,FALSE),IF((COUNTA(D531:K531))+(COUNTA(N531:Q531))>0,\"'Scheme Name' missing but values entered in other columns\",\"\"))","v":""},null,false,1,2,3,4,5,6,7,8,9,10,11,"","",14,15,"","",0,true,true,true,true,true,true,true,true,true,true,true,true,true,true,true,true,false]
[null,{"$f":"'Scheme and Member Information'!B532","v":0},{"$f":"'Scheme and Member Information'!C532","v":0},null,null,null,null,null,null,null,null,"","",null,null,null,null,null,{"$f":"IF(U532,VLOOKUP(MIN(V532:AL532),'Data Validation (hidden)'!$G$2:$H$18,2,FALSE),IF((COUNTA(D532:K532))+(COUNTA(N532:Q532))>0,\"'Scheme Name' missing but values entered in other columns\",\"\"))","v":""},null,false,1,2,3,4,5,6,7,8,9,10,11,"","",14,15,"","",0,true,true,true,true,true,true,true,true,true,true,true,true,true,true,true,true,false]
[null,{"$f":"'Scheme and Member Information'!B533","v":0},{"$f":"'Scheme and Member Information'!C533","v":0},null,null,null,null,null,null,null,null,"","",null,null,null,null,null,{"$f":"IF(U533,VLOOKUP(MIN(V533:AL533),'Data Validation (hidden)'!$G$2:$H$18,2,FALSE),IF((COUNTA(D533:K533))+(COUNTA(N533:Q533))>0,\"'Scheme Name' missing but values entered in other columns\",\"\"))","v":""},null,false,1,2,3,4,5,6,7,8,9,10,11,"","",14,15,"","",0,true,true,true,true,true,true,true,true,true,true,true,true,true,true,true,true,false]
[null,{"$f":"'Scheme and Member Information'!B534","v":0},{"$f":"'Scheme and Member Information'!C534","v":0},null,null,null,null,null,null,null,null,"","",null,null,null,null,null,{"$f":"IF(U534,VLOOKUP(MIN(V534:AL534),'Data Validation (hidden)'!$G$2:$H$18,2,FALSE),IF((COUNTA(D534:K534))+(COUNTA(N534:Q534))>0,\"'Scheme Name' missing but values entered in other columns\",\"\"))","v":""},null,false,1,2,3,4,5,6,7,8,9,10,11,"","",14,15,"","",0,true,true,true,true,true,true,true,true,true,true,true,true,true,true,true,true,false]
[null,{"$f":"'Scheme and Member Information'!B535","v":0},{"$f":"'Scheme and Member Information'!C535","v":0},null,null,null,null,null,null,null,null,"","",null,null,null,null,null,{"$f":"IF(U535,VLOOKUP(MIN(V535:AL535),'Data Validation (hidden)'!$G$2:$H$18,2,FALSE),IF((COUNTA(D535:K535))+(COUNTA(N535:Q535))>0,\"'Scheme Name' missing but values entered in other columns\",\"\"))","v":""},null,false,1,2,3,4,5,6,7,8,9,10,11,"","",14,15,"","",0,true,true,true,true,true,true,true,true,true,true,true,true,true,true,true,true,false]
[null,{"$f":"'Scheme and Member Information'!B536","v":0},{"$f":"'Scheme and Member Information'!C536","v":0},null,null,null,null,null,null,null,null,"","",null,null,null,null,null,{"$f":"IF(U536,VLOOKUP(MIN(V536:AL536),'Data Validation (hidden)'!$G$2:$H$18,2,FALSE),IF((COUNTA(D536:K536))+(COUNTA(N536:Q536))>0,\"'Scheme Name' missing but values entered in other columns\",\"\"))","v":""},null,false,1,2,3,4,5,6,7,8,9,10,11,"","",14,15,"","",0,true,true,true,true,true,true,true,true,true,true,true,true,true,true,true,true,false]
[null,{"$f":"'Scheme and Member Information'!B537","v":0},{"$f":"'Scheme and Member Information'!C537","v":0},null,null,null,null,null,null,null,null,"","",null,null,null,null,null,{"$f":"IF(U537,VLOOKUP(MIN(V537:AL537),'Data Validation (hidden)'!$G$2:$H$18,2,FALSE),IF((COUNTA(D537:K537))+(COUNTA(N537:Q537))>0,\"'Scheme Name' missing but values entered in other columns\",\"\"))","v":""},null,false,1,2,3,4,5,6,7,8,9,10,11,"","",14,15,"","",0,true,true,true,true,true,true,true,true,true,true,true,true,true,true,true,true,false]
[null,{"$f":"'Scheme and Member Information'!B538","v":0},{"$f":"'Scheme and Member Information'!C538","v":0},null,null,null,null,null,null,null,null,"","",null,null,null,null,null,{"$f":"IF(U538,VLOOKUP(MIN(V538:AL538),'Data Validation (hidden)'!$G$2:$H$18,2,FALSE),IF((COUNTA(D538:K538))+(COUNTA(N538:Q538))>0,\"'Scheme Name' missing but values entered in other columns\",\"\"))","v":""},null,false,1,2,3,4,5,6,7,8,9,10,11,"","",14,15,"","",0,true,true,true,true,true,true,true,true,true,true,true,true,true,true,true,true,false]
[null,{"$f":"'Scheme and Member Information'!B539","v":0},{"$f":"'Scheme and Member Information'!C539","v":0},null,null,null,null,null,null,null,null,"","",null,null,null,null,null,{"$f":"IF(U539,VLOOKUP(MIN(V539:AL539),'Data Validation (hidden)'!$G$2:$H$18,2,FALSE),IF((COUNTA(D539:K539))+(COUNTA(N539:Q539))>0,\"'Scheme Name' missing but values entered in other columns\",\"\"))","v":""},null,false,1,2,3,4,5,6,7,8,9,10,11,"","",14,15,"","",0,true,true,true,true,true,true,true,true,true,true,true,true,true,true,true,true,false]
[null,{"$f":"'Scheme and Member Information'!B540","v":0},{"$f":"'Scheme and Member Information'!C540","v":0},null,null,null,null,null,null,null,null,"","",null,null,null,null,null,{"$f":"IF(U540,VLOOKUP(MIN(V540:AL540),'Data Validation (hidden)'!$G$2:$H$18,2,FALSE),IF((COUNTA(D540:K540))+(COUNTA(N540:Q540))>0,\"'Scheme Name' missing but values entered in other columns\",\"\"))","v":""},null,false,1,2,3,4,5,6,7,8,9,10,11,"","",14,15,"","",0,true,true,true,true,true,true,true,true,true,true,true,true,true,true,true,true,false]
[null,{"$f":"'Scheme and Member Information'!B541","v":0},{"$f":"'Scheme and Member Information'!C541","v":0},null,null,null,null,null,null,null,null,"","",null,null,null,null,null,{"$f":"IF(U541,VLOOKUP(MIN(V541:AL541),'Data Validation (hidden)'!$G$2:$H$18,2,FALSE),IF((COUNTA(D541:K541))+(COUNTA(N541:Q541))>0,\"'Scheme Name' missing but values entered in other columns\",\"\"))","v":""},null,false,1,2,3,4,5,6,7,8,9,10,11,"","",14,15,"","",0,true,true,true,true,true,true,true,true,true,true,true,true,true,true,true,true,false]
[null,{"$f":"'Scheme and Member Information'!B542","v":0},{"$f":"'Scheme and Member Information'!C542","v":0},null,null,null,null,null,null,null,null,"","",null,null,null,null,null,{"$f":"IF(U542,VLOOKUP(MIN(V542:AL542),'Data Validation (hidden)'!$G$2:$H$18,2,FALSE),IF((COUNTA(D542:K542))+(COUNTA(N542:Q542))>0,\"'Scheme Name' missing but values entered in other columns\",\"\"))","v":""},null,false,1,2,3,4,5,6,7,8,9,10,11,"","",14,15,"","",0,true,true,true,true,true,true,true,true,true,true,true,true,true,true,true,true,false]
[null,{"$f":"'Scheme and Member Information'!B543","v":0},{"$f":"'Scheme and Member Information'!C543","v":0},null,null,null,null,null,null,null,null,"","",null,null,null,null,null,{"$f":"IF(U543,VLOOKUP(MIN(V543:AL543),'Data Validation (hidden)'!$G$2:$H$18,2,FALSE),IF((COUNTA(D543:K543))+(COUNTA(N543:Q543))>0,\"'Scheme Name' missing but values entered in other columns\",\"\"))","v":""},null,false,1,2,3,4,5,6,7,8,9,10,11,"","",14,15,"","",0,true,true,true,true,true,true,true,true,true,true,true,true,true,true,true,true,false]
[null,{"$f":"'Scheme and Member Information'!B544","v":0},{"$f":"'Scheme and Member Information'!C544","v":0},null,null,null,null,null,null,null,null,"","",null,null,null,null,null,{"$f":"IF(U544,VLOOKUP(MIN(V544:AL544),'Data Validation (hidden)'!$G$2:$H$18,2,FALSE),IF((COUNTA(D544:K544))+(COUNTA(N544:Q544))>0,\"'Scheme Name' missing but values entered in other columns\",\"\"))","v":""},null,false,1,2,3,4,5,6,7,8,9,10,11,"","",14,15,"","",0,true,true,true,true,true,true,true,true,true,true,true,true,true,true,true,true,false]
[null,{"$f":"'Scheme and Member Information'!B545","v":0},{"$f":"'Scheme and Member Information'!C545","v":0},null,null,null,null,null,null,null,null,"","",null,null,null,null,null,{"$f":"IF(U545,VLOOKUP(MIN(V545:AL545),'Data Validation (hidden)'!$G$2:$H$18,2,FALSE),IF((COUNTA(D545:K545))+(COUNTA(N545:Q545))>0,\"'Scheme Name' missing but values entered in other columns\",\"\"))","v":""},null,false,1,2,3,4,5,6,7,8,9,10,11,"","",14,15,"","",0,true,true,true,true,true,true,true,true,true,true,true,true,true,true,true,true,false]
[null,{"$f":"'Scheme and Member Information'!B546","v":0},{"$f":"'Scheme and Member Information'!C546","v":0},null,null,null,null,null,null,null,null,"","",null,null,null,null,null,{"$f":"IF(U546,VLOOKUP(MIN(V546:AL546),'Data Validation (hidden)'!$G$2:$H$18,2,FALSE),IF((COUNTA(D546:K546))+(COUNTA(N546:Q546))>0,\"'Scheme Name' missing but values entered in other columns\",\"\"))","v":""},null,false,1,2,3,4,5,6,7,8,9,10,11,"","",14,15,"","",0,true,true,true,true,true,true,true,true,true,true,true,true,true,true,true,true,false]
[null,{"$f":"'Scheme and Member Information'!B547","v":0},{"$f":"'Scheme and Member Information'!C547","v":0},null,null,null,null,null,null,null,null,"","",null,null,null,null,null,{"$f":"IF(U547,VLOOKUP(MIN(V547:AL547),'Data Validation (hidden)'!$G$2:$H$18,2,FALSE),IF((COUNTA(D547:K547))+(COUNTA(N547:Q547))>0,\"'Scheme Name' missing but values entered in other columns\",\"\"))","v":""},null,false,1,2,3,4,5,6,7,8,9,10,11,"","",14,15,"","",0,true,true,true,true,true,true,true,true,true,true,true,true,true,true,true,true,false]
[null,{"$f":"'Scheme and Member Information'!B548","v":0},{"$f":"'Scheme and Member Information'!C548","v":0},null,null,null,null,null,null,null,null,"","",null,null,null,null,null,{"$f":"IF(U548,VLOOKUP(MIN(V548:AL548),'Data Validation (hidden)'!$G$2:$H$18,2,FALSE),IF((COUNTA(D548:K548))+(COUNTA(N548:Q548))>0,\"'Scheme Name' missing but values entered in other columns\",\"\"))","v":""},null,false,1,2,3,4,5,6,7,8,9,10,11,"","",14,15,"","",0,true,true,true,true,true,true,true,true,true,true,true,true,true,true,true,true,false]
[null,{"$f":"'Scheme and Member Information'!B549","v":0},{"$f":"'Scheme and Member Information'!C549","v":0},null,null,null,null,null,null,null,null,"","",null,null,null,null,null,{"$f":"IF(U549,VLOOKUP(MIN(V549:AL549),'Data Validation (hidden)'!$G$2:$H$18,2,FALSE),IF((COUNTA(D549:K549))+(COUNTA(N549:Q549))>0,\"'Scheme Name' missing but values entered in other columns\",\"\"))","v":""},null,false,1,2,3,4,5,6,7,8,9,10,11,"","",14,15,"","",0,true,true,true,true,true,true,true,true,true,true,true,true,true,true,true,true,false]
[null,{"$f":"'Scheme and Member Information'!B550","v":0},{"$f":"'Scheme and Member Information'!C550","v":0},null,null,null,null,null,null,null,null,"","",null,null,null,null,null,{"$f":"IF(U550,VLOOKUP(MIN(V550:AL550),'Data Validation (hidden)'!$G$2:$H$18,2,FALSE),IF((COUNTA(D550:K550))+(COUNTA(N550:Q550))>0,\"'Scheme Name' missing but values entered in other columns\",\"\"))","v":""},null,false,1,2,3,4,5,6,7,8,9,10,11,"","",14,15,"","",0,true,true,true,true,true,true,true,true,true,true,true,true,true,true,true,true,false]
[null,{"$f":"'Scheme and Member Information'!B551","v":0},{"$f":"'Scheme and Member Information'!C551","v":0},null,null,null,null,null,null,null,null,"","",null,null,null,null,null,{"$f":"IF(U551,VLOOKUP(MIN(V551:AL551),'Data Validation (hidden)'!$G$2:$H$18,2,FALSE),IF((COUNTA(D551:K551))+(COUNTA(N551:Q551))>0,\"'Scheme Name' missing but values entered in other columns\",\"\"))","v":""},null,false,1,2,3,4,5,6,7,8,9,10,11,"","",14,15,"","",0,true,true,true,true,true,true,true,true,true,true,true,true,true,true,true,true,false]
[null,{"$f":"'Scheme and Member Information'!B552","v":0},{"$f":"'Scheme and Member Information'!C552","v":0},null,null,null,null,null,null,null,null,"","",null,null,null,null,null,{"$f":"IF(U552,VLOOKUP(MIN(V552:AL552),'Data Validation (hidden)'!$G$2:$H$18,2,FALSE),IF((COUNTA(D552:K552))+(COUNTA(N552:Q552))>0,\"'Scheme Name' missing but values entered in other columns\",\"\"))","v":""},null,false,1,2,3,4,5,6,7,8,9,10,11,"","",14,15,"","",0,true,true,true,true,true,true,true,true,true,true,true,true,true,true,true,true,false]
[null,{"$f":"'Scheme and Member Information'!B553","v":0},{"$f":"'Scheme and Member Information'!C553","v":0},null,null,null,null,null,null,null,null,"","",null,null,null,null,null,{"$f":"IF(U553,VLOOKUP(MIN(V553:AL553),'Data Validation (hidden)'!$G$2:$H$18,2,FALSE),IF((COUNTA(D553:K553))+(COUNTA(N553:Q553))>0,\"'Scheme Name' missing but values entered in other columns\",\"\"))","v":""},null,false,1,2,3,4,5,6,7,8,9,10,11,"","",14,15,"","",0,true,true,true,true,true,true,true,true,true,true,true,true,true,true,true,true,false]
[null,{"$f":"'Scheme and Member Information'!B554","v":0},{"$f":"'Scheme and Member Information'!C554","v":0},null,null,null,null,null,null,null,null,"","",null,null,null,null,null,{"$f":"IF(U554,VLOOKUP(MIN(V554:AL554),'Data Validation (hidden)'!$G$2:$H$18,2,FALSE),IF((COUNTA(D554:K554))+(COUNTA(N554:Q554))>0,\"'Scheme Name' missing but values entered in other columns\",\"\"))","v":""},null,false,1,2,3,4,5,6,7,8,9,10,11,"","",14,15,"","",0,true,true,true,true,true,true,true,true,true,true,true,true,true,true,true,true,false]
[null,{"$f":"'Scheme and Member Information'!B555","v":0},{"$f":"'Scheme and Member Information'!C555","v":0},null,null,null,null,null,null,null,null,"","",null,null,null,null,null,{"$f":"IF(U555,VLOOKUP(MIN(V555:AL555),'Data Validation (hidden)'!$G$2:$H$18,2,FALSE),IF((COUNTA(D555:K555))+(COUNTA(N555:Q555))>0,\"'Scheme Name' missing but values entered in other columns\",\"\"))","v":""},null,false,1,2,3,4,5,6,7,8,9,10,11,"","",14,15,"","",0,true,true,true,true,true,true,true,true,true,true,true,true,true,true,true,true,false]
[null,{"$f":"'Scheme and Member Information'!B556","v":0},{"$f":"'Scheme and Member Information'!C556","v":0},null,null,null,null,null,null,null,null,"","",null,null,null,null,null,{"$f":"IF(U556,VLOOKUP(MIN(V556:AL556),'Data Validation (hidden)'!$G$2:$H$18,2,FALSE),IF((COUNTA(D556:K556))+(COUNTA(N556:Q556))>0,\"'Scheme Name' missing but values entered in other columns\",\"\"))","v":""},null,false,1,2,3,4,5,6,7,8,9,10,11,"","",14,15,"","",0,true,true,true,true,true,true,true,true,true,true,true,true,true,true,true,true,false]
[null,{"$f":"'Scheme and Member Information'!B557","v":0},{"$f":"'Scheme and Member Information'!C557","v":0},null,null,null,null,null,null,null,null,"","",null,null,null,null,null,{"$f":"IF(U557,VLOOKUP(MIN(V557:AL557),'Data Validation (hidden)'!$G$2:$H$18,2,FALSE),IF((COUNTA(D557:K557))+(COUNTA(N557:Q557))>0,\"'Scheme Name' missing but values entered in other columns\",\"\"))","v":""},null,false,1,2,3,4,5,6,7,8,9,10,11,"","",14,15,"","",0,true,true,true,true,true,true,true,true,true,true,true,true,true,true,true,true,false]
[null,{"$f":"'Scheme and Member Information'!B558","v":0},{"$f":"'Scheme and Member Information'!C558","v":0},null,null,null,null,null,null,null,null,"","",null,null,null,null,null,{"$f":"IF(U558,VLOOKUP(MIN(V558:AL558),'Data Validation (hidden)'!$G$2:$H$18,2,FALSE),IF((COUNTA(D558:K558))+(COUNTA(N558:Q558))>0,\"'Scheme Name' missing but values entered in other columns\",\"\"))","v":""},null,false,1,2,3,4,5,6,7,8,9,10,11,"","",14,15,"","",0,true,true,true,true,true,true,true,true,true,true,true,true,true,true,true,true,false]
[null,{"$f":"'Scheme and Member Information'!B559","v":0},{"$f":"'Scheme and Member Information'!C559","v":0},null,null,null,null,null,null,null,null,"","",null,null,null,null,null,{"$f":"IF(U559,VLOOKUP(MIN(V559:AL559),'Data Validation (hidden)'!$G$2:$H$18,2,FALSE),IF((COUNTA(D559:K559))+(COUNTA(N559:Q559))>0,\"'Scheme Name' missing but values entered in other columns\",\"\"))","v":""},null,false,1,2,3,4,5,6,7,8,9,10,11,"","",14,15,"","",0,true,true,true,true,true,true,true,true,true,true,true,true,true,true,true,true,false]
[null,{"$f":"'Scheme and Member Information'!B560","v":0},{"$f":"'Scheme and Member Information'!C560","v":0},null,null,null,null,null,null,null,null,"","",null,null,null,null,null,{"$f":"IF(U560,VLOOKUP(MIN(V560:AL560),'Data Validation (hidden)'!$G$2:$H$18,2,FALSE),IF((COUNTA(D560:K560))+(COUNTA(N560:Q560))>0,\"'Scheme Name' missing but values entered in other columns\",\"\"))","v":""},null,false,1,2,3,4,5,6,7,8,9,10,11,"","",14,15,"","",0,true,true,true,true,true,true,true,true,true,true,true,true,true,true,true,true,false]
[null,{"$f":"'Scheme and Member Information'!B561","v":0},{"$f":"'Scheme and Member Information'!C561","v":0},null,null,null,null,null,null,null,null,"","",null,null,null,null,null,{"$f":"IF(U561,VLOOKUP(MIN(V561:AL561),'Data Validation (hidden)'!$G$2:$H$18,2,FALSE),IF((COUNTA(D561:K561))+(COUNTA(N561:Q561))>0,\"'Scheme Name' missing but values entered in other columns\",\"\"))","v":""},null,false,1,2,3,4,5,6,7,8,9,10,11,"","",14,15,"","",0,true,true,true,true,true,true,true,true,true,true,true,true,true,true,true,true,false]
[null,{"$f":"'Scheme and Member Information'!B562","v":0},{"$f":"'Scheme and Member Information'!C562","v":0},null,null,null,null,null,null,null,null,"","",null,null,null,null,null,{"$f":"IF(U562,VLOOKUP(MIN(V562:AL562),'Data Validation (hidden)'!$G$2:$H$18,2,FALSE),IF((COUNTA(D562:K562))+(COUNTA(N562:Q562))>0,\"'Scheme Name' missing but values entered in other columns\",\"\"))","v":""},null,false,1,2,3,4,5,6,7,8,9,10,11,"","",14,15,"","",0,true,true,true,true,true,true,true,true,true,true,true,true,true,true,true,true,false]
[null,{"$f":"'Scheme and Member Information'!B563","v":0},{"$f":"'Scheme and Member Information'!C563","v":0},null,null,null,null,null,null,null,null,"","",null,null,null,null,null,{"$f":"IF(U563,VLOOKUP(MIN(V563:AL563),'Data Validation (hidden)'!$G$2:$H$18,2,FALSE),IF((COUNTA(D563:K563))+(COUNTA(N563:Q563))>0,\"'Scheme Name' missing but values entered in other columns\",\"\"))","v":""},null,false,1,2,3,4,5,6,7,8,9,10,11,"","",14,15,"","",0,true,true,true,true,true,true,true,true,true,true,true,true,true,true,true,true,false]
[null,{"$f":"'Scheme and Member Information'!B564","v":0},{"$f":"'Scheme and Member Information'!C564","v":0},null,null,null,null,null,null,null,null,"","",null,null,null,null,null,{"$f":"IF(U564,VLOOKUP(MIN(V564:AL564),'Data Validation (hidden)'!$G$2:$H$18,2,FALSE),IF((COUNTA(D564:K564))+(COUNTA(N564:Q564))>0,\"'Scheme Name' missing but values entered in other columns\",\"\"))","v":""},null,false,1,2,3,4,5,6,7,8,9,10,11,"","",14,15,"","",0,true,true,true,true,true,true,true,true,true,true,true,true,true,true,true,true,false]
[null,{"$f":"'Scheme and Member Information'!B565","v":0},{"$f":"'Scheme and Member Information'!C565","v":0},null,null,null,null,null,null,null,null,"","",null,null,null,null,null,{"$f":"IF(U565,VLOOKUP(MIN(V565:AL565),'Data Validation (hidden)'!$G$2:$H$18,2,FALSE),IF((COUNTA(D565:K565))+(COUNTA(N565:Q565))>0,\"'Scheme Name' missing but values entered in other columns\",\"\"))","v":""},null,false,1,2,3,4,5,6,7,8,9,10,11,"","",14,15,"","",0,true,true,true,true,true,true,true,true,true,true,true,true,true,true,true,true,false]
[null,{"$f":"'Scheme and Member Information'!B566","v":0},{"$f":"'Scheme and Member Information'!C566","v":0},null,null,null,null,null,null,null,null,"","",null,null,null,null,null,{"$f":"IF(U566,VLOOKUP(MIN(V566:AL566),'Data Validation (hidden)'!$G$2:$H$18,2,FALSE),IF((COUNTA(D566:K566))+(COUNTA(N566:Q566))>0,\"'Scheme Name' missing but values entered in other columns\",\"\"))","v":""},null,false,1,2,3,4,5,6,7,8,9,10,11,"","",14,15,"","",0,true,true,true,true,true,true,true,true,true,true,true,true,true,true,true,true,false]
[null,{"$f":"'Scheme and Member Information'!B567","v":0},{"$f":"'Scheme and Member Information'!C567","v":0},null,null,null,null,null,null,null,null,"","",null,null,null,null,null,{"$f":"IF(U567,VLOOKUP(MIN(V567:AL567),'Data Validation (hidden)'!$G$2:$H$18,2,FALSE),IF((COUNTA(D567:K567))+(COUNTA(N567:Q567))>0,\"'Scheme Name' missing but values entered in other columns\",\"\"))","v":""},null,false,1,2,3,4,5,6,7,8,9,10,11,"","",14,15,"","",0,true,true,true,true,true,true,true,true,true,true,true,true,true,true,true,true,false]
[null,{"$f":"'Scheme and Member Information'!B568","v":0},{"$f":"'Scheme and Member Information'!C568","v":0},null,null,null,null,null,null,null,null,"","",null,null,null,null,null,{"$f":"IF(U568,VLOOKUP(MIN(V568:AL568),'Data Validation (hidden)'!$G$2:$H$18,2,FALSE),IF((COUNTA(D568:K568))+(COUNTA(N568:Q568))>0,\"'Scheme Name' missing but values entered in other columns\",\"\"))","v":""},null,false,1,2,3,4,5,6,7,8,9,10,11,"","",14,15,"","",0,true,true,true,true,true,true,true,true,true,true,true,true,true,true,true,true,false]
[null,{"$f":"'Scheme and Member Information'!B569","v":0},{"$f":"'Scheme and Member Information'!C569","v":0},null,null,null,null,null,null,null,null,"","",null,null,null,null,null,{"$f":"IF(U569,VLOOKUP(MIN(V569:AL569),'Data Validation (hidden)'!$G$2:$H$18,2,FALSE),IF((COUNTA(D569:K569))+(COUNTA(N569:Q569))>0,\"'Scheme Name' missing but values entered in other columns\",\"\"))","v":""},null,false,1,2,3,4,5,6,7,8,9,10,11,"","",14,15,"","",0,true,true,true,true,true,true,true,true,true,true,true,true,true,true,true,true,false]
[null,{"$f":"'Scheme and Member Information'!B570","v":0},{"$f":"'Scheme and Member Information'!C570","v":0},null,null,null,null,null,null,null,null,"","",null,null,null,null,null,{"$f":"IF(U570,VLOOKUP(MIN(V570:AL570),'Data Validation (hidden)'!$G$2:$H$18,2,FALSE),IF((COUNTA(D570:K570))+(COUNTA(N570:Q570))>0,\"'Scheme Name' missing but values entered in other columns\",\"\"))","v":""},null,false,1,2,3,4,5,6,7,8,9,10,11,"","",14,15,"","",0,true,true,true,true,true,true,true,true,true,true,true,true,true,true,true,true,false]
[null,{"$f":"'Scheme and Member Information'!B571","v":0},{"$f":"'Scheme and Member Information'!C571","v":0},null,null,null,null,null,null,null,null,"","",null,null,null,null,null,{"$f":"IF(U571,VLOOKUP(MIN(V571:AL571),'Data Validation (hidden)'!$G$2:$H$18,2,FALSE),IF((COUNTA(D571:K571))+(COUNTA(N571:Q571))>0,\"'Scheme Name' missing but values entered in other columns\",\"\"))","v":""},null,false,1,2,3,4,5,6,7,8,9,10,11,"","",14,15,"","",0,true,true,true,true,true,true,true,true,true,true,true,true,true,true,true,true,false]
[null,{"$f":"'Scheme and Member Information'!B572","v":0},{"$f":"'Scheme and Member Information'!C572","v":0},null,null,null,null,null,null,null,null,"","",null,null,null,null,null,{"$f":"IF(U572,VLOOKUP(MIN(V572:AL572),'Data Validation (hidden)'!$G$2:$H$18,2,FALSE),IF((COUNTA(D572:K572))+(COUNTA(N572:Q572))>0,\"'Scheme Name' missing but values entered in other columns\",\"\"))","v":""},null,false,1,2,3,4,5,6,7,8,9,10,11,"","",14,15,"","",0,true,true,true,true,true,true,true,true,true,true,true,true,true,true,true,true,false]
[null,{"$f":"'Scheme and Member Information'!B573","v":0},{"$f":"'Scheme and Member Information'!C573","v":0},null,null,null,null,null,null,null,null,"","",null,null,null,null,null,{"$f":"IF(U573,VLOOKUP(MIN(V573:AL573),'Data Validation (hidden)'!$G$2:$H$18,2,FALSE),IF((COUNTA(D573:K573))+(COUNTA(N573:Q573))>0,\"'Scheme Name' missing but values entered in other columns\",\"\"))","v":""},null,false,1,2,3,4,5,6,7,8,9,10,11,"","",14,15,"","",0,true,true,true,true,true,true,true,true,true,true,true,true,true,true,true,true,false]
[null,{"$f":"'Scheme and Member Information'!B574","v":0},{"$f":"'Scheme and Member Information'!C574","v":0},null,null,null,null,null,null,null,null,"","",null,null,null,null,null,{"$f":"IF(U574,VLOOKUP(MIN(V574:AL574),'Data Validation (hidden)'!$G$2:$H$18,2,FALSE),IF((COUNTA(D574:K574))+(COUNTA(N574:Q574))>0,\"'Scheme Name' missing but values entered in other columns\",\"\"))","v":""},null,false,1,2,3,4,5,6,7,8,9,10,11,"","",14,15,"","",0,true,true,true,true,true,true,true,true,true,true,true,true,true,true,true,true,false]
[null,{"$f":"'Scheme and Member Information'!B575","v":0},{"$f":"'Scheme and Member Information'!C575","v":0},null,null,null,null,null,null,null,null,"","",null,null,null,null,null,{"$f":"IF(U575,VLOOKUP(MIN(V575:AL575),'Data Validation (hidden)'!$G$2:$H$18,2,FALSE),IF((COUNTA(D575:K575))+(COUNTA(N575:Q575))>0,\"'Scheme Name' missing but values entered in other columns\",\"\"))","v":""},null,false,1,2,3,4,5,6,7,8,9,10,11,"","",14,15,"","",0,true,true,true,true,true,true,true,true,true,true,true,true,true,true,true,true,false]
[null,{"$f":"'Scheme and Member Information'!B576","v":0},{"$f":"'Scheme and Member Information'!C576","v":0},null,null,null,null,null,null,null,null,"","",null,null,null,null,null,{"$f":"IF(U576,VLOOKUP(MIN(V576:AL576),'Data Validation (hidden)'!$G$2:$H$18,2,FALSE),IF((COUNTA(D576:K576))+(COUNTA(N576:Q576))>0,\"'Scheme Name' missing but values entered in other columns\",\"\"))","v":""},null,false,1,2,3,4,5,6,7,8,9,10,11,"","",14,15,"","",0,true,true,true,true,true,true,true,true,true,true,true,true,true,true,true,true,false]
[null,{"$f":"'Scheme and Member Information'!B577","v":0},{"$f":"'Scheme and Member Information'!C577","v":0},null,null,null,null,null,null,null,null,"","",null,null,null,null,null,{"$f":"IF(U577,VLOOKUP(MIN(V577:AL577),'Data Validation (hidden)'!$G$2:$H$18,2,FALSE),IF((COUNTA(D577:K577))+(COUNTA(N577:Q577))>0,\"'Scheme Name' missing but values entered in other columns\",\"\"))","v":""},null,false,1,2,3,4,5,6,7,8,9,10,11,"","",14,15,"","",0,true,true,true,true,true,true,true,true,true,true,true,true,true,true,true,true,false]
[null,{"$f":"'Scheme and Member Information'!B578","v":0},{"$f":"'Scheme and Member Information'!C578","v":0},null,null,null,null,null,null,null,null,"","",null,null,null,null,null,{"$f":"IF(U578,VLOOKUP(MIN(V578:AL578),'Data Validation (hidden)'!$G$2:$H$18,2,FALSE),IF((COUNTA(D578:K578))+(COUNTA(N578:Q578))>0,\"'Scheme Name' missing but values entered in other columns\",\"\"))","v":""},null,false,1,2,3,4,5,6,7,8,9,10,11,"","",14,15,"","",0,true,true,true,true,true,true,true,true,true,true,true,true,true,true,true,true,false]
[null,{"$f":"'Scheme and Member Information'!B579","v":0},{"$f":"'Scheme and Member Information'!C579","v":0},null,null,null,null,null,null,null,null,"","",null,null,null,null,null,{"$f":"IF(U579,VLOOKUP(MIN(V579:AL579),'Data Validation (hidden)'!$G$2:$H$18,2,FALSE),IF((COUNTA(D579:K579))+(COUNTA(N579:Q579))>0,\"'Scheme Name' missing but values entered in other columns\",\"\"))","v":""},null,false,1,2,3,4,5,6,7,8,9,10,11,"","",14,15,"","",0,true,true,true,true,true,true,true,true,true,true,true,true,true,true,true,true,false]
[null,{"$f":"'Scheme and Member Information'!B580","v":0},{"$f":"'Scheme and Member Information'!C580","v":0},null,null,null,null,null,null,null,null,"","",null,null,null,null,null,{"$f":"IF(U580,VLOOKUP(MIN(V580:AL580),'Data Validation (hidden)'!$G$2:$H$18,2,FALSE),IF((COUNTA(D580:K580))+(COUNTA(N580:Q580))>0,\"'Scheme Name' missing but values entered in other columns\",\"\"))","v":""},null,false,1,2,3,4,5,6,7,8,9,10,11,"","",14,15,"","",0,true,true,true,true,true,true,true,true,true,true,true,true,true,true,true,true,false]
[null,{"$f":"'Scheme and Member Information'!B581","v":0},{"$f":"'Scheme and Member Information'!C581","v":0},null,null,null,null,null,null,null,null,"","",null,null,null,null,null,{"$f":"IF(U581,VLOOKUP(MIN(V581:AL581),'Data Validation (hidden)'!$G$2:$H$18,2,FALSE),IF((COUNTA(D581:K581))+(COUNTA(N581:Q581))>0,\"'Scheme Name' missing but values entered in other columns\",\"\"))","v":""},null,false,1,2,3,4,5,6,7,8,9,10,11,"","",14,15,"","",0,true,true,true,true,true,true,true,true,true,true,true,true,true,true,true,true,false]
[null,{"$f":"'Scheme and Member Information'!B582","v":0},{"$f":"'Scheme and Member Information'!C582","v":0},null,null,null,null,null,null,null,null,"","",null,null,null,null,null,{"$f":"IF(U582,VLOOKUP(MIN(V582:AL582),'Data Validation (hidden)'!$G$2:$H$18,2,FALSE),IF((COUNTA(D582:K582))+(COUNTA(N582:Q582))>0,\"'Scheme Name' missing but values entered in other columns\",\"\"))","v":""},null,false,1,2,3,4,5,6,7,8,9,10,11,"","",14,15,"","",0,true,true,true,true,true,true,true,true,true,true,true,true,true,true,true,true,false]
[null,{"$f":"'Scheme and Member Information'!B583","v":0},{"$f":"'Scheme and Member Information'!C583","v":0},null,null,null,null,null,null,null,null,"","",null,null,null,null,null,{"$f":"IF(U583,VLOOKUP(MIN(V583:AL583),'Data Validation (hidden)'!$G$2:$H$18,2,FALSE),IF((COUNTA(D583:K583))+(COUNTA(N583:Q583))>0,\"'Scheme Name' missing but values entered in other columns\",\"\"))","v":""},null,false,1,2,3,4,5,6,7,8,9,10,11,"","",14,15,"","",0,true,true,true,true,true,true,true,true,true,true,true,true,true,true,true,true,false]
[null,{"$f":"'Scheme and Member Information'!B584","v":0},{"$f":"'Scheme and Member Information'!C584","v":0},null,null,null,null,null,null,null,null,"","",null,null,null,null,null,{"$f":"IF(U584,VLOOKUP(MIN(V584:AL584),'Data Validation (hidden)'!$G$2:$H$18,2,FALSE),IF((COUNTA(D584:K584))+(COUNTA(N584:Q584))>0,\"'Scheme Name' missing but values entered in other columns\",\"\"))","v":""},null,false,1,2,3,4,5,6,7,8,9,10,11,"","",14,15,"","",0,true,true,true,true,true,true,true,true,true,true,true,true,true,true,true,true,{"$f":"IF(S584=\"\",FALSE,IF(S584=\"OK\",FALSE,TRUE))","v":false}]
[null,{"$f":"'Scheme and Member Information'!B585","v":0},{"$f":"'Scheme and Member Information'!C585","v":0},null,null,null,null,null,null,null,null,{"$f":"IF(AND(G585<>\"\",H585<>\"\",I585<>\"\",J585<>\"\",K585<>\"\"),(G585+H585+J585)-(I585+K585),\"\")","v":""},{"$f":"IF((L585=\"\"),\"\",(L585-G585))","v":""},null,null,null,null,null,{"$f":"IF(U585,VLOOKUP(MIN(V585:AL585),'Data Validation (hidden)'!$G$2:$H$18,2,FALSE),IF((COUNTA(D585:K585))+(COUNTA(N585:Q585))>0,\"'Scheme Name' missing but values entered in other columns\",\"\"))","v":""},null,{"$f":"AND(B585<>\"\",B585<>0)","v":false},{"$f":"IF(C585=\"\",1,IF(C585=0,1,\"\"))","v":1},{"$f":"IF(D585=\"\",2,\"\")","v":2},{"$f":"IF(D585=\"No\",\"\",IF(E585=\"\",3,\"\"))","v":3},{"$f":"IF(F585=\"\",4,\"\")","v":4},{"$f":"IF(G585=\"\",5,\"\")","v":5},{"$f":"IF(H585=\"\",6,\"\")","v":6},{"$f":"IF(I585=\"\",7,\"\")","v":7},{"$f":"IF(J585=\"\",8,\"\")","v":8},{"$f":"IF(K585=\"\",9,\"\")","v":9},{"$f":"IF(L585=\"\",10,\"\")","v":10},{"$f":"IF(M585=\"\",11,\"\")","v":11},{"$f":"IF(N585=\"\",IF(AM585<0.14,\"\",12),\"\")","v":""},{"$f":"IF(O585=\"\",IF(L585>999,\"\",13),\"\")","v":""},{"$f":"IF(P585=\"\",14,\"\")","v":14},{"$f":"IF(Q585=\"\",15,\"\")","v":15},{"$f":"IF(COUNT(V585:AJ585)=0,\"10\",\"\")","v":""},{"$f":"IF(AND(AN585,AO585,AP585,AQ585,AR585,AS585,AT585,AU585,AV585,AW585,AX585,AY585,AZ585,BA585,BB585,BC585)=TRUE,\"\",16)","v":""},{"$f":"IF(OR(G585=\"\",L585=\"\",AND(G585=0,L585=0)),0,IF((G585>L585),((G585-L585)/G585),((L585-G585)/G585)))","v":0},{"$f":"IF(CELL(\"format\", B585) = \"G\",TRUE,FALSE)","v":true},{"$f":"IF(CELL(\"format\", C585) = \"F0\",TRUE,FALSE)","v":true},{"$f":"IF(CELL(\"format\", D585) = \"G\",TRUE,FALSE)","v":true},{"$f":"IF(CELL(\"format\", E585) = \"D1\",TRUE,FALSE)","v":true},{"$f":"IF(CELL(\"format\", F585) = \"D1\",TRUE,FALSE)","v":true},{"$f":"IF(CELL(\"format\", G585) = \"C0\",TRUE,FALSE)","v":true},{"$f":"IF(CELL(\"format\", H585) = \"C0\",TRUE,FALSE)","v":true},{"$f":"IF(CELL(\"format\", I585) = \"C0\",TRUE,FALSE)","v":true},{"$f":"IF(CELL(\"format\", J585) = \"C0\",TRUE,FALSE)","v":true},{"$f":"IF(CELL(\"format\", K585) = \"C0\",TRUE,FALSE)","v":true},{"$f":"IF(CELL(\"format\", L585) = \"C0\",TRUE,FALSE)","v":true},{"$f":"IF(CELL(\"format\", M585) = \"C0\",TRUE,FALSE)","v":true},{"$f":"IF(CELL(\"format\", N585) = \"G\",TRUE,FALSE)","v":true},{"$f":"IF(CELL(\"format\", O585) = \"G\",TRUE,FALSE)","v":true},{"$f":"IF(CELL(\"format\", P585) = \"C0\",TRUE,FALSE)","v":true},{"$f":"IF(CELL(\"format\", Q585) = \"C0\",TRUE,FALSE)","v":true},false]
[null,{"$f":"'Scheme and Member Information'!B586","v":0},{"$f":"'Scheme and Member Information'!C586","v":0},null,null,null,null,null,null,null,null,"","",null,null,null,null,null,{"$f":"IF(U586,VLOOKUP(MIN(V586:AL586),'Data Validation (hidden)'!$G$2:$H$18,2,FALSE),IF((COUNTA(D586:K586))+(COUNTA(N586:Q586))>0,\"'Scheme Name' missing but values entered in other columns\",\"\"))","v":""},null,false,1,2,3,4,5,6,7,8,9,10,11,"","",14,15,"","",0,true,true,true,true,true,true,true,true,true,true,true,true,true,true,true,true,false]
[null,{"$f":"'Scheme and Member Information'!B587","v":0},{"$f":"'Scheme and Member Information'!C587","v":0},null,null,null,null,null,null,null,null,"","",null,null,null,null,null,{"$f":"IF(U587,VLOOKUP(MIN(V587:AL587),'Data Validation (hidden)'!$G$2:$H$18,2,FALSE),IF((COUNTA(D587:K587))+(COUNTA(N587:Q587))>0,\"'Scheme Name' missing but values entered in other columns\",\"\"))","v":""},null,false,1,2,3,4,5,6,7,8,9,10,11,"","",14,15,"","",0,true,true,true,true,true,true,true,true,true,true,true,true,true,true,true,true,false]
[null,{"$f":"'Scheme and Member Information'!B588","v":0},{"$f":"'Scheme and Member Information'!C588","v":0},null,null,null,null,null,null,null,null,"","",null,null,null,null,null,{"$f":"IF(U588,VLOOKUP(MIN(V588:AL588),'Data Validation (hidden)'!$G$2:$H$18,2,FALSE),IF((COUNTA(D588:K588))+(COUNTA(N588:Q588))>0,\"'Scheme Name' missing but values entered in other columns\",\"\"))","v":""},null,false,1,2,3,4,5,6,7,8,9,10,11,"","",14,15,"","",0,true,true,true,true,true,true,true,true,true,true,true,true,true,true,true,true,false]
[null,{"$f":"'Scheme and Member Information'!B589","v":0},{"$f":"'Scheme and Member Information'!C589","v":0},null,null,null,null,null,null,null,null,"","",null,null,null,null,null,{"$f":"IF(U589,VLOOKUP(MIN(V589:AL589),'Data Validation (hidden)'!$G$2:$H$18,2,FALSE),IF((COUNTA(D589:K589))+(COUNTA(N589:Q589))>0,\"'Scheme Name' missing but values entered in other columns\",\"\"))","v":""},null,false,1,2,3,4,5,6,7,8,9,10,11,"","",14,15,"","",0,true,true,true,true,true,true,true,true,true,true,true,true,true,true,true,true,false]
[null,{"$f":"'Scheme and Member Information'!B590","v":0},{"$f":"'Scheme and Member Information'!C590","v":0},null,null,null,null,null,null,null,null,"","",null,null,null,null,null,{"$f":"IF(U590,VLOOKUP(MIN(V590:AL590),'Data Validation (hidden)'!$G$2:$H$18,2,FALSE),IF((COUNTA(D590:K590))+(COUNTA(N590:Q590))>0,\"'Scheme Name' missing but values entered in other columns\",\"\"))","v":""},null,false,1,2,3,4,5,6,7,8,9,10,11,"","",14,15,"","",0,true,true,true,true,true,true,true,true,true,true,true,true,true,true,true,true,false]
[null,{"$f":"'Scheme and Member Information'!B591","v":0},{"$f":"'Scheme and Member Information'!C591","v":0},null,null,null,null,null,null,null,null,"","",null,null,null,null,null,{"$f":"IF(U591,VLOOKUP(MIN(V591:AL591),'Data Validation (hidden)'!$G$2:$H$18,2,FALSE),IF((COUNTA(D591:K591))+(COUNTA(N591:Q591))>0,\"'Scheme Name' missing but values entered in other columns\",\"\"))","v":""},null,false,1,2,3,4,5,6,7,8,9,10,11,"","",14,15,"","",0,true,true,true,true,true,true,true,true,true,true,true,true,true,true,true,true,false]
[null,{"$f":"'Scheme and Member Information'!B592","v":0},{"$f":"'Scheme and Member Information'!C592","v":0},null,null,null,null,null,null,null,null,"","",null,null,null,null,null,{"$f":"IF(U592,VLOOKUP(MIN(V592:AL592),'Data Validation (hidden)'!$G$2:$H$18,2,FALSE),IF((COUNTA(D592:K592))+(COUNTA(N592:Q592))>0,\"'Scheme Name' missing but values entered in other columns\",\"\"))","v":""},null,false,1,2,3,4,5,6,7,8,9,10,11,"","",14,15,"","",0,true,true,true,true,true,true,true,true,true,true,true,true,true,true,true,true,false]
[null,{"$f":"'Scheme and Member Information'!B593","v":0},{"$f":"'Scheme and Member Information'!C593","v":0},null,null,null,null,null,null,null,null,"","",null,null,null,null,null,{"$f":"IF(U593,VLOOKUP(MIN(V593:AL593),'Data Validation (hidden)'!$G$2:$H$18,2,FALSE),IF((COUNTA(D593:K593))+(COUNTA(N593:Q593))>0,\"'Scheme Name' missing but values entered in other columns\",\"\"))","v":""},null,false,1,2,3,4,5,6,7,8,9,10,11,"","",14,15,"","",0,true,true,true,true,true,true,true,true,true,true,true,true,true,true,true,true,false]
[null,{"$f":"'Scheme and Member Information'!B594","v":0},{"$f":"'Scheme and Member Information'!C594","v":0},null,null,null,null,null,null,null,null,"","",null,null,null,null,null,{"$f":"IF(U594,VLOOKUP(MIN(V594:AL594),'Data Validation (hidden)'!$G$2:$H$18,2,FALSE),IF((COUNTA(D594:K594))+(COUNTA(N594:Q594))>0,\"'Scheme Name' missing but values entered in other columns\",\"\"))","v":""},null,false,1,2,3,4,5,6,7,8,9,10,11,"","",14,15,"","",0,true,true,true,true,true,true,true,true,true,true,true,true,true,true,true,true,false]
[null,{"$f":"'Scheme and Member Information'!B595","v":0},{"$f":"'Scheme and Member Information'!C595","v":0},null,null,null,null,null,null,null,null,"","",null,null,null,null,null,{"$f":"IF(U595,VLOOKUP(MIN(V595:AL595),'Data Validation (hidden)'!$G$2:$H$18,2,FALSE),IF((COUNTA(D595:K595))+(COUNTA(N595:Q595))>0,\"'Scheme Name' missing but values entered in other columns\",\"\"))","v":""},null,false,1,2,3,4,5,6,7,8,9,10,11,"","",14,15,"","",0,true,true,true,true,true,true,true,true,true,true,true,true,true,true,true,true,false]
[null,{"$f":"'Scheme and Member Information'!B596","v":0},{"$f":"'Scheme and Member Information'!C596","v":0},null,null,null,null,null,null,null,null,"","",null,null,null,null,null,{"$f":"IF(U596,VLOOKUP(MIN(V596:AL596),'Data Validation (hidden)'!$G$2:$H$18,2,FALSE),IF((COUNTA(D596:K596))+(COUNTA(N596:Q596))>0,\"'Scheme Name' missing but values entered in other columns\",\"\"))","v":""},null,false,1,2,3,4,5,6,7,8,9,10,11,"","",14,15,"","",0,true,true,true,true,true,true,true,true,true,true,true,true,true,true,true,true,false]
[null,{"$f":"'Scheme and Member Information'!B597","v":0},{"$f":"'Scheme and Member Information'!C597","v":0},null,null,null,null,null,null,null,null,"","",null,null,null,null,null,{"$f":"IF(U597,VLOOKUP(MIN(V597:AL597),'Data Validation (hidden)'!$G$2:$H$18,2,FALSE),IF((COUNTA(D597:K597))+(COUNTA(N597:Q597))>0,\"'Scheme Name' missing but values entered in other columns\",\"\"))","v":""},null,false,1,2,3,4,5,6,7,8,9,10,11,"","",14,15,"","",0,true,true,true,true,true,true,true,true,true,true,true,true,true,true,true,true,false]
[null,{"$f":"'Scheme and Member Information'!B598","v":0},{"$f":"'Scheme and Member Information'!C598","v":0},null,null,null,null,null,null,null,null,"","",null,null,null,null,null,{"$f":"IF(U598,VLOOKUP(MIN(V598:AL598),'Data Validation (hidden)'!$G$2:$H$18,2,FALSE),IF((COUNTA(D598:K598))+(COUNTA(N598:Q598))>0,\"'Scheme Name' missing but values entered in other columns\",\"\"))","v":""},null,false,1,2,3,4,5,6,7,8,9,10,11,"","",14,15,"","",0,true,true,true,true,true,true,true,true,true,true,true,true,true,true,true,true,false]
[null,{"$f":"'Scheme and Member Information'!B599","v":0},{"$f":"'Scheme and Member Information'!C599","v":0},null,null,null,null,null,null,null,null,"","",null,null,null,null,null,{"$f":"IF(U599,VLOOKUP(MIN(V599:AL599),'Data Validation (hidden)'!$G$2:$H$18,2,FALSE),IF((COUNTA(D599:K599))+(COUNTA(N599:Q599))>0,\"'Scheme Name' missing but values entered in other columns\",\"\"))","v":""},null,false,1,2,3,4,5,6,7,8,9,10,11,"","",14,15,"","",0,true,true,true,true,true,true,true,true,true,true,true,true,true,true,true,true,false]
[null,{"$f":"'Scheme and Member Information'!B600","v":0},{"$f":"'Scheme and Member Information'!C600","v":0},null,null,null,null,null,null,null,null,"","",null,null,null,null,null,{"$f":"IF(U600,VLOOKUP(MIN(V600:AL600),'Data Validation (hidden)'!$G$2:$H$18,2,FALSE),IF((COUNTA(D600:K600))+(COUNTA(N600:Q600))>0,\"'Scheme Name' missing but values entered in other columns\",\"\"))","v":""},null,false,1,2,3,4,5,6,7,8,9,10,11,"","",14,15,"","",0,true,true,true,true,true,true,true,true,true,true,true,true,true,true,true,true,false]
[null,{"$f":"'Scheme and Member Information'!B601","v":0},{"$f":"'Scheme and Member Information'!C601","v":0},null,null,null,null,null,null,null,null,"","",null,null,null,null,null,{"$f":"IF(U601,VLOOKUP(MIN(V601:AL601),'Data Validation (hidden)'!$G$2:$H$18,2,FALSE),IF((COUNTA(D601:K601))+(COUNTA(N601:Q601))>0,\"'Scheme Name' missing but values entered in other columns\",\"\"))","v":""},null,false,1,2,3,4,5,6,7,8,9,10,11,"","",14,15,"","",0,true,true,true,true,true,true,true,true,true,true,true,true,true,true,true,true,false]
[null,{"$f":"'Scheme and Member Information'!B602","v":0},{"$f":"'Scheme and Member Information'!C602","v":0},null,null,null,null,null,null,null,null,"","",null,null,null,null,null,{"$f":"IF(U602,VLOOKUP(MIN(V602:AL602),'Data Validation (hidden)'!$G$2:$H$18,2,FALSE),IF((COUNTA(D602:K602))+(COUNTA(N602:Q602))>0,\"'Scheme Name' missing but values entered in other columns\",\"\"))","v":""},null,false,1,2,3,4,5,6,7,8,9,10,11,"","",14,15,"","",0,true,true,true,true,true,true,true,true,true,true,true,true,true,true,true,true,false]
[null,{"$f":"'Scheme and Member Information'!B603","v":0},{"$f":"'Scheme and Member Information'!C603","v":0},null,null,null,null,null,null,null,null,"","",null,null,null,null,null,{"$f":"IF(U603,VLOOKUP(MIN(V603:AL603),'Data Validation (hidden)'!$G$2:$H$18,2,FALSE),IF((COUNTA(D603:K603))+(COUNTA(N603:Q603))>0,\"'Scheme Name' missing but values entered in other columns\",\"\"))","v":""},null,false,1,2,3,4,5,6,7,8,9,10,11,"","",14,15,"","",0,true,true,true,true,true,true,true,true,true,true,true,true,true,true,true,true,false]
[null,{"$f":"'Scheme and Member Information'!B604","v":0},{"$f":"'Scheme and Member Information'!C604","v":0},null,null,null,null,null,null,null,null,"","",null,null,null,null,null,{"$f":"IF(U604,VLOOKUP(MIN(V604:AL604),'Data Validation (hidden)'!$G$2:$H$18,2,FALSE),IF((COUNTA(D604:K604))+(COUNTA(N604:Q604))>0,\"'Scheme Name' missing but values entered in other columns\",\"\"))","v":""},null,false,1,2,3,4,5,6,7,8,9,10,11,"","",14,15,"","",0,true,true,true,true,true,true,true,true,true,true,true,true,true,true,true,true,false]
[null,{"$f":"'Scheme and Member Information'!B605","v":0},{"$f":"'Scheme and Member Information'!C605","v":0},null,null,null,null,null,null,null,null,"","",null,null,null,null,null,{"$f":"IF(U605,VLOOKUP(MIN(V605:AL605),'Data Validation (hidden)'!$G$2:$H$18,2,FALSE),IF((COUNTA(D605:K605))+(COUNTA(N605:Q605))>0,\"'Scheme Name' missing but values entered in other columns\",\"\"))","v":""},null,false,1,2,3,4,5,6,7,8,9,10,11,"","",14,15,"","",0,true,true,true,true,true,true,true,true,true,true,true,true,true,true,true,true,false]
[null,{"$f":"'Scheme and Member Information'!B606","v":0},{"$f":"'Scheme and Member Information'!C606","v":0},null,null,null,null,null,null,null,null,"","",null,null,null,null,null,{"$f":"IF(U606,VLOOKUP(MIN(V606:AL606),'Data Validation (hidden)'!$G$2:$H$18,2,FALSE),IF((COUNTA(D606:K606))+(COUNTA(N606:Q606))>0,\"'Scheme Name' missing but values entered in other columns\",\"\"))","v":""},null,false,1,2,3,4,5,6,7,8,9,10,11,"","",14,15,"","",0,true,true,true,true,true,true,true,true,true,true,true,true,true,true,true,true,false]
[null,{"$f":"'Scheme and Member Information'!B607","v":0},{"$f":"'Scheme and Member Information'!C607","v":0},null,null,null,null,null,null,null,null,"","",null,null,null,null,null,{"$f":"IF(U607,VLOOKUP(MIN(V607:AL607),'Data Validation (hidden)'!$G$2:$H$18,2,FALSE),IF((COUNTA(D607:K607))+(COUNTA(N607:Q607))>0,\"'Scheme Name' missing but values entered in other columns\",\"\"))","v":""},null,false,1,2,3,4,5,6,7,8,9,10,11,"","",14,15,"","",0,true,true,true,true,true,true,true,true,true,true,true,true,true,true,true,true,false]
[null,{"$f":"'Scheme and Member Information'!B608","v":0},{"$f":"'Scheme and Member Information'!C608","v":0},null,null,null,null,null,null,null,null,"","",null,null,null,null,null,{"$f":"IF(U608,VLOOKUP(MIN(V608:AL608),'Data Validation (hidden)'!$G$2:$H$18,2,FALSE),IF((COUNTA(D608:K608))+(COUNTA(N608:Q608))>0,\"'Scheme Name' missing but values entered in other columns\",\"\"))","v":""},null,false,1,2,3,4,5,6,7,8,9,10,11,"","",14,15,"","",0,true,true,true,true,true,true,true,true,true,true,true,true,true,true,true,true,false]
[null,{"$f":"'Scheme and Member Information'!B609","v":0},{"$f":"'Scheme and Member Information'!C609","v":0},null,null,null,null,null,null,null,null,"","",null,null,null,null,null,{"$f":"IF(U609,VLOOKUP(MIN(V609:AL609),'Data Validation (hidden)'!$G$2:$H$18,2,FALSE),IF((COUNTA(D609:K609))+(COUNTA(N609:Q609))>0,\"'Scheme Name' missing but values entered in other columns\",\"\"))","v":""},null,false,1,2,3,4,5,6,7,8,9,10,11,"","",14,15,"","",0,true,true,true,true,true,true,true,true,true,true,true,true,true,true,true,true,false]
[null,{"$f":"'Scheme and Member Information'!B610","v":0},{"$f":"'Scheme and Member Information'!C610","v":0},null,null,null,null,null,null,null,null,"","",null,null,null,null,null,{"$f":"IF(U610,VLOOKUP(MIN(V610:AL610),'Data Validation (hidden)'!$G$2:$H$18,2,FALSE),IF((COUNTA(D610:K610))+(COUNTA(N610:Q610))>0,\"'Scheme Name' missing but values entered in other columns\",\"\"))","v":""},null,false,1,2,3,4,5,6,7,8,9,10,11,"","",14,15,"","",0,true,true,true,true,true,true,true,true,true,true,true,true,true,true,true,true,false]
[null,{"$f":"'Scheme and Member Information'!B611","v":0},{"$f":"'Scheme and Member Information'!C611","v":0},null,null,null,null,null,null,null,null,"","",null,null,null,null,null,{"$f":"IF(U611,VLOOKUP(MIN(V611:AL611),'Data Validation (hidden)'!$G$2:$H$18,2,FALSE),IF((COUNTA(D611:K611))+(COUNTA(N611:Q611))>0,\"'Scheme Name' missing but values entered in other columns\",\"\"))","v":""},null,false,1,2,3,4,5,6,7,8,9,10,11,"","",14,15,"","",0,true,true,true,true,true,true,true,true,true,true,true,true,true,true,true,true,false]
[null,{"$f":"'Scheme and Member Information'!B612","v":0},{"$f":"'Scheme and Member Information'!C612","v":0},null,null,null,null,null,null,null,null,"","",null,null,null,null,null,{"$f":"IF(U612,VLOOKUP(MIN(V612:AL612),'Data Validation (hidden)'!$G$2:$H$18,2,FALSE),IF((COUNTA(D612:K612))+(COUNTA(N612:Q612))>0,\"'Scheme Name' missing but values entered in other columns\",\"\"))","v":""},null,false,1,2,3,4,5,6,7,8,9,10,11,"","",14,15,"","",0,true,true,true,true,true,true,true,true,true,true,true,true,true,true,true,true,false]
[null,{"$f":"'Scheme and Member Information'!B613","v":0},{"$f":"'Scheme and Member Information'!C613","v":0},null,null,null,null,null,null,null,null,"","",null,null,null,null,null,{"$f":"IF(U613,VLOOKUP(MIN(V613:AL613),'Data Validation (hidden)'!$G$2:$H$18,2,FALSE),IF((COUNTA(D613:K613))+(COUNTA(N613:Q613))>0,\"'Scheme Name' missing but values entered in other columns\",\"\"))","v":""},null,false,1,2,3,4,5,6,7,8,9,10,11,"","",14,15,"","",0,true,true,true,true,true,true,true,true,true,true,true,true,true,true,true,true,false]
[null,{"$f":"'Scheme and Member Information'!B614","v":0},{"$f":"'Scheme and Member Information'!C614","v":0},null,null,null,null,null,null,null,null,"","",null,null,null,null,null,{"$f":"IF(U614,VLOOKUP(MIN(V614:AL614),'Data Validation (hidden)'!$G$2:$H$18,2,FALSE),IF((COUNTA(D614:K614))+(COUNTA(N614:Q614))>0,\"'Scheme Name' missing but values entered in other columns\",\"\"))","v":""},null,false,1,2,3,4,5,6,7,8,9,10,11,"","",14,15,"","",0,true,true,true,true,true,true,true,true,true,true,true,true,true,true,true,true,false]
[null,{"$f":"'Scheme and Member Information'!B615","v":0},{"$f":"'Scheme and Member Information'!C615","v":0},null,null,null,null,null,null,null,null,"","",null,null,null,null,null,{"$f":"IF(U615,VLOOKUP(MIN(V615:AL615),'Data Validation (hidden)'!$G$2:$H$18,2,FALSE),IF((COUNTA(D615:K615))+(COUNTA(N615:Q615))>0,\"'Scheme Name' missing but values entered in other columns\",\"\"))","v":""},null,false,1,2,3,4,5,6,7,8,9,10,11,"","",14,15,"","",0,true,true,true,true,true,true,true,true,true,true,true,true,true,true,true,true,false]
[null,{"$f":"'Scheme and Member Information'!B616","v":0},{"$f":"'Scheme and Member Information'!C616","v":0},null,null,null,null,null,null,null,null,"","",null,null,null,null,null,{"$f":"IF(U616,VLOOKUP(MIN(V616:AL616),'Data Validation (hidden)'!$G$2:$H$18,2,FALSE),IF((COUNTA(D616:K616))+(COUNTA(N616:Q616))>0,\"'Scheme Name' missing but values entered in other columns\",\"\"))","v":""},null,false,1,2,3,4,5,6,7,8,9,10,11,"","",14,15,"","",0,true,true,true,true,true,true,true,true,true,true,true,true,true,true,true,true,false]
[null,{"$f":"'Scheme and Member Information'!B617","v":0},{"$f":"'Scheme and Member Information'!C617","v":0},null,null,null,null,null,null,null,null,"","",null,null,null,null,null,{"$f":"IF(U617,VLOOKUP(MIN(V617:AL617),'Data Validation (hidden)'!$G$2:$H$18,2,FALSE),IF((COUNTA(D617:K617))+(COUNTA(N617:Q617))>0,\"'Scheme Name' missing but values entered in other columns\",\"\"))","v":""},null,false,1,2,3,4,5,6,7,8,9,10,11,"","",14,15,"","",0,true,true,true,true,true,true,true,true,true,true,true,true,true,true,true,true,false]
[null,{"$f":"'Scheme and Member Information'!B618","v":0},{"$f":"'Scheme and Member Information'!C618","v":0},null,null,null,null,null,null,null,null,"","",null,null,null,null,null,{"$f":"IF(U618,VLOOKUP(MIN(V618:AL618),'Data Validation (hidden)'!$G$2:$H$18,2,FALSE),IF((COUNTA(D618:K618))+(COUNTA(N618:Q618))>0,\"'Scheme Name' missing but values entered in other columns\",\"\"))","v":""},null,false,1,2,3,4,5,6,7,8,9,10,11,"","",14,15,"","",0,true,true,true,true,true,true,true,true,true,true,true,true,true,true,true,true,false]
[null,{"$f":"'Scheme and Member Information'!B619","v":0},{"$f":"'Scheme and Member Information'!C619","v":0},null,null,null,null,null,null,null,null,"","",null,null,null,null,null,{"$f":"IF(U619,VLOOKUP(MIN(V619:AL619),'Data Validation (hidden)'!$G$2:$H$18,2,FALSE),IF((COUNTA(D619:K619))+(COUNTA(N619:Q619))>0,\"'Scheme Name' missing but values entered in other columns\",\"\"))","v":""},null,false,1,2,3,4,5,6,7,8,9,10,11,"","",14,15,"","",0,true,true,true,true,true,true,true,true,true,true,true,true,true,true,true,true,false]
[null,{"$f":"'Scheme and Member Information'!B620","v":0},{"$f":"'Scheme and Member Information'!C620","v":0},null,null,null,null,null,null,null,null,"","",null,null,null,null,null,{"$f":"IF(U620,VLOOKUP(MIN(V620:AL620),'Data Validation (hidden)'!$G$2:$H$18,2,FALSE),IF((COUNTA(D620:K620))+(COUNTA(N620:Q620))>0,\"'Scheme Name' missing but values entered in other columns\",\"\"))","v":""},null,false,1,2,3,4,5,6,7,8,9,10,11,"","",14,15,"","",0,true,true,true,true,true,true,true,true,true,true,true,true,true,true,true,true,false]
[null,{"$f":"'Scheme and Member Information'!B621","v":0},{"$f":"'Scheme and Member Information'!C621","v":0},null,null,null,null,null,null,null,null,"","",null,null,null,null,null,{"$f":"IF(U621,VLOOKUP(MIN(V621:AL621),'Data Validation (hidden)'!$G$2:$H$18,2,FALSE),IF((COUNTA(D621:K621))+(COUNTA(N621:Q621))>0,\"'Scheme Name' missing but values entered in other columns\",\"\"))","v":""},null,false,1,2,3,4,5,6,7,8,9,10,11,"","",14,15,"","",0,true,true,true,true,true,true,true,true,true,true,true,true,true,true,true,true,false]
[null,{"$f":"'Scheme and Member Information'!B622","v":0},{"$f":"'Scheme and Member Information'!C622","v":0},null,null,null,null,null,null,null,null,"","",null,null,null,null,null,{"$f":"IF(U622,VLOOKUP(MIN(V622:AL622),'Data Validation (hidden)'!$G$2:$H$18,2,FALSE),IF((COUNTA(D622:K622))+(COUNTA(N622:Q622))>0,\"'Scheme Name' missing but values entered in other columns\",\"\"))","v":""},null,false,1,2,3,4,5,6,7,8,9,10,11,"","",14,15,"","",0,true,true,true,true,true,true,true,true,true,true,true,true,true,true,true,true,false]
[null,{"$f":"'Scheme and Member Information'!B623","v":0},{"$f":"'Scheme and Member Information'!C623","v":0},null,null,null,null,null,null,null,null,"","",null,null,null,null,null,{"$f":"IF(U623,VLOOKUP(MIN(V623:AL623),'Data Validation (hidden)'!$G$2:$H$18,2,FALSE),IF((COUNTA(D623:K623))+(COUNTA(N623:Q623))>0,\"'Scheme Name' missing but values entered in other columns\",\"\"))","v":""},null,false,1,2,3,4,5,6,7,8,9,10,11,"","",14,15,"","",0,true,true,true,true,true,true,true,true,true,true,true,true,true,true,true,true,false]
[null,{"$f":"'Scheme and Member Information'!B624","v":0},{"$f":"'Scheme and Member Information'!C624","v":0},null,null,null,null,null,null,null,null,"","",null,null,null,null,null,{"$f":"IF(U624,VLOOKUP(MIN(V624:AL624),'Data Validation (hidden)'!$G$2:$H$18,2,FALSE),IF((COUNTA(D624:K624))+(COUNTA(N624:Q624))>0,\"'Scheme Name' missing but values entered in other columns\",\"\"))","v":""},null,false,1,2,3,4,5,6,7,8,9,10,11,"","",14,15,"","",0,true,true,true,true,true,true,true,true,true,true,true,true,true,true,true,true,false]
[null,{"$f":"'Scheme and Member Information'!B625","v":0},{"$f":"'Scheme and Member Information'!C625","v":0},null,null,null,null,null,null,null,null,"","",null,null,null,null,null,{"$f":"IF(U625,VLOOKUP(MIN(V625:AL625),'Data Validation (hidden)'!$G$2:$H$18,2,FALSE),IF((COUNTA(D625:K625))+(COUNTA(N625:Q625))>0,\"'Scheme Name' missing but values entered in other columns\",\"\"))","v":""},null,false,1,2,3,4,5,6,7,8,9,10,11,"","",14,15,"","",0,true,true,true,true,true,true,true,true,true,true,true,true,true,true,true,true,false]
[null,{"$f":"'Scheme and Member Information'!B626","v":0},{"$f":"'Scheme and Member Information'!C626","v":0},null,null,null,null,null,null,null,null,"","",null,null,null,null,null,{"$f":"IF(U626,VLOOKUP(MIN(V626:AL626),'Data Validation (hidden)'!$G$2:$H$18,2,FALSE),IF((COUNTA(D626:K626))+(COUNTA(N626:Q626))>0,\"'Scheme Name' missing but values entered in other columns\",\"\"))","v":""},null,false,1,2,3,4,5,6,7,8,9,10,11,"","",14,15,"","",0,true,true,true,true,true,true,true,true,true,true,true,true,true,true,true,true,false]
[null,{"$f":"'Scheme and Member Information'!B627","v":0},{"$f":"'Scheme and Member Information'!C627","v":0},null,null,null,null,null,null,null,null,"","",null,null,null,null,null,{"$f":"IF(U627,VLOOKUP(MIN(V627:AL627),'Data Validation (hidden)'!$G$2:$H$18,2,FALSE),IF((COUNTA(D627:K627))+(COUNTA(N627:Q627))>0,\"'Scheme Name' missing but values entered in other columns\",\"\"))","v":""},null,false,1,2,3,4,5,6,7,8,9,10,11,"","",14,15,"","",0,true,true,true,true,true,true,true,true,true,true,true,true,true,true,true,true,false]
[null,{"$f":"'Scheme and Member Information'!B628","v":0},{"$f":"'Scheme and Member Information'!C628","v":0},null,null,null,null,null,null,null,null,"","",null,null,null,null,null,{"$f":"IF(U628,VLOOKUP(MIN(V628:AL628),'Data Validation (hidden)'!$G$2:$H$18,2,FALSE),IF((COUNTA(D628:K628))+(COUNTA(N628:Q628))>0,\"'Scheme Name' missing but values entered in other columns\",\"\"))","v":""},null,false,1,2,3,4,5,6,7,8,9,10,11,"","",14,15,"","",0,true,true,true,true,true,true,true,true,true,true,true,true,true,true,true,true,false]
[null,{"$f":"'Scheme and Member Information'!B629","v":0},{"$f":"'Scheme and Member Information'!C629","v":0},null,null,null,null,null,null,null,null,"","",null,null,null,null,null,{"$f":"IF(U629,VLOOKUP(MIN(V629:AL629),'Data Validation (hidden)'!$G$2:$H$18,2,FALSE),IF((COUNTA(D629:K629))+(COUNTA(N629:Q629))>0,\"'Scheme Name' missing but values entered in other columns\",\"\"))","v":""},null,false,1,2,3,4,5,6,7,8,9,10,11,"","",14,15,"","",0,true,true,true,true,true,true,true,true,true,true,true,true,true,true,true,true,false]
[null,{"$f":"'Scheme and Member Information'!B630","v":0},{"$f":"'Scheme and Member Information'!C630","v":0},null,null,null,null,null,null,null,null,"","",null,null,null,null,null,{"$f":"IF(U630,VLOOKUP(MIN(V630:AL630),'Data Validation (hidden)'!$G$2:$H$18,2,FALSE),IF((COUNTA(D630:K630))+(COUNTA(N630:Q630))>0,\"'Scheme Name' missing but values entered in other columns\",\"\"))","v":""},null,false,1,2,3,4,5,6,7,8,9,10,11,"","",14,15,"","",0,true,true,true,true,true,true,true,true,true,true,true,true,true,true,true,true,false]
[null,{"$f":"'Scheme and Member Information'!B631","v":0},{"$f":"'Scheme and Member Information'!C631","v":0},null,null,null,null,null,null,null,null,"","",null,null,null,null,null,{"$f":"IF(U631,VLOOKUP(MIN(V631:AL631),'Data Validation (hidden)'!$G$2:$H$18,2,FALSE),IF((COUNTA(D631:K631))+(COUNTA(N631:Q631))>0,\"'Scheme Name' missing but values entered in other columns\",\"\"))","v":""},null,false,1,2,3,4,5,6,7,8,9,10,11,"","",14,15,"","",0,true,true,true,true,true,true,true,true,true,true,true,true,true,true,true,true,false]
[null,{"$f":"'Scheme and Member Information'!B632","v":0},{"$f":"'Scheme and Member Information'!C632","v":0},null,null,null,null,null,null,null,null,"","",null,null,null,null,null,{"$f":"IF(U632,VLOOKUP(MIN(V632:AL632),'Data Validation (hidden)'!$G$2:$H$18,2,FALSE),IF((COUNTA(D632:K632))+(COUNTA(N632:Q632))>0,\"'Scheme Name' missing but values entered in other columns\",\"\"))","v":""},null,false,1,2,3,4,5,6,7,8,9,10,11,"","",14,15,"","",0,true,true,true,true,true,true,true,true,true,true,true,true,true,true,true,true,false]
[null,{"$f":"'Scheme and Member Information'!B633","v":0},{"$f":"'Scheme and Member Information'!C633","v":0},null,null,null,null,null,null,null,null,"","",null,null,null,null,null,{"$f":"IF(U633,VLOOKUP(MIN(V633:AL633),'Data Validation (hidden)'!$G$2:$H$18,2,FALSE),IF((COUNTA(D633:K633))+(COUNTA(N633:Q633))>0,\"'Scheme Name' missing but values entered in other columns\",\"\"))","v":""},null,false,1,2,3,4,5,6,7,8,9,10,11,"","",14,15,"","",0,true,true,true,true,true,true,true,true,true,true,true,true,true,true,true,true,false]
[null,{"$f":"'Scheme and Member Information'!B634","v":0},{"$f":"'Scheme and Member Information'!C634","v":0},null,null,null,null,null,null,null,null,"","",null,null,null,null,null,{"$f":"IF(U634,VLOOKUP(MIN(V634:AL634),'Data Validation (hidden)'!$G$2:$H$18,2,FALSE),IF((COUNTA(D634:K634))+(COUNTA(N634:Q634))>0,\"'Scheme Name' missing but values entered in other columns\",\"\"))","v":""},null,false,1,2,3,4,5,6,7,8,9,10,11,"","",14,15,"","",0,true,true,true,true,true,true,true,true,true,true,true,true,true,true,true,true,false]
[null,{"$f":"'Scheme and Member Information'!B635","v":0},{"$f":"'Scheme and Member Information'!C635","v":0},null,null,null,null,null,null,null,null,"","",null,null,null,null,null,{"$f":"IF(U635,VLOOKUP(MIN(V635:AL635),'Data Validation (hidden)'!$G$2:$H$18,2,FALSE),IF((COUNTA(D635:K635))+(COUNTA(N635:Q635))>0,\"'Scheme Name' missing but values entered in other columns\",\"\"))","v":""},null,false,1,2,3,4,5,6,7,8,9,10,11,"","",14,15,"","",0,true,true,true,true,true,true,true,true,true,true,true,true,true,true,true,true,false]
[null,{"$f":"'Scheme and Member Information'!B636","v":0},{"$f":"'Scheme and Member Information'!C636","v":0},null,null,null,null,null,null,null,null,"","",null,null,null,null,null,{"$f":"IF(U636,VLOOKUP(MIN(V636:AL636),'Data Validation (hidden)'!$G$2:$H$18,2,FALSE),IF((COUNTA(D636:K636))+(COUNTA(N636:Q636))>0,\"'Scheme Name' missing but values entered in other columns\",\"\"))","v":""},null,false,1,2,3,4,5,6,7,8,9,10,11,"","",14,15,"","",0,true,true,true,true,true,true,true,true,true,true,true,true,true,true,true,true,false]
[null,{"$f":"'Scheme and Member Information'!B637","v":0},{"$f":"'Scheme and Member Information'!C637","v":0},null,null,null,null,null,null,null,null,"","",null,null,null,null,null,{"$f":"IF(U637,VLOOKUP(MIN(V637:AL637),'Data Validation (hidden)'!$G$2:$H$18,2,FALSE),IF((COUNTA(D637:K637))+(COUNTA(N637:Q637))>0,\"'Scheme Name' missing but values entered in other columns\",\"\"))","v":""},null,false,1,2,3,4,5,6,7,8,9,10,11,"","",14,15,"","",0,true,true,true,true,true,true,true,true,true,true,true,true,true,true,true,true,false]
[null,{"$f":"'Scheme and Member Information'!B638","v":0},{"$f":"'Scheme and Member Information'!C638","v":0},null,null,null,null,null,null,null,null,"","",null,null,null,null,null,{"$f":"IF(U638,VLOOKUP(MIN(V638:AL638),'Data Validation (hidden)'!$G$2:$H$18,2,FALSE),IF((COUNTA(D638:K638))+(COUNTA(N638:Q638))>0,\"'Scheme Name' missing but values entered in other columns\",\"\"))","v":""},null,false,1,2,3,4,5,6,7,8,9,10,11,"","",14,15,"","",0,true,true,true,true,true,true,true,true,true,true,true,true,true,true,true,true,false]
[null,{"$f":"'Scheme and Member Information'!B639","v":0},{"$f":"'Scheme and Member Information'!C639","v":0},null,null,null,null,null,null,null,null,"","",null,null,null,null,null,{"$f":"IF(U639,VLOOKUP(MIN(V639:AL639),'Data Validation (hidden)'!$G$2:$H$18,2,FALSE),IF((COUNTA(D639:K639))+(COUNTA(N639:Q639))>0,\"'Scheme Name' missing but values entered in other columns\",\"\"))","v":""},null,false,1,2,3,4,5,6,7,8,9,10,11,"","",14,15,"","",0,true,true,true,true,true,true,true,true,true,true,true,true,true,true,true,true,false]
[null,{"$f":"'Scheme and Member Information'!B640","v":0},{"$f":"'Scheme and Member Information'!C640","v":0},null,null,null,null,null,null,null,null,"","",null,null,null,null,null,{"$f":"IF(U640,VLOOKUP(MIN(V640:AL640),'Data Validation (hidden)'!$G$2:$H$18,2,FALSE),IF((COUNTA(D640:K640))+(COUNTA(N640:Q640))>0,\"'Scheme Name' missing but values entered in other columns\",\"\"))","v":""},null,false,1,2,3,4,5,6,7,8,9,10,11,"","",14,15,"","",0,true,true,true,true,true,true,true,true,true,true,true,true,true,true,true,true,false]
[null,{"$f":"'Scheme and Member Information'!B641","v":0},{"$f":"'Scheme and Member Information'!C641","v":0},null,null,null,null,null,null,null,null,"","",null,null,null,null,null,{"$f":"IF(U641,VLOOKUP(MIN(V641:AL641),'Data Validation (hidden)'!$G$2:$H$18,2,FALSE),IF((COUNTA(D641:K641))+(COUNTA(N641:Q641))>0,\"'Scheme Name' missing but values entered in other columns\",\"\"))","v":""},null,false,1,2,3,4,5,6,7,8,9,10,11,"","",14,15,"","",0,true,true,true,true,true,true,true,true,true,true,true,true,true,true,true,true,false]
[null,{"$f":"'Scheme and Member Information'!B642","v":0},{"$f":"'Scheme and Member Information'!C642","v":0},null,null,null,null,null,null,null,null,"","",null,null,null,null,null,{"$f":"IF(U642,VLOOKUP(MIN(V642:AL642),'Data Validation (hidden)'!$G$2:$H$18,2,FALSE),IF((COUNTA(D642:K642))+(COUNTA(N642:Q642))>0,\"'Scheme Name' missing but values entered in other columns\",\"\"))","v":""},null,false,1,2,3,4,5,6,7,8,9,10,11,"","",14,15,"","",0,true,true,true,true,true,true,true,true,true,true,true,true,true,true,true,true,false]
[null,{"$f":"'Scheme and Member Information'!B643","v":0},{"$f":"'Scheme and Member Information'!C643","v":0},null,null,null,null,null,null,null,null,"","",null,null,null,null,null,{"$f":"IF(U643,VLOOKUP(MIN(V643:AL643),'Data Validation (hidden)'!$G$2:$H$18,2,FALSE),IF((COUNTA(D643:K643))+(COUNTA(N643:Q643))>0,\"'Scheme Name' missing but values entered in other columns\",\"\"))","v":""},null,false,1,2,3,4,5,6,7,8,9,10,11,"","",14,15,"","",0,true,true,true,true,true,true,true,true,true,true,true,true,true,true,true,true,false]
[null,{"$f":"'Scheme and Member Information'!B644","v":0},{"$f":"'Scheme and Member Information'!C644","v":0},null,null,null,null,null,null,null,null,"","",null,null,null,null,null,{"$f":"IF(U644,VLOOKUP(MIN(V644:AL644),'Data Validation (hidden)'!$G$2:$H$18,2,FALSE),IF((COUNTA(D644:K644))+(COUNTA(N644:Q644))>0,\"'Scheme Name' missing but values entered in other columns\",\"\"))","v":""},null,false,1,2,3,4,5,6,7,8,9,10,11,"","",14,15,"","",0,true,true,true,true,true,true,true,true,true,true,true,true,true,true,true,true,false]
[null,{"$f":"'Scheme and Member Information'!B645","v":0},{"$f":"'Scheme and Member Information'!C645","v":0},null,null,null,null,null,null,null,null,"","",null,null,null,null,null,{"$f":"IF(U645,VLOOKUP(MIN(V645:AL645),'Data Validation (hidden)'!$G$2:$H$18,2,FALSE),IF((COUNTA(D645:K645))+(COUNTA(N645:Q645))>0,\"'Scheme Name' missing but values entered in other columns\",\"\"))","v":""},null,false,1,2,3,4,5,6,7,8,9,10,11,"","",14,15,"","",0,true,true,true,true,true,true,true,true,true,true,true,true,true,true,true,true,false]
[null,{"$f":"'Scheme and Member Information'!B646","v":0},{"$f":"'Scheme and Member Information'!C646","v":0},null,null,null,null,null,null,null,null,"","",null,null,null,null,null,{"$f":"IF(U646,VLOOKUP(MIN(V646:AL646),'Data Validation (hidden)'!$G$2:$H$18,2,FALSE),IF((COUNTA(D646:K646))+(COUNTA(N646:Q646))>0,\"'Scheme Name' missing but values entered in other columns\",\"\"))","v":""},null,false,1,2,3,4,5,6,7,8,9,10,11,"","",14,15,"","",0,true,true,true,true,true,true,true,true,true,true,true,true,true,true,true,true,false]
[null,{"$f":"'Scheme and Member Information'!B647","v":0},{"$f":"'Scheme and Member Information'!C647","v":0},null,null,null,null,null,null,null,null,"","",null,null,null,null,null,{"$f":"IF(U647,VLOOKUP(MIN(V647:AL647),'Data Validation (hidden)'!$G$2:$H$18,2,FALSE),IF((COUNTA(D647:K647))+(COUNTA(N647:Q647))>0,\"'Scheme Name' missing but values entered in other columns\",\"\"))","v":""},null,false,1,2,3,4,5,6,7,8,9,10,11,"","",14,15,"","",0,true,true,true,true,true,true,true,true,true,true,true,true,true,true,true,true,false]
[null,{"$f":"'Scheme and Member Information'!B648","v":0},{"$f":"'Scheme and Member Information'!C648","v":0},null,null,null,null,null,null,null,null,"","",null,null,null,null,null,{"$f":"IF(U648,VLOOKUP(MIN(V648:AL648),'Data Validation (hidden)'!$G$2:$H$18,2,FALSE),IF((COUNTA(D648:K648))+(COUNTA(N648:Q648))>0,\"'Scheme Name' missing but values entered in other columns\",\"\"))","v":""},null,false,1,2,3,4,5,6,7,8,9,10,11,"","",14,15,"","",0,true,true,true,true,true,true,true,true,true,true,true,true,true,true,true,true,{"$f":"IF(S648=\"\",FALSE,IF(S648=\"OK\",FALSE,TRUE))","v":false}]
[null,{"$f":"'Scheme and Member Information'!B649","v":0},{"$f":"'Scheme and Member Information'!C649","v":0},null,null,null,null,null,null,null,null,{"$f":"IF(AND(G649<>\"\",H649<>\"\",I649<>\"\",J649<>\"\",K649<>\"\"),(G649+H649+J649)-(I649+K649),\"\")","v":""},{"$f":"IF((L649=\"\"),\"\",(L649-G649))","v":""},null,null,null,null,null,{"$f":"IF(U649,VLOOKUP(MIN(V649:AL649),'Data Validation (hidden)'!$G$2:$H$18,2,FALSE),IF((COUNTA(D649:K649))+(COUNTA(N649:Q649))>0,\"'Scheme Name' missing but values entered in other columns\",\"\"))","v":""},null,{"$f":"AND(B649<>\"\",B649<>0)","v":false},{"$f":"IF(C649=\"\",1,IF(C649=0,1,\"\"))","v":1},{"$f":"IF(D649=\"\",2,\"\")","v":2},{"$f":"IF(D649=\"No\",\"\",IF(E649=\"\",3,\"\"))","v":3},{"$f":"IF(F649=\"\",4,\"\")","v":4},{"$f":"IF(G649=\"\",5,\"\")","v":5},{"$f":"IF(H649=\"\",6,\"\")","v":6},{"$f":"IF(I649=\"\",7,\"\")","v":7},{"$f":"IF(J649=\"\",8,\"\")","v":8},{"$f":"IF(K649=\"\",9,\"\")","v":9},{"$f":"IF(L649=\"\",10,\"\")","v":10},{"$f":"IF(M649=\"\",11,\"\")","v":11},{"$f":"IF(N649=\"\",IF(AM649<0.14,\"\",12),\"\")","v":""},{"$f":"IF(O649=\"\",IF(L649>999,\"\",13),\"\")","v":""},{"$f":"IF(P649=\"\",14,\"\")","v":14},{"$f":"IF(Q649=\"\",15,\"\")","v":15},{"$f":"IF(COUNT(V649:AJ649)=0,\"10\",\"\")","v":""},{"$f":"IF(AND(AN649,AO649,AP649,AQ649,AR649,AS649,AT649,AU649,AV649,AW649,AX649,AY649,AZ649,BA649,BB649,BC649)=TRUE,\"\",16)","v":""},{"$f":"IF(OR(G649=\"\",L649=\"\",AND(G649=0,L649=0)),0,IF((G649>L649),((G649-L649)/G649),((L649-G649)/G649)))","v":0},{"$f":"IF(CELL(\"format\", B649) = \"G\",TRUE,FALSE)","v":true},{"$f":"IF(CELL(\"format\", C649) = \"F0\",TRUE,FALSE)","v":true},{"$f":"IF(CELL(\"format\", D649) = \"G\",TRUE,FALSE)","v":true},{"$f":"IF(CELL(\"format\", E649) = \"D1\",TRUE,FALSE)","v":true},{"$f":"IF(CELL(\"format\", F649) = \"D1\",TRUE,FALSE)","v":true},{"$f":"IF(CELL(\"format\", G649) = \"C0\",TRUE,FALSE)","v":true},{"$f":"IF(CELL(\"format\", H649) = \"C0\",TRUE,FALSE)","v":true},{"$f":"IF(CELL(\"format\", I649) = \"C0\",TRUE,FALSE)","v":true},{"$f":"IF(CELL(\"format\", J649) = \"C0\",TRUE,FALSE)","v":true},{"$f":"IF(CELL(\"format\", K649) = \"C0\",TRUE,FALSE)","v":true},{"$f":"IF(CELL(\"format\", L649) = \"C0\",TRUE,FALSE)","v":true},{"$f":"IF(CELL(\"format\", M649) = \"C0\",TRUE,FALSE)","v":true},{"$f":"IF(CELL(\"format\", N649) = \"G\",TRUE,FALSE)","v":true},{"$f":"IF(CELL(\"format\", O649) = \"G\",TRUE,FALSE)","v":true},{"$f":"IF(CELL(\"format\", P649) = \"C0\",TRUE,FALSE)","v":true},{"$f":"IF(CELL(\"format\", Q649) = \"C0\",TRUE,FALSE)","v":true},false]
[null,{"$f":"'Scheme and Member Information'!B650","v":0},{"$f":"'Scheme and Member Information'!C650","v":0},null,null,null,null,null,null,null,null,"","",null,null,null,null,null,{"$f":"IF(U650,VLOOKUP(MIN(V650:AL650),'Data Validation (hidden)'!$G$2:$H$18,2,FALSE),IF((COUNTA(D650:K650))+(COUNTA(N650:Q650))>0,\"'Scheme Name' missing but values entered in other columns\",\"\"))","v":""},null,false,1,2,3,4,5,6,7,8,9,10,11,"","",14,15,"","",0,true,true,true,true,true,true,true,true,true,true,true,true,true,true,true,true,false]
[null,{"$f":"'Scheme and Member Information'!B651","v":0},{"$f":"'Scheme and Member Information'!C651","v":0},null,null,null,null,null,null,null,null,"","",null,null,null,null,null,{"$f":"IF(U651,VLOOKUP(MIN(V651:AL651),'Data Validation (hidden)'!$G$2:$H$18,2,FALSE),IF((COUNTA(D651:K651))+(COUNTA(N651:Q651))>0,\"'Scheme Name' missing but values entered in other columns\",\"\"))","v":""},null,false,1,2,3,4,5,6,7,8,9,10,11,"","",14,15,"","",0,true,true,true,true,true,true,true,true,true,true,true,true,true,true,true,true,false]
[null,{"$f":"'Scheme and Member Information'!B652","v":0},{"$f":"'Scheme and Member Information'!C652","v":0},null,null,null,null,null,null,null,null,"","",null,null,null,null,null,{"$f":"IF(U652,VLOOKUP(MIN(V652:AL652),'Data Validation (hidden)'!$G$2:$H$18,2,FALSE),IF((COUNTA(D652:K652))+(COUNTA(N652:Q652))>0,\"'Scheme Name' missing but values entered in other columns\",\"\"))","v":""},null,false,1,2,3,4,5,6,7,8,9,10,11,"","",14,15,"","",0,true,true,true,true,true,true,true,true,true,true,true,true,true,true,true,true,false]
[null,{"$f":"'Scheme and Member Information'!B653","v":0},{"$f":"'Scheme and Member Information'!C653","v":0},null,null,null,null,null,null,null,null,"","",null,null,null,null,null,{"$f":"IF(U653,VLOOKUP(MIN(V653:AL653),'Data Validation (hidden)'!$G$2:$H$18,2,FALSE),IF((COUNTA(D653:K653))+(COUNTA(N653:Q653))>0,\"'Scheme Name' missing but values entered in other columns\",\"\"))","v":""},null,false,1,2,3,4,5,6,7,8,9,10,11,"","",14,15,"","",0,true,true,true,true,true,true,true,true,true,true,true,true,true,true,true,true,false]
[null,{"$f":"'Scheme and Member Information'!B654","v":0},{"$f":"'Scheme and Member Information'!C654","v":0},null,null,null,null,null,null,null,null,"","",null,null,null,null,null,{"$f":"IF(U654,VLOOKUP(MIN(V654:AL654),'Data Validation (hidden)'!$G$2:$H$18,2,FALSE),IF((COUNTA(D654:K654))+(COUNTA(N654:Q654))>0,\"'Scheme Name' missing but values entered in other columns\",\"\"))","v":""},null,false,1,2,3,4,5,6,7,8,9,10,11,"","",14,15,"","",0,true,true,true,true,true,true,true,true,true,true,true,true,true,true,true,true,false]
[null,{"$f":"'Scheme and Member Information'!B655","v":0},{"$f":"'Scheme and Member Information'!C655","v":0},null,null,null,null,null,null,null,null,"","",null,null,null,null,null,{"$f":"IF(U655,VLOOKUP(MIN(V655:AL655),'Data Validation (hidden)'!$G$2:$H$18,2,FALSE),IF((COUNTA(D655:K655))+(COUNTA(N655:Q655))>0,\"'Scheme Name' missing but values entered in other columns\",\"\"))","v":""},null,false,1,2,3,4,5,6,7,8,9,10,11,"","",14,15,"","",0,true,true,true,true,true,true,true,true,true,true,true,true,true,true,true,true,false]
[null,{"$f":"'Scheme and Member Information'!B656","v":0},{"$f":"'Scheme and Member Information'!C656","v":0},null,null,null,null,null,null,null,null,"","",null,null,null,null,null,{"$f":"IF(U656,VLOOKUP(MIN(V656:AL656),'Data Validation (hidden)'!$G$2:$H$18,2,FALSE),IF((COUNTA(D656:K656))+(COUNTA(N656:Q656))>0,\"'Scheme Name' missing but values entered in other columns\",\"\"))","v":""},null,false,1,2,3,4,5,6,7,8,9,10,11,"","",14,15,"","",0,true,true,true,true,true,true,true,true,true,true,true,true,true,true,true,true,false]
[null,{"$f":"'Scheme and Member Information'!B657","v":0},{"$f":"'Scheme and Member Information'!C657","v":0},null,null,null,null,null,null,null,null,"","",null,null,null,null,null,{"$f":"IF(U657,VLOOKUP(MIN(V657:AL657),'Data Validation (hidden)'!$G$2:$H$18,2,FALSE),IF((COUNTA(D657:K657))+(COUNTA(N657:Q657))>0,\"'Scheme Name' missing but values entered in other columns\",\"\"))","v":""},null,false,1,2,3,4,5,6,7,8,9,10,11,"","",14,15,"","",0,true,true,true,true,true,true,true,true,true,true,true,true,true,true,true,true,false]
[null,{"$f":"'Scheme and Member Information'!B658","v":0},{"$f":"'Scheme and Member Information'!C658","v":0},null,null,null,null,null,null,null,null,"","",null,null,null,null,null,{"$f":"IF(U658,VLOOKUP(MIN(V658:AL658),'Data Validation (hidden)'!$G$2:$H$18,2,FALSE),IF((COUNTA(D658:K658))+(COUNTA(N658:Q658))>0,\"'Scheme Name' missing but values entered in other columns\",\"\"))","v":""},null,false,1,2,3,4,5,6,7,8,9,10,11,"","",14,15,"","",0,true,true,true,true,true,true,true,true,true,true,true,true,true,true,true,true,false]
[null,{"$f":"'Scheme and Member Information'!B659","v":0},{"$f":"'Scheme and Member Information'!C659","v":0},null,null,null,null,null,null,null,null,"","",null,null,null,null,null,{"$f":"IF(U659,VLOOKUP(MIN(V659:AL659),'Data Validation (hidden)'!$G$2:$H$18,2,FALSE),IF((COUNTA(D659:K659))+(COUNTA(N659:Q659))>0,\"'Scheme Name' missing but values entered in other columns\",\"\"))","v":""},null,false,1,2,3,4,5,6,7,8,9,10,11,"","",14,15,"","",0,true,true,true,true,true,true,true,true,true,true,true,true,true,true,true,true,false]
[null,{"$f":"'Scheme and Member Information'!B660","v":0},{"$f":"'Scheme and Member Information'!C660","v":0},null,null,null,null,null,null,null,null,"","",null,null,null,null,null,{"$f":"IF(U660,VLOOKUP(MIN(V660:AL660),'Data Validation (hidden)'!$G$2:$H$18,2,FALSE),IF((COUNTA(D660:K660))+(COUNTA(N660:Q660))>0,\"'Scheme Name' missing but values entered in other columns\",\"\"))","v":""},null,false,1,2,3,4,5,6,7,8,9,10,11,"","",14,15,"","",0,true,true,true,true,true,true,true,true,true,true,true,true,true,true,true,true,false]
[null,{"$f":"'Scheme and Member Information'!B661","v":0},{"$f":"'Scheme and Member Information'!C661","v":0},null,null,null,null,null,null,null,null,"","",null,null,null,null,null,{"$f":"IF(U661,VLOOKUP(MIN(V661:AL661),'Data Validation (hidden)'!$G$2:$H$18,2,FALSE),IF((COUNTA(D661:K661))+(COUNTA(N661:Q661))>0,\"'Scheme Name' missing but values entered in other columns\",\"\"))","v":""},null,false,1,2,3,4,5,6,7,8,9,10,11,"","",14,15,"","",0,true,true,true,true,true,true,true,true,true,true,true,true,true,true,true,true,false]
[null,{"$f":"'Scheme and Member Information'!B662","v":0},{"$f":"'Scheme and Member Information'!C662","v":0},null,null,null,null,null,null,null,null,"","",null,null,null,null,null,{"$f":"IF(U662,VLOOKUP(MIN(V662:AL662),'Data Validation (hidden)'!$G$2:$H$18,2,FALSE),IF((COUNTA(D662:K662))+(COUNTA(N662:Q662))>0,\"'Scheme Name' missing but values entered in other columns\",\"\"))","v":""},null,false,1,2,3,4,5,6,7,8,9,10,11,"","",14,15,"","",0,true,true,true,true,true,true,true,true,true,true,true,true,true,true,true,true,false]
[null,{"$f":"'Scheme and Member Information'!B663","v":0},{"$f":"'Scheme and Member Information'!C663","v":0},null,null,null,null,null,null,null,null,"","",null,null,null,null,null,{"$f":"IF(U663,VLOOKUP(MIN(V663:AL663),'Data Validation (hidden)'!$G$2:$H$18,2,FALSE),IF((COUNTA(D663:K663))+(COUNTA(N663:Q663))>0,\"'Scheme Name' missing but values entered in other columns\",\"\"))","v":""},null,false,1,2,3,4,5,6,7,8,9,10,11,"","",14,15,"","",0,true,true,true,true,true,true,true,true,true,true,true,true,true,true,true,true,false]
[null,{"$f":"'Scheme and Member Information'!B664","v":0},{"$f":"'Scheme and Member Information'!C664","v":0},null,null,null,null,null,null,null,null,"","",null,null,null,null,null,{"$f":"IF(U664,VLOOKUP(MIN(V664:AL664),'Data Validation (hidden)'!$G$2:$H$18,2,FALSE),IF((COUNTA(D664:K664))+(COUNTA(N664:Q664))>0,\"'Scheme Name' missing but values entered in other columns\",\"\"))","v":""},null,false,1,2,3,4,5,6,7,8,9,10,11,"","",14,15,"","",0,true,true,true,true,true,true,true,true,true,true,true,true,true,true,true,true,false]
[null,{"$f":"'Scheme and Member Information'!B665","v":0},{"$f":"'Scheme and Member Information'!C665","v":0},null,null,null,null,null,null,null,null,"","",null,null,null,null,null,{"$f":"IF(U665,VLOOKUP(MIN(V665:AL665),'Data Validation (hidden)'!$G$2:$H$18,2,FALSE),IF((COUNTA(D665:K665))+(COUNTA(N665:Q665))>0,\"'Scheme Name' missing but values entered in other columns\",\"\"))","v":""},null,false,1,2,3,4,5,6,7,8,9,10,11,"","",14,15,"","",0,true,true,true,true,true,true,true,true,true,true,true,true,true,true,true,true,false]
[null,{"$f":"'Scheme and Member Information'!B666","v":0},{"$f":"'Scheme and Member Information'!C666","v":0},null,null,null,null,null,null,null,null,"","",null,null,null,null,null,{"$f":"IF(U666,VLOOKUP(MIN(V666:AL666),'Data Validation (hidden)'!$G$2:$H$18,2,FALSE),IF((COUNTA(D666:K666))+(COUNTA(N666:Q666))>0,\"'Scheme Name' missing but values entered in other columns\",\"\"))","v":""},null,false,1,2,3,4,5,6,7,8,9,10,11,"","",14,15,"","",0,true,true,true,true,true,true,true,true,true,true,true,true,true,true,true,true,false]
[null,{"$f":"'Scheme and Member Information'!B667","v":0},{"$f":"'Scheme and Member Information'!C667","v":0},null,null,null,null,null,null,null,null,"","",null,null,null,null,null,{"$f":"IF(U667,VLOOKUP(MIN(V667:AL667),'Data Validation (hidden)'!$G$2:$H$18,2,FALSE),IF((COUNTA(D667:K667))+(COUNTA(N667:Q667))>0,\"'Scheme Name' missing but values entered in other columns\",\"\"))","v":""},null,false,1,2,3,4,5,6,7,8,9,10,11,"","",14,15,"","",0,true,true,true,true,true,true,true,true,true,true,true,true,true,true,true,true,false]
[null,{"$f":"'Scheme and Member Information'!B668","v":0},{"$f":"'Scheme and Member Information'!C668","v":0},null,null,null,null,null,null,null,null,"","",null,null,null,null,null,{"$f":"IF(U668,VLOOKUP(MIN(V668:AL668),'Data Validation (hidden)'!$G$2:$H$18,2,FALSE),IF((COUNTA(D668:K668))+(COUNTA(N668:Q668))>0,\"'Scheme Name' missing but values entered in other columns\",\"\"))","v":""},null,false,1,2,3,4,5,6,7,8,9,10,11,"","",14,15,"","",0,true,true,true,true,true,true,true,true,true,true,true,true,true,true,true,true,false]
[null,{"$f":"'Scheme and Member Information'!B669","v":0},{"$f":"'Scheme and Member Information'!C669","v":0},null,null,null,null,null,null,null,null,"","",null,null,null,null,null,{"$f":"IF(U669,VLOOKUP(MIN(V669:AL669),'Data Validation (hidden)'!$G$2:$H$18,2,FALSE),IF((COUNTA(D669:K669))+(COUNTA(N669:Q669))>0,\"'Scheme Name' missing but values entered in other columns\",\"\"))","v":""},null,false,1,2,3,4,5,6,7,8,9,10,11,"","",14,15,"","",0,true,true,true,true,true,true,true,true,true,true,true,true,true,true,true,true,false]
[null,{"$f":"'Scheme and Member Information'!B670","v":0},{"$f":"'Scheme and Member Information'!C670","v":0},null,null,null,null,null,null,null,null,"","",null,null,null,null,null,{"$f":"IF(U670,VLOOKUP(MIN(V670:AL670),'Data Validation (hidden)'!$G$2:$H$18,2,FALSE),IF((COUNTA(D670:K670))+(COUNTA(N670:Q670))>0,\"'Scheme Name' missing but values entered in other columns\",\"\"))","v":""},null,false,1,2,3,4,5,6,7,8,9,10,11,"","",14,15,"","",0,true,true,true,true,true,true,true,true,true,true,true,true,true,true,true,true,false]
[null,{"$f":"'Scheme and Member Information'!B671","v":0},{"$f":"'Scheme and Member Information'!C671","v":0},null,null,null,null,null,null,null,null,"","",null,null,null,null,null,{"$f":"IF(U671,VLOOKUP(MIN(V671:AL671),'Data Validation (hidden)'!$G$2:$H$18,2,FALSE),IF((COUNTA(D671:K671))+(COUNTA(N671:Q671))>0,\"'Scheme Name' missing but values entered in other columns\",\"\"))","v":""},null,false,1,2,3,4,5,6,7,8,9,10,11,"","",14,15,"","",0,true,true,true,true,true,true,true,true,true,true,true,true,true,true,true,true,false]
[null,{"$f":"'Scheme and Member Information'!B672","v":0},{"$f":"'Scheme and Member Information'!C672","v":0},null,null,null,null,null,null,null,null,"","",null,null,null,null,null,{"$f":"IF(U672,VLOOKUP(MIN(V672:AL672),'Data Validation (hidden)'!$G$2:$H$18,2,FALSE),IF((COUNTA(D672:K672))+(COUNTA(N672:Q672))>0,\"'Scheme Name' missing but values entered in other columns\",\"\"))","v":""},null,false,1,2,3,4,5,6,7,8,9,10,11,"","",14,15,"","",0,true,true,true,true,true,true,true,true,true,true,true,true,true,true,true,true,false]
[null,{"$f":"'Scheme and Member Information'!B673","v":0},{"$f":"'Scheme and Member Information'!C673","v":0},null,null,null,null,null,null,null,null,"","",null,null,null,null,null,{"$f":"IF(U673,VLOOKUP(MIN(V673:AL673),'Data Validation (hidden)'!$G$2:$H$18,2,FALSE),IF((COUNTA(D673:K673))+(COUNTA(N673:Q673))>0,\"'Scheme Name' missing but values entered in other columns\",\"\"))","v":""},null,false,1,2,3,4,5,6,7,8,9,10,11,"","",14,15,"","",0,true,true,true,true,true,true,true,true,true,true,true,true,true,true,true,true,false]
[null,{"$f":"'Scheme and Member Information'!B674","v":0},{"$f":"'Scheme and Member Information'!C674","v":0},null,null,null,null,null,null,null,null,"","",null,null,null,null,null,{"$f":"IF(U674,VLOOKUP(MIN(V674:AL674),'Data Validation (hidden)'!$G$2:$H$18,2,FALSE),IF((COUNTA(D674:K674))+(COUNTA(N674:Q674))>0,\"'Scheme Name' missing but values entered in other columns\",\"\"))","v":""},null,false,1,2,3,4,5,6,7,8,9,10,11,"","",14,15,"","",0,true,true,true,true,true,true,true,true,true,true,true,true,true,true,true,true,false]
[null,{"$f":"'Scheme and Member Information'!B675","v":0},{"$f":"'Scheme and Member Information'!C675","v":0},null,null,null,null,null,null,null,null,"","",null,null,null,null,null,{"$f":"IF(U675,VLOOKUP(MIN(V675:AL675),'Data Validation (hidden)'!$G$2:$H$18,2,FALSE),IF((COUNTA(D675:K675))+(COUNTA(N675:Q675))>0,\"'Scheme Name' missing but values entered in other columns\",\"\"))","v":""},null,false,1,2,3,4,5,6,7,8,9,10,11,"","",14,15,"","",0,true,true,true,true,true,true,true,true,true,true,true,true,true,true,true,true,false]
[null,{"$f":"'Scheme and Member Information'!B676","v":0},{"$f":"'Scheme and Member Information'!C676","v":0},null,null,null,null,null,null,null,null,"","",null,null,null,null,null,{"$f":"IF(U676,VLOOKUP(MIN(V676:AL676),'Data Validation (hidden)'!$G$2:$H$18,2,FALSE),IF((COUNTA(D676:K676))+(COUNTA(N676:Q676))>0,\"'Scheme Name' missing but values entered in other columns\",\"\"))","v":""},null,false,1,2,3,4,5,6,7,8,9,10,11,"","",14,15,"","",0,true,true,true,true,true,true,true,true,true,true,true,true,true,true,true,true,false]
[null,{"$f":"'Scheme and Member Information'!B677","v":0},{"$f":"'Scheme and Member Information'!C677","v":0},null,null,null,null,null,null,null,null,"","",null,null,null,null,null,{"$f":"IF(U677,VLOOKUP(MIN(V677:AL677),'Data Validation (hidden)'!$G$2:$H$18,2,FALSE),IF((COUNTA(D677:K677))+(COUNTA(N677:Q677))>0,\"'Scheme Name' missing but values entered in other columns\",\"\"))","v":""},null,false,1,2,3,4,5,6,7,8,9,10,11,"","",14,15,"","",0,true,true,true,true,true,true,true,true,true,true,true,true,true,true,true,true,false]
[null,{"$f":"'Scheme and Member Information'!B678","v":0},{"$f":"'Scheme and Member Information'!C678","v":0},null,null,null,null,null,null,null,null,"","",null,null,null,null,null,{"$f":"IF(U678,VLOOKUP(MIN(V678:AL678),'Data Validation (hidden)'!$G$2:$H$18,2,FALSE),IF((COUNTA(D678:K678))+(COUNTA(N678:Q678))>0,\"'Scheme Name' missing but values entered in other columns\",\"\"))","v":""},null,false,1,2,3,4,5,6,7,8,9,10,11,"","",14,15,"","",0,true,true,true,true,true,true,true,true,true,true,true,true,true,true,true,true,false]
[null,{"$f":"'Scheme and Member Information'!B679","v":0},{"$f":"'Scheme and Member Information'!C679","v":0},null,null,null,null,null,null,null,null,"","",null,null,null,null,null,{"$f":"IF(U679,VLOOKUP(MIN(V679:AL679),'Data Validation (hidden)'!$G$2:$H$18,2,FALSE),IF((COUNTA(D679:K679))+(COUNTA(N679:Q679))>0,\"'Scheme Name' missing but values entered in other columns\",\"\"))","v":""},null,false,1,2,3,4,5,6,7,8,9,10,11,"","",14,15,"","",0,true,true,true,true,true,true,true,true,true,true,true,true,true,true,true,true,false]
[null,{"$f":"'Scheme and Member Information'!B680","v":0},{"$f":"'Scheme and Member Information'!C680","v":0},null,null,null,null,null,null,null,null,"","",null,null,null,null,null,{"$f":"IF(U680,VLOOKUP(MIN(V680:AL680),'Data Validation (hidden)'!$G$2:$H$18,2,FALSE),IF((COUNTA(D680:K680))+(COUNTA(N680:Q680))>0,\"'Scheme Name' missing but values entered in other columns\",\"\"))","v":""},null,false,1,2,3,4,5,6,7,8,9,10,11,"","",14,15,"","",0,true,true,true,true,true,true,true,true,true,true,true,true,true,true,true,true,false]
[null,{"$f":"'Scheme and Member Information'!B681","v":0},{"$f":"'Scheme and Member Information'!C681","v":0},null,null,null,null,null,null,null,null,"","",null,null,null,null,null,{"$f":"IF(U681,VLOOKUP(MIN(V681:AL681),'Data Validation (hidden)'!$G$2:$H$18,2,FALSE),IF((COUNTA(D681:K681))+(COUNTA(N681:Q681))>0,\"'Scheme Name' missing but values entered in other columns\",\"\"))","v":""},null,false,1,2,3,4,5,6,7,8,9,10,11,"","",14,15,"","",0,true,true,true,true,true,true,true,true,true,true,true,true,true,true,true,true,false]
[null,{"$f":"'Scheme and Member Information'!B682","v":0},{"$f":"'Scheme and Member Information'!C682","v":0},null,null,null,null,null,null,null,null,"","",null,null,null,null,null,{"$f":"IF(U682,VLOOKUP(MIN(V682:AL682),'Data Validation (hidden)'!$G$2:$H$18,2,FALSE),IF((COUNTA(D682:K682))+(COUNTA(N682:Q682))>0,\"'Scheme Name' missing but values entered in other columns\",\"\"))","v":""},null,false,1,2,3,4,5,6,7,8,9,10,11,"","",14,15,"","",0,true,true,true,true,true,true,true,true,true,true,true,true,true,true,true,true,false]
[null,{"$f":"'Scheme and Member Information'!B683","v":0},{"$f":"'Scheme and Member Information'!C683","v":0},null,null,null,null,null,null,null,null,"","",null,null,null,null,null,{"$f":"IF(U683,VLOOKUP(MIN(V683:AL683),'Data Validation (hidden)'!$G$2:$H$18,2,FALSE),IF((COUNTA(D683:K683))+(COUNTA(N683:Q683))>0,\"'Scheme Name' missing but values entered in other columns\",\"\"))","v":""},null,false,1,2,3,4,5,6,7,8,9,10,11,"","",14,15,"","",0,true,true,true,true,true,true,true,true,true,true,true,true,true,true,true,true,false]
[null,{"$f":"'Scheme and Member Information'!B684","v":0},{"$f":"'Scheme and Member Information'!C684","v":0},null,null,null,null,null,null,null,null,"","",null,null,null,null,null,{"$f":"IF(U684,VLOOKUP(MIN(V684:AL684),'Data Validation (hidden)'!$G$2:$H$18,2,FALSE),IF((COUNTA(D684:K684))+(COUNTA(N684:Q684))>0,\"'Scheme Name' missing but values entered in other columns\",\"\"))","v":""},null,false,1,2,3,4,5,6,7,8,9,10,11,"","",14,15,"","",0,true,true,true,true,true,true,true,true,true,true,true,true,true,true,true,true,false]
[null,{"$f":"'Scheme and Member Information'!B685","v":0},{"$f":"'Scheme and Member Information'!C685","v":0},null,null,null,null,null,null,null,null,"","",null,null,null,null,null,{"$f":"IF(U685,VLOOKUP(MIN(V685:AL685),'Data Validation (hidden)'!$G$2:$H$18,2,FALSE),IF((COUNTA(D685:K685))+(COUNTA(N685:Q685))>0,\"'Scheme Name' missing but values entered in other columns\",\"\"))","v":""},null,false,1,2,3,4,5,6,7,8,9,10,11,"","",14,15,"","",0,true,true,true,true,true,true,true,true,true,true,true,true,true,true,true,true,false]
[null,{"$f":"'Scheme and Member Information'!B686","v":0},{"$f":"'Scheme and Member Information'!C686","v":0},null,null,null,null,null,null,null,null,"","",null,null,null,null,null,{"$f":"IF(U686,VLOOKUP(MIN(V686:AL686),'Data Validation (hidden)'!$G$2:$H$18,2,FALSE),IF((COUNTA(D686:K686))+(COUNTA(N686:Q686))>0,\"'Scheme Name' missing but values entered in other columns\",\"\"))","v":""},null,false,1,2,3,4,5,6,7,8,9,10,11,"","",14,15,"","",0,true,true,true,true,true,true,true,true,true,true,true,true,true,true,true,true,false]
[null,{"$f":"'Scheme and Member Information'!B687","v":0},{"$f":"'Scheme and Member Information'!C687","v":0},null,null,null,null,null,null,null,null,"","",null,null,null,null,null,{"$f":"IF(U687,VLOOKUP(MIN(V687:AL687),'Data Validation (hidden)'!$G$2:$H$18,2,FALSE),IF((COUNTA(D687:K687))+(COUNTA(N687:Q687))>0,\"'Scheme Name' missing but values entered in other columns\",\"\"))","v":""},null,false,1,2,3,4,5,6,7,8,9,10,11,"","",14,15,"","",0,true,true,true,true,true,true,true,true,true,true,true,true,true,true,true,true,false]
[null,{"$f":"'Scheme and Member Information'!B688","v":0},{"$f":"'Scheme and Member Information'!C688","v":0},null,null,null,null,null,null,null,null,"","",null,null,null,null,null,{"$f":"IF(U688,VLOOKUP(MIN(V688:AL688),'Data Validation (hidden)'!$G$2:$H$18,2,FALSE),IF((COUNTA(D688:K688))+(COUNTA(N688:Q688))>0,\"'Scheme Name' missing but values entered in other columns\",\"\"))","v":""},null,false,1,2,3,4,5,6,7,8,9,10,11,"","",14,15,"","",0,true,true,true,true,true,true,true,true,true,true,true,true,true,true,true,true,false]
[null,{"$f":"'Scheme and Member Information'!B689","v":0},{"$f":"'Scheme and Member Information'!C689","v":0},null,null,null,null,null,null,null,null,"","",null,null,null,null,null,{"$f":"IF(U689,VLOOKUP(MIN(V689:AL689),'Data Validation (hidden)'!$G$2:$H$18,2,FALSE),IF((COUNTA(D689:K689))+(COUNTA(N689:Q689))>0,\"'Scheme Name' missing but values entered in other columns\",\"\"))","v":""},null,false,1,2,3,4,5,6,7,8,9,10,11,"","",14,15,"","",0,true,true,true,true,true,true,true,true,true,true,true,true,true,true,true,true,false]
[null,{"$f":"'Scheme and Member Information'!B690","v":0},{"$f":"'Scheme and Member Information'!C690","v":0},null,null,null,null,null,null,null,null,"","",null,null,null,null,null,{"$f":"IF(U690,VLOOKUP(MIN(V690:AL690),'Data Validation (hidden)'!$G$2:$H$18,2,FALSE),IF((COUNTA(D690:K690))+(COUNTA(N690:Q690))>0,\"'Scheme Name' missing but values entered in other columns\",\"\"))","v":""},null,false,1,2,3,4,5,6,7,8,9,10,11,"","",14,15,"","",0,true,true,true,true,true,true,true,true,true,true,true,true,true,true,true,true,false]
[null,{"$f":"'Scheme and Member Information'!B691","v":0},{"$f":"'Scheme and Member Information'!C691","v":0},null,null,null,null,null,null,null,null,"","",null,null,null,null,null,{"$f":"IF(U691,VLOOKUP(MIN(V691:AL691),'Data Validation (hidden)'!$G$2:$H$18,2,FALSE),IF((COUNTA(D691:K691))+(COUNTA(N691:Q691))>0,\"'Scheme Name' missing but values entered in other columns\",\"\"))","v":""},null,false,1,2,3,4,5,6,7,8,9,10,11,"","",14,15,"","",0,true,true,true,true,true,true,true,true,true,true,true,true,true,true,true,true,false]
[null,{"$f":"'Scheme and Member Information'!B692","v":0},{"$f":"'Scheme and Member Information'!C692","v":0},null,null,null,null,null,null,null,null,"","",null,null,null,null,null,{"$f":"IF(U692,VLOOKUP(MIN(V692:AL692),'Data Validation (hidden)'!$G$2:$H$18,2,FALSE),IF((COUNTA(D692:K692))+(COUNTA(N692:Q692))>0,\"'Scheme Name' missing but values entered in other columns\",\"\"))","v":""},null,false,1,2,3,4,5,6,7,8,9,10,11,"","",14,15,"","",0,true,true,true,true,true,true,true,true,true,true,true,true,true,true,true,true,false]
[null,{"$f":"'Scheme and Member Information'!B693","v":0},{"$f":"'Scheme and Member Information'!C693","v":0},null,null,null,null,null,null,null,null,"","",null,null,null,null,null,{"$f":"IF(U693,VLOOKUP(MIN(V693:AL693),'Data Validation (hidden)'!$G$2:$H$18,2,FALSE),IF((COUNTA(D693:K693))+(COUNTA(N693:Q693))>0,\"'Scheme Name' missing but values entered in other columns\",\"\"))","v":""},null,false,1,2,3,4,5,6,7,8,9,10,11,"","",14,15,"","",0,true,true,true,true,true,true,true,true,true,true,true,true,true,true,true,true,false]
[null,{"$f":"'Scheme and Member Information'!B694","v":0},{"$f":"'Scheme and Member Information'!C694","v":0},null,null,null,null,null,null,null,null,"","",null,null,null,null,null,{"$f":"IF(U694,VLOOKUP(MIN(V694:AL694),'Data Validation (hidden)'!$G$2:$H$18,2,FALSE),IF((COUNTA(D694:K694))+(COUNTA(N694:Q694))>0,\"'Scheme Name' missing but values entered in other columns\",\"\"))","v":""},null,false,1,2,3,4,5,6,7,8,9,10,11,"","",14,15,"","",0,true,true,true,true,true,true,true,true,true,true,true,true,true,true,true,true,false]
[null,{"$f":"'Scheme and Member Information'!B695","v":0},{"$f":"'Scheme and Member Information'!C695","v":0},null,null,null,null,null,null,null,null,"","",null,null,null,null,null,{"$f":"IF(U695,VLOOKUP(MIN(V695:AL695),'Data Validation (hidden)'!$G$2:$H$18,2,FALSE),IF((COUNTA(D695:K695))+(COUNTA(N695:Q695))>0,\"'Scheme Name' missing but values entered in other columns\",\"\"))","v":""},null,false,1,2,3,4,5,6,7,8,9,10,11,"","",14,15,"","",0,true,true,true,true,true,true,true,true,true,true,true,true,true,true,true,true,false]
[null,{"$f":"'Scheme and Member Information'!B696","v":0},{"$f":"'Scheme and Member Information'!C696","v":0},null,null,null,null,null,null,null,null,"","",null,null,null,null,null,{"$f":"IF(U696,VLOOKUP(MIN(V696:AL696),'Data Validation (hidden)'!$G$2:$H$18,2,FALSE),IF((COUNTA(D696:K696))+(COUNTA(N696:Q696))>0,\"'Scheme Name' missing but values entered in other columns\",\"\"))","v":""},null,false,1,2,3,4,5,6,7,8,9,10,11,"","",14,15,"","",0,true,true,true,true,true,true,true,true,true,true,true,true,true,true,true,true,false]
[null,{"$f":"'Scheme and Member Information'!B697","v":0},{"$f":"'Scheme and Member Information'!C697","v":0},null,null,null,null,null,null,null,null,"","",null,null,null,null,null,{"$f":"IF(U697,VLOOKUP(MIN(V697:AL697),'Data Validation (hidden)'!$G$2:$H$18,2,FALSE),IF((COUNTA(D697:K697))+(COUNTA(N697:Q697))>0,\"'Scheme Name' missing but values entered in other columns\",\"\"))","v":""},null,false,1,2,3,4,5,6,7,8,9,10,11,"","",14,15,"","",0,true,true,true,true,true,true,true,true,true,true,true,true,true,true,true,true,false]
[null,{"$f":"'Scheme and Member Information'!B698","v":0},{"$f":"'Scheme and Member Information'!C698","v":0},null,null,null,null,null,null,null,null,"","",null,null,null,null,null,{"$f":"IF(U698,VLOOKUP(MIN(V698:AL698),'Data Validation (hidden)'!$G$2:$H$18,2,FALSE),IF((COUNTA(D698:K698))+(COUNTA(N698:Q698))>0,\"'Scheme Name' missing but values entered in other columns\",\"\"))","v":""},null,false,1,2,3,4,5,6,7,8,9,10,11,"","",14,15,"","",0,true,true,true,true,true,true,true,true,true,true,true,true,true,true,true,true,false]
[null,{"$f":"'Scheme and Member Information'!B699","v":0},{"$f":"'Scheme and Member Information'!C699","v":0},null,null,null,null,null,null,null,null,"","",null,null,null,null,null,{"$f":"IF(U699,VLOOKUP(MIN(V699:AL699),'Data Validation (hidden)'!$G$2:$H$18,2,FALSE),IF((COUNTA(D699:K699))+(COUNTA(N699:Q699))>0,\"'Scheme Name' missing but values entered in other columns\",\"\"))","v":""},null,false,1,2,3,4,5,6,7,8,9,10,11,"","",14,15,"","",0,true,true,true,true,true,true,true,true,true,true,true,true,true,true,true,true,false]
[null,{"$f":"'Scheme and Member Information'!B700","v":0},{"$f":"'Scheme and Member Information'!C700","v":0},null,null,null,null,null,null,null,null,"","",null,null,null,null,null,{"$f":"IF(U700,VLOOKUP(MIN(V700:AL700),'Data Validation (hidden)'!$G$2:$H$18,2,FALSE),IF((COUNTA(D700:K700))+(COUNTA(N700:Q700))>0,\"'Scheme Name' missing but values entered in other columns\",\"\"))","v":""},null,false,1,2,3,4,5,6,7,8,9,10,11,"","",14,15,"","",0,true,true,true,true,true,true,true,true,true,true,true,true,true,true,true,true,false]
[null,{"$f":"'Scheme and Member Information'!B701","v":0},{"$f":"'Scheme and Member Information'!C701","v":0},null,null,null,null,null,null,null,null,"","",null,null,null,null,null,{"$f":"IF(U701,VLOOKUP(MIN(V701:AL701),'Data Validation (hidden)'!$G$2:$H$18,2,FALSE),IF((COUNTA(D701:K701))+(COUNTA(N701:Q701))>0,\"'Scheme Name' missing but values entered in other columns\",\"\"))","v":""},null,false,1,2,3,4,5,6,7,8,9,10,11,"","",14,15,"","",0,true,true,true,true,true,true,true,true,true,true,true,true,true,true,true,true,false]
[null,{"$f":"'Scheme and Member Information'!B702","v":0},{"$f":"'Scheme and Member Information'!C702","v":0},null,null,null,null,null,null,null,null,"","",null,null,null,null,null,{"$f":"IF(U702,VLOOKUP(MIN(V702:AL702),'Data Validation (hidden)'!$G$2:$H$18,2,FALSE),IF((COUNTA(D702:K702))+(COUNTA(N702:Q702))>0,\"'Scheme Name' missing but values entered in other columns\",\"\"))","v":""},null,false,1,2,3,4,5,6,7,8,9,10,11,"","",14,15,"","",0,true,true,true,true,true,true,true,true,true,true,true,true,true,true,true,true,false]
[null,{"$f":"'Scheme and Member Information'!B703","v":0},{"$f":"'Scheme and Member Information'!C703","v":0},null,null,null,null,null,null,null,null,"","",null,null,null,null,null,{"$f":"IF(U703,VLOOKUP(MIN(V703:AL703),'Data Validation (hidden)'!$G$2:$H$18,2,FALSE),IF((COUNTA(D703:K703))+(COUNTA(N703:Q703))>0,\"'Scheme Name' missing but values entered in other columns\",\"\"))","v":""},null,false,1,2,3,4,5,6,7,8,9,10,11,"","",14,15,"","",0,true,true,true,true,true,true,true,true,true,true,true,true,true,true,true,true,false]
[null,{"$f":"'Scheme and Member Information'!B704","v":0},{"$f":"'Scheme and Member Information'!C704","v":0},null,null,null,null,null,null,null,null,"","",null,null,null,null,null,{"$f":"IF(U704,VLOOKUP(MIN(V704:AL704),'Data Validation (hidden)'!$G$2:$H$18,2,FALSE),IF((COUNTA(D704:K704))+(COUNTA(N704:Q704))>0,\"'Scheme Name' missing but values entered in other columns\",\"\"))","v":""},null,false,1,2,3,4,5,6,7,8,9,10,11,"","",14,15,"","",0,true,true,true,true,true,true,true,true,true,true,true,true,true,true,true,true,false]
[null,{"$f":"'Scheme and Member Information'!B705","v":0},{"$f":"'Scheme and Member Information'!C705","v":0},null,null,null,null,null,null,null,null,"","",null,null,null,null,null,{"$f":"IF(U705,VLOOKUP(MIN(V705:AL705),'Data Validation (hidden)'!$G$2:$H$18,2,FALSE),IF((COUNTA(D705:K705))+(COUNTA(N705:Q705))>0,\"'Scheme Name' missing but values entered in other columns\",\"\"))","v":""},null,false,1,2,3,4,5,6,7,8,9,10,11,"","",14,15,"","",0,true,true,true,true,true,true,true,true,true,true,true,true,true,true,true,true,false]
[null,{"$f":"'Scheme and Member Information'!B706","v":0},{"$f":"'Scheme and Member Information'!C706","v":0},null,null,null,null,null,null,null,null,"","",null,null,null,null,null,{"$f":"IF(U706,VLOOKUP(MIN(V706:AL706),'Data Validation (hidden)'!$G$2:$H$18,2,FALSE),IF((COUNTA(D706:K706))+(COUNTA(N706:Q706))>0,\"'Scheme Name' missing but values entered in other columns\",\"\"))","v":""},null,false,1,2,3,4,5,6,7,8,9,10,11,"","",14,15,"","",0,true,true,true,true,true,true,true,true,true,true,true,true,true,true,true,true,false]
[null,{"$f":"'Scheme and Member Information'!B707","v":0},{"$f":"'Scheme and Member Information'!C707","v":0},null,null,null,null,null,null,null,null,"","",null,null,null,null,null,{"$f":"IF(U707,VLOOKUP(MIN(V707:AL707),'Data Validation (hidden)'!$G$2:$H$18,2,FALSE),IF((COUNTA(D707:K707))+(COUNTA(N707:Q707))>0,\"'Scheme Name' missing but values entered in other columns\",\"\"))","v":""},null,false,1,2,3,4,5,6,7,8,9,10,11,"","",14,15,"","",0,true,true,true,true,true,true,true,true,true,true,true,true,true,true,true,true,false]
[null,{"$f":"'Scheme and Member Information'!B708","v":0},{"$f":"'Scheme and Member Information'!C708","v":0},null,null,null,null,null,null,null,null,"","",null,null,null,null,null,{"$f":"IF(U708,VLOOKUP(MIN(V708:AL708),'Data Validation (hidden)'!$G$2:$H$18,2,FALSE),IF((COUNTA(D708:K708))+(COUNTA(N708:Q708))>0,\"'Scheme Name' missing but values entered in other columns\",\"\"))","v":""},null,false,1,2,3,4,5,6,7,8,9,10,11,"","",14,15,"","",0,true,true,true,true,true,true,true,true,true,true,true,true,true,true,true,true,false]
[null,{"$f":"'Scheme and Member Information'!B709","v":0},{"$f":"'Scheme and Member Information'!C709","v":0},null,null,null,null,null,null,null,null,"","",null,null,null,null,null,{"$f":"IF(U709,VLOOKUP(MIN(V709:AL709),'Data Validation (hidden)'!$G$2:$H$18,2,FALSE),IF((COUNTA(D709:K709))+(COUNTA(N709:Q709))>0,\"'Scheme Name' missing but values entered in other columns\",\"\"))","v":""},null,false,1,2,3,4,5,6,7,8,9,10,11,"","",14,15,"","",0,true,true,true,true,true,true,true,true,true,true,true,true,true,true,true,true,false]
[null,{"$f":"'Scheme and Member Information'!B710","v":0},{"$f":"'Scheme and Member Information'!C710","v":0},null,null,null,null,null,null,null,null,"","",null,null,null,null,null,{"$f":"IF(U710,VLOOKUP(MIN(V710:AL710),'Data Validation (hidden)'!$G$2:$H$18,2,FALSE),IF((COUNTA(D710:K710))+(COUNTA(N710:Q710))>0,\"'Scheme Name' missing but values entered in other columns\",\"\"))","v":""},null,false,1,2,3,4,5,6,7,8,9,10,11,"","",14,15,"","",0,true,true,true,true,true,true,true,true,true,true,true,true,true,true,true,true,false]
[null,{"$f":"'Scheme and Member Information'!B711","v":0},{"$f":"'Scheme and Member Information'!C711","v":0},null,null,null,null,null,null,null,null,"","",null,null,null,null,null,{"$f":"IF(U711,VLOOKUP(MIN(V711:AL711),'Data Validation (hidden)'!$G$2:$H$18,2,FALSE),IF((COUNTA(D711:K711))+(COUNTA(N711:Q711))>0,\"'Scheme Name' missing but values entered in other columns\",\"\"))","v":""},null,false,1,2,3,4,5,6,7,8,9,10,11,"","",14,15,"","",0,true,true,true,true,true,true,true,true,true,true,true,true,true,true,true,true,false]
[null,{"$f":"'Scheme and Member Information'!B712","v":0},{"$f":"'Scheme and Member Information'!C712","v":0},null,null,null,null,null,null,null,null,"","",null,null,null,null,null,{"$f":"IF(U712,VLOOKUP(MIN(V712:AL712),'Data Validation (hidden)'!$G$2:$H$18,2,FALSE),IF((COUNTA(D712:K712))+(COUNTA(N712:Q712))>0,\"'Scheme Name' missing but values entered in other columns\",\"\"))","v":""},null,false,1,2,3,4,5,6,7,8,9,10,11,"","",14,15,"","",0,true,true,true,true,true,true,true,true,true,true,true,true,true,true,true,true,false]
[null,{"$f":"'Scheme and Member Information'!B713","v":0},{"$f":"'Scheme and Member Information'!C713","v":0},null,null,null,null,null,null,null,null,{"$f":"IF(AND(G713<>\"\",H713<>\"\",I713<>\"\",J713<>\"\",K713<>\"\"),(G713+H713+J713)-(I713+K713),\"\")","v":""},{"$f":"IF((L713=\"\"),\"\",(L713-G713))","v":""},null,null,null,null,null,{"$f":"IF(U713,VLOOKUP(MIN(V713:AL713),'Data Validation (hidden)'!$G$2:$H$18,2,FALSE),IF((COUNTA(D713:K713))+(COUNTA(N713:Q713))>0,\"'Scheme Name' missing but values entered in other columns\",\"\"))","v":""},null,{"$f":"AND(B713<>\"\",B713<>0)","v":false},{"$f":"IF(C713=\"\",1,IF(C713=0,1,\"\"))","v":1},{"$f":"IF(D713=\"\",2,\"\")","v":2},{"$f":"IF(D713=\"No\",\"\",IF(E713=\"\",3,\"\"))","v":3},{"$f":"IF(F713=\"\",4,\"\")","v":4},{"$f":"IF(G713=\"\",5,\"\")","v":5},{"$f":"IF(H713=\"\",6,\"\")","v":6},{"$f":"IF(I713=\"\",7,\"\")","v":7},{"$f":"IF(J713=\"\",8,\"\")","v":8},{"$f":"IF(K713=\"\",9,\"\")","v":9},{"$f":"IF(L713=\"\",10,\"\")","v":10},{"$f":"IF(M713=\"\",11,\"\")","v":11},{"$f":"IF(N713=\"\",IF(AM713<0.14,\"\",12),\"\")","v":""},{"$f":"IF(O713=\"\",IF(L713>999,\"\",13),\"\")","v":""},{"$f":"IF(P713=\"\",14,\"\")","v":14},{"$f":"IF(Q713=\"\",15,\"\")","v":15},{"$f":"IF(COUNT(V713:AJ713)=0,\"10\",\"\")","v":""},{"$f":"IF(AND(AN713,AO713,AP713,AQ713,AR713,AS713,AT713,AU713,AV713,AW713,AX713,AY713,AZ713,BA713,BB713,BC713)=TRUE,\"\",16)","v":""},{"$f":"IF(OR(G713=\"\",L713=\"\",AND(G713=0,L713=0)),0,IF((G713>L713),((G713-L713)/G713),((L713-G713)/G713)))","v":0},{"$f":"IF(CELL(\"format\", B713) = \"G\",TRUE,FALSE)","v":true},{"$f":"IF(CELL(\"format\", C713) = \"F0\",TRUE,FALSE)","v":true},{"$f":"IF(CELL(\"format\", D713) = \"G\",TRUE,FALSE)","v":true},{"$f":"IF(CELL(\"format\", E713) = \"D1\",TRUE,FALSE)","v":true},true,{"$f":"IF(CELL(\"format\", G713) = \"C0\",TRUE,FALSE)","v":true},true,true,true,true,true,true,{"$f":"IF(CELL(\"format\", N713) = \"G\",TRUE,FALSE)","v":true},true,{"$f":"IF(CELL(\"format\", P713) = \"C0\",TRUE,FALSE)","v":true},true,{"$f":"IF(S713=\"\",FALSE,IF(S713=\"OK\",FALSE,TRUE))","v":false}]
[null,{"$f":"'Scheme and Member Information'!B714","v":0},{"$f":"'Scheme and Member Information'!C714","v":0},null,null,null,null,null,null,null,null,{"$f":"IF(AND(G714<>\"\",H714<>\"\",I714<>\"\",J714<>\"\",K714<>\"\"),(G714+H714+J714)-(I714+K714),\"\")","v":""},{"$f":"IF((L714=\"\"),\"\",(L714-G714))","v":""},null,null,null,null,null,{"$f":"IF(U714,VLOOKUP(MIN(V714:AL714),'Data Validation (hidden)'!$G$2:$H$18,2,FALSE),IF((COUNTA(D714:K714))+(COUNTA(N714:Q714))>0,\"'Scheme Name' missing but values entered in other columns\",\"\"))","v":""},null,{"$f":"AND(B714<>\"\",B714<>0)","v":false},{"$f":"IF(C714=\"\",1,IF(C714=0,1,\"\"))","v":1},{"$f":"IF(D714=\"\",2,\"\")","v":2},{"$f":"IF(D714=\"No\",\"\",IF(E714=\"\",3,\"\"))","v":3},{"$f":"IF(F714=\"\",4,\"\")","v":4},{"$f":"IF(G714=\"\",5,\"\")","v":5},{"$f":"IF(H714=\"\",6,\"\")","v":6},{"$f":"IF(I714=\"\",7,\"\")","v":7},{"$f":"IF(J714=\"\",8,\"\")","v":8},{"$f":"IF(K714=\"\",9,\"\")","v":9},{"$f":"IF(L714=\"\",10,\"\")","v":10},{"$f":"IF(M714=\"\",11,\"\")","v":11},{"$f":"IF(N714=\"\",IF(AM714<0.14,\"\",12),\"\")","v":""},{"$f":"IF(O714=\"\",IF(L714>999,\"\",13),\"\")","v":""},{"$f":"IF(P714=\"\",14,\"\")","v":14},{"$f":"IF(Q714=\"\",15,\"\")","v":15},{"$f":"IF(COUNT(V714:AJ714)=0,\"10\",\"\")","v":""},{"$f":"IF(AND(AN714,AO714,AP714,AQ714,AR714,AS714,AT714,AU714,AV714,AW714,AX714,AY714,AZ714,BA714,BB714,BC714)=TRUE,\"\",16)","v":""},0,{"$f":"IF(CELL(\"format\", B714) = \"G\",TRUE,FALSE)","v":true},{"$f":"IF(CELL(\"format\", C714) = \"F0\",TRUE,FALSE)","v":true},{"$f":"IF(CELL(\"format\", D714) = \"G\",TRUE,FALSE)","v":true},true,true,true,true,true,true,true,true,true,true,true,true,true,{"$f":"IF(S714=\"\",FALSE,IF(S714=\"OK\",FALSE,TRUE))","v":false}]
[null,{"$f":"'Scheme and Member Information'!B715","v":0},{"$f":"'Scheme and Member Information'!C715","v":0},null,null,null,null,null,null,null,null,{"$f":"IF(AND(G715<>\"\",H715<>\"\",I715<>\"\",J715<>\"\",K715<>\"\"),(G715+H715+J715)-(I715+K715),\"\")","v":""},{"$f":"IF((L715=\"\"),\"\",(L715-G715))","v":""},null,null,null,null,null,{"$f":"IF(U715,VLOOKUP(MIN(V715:AL715),'Data Validation (hidden)'!$G$2:$H$18,2,FALSE),IF((COUNTA(D715:K715))+(COUNTA(N715:Q715))>0,\"'Scheme Name' missing but values entered in other columns\",\"\"))","v":""},null,{"$f":"AND(B715<>\"\",B715<>0)","v":false},{"$f":"IF(C715=\"\",1,IF(C715=0,1,\"\"))","v":1},{"$f":"IF(D715=\"\",2,\"\")","v":2},{"$f":"IF(D715=\"No\",\"\",IF(E715=\"\",3,\"\"))","v":3},{"$f":"IF(F715=\"\",4,\"\")","v":4},{"$f":"IF(G715=\"\",5,\"\")","v":5},{"$f":"IF(H715=\"\",6,\"\")","v":6},{"$f":"IF(I715=\"\",7,\"\")","v":7},{"$f":"IF(J715=\"\",8,\"\")","v":8},{"$f":"IF(K715=\"\",9,\"\")","v":9},{"$f":"IF(L715=\"\",10,\"\")","v":10},{"$f":"IF(M715=\"\",11,\"\")","v":11},{"$f":"IF(N715=\"\",IF(AM715<0.14,\"\",12),\"\")","v":""},{"$f":"IF(O715=\"\",IF(L715>999,\"\",13),\"\")","v":""},{"$f":"IF(P715=\"\",14,\"\")","v":14},{"$f":"IF(Q715=\"\",15,\"\")","v":15},{"$f":"IF(COUNT(V715:AJ715)=0,\"10\",\"\")","v":""},{"$f":"IF(AND(AN715,AO715,AP715,AQ715,AR715,AS715,AT715,AU715,AV715,AW715,AX715,AY715,AZ715,BA715,BB715,BC715)=TRUE,\"\",16)","v":""},0,{"$f":"IF(CELL(\"format\", B715) = \"G\",TRUE,FALSE)","v":true},{"$f":"IF(CELL(\"format\", C715) = \"F0\",TRUE,FALSE)","v":true},{"$f":"IF(CELL(\"format\", D715) = \"G\",TRUE,FALSE)","v":true},true,true,true,true,true,true,true,true,true,true,true,true,true,{"$f":"IF(S715=\"\",FALSE,IF(S715=\"OK\",FALSE,TRUE))","v":false}]
[null,{"$f":"'Scheme and Member Information'!B716","v":0},{"$f":"'Scheme and Member Information'!C716","v":0},null,null,null,null,null,null,null,null,{"$f":"IF(AND(G716<>\"\",H716<>\"\",I716<>\"\",J716<>\"\",K716<>\"\"),(G716+H716+J716)-(I716+K716),\"\")","v":""},{"$f":"IF((L716=\"\"),\"\",(L716-G716))","v":""},null,null,null,null,null,{"$f":"IF(U716,VLOOKUP(MIN(V716:AL716),'Data Validation (hidden)'!$G$2:$H$18,2,FALSE),IF((COUNTA(D716:K716))+(COUNTA(N716:Q716))>0,\"'Scheme Name' missing but values entered in other columns\",\"\"))","v":""},null,{"$f":"AND(B716<>\"\",B716<>0)","v":false},{"$f":"IF(C716=\"\",1,IF(C716=0,1,\"\"))","v":1},{"$f":"IF(D716=\"\",2,\"\")","v":2},{"$f":"IF(D716=\"No\",\"\",IF(E716=\"\",3,\"\"))","v":3},{"$f":"IF(F716=\"\",4,\"\")","v":4},{"$f":"IF(G716=\"\",5,\"\")","v":5},{"$f":"IF(H716=\"\",6,\"\")","v":6},{"$f":"IF(I716=\"\",7,\"\")","v":7},{"$f":"IF(J716=\"\",8,\"\")","v":8},{"$f":"IF(K716=\"\",9,\"\")","v":9},{"$f":"IF(L716=\"\",10,\"\")","v":10},{"$f":"IF(M716=\"\",11,\"\")","v":11},{"$f":"IF(N716=\"\",IF(AM716<0.14,\"\",12),\"\")","v":""},{"$f":"IF(O716=\"\",IF(L716>999,\"\",13),\"\")","v":""},{"$f":"IF(P716=\"\",14,\"\")","v":14},{"$f":"IF(Q716=\"\",15,\"\")","v":15},{"$f":"IF(COUNT(V716:AJ716)=0,\"10\",\"\")","v":""},{"$f":"IF(AND(AN716,AO716,AP716,AQ716,AR716,AS716,AT716,AU716,AV716,AW716,AX716,AY716,AZ716,BA716,BB716,BC716)=TRUE,\"\",16)","v":""},0,{"$f":"IF(CELL(\"format\", B716) = \"G\",TRUE,FALSE)","v":true},{"$f":"IF(CELL(\"format\", C716) = \"F0\",TRUE,FALSE)","v":true},{"$f":"IF(CELL(\"format\", D716) = \"G\",TRUE,FALSE)","v":true},true,true,true,true,true,true,true,true,true,true,true,true,true,{"$f":"IF(S716=\"\",FALSE,IF(S716=\"OK\",FALSE,TRUE))","v":false}]
[null,{"$f":"'Scheme and Member Information'!B717","v":0},{"$f":"'Scheme and Member Information'!C717","v":0},null,null,null,null,null,null,null,null,{"$f":"IF(AND(G717<>\"\",H717<>\"\",I717<>\"\",J717<>\"\",K717<>\"\"),(G717+H717+J717)-(I717+K717),\"\")","v":""},{"$f":"IF((L717=\"\"),\"\",(L717-G717))","v":""},null,null,null,null,null,{"$f":"IF(U717,VLOOKUP(MIN(V717:AL717),'Data Validation (hidden)'!$G$2:$H$18,2,FALSE),IF((COUNTA(D717:K717))+(COUNTA(N717:Q717))>0,\"'Scheme Name' missing but values entered in other columns\",\"\"))","v":""},null,{"$f":"AND(B717<>\"\",B717<>0)","v":false},{"$f":"IF(C717=\"\",1,IF(C717=0,1,\"\"))","v":1},{"$f":"IF(D717=\"\",2,\"\")","v":2},{"$f":"IF(D717=\"No\",\"\",IF(E717=\"\",3,\"\"))","v":3},{"$f":"IF(F717=\"\",4,\"\")","v":4},{"$f":"IF(G717=\"\",5,\"\")","v":5},{"$f":"IF(H717=\"\",6,\"\")","v":6},{"$f":"IF(I717=\"\",7,\"\")","v":7},{"$f":"IF(J717=\"\",8,\"\")","v":8},{"$f":"IF(K717=\"\",9,\"\")","v":9},{"$f":"IF(L717=\"\",10,\"\")","v":10},{"$f":"IF(M717=\"\",11,\"\")","v":11},{"$f":"IF(N717=\"\",IF(AM717<0.14,\"\",12),\"\")","v":""},{"$f":"IF(O717=\"\",IF(L717>999,\"\",13),\"\")","v":""},{"$f":"IF(P717=\"\",14,\"\")","v":14},{"$f":"IF(Q717=\"\",15,\"\")","v":15},{"$f":"IF(COUNT(V717:AJ717)=0,\"10\",\"\")","v":""},{"$f":"IF(AND(AN717,AO717,AP717,AQ717,AR717,AS717,AT717,AU717,AV717,AW717,AX717,AY717,AZ717,BA717,BB717,BC717)=TRUE,\"\",16)","v":""},0,{"$f":"IF(CELL(\"format\", B717) = \"G\",TRUE,FALSE)","v":true},{"$f":"IF(CELL(\"format\", C717) = \"F0\",TRUE,FALSE)","v":true},{"$f":"IF(CELL(\"format\", D717) = \"G\",TRUE,FALSE)","v":true},true,true,true,true,true,true,true,true,true,true,true,true,true,{"$f":"IF(S717=\"\",FALSE,IF(S717=\"OK\",FALSE,TRUE))","v":false}]
[]
[null,null,null,null,null,null,null,null,null,null,null,null,null,null,null,null,null,null,{"$f":"IF(COUNTA(S8:S717) - COUNTIF(S8:S717,\"OK\") - COUNTIF(S8:S717,\"\") = 0, \"Validation Check Passed\", \"Validation error on row \" & S6)","v":"Validation Check Passed"}]
[]
[null,"HIDDEN BELOW"]
[null,null,null,null,null,null,null,null,null,null,null,{"$f":"IF(AND(G722<>\"\",H722<>\"\",I722<>\"\",J722<>\"\",K722<>\"\"),(G722+H722+J722)-(I722+K722),\"\")","v":""},{"$f":"IF((L722=\"\"),\"\",(L722-G722))","v":""}]
[null,"HIDDEN ABOVE"]

{"sheet":"Investment Information","index":7,"n_rows":723,"n_cols":50,"rows_kept":723,"cut":false,"hidden":false,"merged":[[1,1,1,14],[3,1,3,14],[5,35,5,48],[2,7,2,14],[2,1,2,6]]}
[null,null,null,null,null,null,null,null,null,null,null,null,null,null,null,null,null,null,"Today:",null,null,null,null,null,null,null,{"$f":"TODAY()","v":"2018-12-13"}]
[null,"INVESTMENT INFORMATION",null,null,null,null,null,null,null,null,null,null,null,null,null,null,null,null,"Validation checks (hidden)"]
[null,"Please provide the following Investment Information for the Scheme\n\n1. State whether the Scheme has any active investments. If the Scheme's Market Value is not £0 on the Financial Information sheet, answer 'Yes' to this question.\n\nThe Investments:\n\n2. Cash held at bank\n\n3. Cash funds or money market funds\n\n4. Listed equity\n\n5. Non-listed equity\n\n6. Sovereign, Government & Local Authority Bonds",null,null,null,null,null,"7. Corporate Bonds and Loan notes\n\n8. Directly held physical assets (e.g. property, planes, yachts, gold, jewellery art)\n\n9. Indirectly held physical assets (e.g. exchange traded commodities and REITS)\n\n10. Investment products (including funds, structured products, ETFs, collective investment schemes, UCIS, PIBS, investment trusts)\n\n11. Insurance products (annuity/long term insurance contracts)\n\n12. The Total Market Value of the declared investments at the Reporting Period End in GBP (Automatically calculated field)\n\nNote: The Total Value of the Scheme's investments must equal the Total Market Value of the Scheme."]
[]
[null,null,null,null,null,null,null,null,null,null,null,null,null,null,null,null,{"$f":"IF(COUNTA(Q8:Q717) - COUNTIF(Q8:Q717,\"OK\") - COUNTIF(Q8:Q717,\"\") = 0, \"Validation Check Passed\", \"Validation error on row \" & Q6)","v":"Validation Check Passed"}]
[null,null,null,1,2,3,4,5,6,7,8,9,10,11,12,null,{"$f":"IFERROR(ROW(INDEX(Q8:Q717,MATCH(TRUE,AX8:AX717,0),0)),0)","v":0},null,null,null,null,null,null,null,null,null,null,null,null,null,null,null,null,null,null,"Cell Formatting Checks"]
[null,"Pension Scheme or Gratuity Scheme Name","GFSC Reference (of the Scheme)","Investments\nto\nDeclare","Cash held\nat Bank\n(GBP)","Cash or Money\nMarket Funds\n(GBP)","Listed\nEquity\n(GBP)","Non-listed\nEquity\n(GBP)","Sovereign, Government and\nLocal Authority\nBonds\n(GBP)","Corporate Bonds\nand Loan Notes\n(GBP)","Directly Held\nPhysical Assets\n(GBP)","Indirectly Held\nPhysical Assets\n(GBP)","Investment\nProducts\n(GBP)","Insurance\nProducts\n(GBP)","Total Value\nof Investments\n(GBP)",null,"Validation Check",null,"Has Scheme (Fund) Name","GFSC Ref","Investments","Cash Held\nat Bank","Cash or Money Market Funds","Listed Equity","Non-listed Equity","Sovereign, Government and Local Authority Bonds","Corporate\nBonds and\nLoan Authority\nBonds","Directly Held\nPhysical\nAssets","Indirectly Held Physical Assets","Investment\nProducts","Insurance\nProducts","Total Value of\nInvestments","Total Value of Investments = Total Market Value of Scheme","Validation OK","Formatting error","GFSC Name format valid","GFSC Reference format valid?","Investments","Cash Held at\nBank","Cash or Money Market Funds","Listed Equity","Non-listed Equity","Sovereign, Government and Local Authority Bonds","Corporate Bonds and\nLoan Authority Bonds","Directly Held Physical\nAssets","Indirectly Held Physical Assets","Investment Products","Insurance Products","Total Value of Investments","Error status"]
[null,{"$f":"'Scheme and Member Information'!B8","v":0},{"$f":"'Scheme and Member Information'!C8","v":0},null,null,null,null,null,null,null,null,null,null,null,{"$f":"IF(OR(E8<>\"\",F8<>\"\",G8<>\"\",H8<>\"\",I8<>\"\",J8<>\"\",K8<>\"\",L8<>\"\",M8<>\"\",N8<>\"\"),SUM(E8:N8),\"\")","v":""},null,{"$f":"IF(S8,VLOOKUP(MIN(T8:AI8),'Data Validation (hidden)'!$B$30:$C$45,2,FALSE),IF(COUNTA(D8:N8)>0,\"'Scheme Name' missing but values entered in other columns\",\"\"))","v":""},null,{"$f":"AND(B8<>\"\",B8<>0)","v":false},{"$f":"IF(C8=\"\",1,IF(C8=0,1,\"\"))","v":1},{"$f":"IF(D8=\"\",2,\"\")","v":2},{"$f":"IF(E8=\"\",IF(D8=\"No\",\"\",3),\"\")","v":3},{"$f":"IF(F8=\"\",IF(D8=\"No\",\"\",4),\"\")","v":4},{"$f":"IF(G8=\"\",IF(D8=\"No\",\"\",5),\"\")","v":5},{"$f":"IF(H8=\"\",IF(D8=\"No\",\"\",6),\"\")","v":6},{"$f":"IF(I8=\"\",IF(D8=\"No\",\"\",7),\"\")","v":7},{"$f":"IF(J8=\"\",IF(D8=\"No\",\"\",8),\"\")","v":8},{"$f":"IF(K8=\"\",IF(D8=\"No\",\"\",9),\"\")","v":9},{"$f":"IF(L8=\"\",IF(D8=\"No\",\"\",10),\"\")","v":10},{"$f":"IF(M8=\"\",IF(D8=\"No\",\"\",11),\"\")","v":11},{"$f":"IF(N8=\"\",IF(D8=\"No\",\"\",12),\"\")","v":12},{"$f":"IF(O8=\"\",IF(D8=\"No\",\"\",13),\"\")","v":13},{"$f":"IF(D8=\"Yes\",IF('Financial Information'!$L8=$O8,\"\",14),IF('Financial Information'!$L8=0,\"\",14))","v":14},{"$f":"IF(COUNT(T8:AG8)=0,\"10\",\"\")","v":""},{"$f":"IF(AND(AJ8,AK8,AL8,AM8,AN8,AO8,AP8,AQ8,AR8,AS8,AT8,AU8,AV8,AW8)=TRUE,\"\",15)","v":""},{"$f":"IF(CELL(\"format\", B8) = \"G\",TRUE,FALSE)","v":true},{"$f":"IF(CELL(\"format\", C8) = \"F0\",TRUE,FALSE)","v":true},{"$f":"IF(CELL(\"format\",D3)=\"G\",TRUE,FALSE)","v":true},{"$f":"IF( CELL(\"format\",E8) = \"C0\",TRUE,FALSE)","v":true},{"$f":"IF( CELL(\"format\",F8) = \"C0\",TRUE,FALSE)","v":true},{"$f":"IF( CELL(\"format\",G8) = \"C0\",TRUE,FALSE)","v":true},{"$f":"IF( CELL(\"format\",H8) = \"C0\",TRUE,FALSE)","v":true},{"$f":"IF( CELL(\"format\",I8) = \"C0\",TRUE,FALSE)","v":true},{"$f":"IF( CELL(\"format\",J8) = \"C0\",TRUE,FALSE)","v":true},{"$f":"IF( CELL(\"format\",K8) = \"C0\",TRUE,FALSE)","v":true},{"$f":"IF( CELL(\"format\",L8) = \"C0\",TRUE,FALSE)","v":true},{"$f":"IF( CELL(\"format\",M8) = \"C0\",TRUE,FALSE)","v":true},{"$f":"IF( CELL(\"format\",N8) = \"C0\",TRUE,FALSE)","v":true},{"$f":"IF( CELL(\"format\",O8) = \"C0\",TRUE,FALSE)","v":true},{"$f":"IF(Q8=\"\",FALSE,IF(Q8=\"OK\",FALSE,TRUE))","v":false}]
[null,{"$f":"'Scheme and Member Information'!B9","v":0},{"$f":"'Scheme and Member Information'!C9","v":0},null,null,null,null,null,null,null,null,null,null,null,{"$f":"IF(OR(E9<>\"\",F9<>\"\",G9<>\"\",H9<>\"\",I9<>\"\",J9<>\"\",K9<>\"\",L9<>\"\",M9<>\"\",N9<>\"\"),SUM(E9:N9),\"\")","v":""},null,{"$f":"IF(S9,VLOOKUP(MIN(T9:AI9),'Data Validation (hidden)'!$B$30:$C$45,2,FALSE),IF(COUNTA(D9:N9)>0,\"'Scheme Name' missing but values entered in other columns\",\"\"))","v":""},null,{"$f":"AND(B9<>\"\",B9<>0)","v":false},{"$f":"IF(C9=\"\",1,IF(C9=0,1,\"\"))","v":1},{"$f":"IF(D9=\"\",2,\"\")","v":2},{"$f":"IF(E9=\"\",IF(D9=\"No\",\"\",3),\"\")","v":3},{"$f":"IF(F9=\"\",IF(D9=\"No\",\"\",4),\"\")","v":4},{"$f":"IF(G9=\"\",IF(D9=\"No\",\"\",5),\"\")","v":5},{"$f":"IF(H9=\"\",IF(D9=\"No\",\"\",6),\"\")","v":6},{"$f":"IF(I9=\"\",IF(D9=\"No\",\"\",7),\"\")","v":7},{"$f":"IF(J9=\"\",IF(D9=\"No\",\"\",8),\"\")","v":8},{"$f":"IF(K9=\"\",IF(D9=\"No\",\"\",9),\"\")","v":9},{"$f":"IF(L9=\"\",IF(D9=\"No\",\"\",10),\"\")","v":10},{"$f":"IF(M9=\"\",IF(D9=\"No\",\"\",11),\"\")","v":11},{"$f":"IF(N9=\"\",IF(D9=\"No\",\"\",12),\"\")","v":12},{"$f":"IF(O9=\"\",IF(D9=\"No\",\"\",13),\"\")","v":13},{"$f":"IF(D9=\"Yes\",IF('Financial Information'!$L9=$O9,\"\",14),IF('Financial Information'!$L9=0,\"\",14))","v":14},{"$f":"IF(COUNT(T9:AG9)=0,\"10\",\"\")","v":""},{"$f":"IF(AND(AJ9,AK9,AL9,AM9,AN9,AO9,AP9,AQ9,AR9,AS9,AT9,AU9,AV9,AW9)=TRUE,\"\",15)","v":""},true,true,true,true,true,true,true,true,true,true,true,true,true,true,false]
[null,{"$f":"'Scheme and Member Information'!B10","v":0},{"$f":"'Scheme and Member Information'!C10","v":0},null,null,null,null,null,null,null,null,null,null,null,"",null,{"$f":"IF(S10,VLOOKUP(MIN(T10:AI10),'Data Validation (hidden)'!$B$30:$C$45,2,FALSE),IF(COUNTA(D10:N10)>0,\"'Scheme Name' missing but values entered in other columns\",\"\"))","v":""},null,false,1,2,3,4,5,6,7,8,9,10,11,12,13,{"$f":"IF(D10=\"Yes\",IF('Financial Information'!$L10=$O10,\"\",14),IF('Financial Information'!$L10=0,\"\",14))","v":14},"","",true,true,true,true,true,true,true,true,true,true,true,true,true,true,false]
[null,{"$f":"'Scheme and Member Information'!B11","v":0},{"$f":"'Scheme and Member Information'!C11","v":0},null,null,null,null,null,null,null,null,null,null,null,"",null,{"$f":"IF(S11,VLOOKUP(MIN(T11:AI11),'Data Validation (hidden)'!$B$30:$C$45,2,FALSE),IF(COUNTA(D11:N11)>0,\"'Scheme Name' missing but values entered in other columns\",\"\"))","v":""},null,false,1,2,3,4,5,6,7,8,9,10,11,12,13,{"$f":"IF(D11=\"Yes\",IF('Financial Information'!$L11=$O11,\"\",14),IF('Financial Information'!$L11=0,\"\",14))","v":14},"","",true,true,true,true,true,true,true,true,true,true,true,true,true,true,false]
[null,{"$f":"'Scheme and Member Information'!B12","v":0},{"$f":"'Scheme and Member Information'!C12","v":0},null,null,null,null,null,null,null,null,null,null,null,"",null,{"$f":"IF(S12,VLOOKUP(MIN(T12:AI12),'Data Validation (hidden)'!$B$30:$C$45,2,FALSE),IF(COUNTA(D12:N12)>0,\"'Scheme Name' missing but values entered in other columns\",\"\"))","v":""},null,false,1,2,3,4,5,6,7,8,9,10,11,12,13,{"$f":"IF(D12=\"Yes\",IF('Financial Information'!$L12=$O12,\"\",14),IF('Financial Information'!$L12=0,\"\",14))","v":14},"","",true,true,true,true,true,true,true,true,true,true,true,true,true,true,false]
[null,{"$f":"'Scheme and Member Information'!B13","v":0},{"$f":"'Scheme and Member Information'!C13","v":0},null,null,null,null,null,null,null,null,null,null,null,"",null,{"$f":"IF(S13,VLOOKUP(MIN(T13:AI13),'Data Validation (hidden)'!$B$30:$C$45,2,FALSE),IF(COUNTA(D13:N13)>0,\"'Scheme Name' missing but values entered in other columns\",\"\"))","v":""},null,false,1,2,3,4,5,6,7,8,9,10,11,12,13,{"$f":"IF(D13=\"Yes\",IF('Financial Information'!$L13=$O13,\"\",14),IF('Financial Information'!$L13=0,\"\",14))","v":14},"","",true,true,true,true,true,true,true,true,true,true,true,true,true,true,false]
[null,{"$f":"'Scheme and Member Information'!B14","v":0},{"$f":"'Scheme and Member Information'!C14","v":0},null,null,null,null,null,null,null,null,null,null,null,"",null,{"$f":"IF(S14,VLOOKUP(MIN(T14:AI14),'Data Validation (hidden)'!$B$30:$C$45,2,FALSE),IF(COUNTA(D14:N14)>0,\"'Scheme Name' missing but values entered in other columns\",\"\"))","v":""},null,false,1,2,3,4,5,6,7,8,9,10,11,12,13,{"$f":"IF(D14=\"Yes\",IF('Financial Information'!$L14=$O14,\"\",14),IF('Financial Information'!$L14=0,\"\",14))","v":14},"","",true,true,true,true,true,true,true,true,true,true,true,true,true,true,false]
[null,{"$f":"'Scheme and Member Information'!B15","v":0},{"$f":"'Scheme and Member Information'!C15","v":0},null,null,null,null,null,null,null,null,null,null,null,"",null,{"$f":"IF(S15,VLOOKUP(MIN(T15:AI15),'Data Validation (hidden)'!$B$30:$C$45,2,FALSE),IF(COUNTA(D15:N15)>0,\"'Scheme Name' missing but values entered in other columns\",\"\"))","v":""},null,false,1,2,3,4,5,6,7,8,9,10,11,12,13,{"$f":"IF(D15=\"Yes\",IF('Financial Information'!$L15=$O15,\"\",14),IF('Financial Information'!$L15=0,\"\",14))","v":14},"","",true,true,true,true,true,true,true,true,true,true,true,true,true,true,false]
[null,{"$f":"'Scheme and Member Information'!B16","v":0},{"$f":"'Scheme and Member Information'!C16","v":0},null,null,null,null,null,null,null,null,null,null,null,"",null,{"$f":"IF(S16,VLOOKUP(MIN(T16:AI16),'Data Validation (hidden)'!$B$30:$C$45,2,FALSE),IF(COUNTA(D16:N16)>0,\"'Scheme Name' missing but values entered in other columns\",\"\"))","v":""},null,false,1,2,3,4,5,6,7,8,9,10,11,12,13,{"$f":"IF(D16=\"Yes\",IF('Financial Information'!$L16=$O16,\"\",14),IF('Financial Information'!$L16=0,\"\",14))","v":14},"","",true,true,true,true,true,true,true,true,true,true,true,true,true,true,false]
[null,{"$f":"'Scheme and Member Information'!B17","v":0},{"$f":"'Scheme and Member Information'!C17","v":0},null,null,null,null,null,null,null,null,null,null,null,"",null,{"$f":"IF(S17,VLOOKUP(MIN(T17:AI17),'Data Validation (hidden)'!$B$30:$C$45,2,FALSE),IF(COUNTA(D17:N17)>0,\"'Scheme Name' missing but values entered in other columns\",\"\"))","v":""},null,false,1,2,3,4,5,6,7,8,9,10,11,12,13,{"$f":"IF(D17=\"Yes\",IF('Financial Information'!$L17=$O17,\"\",14),IF('Financial Information'!$L17=0,\"\",14))","v":14},"","",true,true,true,true,true,true,true,true,true,true,true,true,true,true,false]
[null,{"$f":"'Scheme and Member Information'!B18","v":0},{"$f":"'Scheme and Member Information'!C18","v":0},null,null,null,null,null,null,null,null,null,null,null,"",null,{"$f":"IF(S18,VLOOKUP(MIN(T18:AI18),'Data Validation (hidden)'!$B$30:$C$45,2,FALSE),IF(COUNTA(D18:N18)>0,\"'Scheme Name' missing but values entered in other columns\",\"\"))","v":""},null,false,1,2,3,4,5,6,7,8,9,10,11,12,13,{"$f":"IF(D18=\"Yes\",IF('Financial Information'!$L18=$O18,\"\",14),IF('Financial Information'!$L18=0,\"\",14))","v":14},"","",true,true,true,true,true,true,true,true,true,true,true,true,true,true,false]
[null,{"$f":"'Scheme and Member Information'!B19","v":0},{"$f":"'Scheme and Member Information'!C19","v":0},null,null,null,null,null,null,null,null,null,null,null,"",null,{"$f":"IF(S19,VLOOKUP(MIN(T19:AI19),'Data Validation (hidden)'!$B$30:$C$45,2,FALSE),IF(COUNTA(D19:N19)>0,\"'Scheme Name' missing but values entered in other columns\",\"\"))","v":""},null,false,1,2,3,4,5,6,7,8,9,10,11,12,13,{"$f":"IF(D19=\"Yes\",IF('Financial Information'!$L19=$O19,\"\",14),IF('Financial Information'!$L19=0,\"\",14))","v":14},"","",true,true,true,true,true,true,true,true,true,true,true,true,true,true,false]
[null,{"$f":"'Scheme and Member Information'!B20","v":0},{"$f":"'Scheme and Member Information'!C20","v":0},null,null,null,null,null,null,null,null,null,null,null,"",null,{"$f":"IF(S20,VLOOKUP(MIN(T20:AI20),'Data Validation (hidden)'!$B$30:$C$45,2,FALSE),IF(COUNTA(D20:N20)>0,\"'Scheme Name' missing but values entered in other columns\",\"\"))","v":""},null,false,1,2,3,4,5,6,7,8,9,10,11,12,13,{"$f":"IF(D20=\"Yes\",IF('Financial Information'!$L20=$O20,\"\",14),IF('Financial Information'!$L20=0,\"\",14))","v":14},"","",true,true,true,true,true,true,true,true,true,true,true,true,true,true,false]
[null,{"$f":"'Scheme and Member Information'!B21","v":0},{"$f":"'Scheme and Member Information'!C21","v":0},null,null,null,null,null,null,null,null,null,null,null,"",null,{"$f":"IF(S21,VLOOKUP(MIN(T21:AI21),'Data Validation (hidden)'!$B$30:$C$45,2,FALSE),IF(COUNTA(D21:N21)>0,\"'Scheme Name' missing but values entered in other columns\",\"\"))","v":""},null,false,1,2,3,4,5,6,7,8,9,10,11,12,13,{"$f":"IF(D21=\"Yes\",IF('Financial Information'!$L21=$O21,\"\",14),IF('Financial Information'!$L21=0,\"\",14))","v":14},"","",true,true,true,true,true,true,true,true,true,true,true,true,true,true,false]
[null,{"$f":"'Scheme and Member Information'!B22","v":0},{"$f":"'Scheme and Member Information'!C22","v":0},null,null,null,null,null,null,null,null,null,null,null,"",null,{"$f":"IF(S22,VLOOKUP(MIN(T22:AI22),'Data Validation (hidden)'!$B$30:$C$45,2,FALSE),IF(COUNTA(D22:N22)>0,\"'Scheme Name' missing but values entered in other columns\",\"\"))","v":""},null,false,1,2,3,4,5,6,7,8,9,10,11,12,13,{"$f":"IF(D22=\"Yes\",IF('Financial Information'!$L22=$O22,\"\",14),IF('Financial Information'!$L22=0,\"\",14))","v":14},"","",true,true,true,true,true,true,true,true,true,true,true,true,true,true,false]
[null,{"$f":"'Scheme and Member Information'!B23","v":0},{"$f":"'Scheme and Member Information'!C23","v":0},null,null,null,null,null,null,null,null,null,null,null,"",null,{"$f":"IF(S23,VLOOKUP(MIN(T23:AI23),'Data Validation (hidden)'!$B$30:$C$45,2,FALSE),IF(COUNTA(D23:N23)>0,\"'Scheme Name' missing but values entered in other columns\",\"\"))","v":""},null,false,1,2,3,4,5,6,7,8,9,10,11,12,13,{"$f":"IF(D23=\"Yes\",IF('Financial Information'!$L23=$O23,\"\",14),IF('Financial Information'!$L23=0,\"\",14))","v":14},"","",true,true,true,true,true,true,true,true,true,true,true,true,true,true,false]
[null,{"$f":"'Scheme and Member Information'!B24","v":0},{"$f":"'Scheme and Member Information'!C24","v":0},null,null,null,null,null,null,null,null,null,null,null,"",null,{"$f":"IF(S24,VLOOKUP(MIN(T24:AI24),'Data Validation (hidden)'!$B$30:$C$45,2,FALSE),IF(COUNTA(D24:N24)>0,\"'Scheme Name' missing but values entered in other columns\",\"\"))","v":""},null,false,1,2,3,4,5,6,7,8,9,10,11,12,13,{"$f":"IF(D24=\"Yes\",IF('Financial Information'!$L24=$O24,\"\",14),IF('Financial Information'!$L24=0,\"\",14))","v":14},"","",true,true,true,true,true,true,true,true,true,true,true,true,true,true,false]
[null,{"$f":"'Scheme and Member Information'!B25","v":0},{"$f":"'Scheme and Member Information'!C25","v":0},null,null,null,null,null,null,null,null,null,null,null,"",null,{"$f":"IF(S25,VLOOKUP(MIN(T25:AI25),'Data Validation (hidden)'!$B$30:$C$45,2,FALSE),IF(COUNTA(D25:N25)>0,\"'Scheme Name' missing but values entered in other columns\",\"\"))","v":""},null,false,1,2,3,4,5,6,7,8,9,10,11,12,13,{"$f":"IF(D25=\"Yes\",IF('Financial Information'!$L25=$O25,\"\",14),IF('Financial Information'!$L25=0,\"\",14))","v":14},"","",true,true,true,true,true,true,true,true,true,true,true,true,true,true,false]
[null,{"$f":"'Scheme and Member Information'!B26","v":0},{"$f":"'Scheme and Member Information'!C26","v":0},null,null,null,null,null,null,null,null,null,null,null,"",null,{"$f":"IF(S26,VLOOKUP(MIN(T26:AI26),'Data Validation (hidden)'!$B$30:$C$45,2,FALSE),IF(COUNTA(D26:N26)>0,\"'Scheme Name' missing but values entered in other columns\",\"\"))","v":""},null,false,1,2,3,4,5,6,7,8,9,10,11,12,13,{"$f":"IF(D26=\"Yes\",IF('Financial Information'!$L26=$O26,\"\",14),IF('Financial Information'!$L26=0,\"\",14))","v":14},"","",true,true,true,true,true,true,true,true,true,true,true,true,true,true,false]
[null,{"$f":"'Scheme and Member Information'!B27","v":0},{"$f":"'Scheme and Member Information'!C27","v":0},null,null,null,null,null,null,null,null,null,null,null,"",null,{"$f":"IF(S27,VLOOKUP(MIN(T27:AI27),'Data Validation (hidden)'!$B$30:$C$45,2,FALSE),IF(COUNTA(D27:N27)>0,\"'Scheme Name' missing but values entered in other columns\",\"\"))","v":""},null,false,1,2,3,4,5,6,7,8,9,10,11,12,13,{"$f":"IF(D27=\"Yes\",IF('Financial Information'!$L27=$O27,\"\",14),IF('Financial Information'!$L27=0,\"\",14))","v":14},"","",true,true,true,true,true,true,true,true,true,true,true,true,true,true,false]
[null,{"$f":"'Scheme and Member Information'!B28","v":0},{"$f":"'Scheme and Member Information'!C28","v":0},null,null,null,null,null,null,null,null,null,null,null,"",null,{"$f":"IF(S28,VLOOKUP(MIN(T28:AI28),'Data Validation (hidden)'!$B$30:$C$45,2,FALSE),IF(COUNTA(D28:N28)>0,\"'Scheme Name' missing but values entered in other columns\",\"\"))","v":""},null,false,1,2,3,4,5,6,7,8,9,10,11,12,13,{"$f":"IF(D28=\"Yes\",IF('Financial Information'!$L28=$O28,\"\",14),IF('Financial Information'!$L28=0,\"\",14))","v":14},"","",true,true,true,true,true,true,true,true,true,true,true,true,true,true,false]
[null,{"$f":"'Scheme and Member Information'!B29","v":0},{"$f":"'Scheme and Member Information'!C29","v":0},null,null,null,null,null,null,null,null,null,null,null,"",null,{"$f":"IF(S29,VLOOKUP(MIN(T29:AI29),'Data Validation (hidden)'!$B$30:$C$45,2,FALSE),IF(COUNTA(D29:N29)>0,\"'Scheme Name' missing but values entered in other columns\",\"\"))","v":""},null,false,1,2,3,4,5,6,7,8,9,10,11,12,13,{"$f":"IF(D29=\"Yes\",IF('Financial Information'!$L29=$O29,\"\",14),IF('Financial Information'!$L29=0,\"\",14))","v":14},"","",true,true,true,true,true,true,true,true,true,true,true,true,true,true,false]
[null,{"$f":"'Scheme and Member Information'!B30","v":0},{"$f":"'Scheme and Member Information'!C30","v":0},null,null,null,null,null,null,null,null,null,null,null,"",null,{"$f":"IF(S30,VLOOKUP(MIN(T30:AI30),'Data Validation (hidden)'!$B$30:$C$45,2,FALSE),IF(COUNTA(D30:N30)>0,\"'Scheme Name' missing but values entered in other columns\",\"\"))","v":""},null,false,1,2,3,4,5,6,7,8,9,10,11,12,13,{"$f":"IF(D30=\"Yes\",IF('Financial Information'!$L30=$O30,\"\",14),IF('Financial Information'!$L30=0,\"\",14))","v":14},"","",true,true,true,true,true,true,true,true,true,true,true,true,true,true,false]
[null,{"$f":"'Scheme and Member Information'!B31","v":0},{"$f":"'Scheme and Member Information'!C31","v":0},null,null,null,null,null,null,null,null,null,null,null,"",null,{"$f":"IF(S31,VLOOKUP(MIN(T31:AI31),'Data Validation (hidden)'!$B$30:$C$45,2,FALSE),IF(COUNTA(D31:N31)>0,\"'Scheme Name' missing but values entered in other columns\",\"\"))","v":""},null,false,1,2,3,4,5,6,7,8,9,10,11,12,13,{"$f":"IF(D31=\"Yes\",IF('Financial Information'!$L31=$O31,\"\",14),IF('Financial Information'!$L31=0,\"\",14))","v":14},"","",true,true,true,true,true,true,true,true,true,true,true,true,true,true,false]
[null,{"$f":"'Scheme and Member Information'!B32","v":0},{"$f":"'Scheme and Member Information'!C32","v":0},null,null,null,null,null,null,null,null,null,null,null,"",null,{"$f":"IF(S32,VLOOKUP(MIN(T32:AI32),'Data Validation (hidden)'!$B$30:$C$45,2,FALSE),IF(COUNTA(D32:N32)>0,\"'Scheme Name' missing but values entered in other columns\",\"\"))","v":""},null,false,1,2,3,4,5,6,7,8,9,10,11,12,13,{"$f":"IF(D32=\"Yes\",IF('Financial Information'!$L32=$O32,\"\",14),IF('Financial Information'!$L32=0,\"\",14))","v":14},"","",true,true,true,true,true,true,true,true,true,true,true,true,true,true,false]
[null,{"$f":"'Scheme and Member Information'!B33","v":0},{"$f":"'Scheme and Member Information'!C33","v":0},null,null,null,null,null,null,null,null,null,null,null,"",null,{"$f":"IF(S33,VLOOKUP(MIN(T33:AI33),'Data Validation (hidden)'!$B$30:$C$45,2,FALSE),IF(COUNTA(D33:N33)>0,\"'Scheme Name' missing but values entered in other columns\",\"\"))","v":""},null,false,1,2,3,4,5,6,7,8,9,10,11,12,13,{"$f":"IF(D33=\"Yes\",IF('Financial Information'!$L33=$O33,\"\",14),IF('Financial Information'!$L33=0,\"\",14))","v":14},"","",true,true,true,true,true,true,true,true,true,true,true,true,true,true,false]
[null,{"$f":"'Scheme and Member Information'!B34","v":0},{"$f":"'Scheme and Member Information'!C34","v":0},null,null,null,null,null,null,null,null,null,null,null,"",null,{"$f":"IF(S34,VLOOKUP(MIN(T34:AI34),'Data Validation (hidden)'!$B$30:$C$45,2,FALSE),IF(COUNTA(D34:N34)>0,\"'Scheme Name' missing but values entered in other columns\",\"\"))","v":""},null,false,1,2,3,4,5,6,7,8,9,10,11,12,13,{"$f":"IF(D34=\"Yes\",IF('Financial Information'!$L34=$O34,\"\",14),IF('Financial Information'!$L34=0,\"\",14))","v":14},"","",true,true,true,true,true,true,true,true,true,true,true,true,true,true,false]
[null,{"$f":"'Scheme and Member Information'!B35","v":0},{"$f":"'Scheme and Member Information'!C35","v":0},null,null,null,null,null,null,null,null,null,null,null,"",null,{"$f":"IF(S35,VLOOKUP(MIN(T35:AI35),'Data Validation (hidden)'!$B$30:$C$45,2,FALSE),IF(COUNTA(D35:N35)>0,\"'Scheme Name' missing but values entered in other columns\",\"\"))","v":""},null,false,1,2,3,4,5,6,7,8,9,10,11,12,13,{"$f":"IF(D35=\"Yes\",IF('Financial Information'!$L35=$O35,\"\",14),IF('Financial Information'!$L35=0,\"\",14))","v":14},"","",true,true,true,true,true,true,true,true,true,true,true,true,true,true,false]
[null,{"$f":"'Scheme and Member Information'!B36","v":0},{"$f":"'Scheme and Member Information'!C36","v":0},null,null,null,null,null,null,null,null,null,null,null,"",null,{"$f":"IF(S36,VLOOKUP(MIN(T36:AI36),'Data Validation (hidden)'!$B$30:$C$45,2,FALSE),IF(COUNTA(D36:N36)>0,\"'Scheme Name' missing but values entered in other columns\",\"\"))","v":""},null,false,1,2,3,4,5,6,7,8,9,10,11,12,13,{"$f":"IF(D36=\"Yes\",IF('Financial Information'!$L36=$O36,\"\",14),IF('Financial Information'!$L36=0,\"\",14))","v":14},"","",true,true,true,true,true,true,true,true,true,true,true,true,true,true,false]
[null,{"$f":"'Scheme and Member Information'!B37","v":0},{"$f":"'Scheme and Member Information'!C37","v":0},null,null,null,null,null,null,null,null,null,null,null,"",null,{"$f":"IF(S37,VLOOKUP(MIN(T37:AI37),'Data Validation (hidden)'!$B$30:$C$45,2,FALSE),IF(COUNTA(D37:N37)>0,\"'Scheme Name' missing but values entered in other columns\",\"\"))","v":""},null,false,1,2,3,4,5,6,7,8,9,10,11,12,13,{"$f":"IF(D37=\"Yes\",IF('Financial Information'!$L37=$O37,\"\",14),IF('Financial Information'!$L37=0,\"\",14))","v":14},"","",true,true,true,true,true,true,true,true,true,true,true,true,true,true,false]
[null,{"$f":"'Scheme and Member Information'!B38","v":0},{"$f":"'Scheme and Member Information'!C38","v":0},null,null,null,null,null,null,null,null,null,null,null,"",null,{"$f":"IF(S38,VLOOKUP(MIN(T38:AI38),'Data Validation (hidden)'!$B$30:$C$45,2,FALSE),IF(COUNTA(D38:N38)>0,\"'Scheme Name' missing but values entered in other columns\",\"\"))","v":""},null,false,1,2,3,4,5,6,7,8,9,10,11,12,13,{"$f":"IF(D38=\"Yes\",IF('Financial Information'!$L38=$O38,\"\",14),IF('Financial Information'!$L38=0,\"\",14))","v":14},"","",true,true,true,true,true,true,true,true,true,true,true,true,true,true,false]
[null,{"$f":"'Scheme and Member Information'!B39","v":0},{"$f":"'Scheme and Member Information'!C39","v":0},null,null,null,null,null,null,null,null,null,null,null,"",null,{"$f":"IF(S39,VLOOKUP(MIN(T39:AI39),'Data Validation (hidden)'!$B$30:$C$45,2,FALSE),IF(COUNTA(D39:N39)>0,\"'Scheme Name' missing but values entered in other columns\",\"\"))","v":""},null,false,1,2,3,4,5,6,7,8,9,10,11,12,13,{"$f":"IF(D39=\"Yes\",IF('Financial Information'!$L39=$O39,\"\",14),IF('Financial Information'!$L39=0,\"\",14))","v":14},"","",true,true,true,true,true,true,true,true,true,true,true,true,true,true,false]
[null,{"$f":"'Scheme and Member Information'!B40","v":0},{"$f":"'Scheme and Member Information'!C40","v":0},null,null,null,null,null,null,null,null,null,null,null,"",null,{"$f":"IF(S40,VLOOKUP(MIN(T40:AI40),'Data Validation (hidden)'!$B$30:$C$45,2,FALSE),IF(COUNTA(D40:N40)>0,\"'Scheme Name' missing but values entered in other columns\",\"\"))","v":""},null,false,1,2,3,4,5,6,7,8,9,10,11,12,13,{"$f":"IF(D40=\"Yes\",IF('Financial Information'!$L40=$O40,\"\",14),IF('Financial Information'!$L40=0,\"\",14))","v":14},"","",true,true,true,true,true,true,true,true,true,true,true,true,true,true,false]
[null,{"$f":"'Scheme and Member Information'!B41","v":0},{"$f":"'Scheme and Member Information'!C41","v":0},null,null,null,null,null,null,null,null,null,null,null,"",null,{"$f":"IF(S41,VLOOKUP(MIN(T41:AI41),'Data Validation (hidden)'!$B$30:$C$45,2,FALSE),IF(COUNTA(D41:N41)>0,\"'Scheme Name' missing but values entered in other columns\",\"\"))","v":""},null,false,1,2,3,4,5,6,7,8,9,10,11,12,13,{"$f":"IF(D41=\"Yes\",IF('Financial Information'!$L41=$O41,\"\",14),IF('Financial Information'!$L41=0,\"\",14))","v":14},"","",true,true,true,true,true,true,true,true,true,true,true,true,true,true,false]
[null,{"$f":"'Scheme and Member Information'!B42","v":0},{"$f":"'Scheme and Member Information'!C42","v":0},null,null,null,null,null,null,null,null,null,null,null,"",null,{"$f":"IF(S42,VLOOKUP(MIN(T42:AI42),'Data Validation (hidden)'!$B$30:$C$45,2,FALSE),IF(COUNTA(D42:N42)>0,\"'Scheme Name' missing but values entered in other columns\",\"\"))","v":""},null,false,1,2,3,4,5,6,7,8,9,10,11,12,13,{"$f":"IF(D42=\"Yes\",IF('Financial Information'!$L42=$O42,\"\",14),IF('Financial Information'!$L42=0,\"\",14))","v":14},"","",true,true,true,true,true,true,true,true,true,true,true,true,true,true,false]
[null,{"$f":"'Scheme and Member Information'!B43","v":0},{"$f":"'Scheme and Member Information'!C43","v":0},null,null,null,null,null,null,null,null,null,null,null,"",null,{"$f":"IF(S43,VLOOKUP(MIN(T43:AI43),'Data Validation (hidden)'!$B$30:$C$45,2,FALSE),IF(COUNTA(D43:N43)>0,\"'Scheme Name' missing but values entered in other columns\",\"\"))","v":""},null,false,1,2,3,4,5,6,7,8,9,10,11,12,13,{"$f":"IF(D43=\"Yes\",IF('Financial Information'!$L43=$O43,\"\",14),IF('Financial Information'!$L43=0,\"\",14))","v":14},"","",true,true,true,true,true,true,true,true,true,true,true,true,true,true,false]
[null,{"$f":"'Scheme and Member Information'!B44","v":0},{"$f":"'Scheme and Member Information'!C44","v":0},null,null,null,null,null,null,null,null,null,null,null,"",null,{"$f":"IF(S44,VLOOKUP(MIN(T44:AI44),'Data Validation (hidden)'!$B$30:$C$45,2,FALSE),IF(COUNTA(D44:N44)>0,\"'Scheme Name' missing but values entered in other columns\",\"\"))","v":""},null,false,1,2,3,4,5,6,7,8,9,10,11,12,13,{"$f":"IF(D44=\"Yes\",IF('Financial Information'!$L44=$O44,\"\",14),IF('Financial Information'!$L44=0,\"\",14))","v":14},"","",true,true,true,true,true,true,true,true,true,true,true,true,true,true,false]
[null,{"$f":"'Scheme and Member Information'!B45","v":0},{"$f":"'Scheme and Member Information'!C45","v":0},null,null,null,null,null,null,null,null,null,null,null,"",null,{"$f":"IF(S45,VLOOKUP(MIN(T45:AI45),'Data Validation (hidden)'!$B$30:$C$45,2,FALSE),IF(COUNTA(D45:N45)>0,\"'Scheme Name' missing but values entered in other columns\",\"\"))","v":""},null,false,1,2,3,4,5,6,7,8,9,10,11,12,13,{"$f":"IF(D45=\"Yes\",IF('Financial Information'!$L45=$O45,\"\",14),IF('Financial Information'!$L45=0,\"\",14))","v":14},"","",true,true,true,true,true,true,true,true,true,true,true,true,true,true,false]
[null,{"$f":"'Scheme and Member Information'!B46","v":0},{"$f":"'Scheme and Member Information'!C46","v":0},null,null,null,null,null,null,null,null,null,null,null,"",null,{"$f":"IF(S46,VLOOKUP(MIN(T46:AI46),'Data Validation (hidden)'!$B$30:$C$45,2,FALSE),IF(COUNTA(D46:N46)>0,\"'Scheme Name' missing but values entered in other columns\",\"\"))","v":""},null,false,1,2,3,4,5,6,7,8,9,10,11,12,13,{"$f":"IF(D46=\"Yes\",IF('Financial Information'!$L46=$O46,\"\",14),IF('Financial Information'!$L46=0,\"\",14))","v":14},"","",true,true,true,true,true,true,true,true,true,true,true,true,true,true,false]
[null,{"$f":"'Scheme and Member Information'!B47","v":0},{"$f":"'Scheme and Member Information'!C47","v":0},null,null,null,null,null,null,null,null,null,null,null,"",null,{"$f":"IF(S47,VLOOKUP(MIN(T47:AI47),'Data Validation (hidden)'!$B$30:$C$45,2,FALSE),IF(COUNTA(D47:N47)>0,\"'Scheme Name' missing but values entered in other columns\",\"\"))","v":""},null,false,1,2,3,4,5,6,7,8,9,10,11,12,13,{"$f":"IF(D47=\"Yes\",IF('Financial Information'!$L47=$O47,\"\",14),IF('Financial Information'!$L47=0,\"\",14))","v":14},"","",true,true,true,true,true,true,true,true,true,true,true,true,true,true,false]
[null,{"$f":"'Scheme and Member Information'!B48","v":0},{"$f":"'Scheme and Member Information'!C48","v":0},null,null,null,null,null,null,null,null,null,null,null,"",null,{"$f":"IF(S48,VLOOKUP(MIN(T48:AI48),'Data Validation (hidden)'!$B$30:$C$45,2,FALSE),IF(COUNTA(D48:N48)>0,\"'Scheme Name' missing but values entered in other columns\",\"\"))","v":""},null,false,1,2,3,4,5,6,7,8,9,10,11,12,13,{"$f":"IF(D48=\"Yes\",IF('Financial Information'!$L48=$O48,\"\",14),IF('Financial Information'!$L48=0,\"\",14))","v":14},"","",true,true,true,true,true,true,true,true,true,true,true,true,true,true,false]
[null,{"$f":"'Scheme and Member Information'!B49","v":0},{"$f":"'Scheme and Member Information'!C49","v":0},null,null,null,null,null,null,null,null,null,null,null,"",null,{"$f":"IF(S49,VLOOKUP(MIN(T49:AI49),'Data Validation (hidden)'!$B$30:$C$45,2,FALSE),IF(COUNTA(D49:N49)>0,\"'Scheme Name' missing but values entered in other columns\",\"\"))","v":""},null,false,1,2,3,4,5,6,7,8,9,10,11,12,13,{"$f":"IF(D49=\"Yes\",IF('Financial Information'!$L49=$O49,\"\",14),IF('Financial Information'!$L49=0,\"\",14))","v":14},"","",true,true,true,true,true,true,true,true,true,true,true,true,true,true,false]
[null,{"$f":"'Scheme and Member Information'!B50","v":0},{"$f":"'Scheme and Member Information'!C50","v":0},null,null,null,null,null,null,null,null,null,null,null,"",null,{"$f":"IF(S50,VLOOKUP(MIN(T50:AI50),'Data Validation (hidden)'!$B$30:$C$45,2,FALSE),IF(COUNTA(D50:N50)>0,\"'Scheme Name' missing but values entered in other columns\",\"\"))","v":""},null,false,1,2,3,4,5,6,7,8,9,10,11,12,13,{"$f":"IF(D50=\"Yes\",IF('Financial Information'!$L50=$O50,\"\",14),IF('Financial Information'!$L50=0,\"\",14))","v":14},"","",true,true,true,true,true,true,true,true,true,true,true,true,true,true,false]
[null,{"$f":"'Scheme and Member Information'!B51","v":0},{"$f":"'Scheme and Member Information'!C51","v":0},null,null,null,null,null,null,null,null,null,null,null,"",null,{"$f":"IF(S51,VLOOKUP(MIN(T51:AI51),'Data Validation (hidden)'!$B$30:$C$45,2,FALSE),IF(COUNTA(D51:N51)>0,\"'Scheme Name' missing but values entered in other columns\",\"\"))","v":""},null,false,1,2,3,4,5,6,7,8,9,10,11,12,13,{"$f":"IF(D51=\"Yes\",IF('Financial Information'!$L51=$O51,\"\",14),IF('Financial Information'!$L51=0,\"\",14))","v":14},"","",true,true,true,true,true,true,true,true,true,true,true,true,true,true,false]
[null,{"$f":"'Scheme and Member Information'!B52","v":0},{"$f":"'Scheme and Member Information'!C52","v":0},null,null,null,null,null,null,null,null,null,null,null,"",null,{"$f":"IF(S52,VLOOKUP(MIN(T52:AI52),'Data Validation (hidden)'!$B$30:$C$45,2,FALSE),IF(COUNTA(D52:N52)>0,\"'Scheme Name' missing but values entered in other columns\",\"\"))","v":""},null,false,1,2,3,4,5,6,7,8,9,10,11,12,13,{"$f":"IF(D52=\"Yes\",IF('Financial Information'!$L52=$O52,\"\",14),IF('Financial Information'!$L52=0,\"\",14))","v":14},"","",true,true,true,true,true,true,true,true,true,true,true,true,true,true,false]
[null,{"$f":"'Scheme and Member Information'!B53","v":0},{"$f":"'Scheme and Member Information'!C53","v":0},null,null,null,null,null,null,null,null,null,null,null,"",null,{"$f":"IF(S53,VLOOKUP(MIN(T53:AI53),'Data Validation (hidden)'!$B$30:$C$45,2,FALSE),IF(COUNTA(D53:N53)>0,\"'Scheme Name' missing but values entered in other columns\",\"\"))","v":""},null,false,1,2,3,4,5,6,7,8,9,10,11,12,13,{"$f":"IF(D53=\"Yes\",IF('Financial Information'!$L53=$O53,\"\",14),IF('Financial Information'!$L53=0,\"\",14))","v":14},"","",true,true,true,true,true,true,true,true,true,true,true,true,true,true,false]
[null,{"$f":"'Scheme and Member Information'!B54","v":0},{"$f":"'Scheme and Member Information'!C54","v":0},null,null,null,null,null,null,null,null,null,null,null,"",null,{"$f":"IF(S54,VLOOKUP(MIN(T54:AI54),'Data Validation (hidden)'!$B$30:$C$45,2,FALSE),IF(COUNTA(D54:N54)>0,\"'Scheme Name' missing but values entered in other columns\",\"\"))","v":""},null,false,1,2,3,4,5,6,7,8,9,10,11,12,13,{"$f":"IF(D54=\"Yes\",IF('Financial Information'!$L54=$O54,\"\",14),IF('Financial Information'!$L54=0,\"\",14))","v":14},"","",true,true,true,true,true,true,true,true,true,true,true,true,true,true,false]
[null,{"$f":"'Scheme and Member Information'!B55","v":0},{"$f":"'Scheme and Member Information'!C55","v":0},null,null,null,null,null,null,null,null,null,null,null,"",null,{"$f":"IF(S55,VLOOKUP(MIN(T55:AI55),'Data Validation (hidden)'!$B$30:$C$45,2,FALSE),IF(COUNTA(D55:N55)>0,\"'Scheme Name' missing but values entered in other columns\",\"\"))","v":""},null,false,1,2,3,4,5,6,7,8,9,10,11,12,13,{"$f":"IF(D55=\"Yes\",IF('Financial Information'!$L55=$O55,\"\",14),IF('Financial Information'!$L55=0,\"\",14))","v":14},"","",true,true,true,true,true,true,true,true,true,true,true,true,true,true,false]
[null,{"$f":"'Scheme and Member Information'!B56","v":0},{"$f":"'Scheme and Member Information'!C56","v":0},null,null,null,null,null,null,null,null,null,null,null,"",null,{"$f":"IF(S56,VLOOKUP(MIN(T56:AI56),'Data Validation (hidden)'!$B$30:$C$45,2,FALSE),IF(COUNTA(D56:N56)>0,\"'Scheme Name' missing but values entered in other columns\",\"\"))","v":""},null,false,1,2,3,4,5,6,7,8,9,10,11,12,13,{"$f":"IF(D56=\"Yes\",IF('Financial Information'!$L56=$O56,\"\",14),IF('Financial Information'!$L56=0,\"\",14))","v":14},"","",true,true,true,true,true,true,true,true,true,true,true,true,true,true,false]
[null,{"$f":"'Scheme and Member Information'!B57","v":0},{"$f":"'Scheme and Member Information'!C57","v":0},null,null,null,null,null,null,null,null,null,null,null,"",null,{"$f":"IF(S57,VLOOKUP(MIN(T57:AI57),'Data Validation (hidden)'!$B$30:$C$45,2,FALSE),IF(COUNTA(D57:N57)>0,\"'Scheme Name' missing but values entered in other columns\",\"\"))","v":""},null,false,1,2,3,4,5,6,7,8,9,10,11,12,13,{"$f":"IF(D57=\"Yes\",IF('Financial Information'!$L57=$O57,\"\",14),IF('Financial Information'!$L57=0,\"\",14))","v":14},"","",true,true,true,true,true,true,true,true,true,true,true,true,true,true,false]
[null,{"$f":"'Scheme and Member Information'!B58","v":0},{"$f":"'Scheme and Member Information'!C58","v":0},null,null,null,null,null,null,null,null,null,null,null,"",null,{"$f":"IF(S58,VLOOKUP(MIN(T58:AI58),'Data Validation (hidden)'!$B$30:$C$45,2,FALSE),IF(COUNTA(D58:N58)>0,\"'Scheme Name' missing but values entered in other columns\",\"\"))","v":""},null,false,1,2,3,4,5,6,7,8,9,10,11,12,13,{"$f":"IF(D58=\"Yes\",IF('Financial Information'!$L58=$O58,\"\",14),IF('Financial Information'!$L58=0,\"\",14))","v":14},"","",true,true,true,true,true,true,true,true,true,true,true,true,true,true,false]
[null,{"$f":"'Scheme and Member Information'!B59","v":0},{"$f":"'Scheme and Member Information'!C59","v":0},null,null,null,null,null,null,null,null,null,null,null,"",null,{"$f":"IF(S59,VLOOKUP(MIN(T59:AI59),'Data Validation (hidden)'!$B$30:$C$45,2,FALSE),IF(COUNTA(D59:N59)>0,\"'Scheme Name' missing but values entered in other columns\",\"\"))","v":""},null,false,1,2,3,4,5,6,7,8,9,10,11,12,13,{"$f":"IF(D59=\"Yes\",IF('Financial Information'!$L59=$O59,\"\",14),IF('Financial Information'!$L59=0,\"\",14))","v":14},"","",true,true,true,true,true,true,true,true,true,true,true,true,true,true,false]
[null,{"$f":"'Scheme and Member Information'!B60","v":0},{"$f":"'Scheme and Member Information'!C60","v":0},null,null,null,null,null,null,null,null,null,null,null,"",null,{"$f":"IF(S60,VLOOKUP(MIN(T60:AI60),'Data Validation (hidden)'!$B$30:$C$45,2,FALSE),IF(COUNTA(D60:N60)>0,\"'Scheme Name' missing but values entered in other columns\",\"\"))","v":""},null,false,1,2,3,4,5,6,7,8,9,10,11,12,13,{"$f":"IF(D60=\"Yes\",IF('Financial Information'!$L60=$O60,\"\",14),IF('Financial Information'!$L60=0,\"\",14))","v":14},"","",true,true,true,true,true,true,true,true,true,true,true,true,true,true,false]
[null,{"$f":"'Scheme and Member Information'!B61","v":0},{"$f":"'Scheme and Member Information'!C61","v":0},null,null,null,null,null,null,null,null,null,null,null,"",null,{"$f":"IF(S61,VLOOKUP(MIN(T61:AI61),'Data Validation (hidden)'!$B$30:$C$45,2,FALSE),IF(COUNTA(D61:N61)>0,\"'Scheme Name' missing but values entered in other columns\",\"\"))","v":""},null,false,1,2,3,4,5,6,7,8,9,10,11,12,13,{"$f":"IF(D61=\"Yes\",IF('Financial Information'!$L61=$O61,\"\",14),IF('Financial Information'!$L61=0,\"\",14))","v":14},"","",true,true,true,true,true,true,true,true,true,true,true,true,true,true,false]
[null,{"$f":"'Scheme and Member Information'!B62","v":0},{"$f":"'Scheme and Member Information'!C62","v":0},null,null,null,null,null,null,null,null,null,null,null,"",null,{"$f":"IF(S62,VLOOKUP(MIN(T62:AI62),'Data Validation (hidden)'!$B$30:$C$45,2,FALSE),IF(COUNTA(D62:N62)>0,\"'Scheme Name' missing but values entered in other columns\",\"\"))","v":""},null,false,1,2,3,4,5,6,7,8,9,10,11,12,13,{"$f":"IF(D62=\"Yes\",IF('Financial Information'!$L62=$O62,\"\",14),IF('Financial Information'!$L62=0,\"\",14))","v":14},"","",true,true,true,true,true,true,true,true,true,true,true,true,true,true,false]
[null,{"$f":"'Scheme and Member Information'!B63","v":0},{"$f":"'Scheme and Member Information'!C63","v":0},null,null,null,null,null,null,null,null,null,null,null,"",null,{"$f":"IF(S63,VLOOKUP(MIN(T63:AI63),'Data Validation (hidden)'!$B$30:$C$45,2,FALSE),IF(COUNTA(D63:N63)>0,\"'Scheme Name' missing but values entered in other columns\",\"\"))","v":""},null,false,1,2,3,4,5,6,7,8,9,10,11,12,13,{"$f":"IF(D63=\"Yes\",IF('Financial Information'!$L63=$O63,\"\",14),IF('Financial Information'!$L63=0,\"\",14))","v":14},"","",true,true,true,true,true,true,true,true,true,true,true,true,true,true,false]
[null,{"$f":"'Scheme and Member Information'!B64","v":0},{"$f":"'Scheme and Member Information'!C64","v":0},null,null,null,null,null,null,null,null,null,null,null,"",null,{"$f":"IF(S64,VLOOKUP(MIN(T64:AI64),'Data Validation (hidden)'!$B$30:$C$45,2,FALSE),IF(COUNTA(D64:N64)>0,\"'Scheme Name' missing but values entered in other columns\",\"\"))","v":""},null,false,1,2,3,4,5,6,7,8,9,10,11,12,13,{"$f":"IF(D64=\"Yes\",IF('Financial Information'!$L64=$O64,\"\",14),IF('Financial Information'!$L64=0,\"\",14))","v":14},"","",true,true,true,true,true,true,true,true,true,true,true,true,true,true,false]
[null,{"$f":"'Scheme and Member Information'!B65","v":0},{"$f":"'Scheme and Member Information'!C65","v":0},null,null,null,null,null,null,null,null,null,null,null,"",null,{"$f":"IF(S65,VLOOKUP(MIN(T65:AI65),'Data Validation (hidden)'!$B$30:$C$45,2,FALSE),IF(COUNTA(D65:N65)>0,\"'Scheme Name' missing but values entered in other columns\",\"\"))","v":""},null,false,1,2,3,4,5,6,7,8,9,10,11,12,13,{"$f":"IF(D65=\"Yes\",IF('Financial Information'!$L65=$O65,\"\",14),IF('Financial Information'!$L65=0,\"\",14))","v":14},"","",true,true,true,true,true,true,true,true,true,true,true,true,true,true,false]
[null,{"$f":"'Scheme and Member Information'!B66","v":0},{"$f":"'Scheme and Member Information'!C66","v":0},null,null,null,null,null,null,null,null,null,null,null,"",null,{"$f":"IF(S66,VLOOKUP(MIN(T66:AI66),'Data Validation (hidden)'!$B$30:$C$45,2,FALSE),IF(COUNTA(D66:N66)>0,\"'Scheme Name' missing but values entered in other columns\",\"\"))","v":""},null,false,1,2,3,4,5,6,7,8,9,10,11,12,13,{"$f":"IF(D66=\"Yes\",IF('Financial Information'!$L66=$O66,\"\",14),IF('Financial Information'!$L66=0,\"\",14))","v":14},"","",true,true,true,true,true,true,true,true,true,true,true,true,true,true,false]
[null,{"$f":"'Scheme and Member Information'!B67","v":0},{"$f":"'Scheme and Member Information'!C67","v":0},null,null,null,null,null,null,null,null,null,null,null,"",null,{"$f":"IF(S67,VLOOKUP(MIN(T67:AI67),'Data Validation (hidden)'!$B$30:$C$45,2,FALSE),IF(COUNTA(D67:N67)>0,\"'Scheme Name' missing but values entered in other columns\",\"\"))","v":""},null,false,1,2,3,4,5,6,7,8,9,10,11,12,13,{"$f":"IF(D67=\"Yes\",IF('Financial Information'!$L67=$O67,\"\",14),IF('Financial Information'!$L67=0,\"\",14))","v":14},"","",true,true,true,true,true,true,true,true,true,true,true,true,true,true,false]
[null,{"$f":"'Scheme and Member Information'!B68","v":0},{"$f":"'Scheme and Member Information'!C68","v":0},null,null,null,null,null,null,null,null,null,null,null,"",null,{"$f":"IF(S68,VLOOKUP(MIN(T68:AI68),'Data Validation (hidden)'!$B$30:$C$45,2,FALSE),IF(COUNTA(D68:N68)>0,\"'Scheme Name' missing but values entered in other columns\",\"\"))","v":""},null,false,1,2,3,4,5,6,7,8,9,10,11,12,13,{"$f":"IF(D68=\"Yes\",IF('Financial Information'!$L68=$O68,\"\",14),IF('Financial Information'!$L68=0,\"\",14))","v":14},"","",true,true,true,true,true,true,true,true,true,true,true,true,true,true,false]
[null,{"$f":"'Scheme and Member Information'!B69","v":0},{"$f":"'Scheme and Member Information'!C69","v":0},null,null,null,null,null,null,null,null,null,null,null,"",null,{"$f":"IF(S69,VLOOKUP(MIN(T69:AI69),'Data Validation (hidden)'!$B$30:$C$45,2,FALSE),IF(COUNTA(D69:N69)>0,\"'Scheme Name' missing but values entered in other columns\",\"\"))","v":""},null,false,1,2,3,4,5,6,7,8,9,10,11,12,13,{"$f":"IF(D69=\"Yes\",IF('Financial Information'!$L69=$O69,\"\",14),IF('Financial Information'!$L69=0,\"\",14))","v":14},"","",true,true,true,true,true,true,true,true,true,true,true,true,true,true,false]
[null,{"$f":"'Scheme and Member Information'!B70","v":0},{"$f":"'Scheme and Member Information'!C70","v":0},null,null,null,null,null,null,null,null,null,null,null,"",null,{"$f":"IF(S70,VLOOKUP(MIN(T70:AI70),'Data Validation (hidden)'!$B$30:$C$45,2,FALSE),IF(COUNTA(D70:N70)>0,\"'Scheme Name' missing but values entered in other columns\",\"\"))","v":""},null,false,1,2,3,4,5,6,7,8,9,10,11,12,13,{"$f":"IF(D70=\"Yes\",IF('Financial Information'!$L70=$O70,\"\",14),IF('Financial Information'!$L70=0,\"\",14))","v":14},"","",true,true,true,true,true,true,true,true,true,true,true,true,true,true,false]
[null,{"$f":"'Scheme and Member Information'!B71","v":0},{"$f":"'Scheme and Member Information'!C71","v":0},null,null,null,null,null,null,null,null,null,null,null,"",null,{"$f":"IF(S71,VLOOKUP(MIN(T71:AI71),'Data Validation (hidden)'!$B$30:$C$45,2,FALSE),IF(COUNTA(D71:N71)>0,\"'Scheme Name' missing but values entered in other columns\",\"\"))","v":""},null,false,1,2,3,4,5,6,7,8,9,10,11,12,13,{"$f":"IF(D71=\"Yes\",IF('Financial Information'!$L71=$O71,\"\",14),IF('Financial Information'!$L71=0,\"\",14))","v":14},"","",true,true,true,true,true,true,true,true,true,true,true,true,true,true,false]
[null,{"$f":"'Scheme and Member Information'!B72","v":0},{"$f":"'Scheme and Member Information'!C72","v":0},null,null,null,null,null,null,null,null,null,null,null,"",null,{"$f":"IF(S72,VLOOKUP(MIN(T72:AI72),'Data Validation (hidden)'!$B$30:$C$45,2,FALSE),IF(COUNTA(D72:N72)>0,\"'Scheme Name' missing but values entered in other columns\",\"\"))","v":""},null,false,1,2,3,4,5,6,7,8,9,10,11,12,13,{"$f":"IF(D72=\"Yes\",IF('Financial Information'!$L72=$O72,\"\",14),IF('Financial Information'!$L72=0,\"\",14))","v":14},"","",{"$f":"IF(CELL(\"format\", B72) = \"G\",TRUE,FALSE)","v":true},{"$f":"IF(CELL(\"format\", C72) = \"F0\",TRUE,FALSE)","v":true},{"$f":"IF(CELL(\"format\",D67)=\"G\",TRUE,FALSE)","v":true},{"$f":"IF( CELL(\"format\",E72) = \"C0\",TRUE,FALSE)","v":true},{"$f":"IF( CELL(\"format\",F72) = \"C0\",TRUE,FALSE)","v":true},{"$f":"IF( CELL(\"format\",G72) = \"C0\",TRUE,FALSE)","v":true},{"$f":"IF( CELL(\"format\",H72) = \"C0\",TRUE,FALSE)","v":true},{"$f":"IF( CELL(\"format\",I72) = \"C0\",TRUE,FALSE)","v":true},{"$f":"IF( CELL(\"format\",J72) = \"C0\",TRUE,FALSE)","v":true},{"$f":"IF( CELL(\"format\",K72) = \"C0\",TRUE,FALSE)","v":true},{"$f":"IF( CELL(\"format\",L72) = \"C0\",TRUE,FALSE)","v":true},{"$f":"IF( CELL(\"format\",M72) = \"C0\",TRUE,FALSE)","v":true},{"$f":"IF( CELL(\"format\",N72) = \"C0\",TRUE,FALSE)","v":true},{"$f":"IF( CELL(\"format\",O72) = \"C0\",TRUE,FALSE)","v":true},{"$f":"IF(Q72=\"\",FALSE,IF(Q72=\"OK\",FALSE,TRUE))","v":false}]
[null,{"$f":"'Scheme and Member Information'!B73","v":0},{"$f":"'Scheme and Member Information'!C73","v":0},null,null,null,null,null,null,null,null,null,null,null,{"$f":"IF(OR(E73<>\"\",F73<>\"\",G73<>\"\",H73<>\"\",I73<>\"\",J73<>\"\",K73<>\"\",L73<>\"\",M73<>\"\",N73<>\"\"),SUM(E73:N73),\"\")","v":""},null,{"$f":"IF(S73,VLOOKUP(MIN(T73:AI73),'Data Validation (hidden)'!$B$30:$C$45,2,FALSE),IF(COUNTA(D73:N73)>0,\"'Scheme Name' missing but values entered in other columns\",\"\"))","v":""},null,{"$f":"AND(B73<>\"\",B73<>0)","v":false},{"$f":"IF(C73=\"\",1,IF(C73=0,1,\"\"))","v":1},{"$f":"IF(D73=\"\",2,\"\")","v":2},{"$f":"IF(E73=\"\",IF(D73=\"No\",\"\",3),\"\")","v":3},{"$f":"IF(F73=\"\",IF(D73=\"No\",\"\",4),\"\")","v":4},{"$f":"IF(G73=\"\",IF(D73=\"No\",\"\",5),\"\")","v":5},{"$f":"IF(H73=\"\",IF(D73=\"No\",\"\",6),\"\")","v":6},{"$f":"IF(I73=\"\",IF(D73=\"No\",\"\",7),\"\")","v":7},{"$f":"IF(J73=\"\",IF(D73=\"No\",\"\",8),\"\")","v":8},{"$f":"IF(K73=\"\",IF(D73=\"No\",\"\",9),\"\")","v":9},{"$f":"IF(L73=\"\",IF(D73=\"No\",\"\",10),\"\")","v":10},{"$f":"IF(M73=\"\",IF(D73=\"No\",\"\",11),\"\")","v":11},{"$f":"IF(N73=\"\",IF(D73=\"No\",\"\",12),\"\")","v":12},{"$f":"IF(O73=\"\",IF(D73=\"No\",\"\",13),\"\")","v":13},{"$f":"IF(D73=\"Yes\",IF('Financial Information'!$L73=$O73,\"\",14),IF('Financial Information'!$L73=0,\"\",14))","v":14},{"$f":"IF(COUNT(T73:AG73)=0,\"10\",\"\")","v":""},{"$f":"IF(AND(AJ73,AK73,AL73,AM73,AN73,AO73,AP73,AQ73,AR73,AS73,AT73,AU73,AV73,AW73)=TRUE,\"\",15)","v":""},true,true,true,true,true,true,true,true,true,true,true,true,true,true,false]
[null,{"$f":"'Scheme and Member Information'!B74","v":0},{"$f":"'Scheme and Member Information'!C74","v":0},null,null,null,null,null,null,null,null,null,null,null,"",null,{"$f":"IF(S74,VLOOKUP(MIN(T74:AI74),'Data Validation (hidden)'!$B$30:$C$45,2,FALSE),IF(COUNTA(D74:N74)>0,\"'Scheme Name' missing but values entered in other columns\",\"\"))","v":""},null,false,1,2,3,4,5,6,7,8,9,10,11,12,13,{"$f":"IF(D74=\"Yes\",IF('Financial Information'!$L74=$O74,\"\",14),IF('Financial Information'!$L74=0,\"\",14))","v":14},"","",true,true,true,true,true,true,true,true,true,true,true,true,true,true,false]
[null,{"$f":"'Scheme and Member Information'!B75","v":0},{"$f":"'Scheme and Member Information'!C75","v":0},null,null,null,null,null,null,null,null,null,null,null,"",null,{"$f":"IF(S75,VLOOKUP(MIN(T75:AI75),'Data Validation (hidden)'!$B$30:$C$45,2,FALSE),IF(COUNTA(D75:N75)>0,\"'Scheme Name' missing but values entered in other columns\",\"\"))","v":""},null,false,1,2,3,4,5,6,7,8,9,10,11,12,13,{"$f":"IF(D75=\"Yes\",IF('Financial Information'!$L75=$O75,\"\",14),IF('Financial Information'!$L75=0,\"\",14))","v":14},"","",true,true,true,true,true,true,true,true,true,true,true,true,true,true,false]
[null,{"$f":"'Scheme and Member Information'!B76","v":0},{"$f":"'Scheme and Member Information'!C76","v":0},null,null,null,null,null,null,null,null,null,null,null,"",null,{"$f":"IF(S76,VLOOKUP(MIN(T76:AI76),'Data Validation (hidden)'!$B$30:$C$45,2,FALSE),IF(COUNTA(D76:N76)>0,\"'Scheme Name' missing but values entered in other columns\",\"\"))","v":""},null,false,1,2,3,4,5,6,7,8,9,10,11,12,13,{"$f":"IF(D76=\"Yes\",IF('Financial Information'!$L76=$O76,\"\",14),IF('Financial Information'!$L76=0,\"\",14))","v":14},"","",true,true,true,true,true,true,true,true,true,true,true,true,true,true,false]
[null,{"$f":"'Scheme and Member Information'!B77","v":0},{"$f":"'Scheme and Member Information'!C77","v":0},null,null,null,null,null,null,null,null,null,null,null,"",null,{"$f":"IF(S77,VLOOKUP(MIN(T77:AI77),'Data Validation (hidden)'!$B$30:$C$45,2,FALSE),IF(COUNTA(D77:N77)>0,\"'Scheme Name' missing but values entered in other columns\",\"\"))","v":""},null,false,1,2,3,4,5,6,7,8,9,10,11,12,13,{"$f":"IF(D77=\"Yes\",IF('Financial Information'!$L77=$O77,\"\",14),IF('Financial Information'!$L77=0,\"\",14))","v":14},"","",true,true,true,true,true,true,true,true,true,true,true,true,true,true,false]
[null,{"$f":"'Scheme and Member Information'!B78","v":0},{"$f":"'Scheme and Member Information'!C78","v":0},null,null,null,null,null,null,null,null,null,null,null,"",null,{"$f":"IF(S78,VLOOKUP(MIN(T78:AI78),'Data Validation (hidden)'!$B$30:$C$45,2,FALSE),IF(COUNTA(D78:N78)>0,\"'Scheme Name' missing but values entered in other columns\",\"\"))","v":""},null,false,1,2,3,4,5,6,7,8,9,10,11,12,13,{"$f":"IF(D78=\"Yes\",IF('Financial Information'!$L78=$O78,\"\",14),IF('Financial Information'!$L78=0,\"\",14))","v":14},"","",true,true,true,true,true,true,true,true,true,true,true,true,true,true,false]
[null,{"$f":"'Scheme and Member Information'!B79","v":0},{"$f":"'Scheme and Member Information'!C79","v":0},null,null,null,null,null,null,null,null,null,null,null,"",null,{"$f":"IF(S79,VLOOKUP(MIN(T79:AI79),'Data Validation (hidden)'!$B$30:$C$45,2,FALSE),IF(COUNTA(D79:N79)>0,\"'Scheme Name' missing but values entered in other columns\",\"\"))","v":""},null,false,1,2,3,4,5,6,7,8,9,10,11,12,13,{"$f":"IF(D79=\"Yes\",IF('Financial Information'!$L79=$O79,\"\",14),IF('Financial Information'!$L79=0,\"\",14))","v":14},"","",true,true,true,true,true,true,true,true,true,true,true,true,true,true,false]
[null,{"$f":"'Scheme and Member Information'!B80","v":0},{"$f":"'Scheme and Member Information'!C80","v":0},null,null,null,null,null,null,null,null,null,null,null,"",null,{"$f":"IF(S80,VLOOKUP(MIN(T80:AI80),'Data Validation (hidden)'!$B$30:$C$45,2,FALSE),IF(COUNTA(D80:N80)>0,\"'Scheme Name' missing but values entered in other columns\",\"\"))","v":""},null,false,1,2,3,4,5,6,7,8,9,10,11,12,13,{"$f":"IF(D80=\"Yes\",IF('Financial Information'!$L80=$O80,\"\",14),IF('Financial Information'!$L80=0,\"\",14))","v":14},"","",true,true,true,true,true,true,true,true,true,true,true,true,true,true,false]
[null,{"$f":"'Scheme and Member Information'!B81","v":0},{"$f":"'Scheme and Member Information'!C81","v":0},null,null,null,null,null,null,null,null,null,null,null,"",null,{"$f":"IF(S81,VLOOKUP(MIN(T81:AI81),'Data Validation (hidden)'!$B$30:$C$45,2,FALSE),IF(COUNTA(D81:N81)>0,\"'Scheme Name' missing but values entered in other columns\",\"\"))","v":""},null,false,1,2,3,4,5,6,7,8,9,10,11,12,13,{"$f":"IF(D81=\"Yes\",IF('Financial Information'!$L81=$O81,\"\",14),IF('Financial Information'!$L81=0,\"\",14))","v":14},"","",true,true,true,true,true,true,true,true,true,true,true,true,true,true,false]
[null,{"$f":"'Scheme and Member Information'!B82","v":0},{"$f":"'Scheme and Member Information'!C82","v":0},null,null,null,null,null,null,null,null,null,null,null,"",null,{"$f":"IF(S82,VLOOKUP(MIN(T82:AI82),'Data Validation (hidden)'!$B$30:$C$45,2,FALSE),IF(COUNTA(D82:N82)>0,\"'Scheme Name' missing but values entered in other columns\",\"\"))","v":""},null,false,1,2,3,4,5,6,7,8,9,10,11,12,13,{"$f":"IF(D82=\"Yes\",IF('Financial Information'!$L82=$O82,\"\",14),IF('Financial Information'!$L82=0,\"\",14))","v":14},"","",true,true,true,true,true,true,true,true,true,true,true,true,true,true,false]
[null,{"$f":"'Scheme and Member Information'!B83","v":0},{"$f":"'Scheme and Member Information'!C83","v":0},null,null,null,null,null,null,null,null,null,null,null,"",null,{"$f":"IF(S83,VLOOKUP(MIN(T83:AI83),'Data Validation (hidden)'!$B$30:$C$45,2,FALSE),IF(COUNTA(D83:N83)>0,\"'Scheme Name' missing but values entered in other columns\",\"\"))","v":""},null,false,1,2,3,4,5,6,7,8,9,10,11,12,13,{"$f":"IF(D83=\"Yes\",IF('Financial Information'!$L83=$O83,\"\",14),IF('Financial Information'!$L83=0,\"\",14))","v":14},"","",true,true,true,true,true,true,true,true,true,true,true,true,true,true,false]
[null,{"$f":"'Scheme and Member Information'!B84","v":0},{"$f":"'Scheme and Member Information'!C84","v":0},null,null,null,null,null,null,null,null,null,null,null,"",null,{"$f":"IF(S84,VLOOKUP(MIN(T84:AI84),'Data Validation (hidden)'!$B$30:$C$45,2,FALSE),IF(COUNTA(D84:N84)>0,\"'Scheme Name' missing but values entered in other columns\",\"\"))","v":""},null,false,1,2,3,4,5,6,7,8,9,10,11,12,13,{"$f":"IF(D84=\"Yes\",IF('Financial Information'!$L84=$O84,\"\",14),IF('Financial Information'!$L84=0,\"\",14))","v":14},"","",true,true,true,true,true,true,true,true,true,true,true,true,true,true,false]
[null,{"$f":"'Scheme and Member Information'!B85","v":0},{"$f":"'Scheme and Member Information'!C85","v":0},null,null,null,null,null,null,null,null,null,null,null,"",null,{"$f":"IF(S85,VLOOKUP(MIN(T85:AI85),'Data Validation (hidden)'!$B$30:$C$45,2,FALSE),IF(COUNTA(D85:N85)>0,\"'Scheme Name' missing but values entered in other columns\",\"\"))","v":""},null,false,1,2,3,4,5,6,7,8,9,10,11,12,13,{"$f":"IF(D85=\"Yes\",IF('Financial Information'!$L85=$O85,\"\",14),IF('Financial Information'!$L85=0,\"\",14))","v":14},"","",true,true,true,true,true,true,true,true,true,true,true,true,true,true,false]
[null,{"$f":"'Scheme and Member Information'!B86","v":0},{"$f":"'Scheme and Member Information'!C86","v":0},null,null,null,null,null,null,null,null,null,null,null,"",null,{"$f":"IF(S86,VLOOKUP(MIN(T86:AI86),'Data Validation (hidden)'!$B$30:$C$45,2,FALSE),IF(COUNTA(D86:N86)>0,\"'Scheme Name' missing but values entered in other columns\",\"\"))","v":""},null,false,1,2,3,4,5,6,7,8,9,10,11,12,13,{"$f":"IF(D86=\"Yes\",IF('Financial Information'!$L86=$O86,\"\",14),IF('Financial Information'!$L86=0,\"\",14))","v":14},"","",true,true,true,true,true,true,true,true,true,true,true,true,true,true,false]
[null,{"$f":"'Scheme and Member Information'!B87","v":0},{"$f":"'Scheme and Member Information'!C87","v":0},null,null,null,null,null,null,null,null,null,null,null,"",null,{"$f":"IF(S87,VLOOKUP(MIN(T87:AI87),'Data Validation (hidden)'!$B$30:$C$45,2,FALSE),IF(COUNTA(D87:N87)>0,\"'Scheme Name' missing but values entered in other columns\",\"\"))","v":""},null,false,1,2,3,4,5,6,7,8,9,10,11,12,13,{"$f":"IF(D87=\"Yes\",IF('Financial Information'!$L87=$O87,\"\",14),IF('Financial Information'!$L87=0,\"\",14))","v":14},"","",true,true,true,true,true,true,true,true,true,true,true,true,true,true,false]
[null,{"$f":"'Scheme and Member Information'!B88","v":0},{"$f":"'Scheme and Member Information'!C88","v":0},null,null,null,null,null,null,null,null,null,null,null,"",null,{"$f":"IF(S88,VLOOKUP(MIN(T88:AI88),'Data Validation (hidden)'!$B$30:$C$45,2,FALSE),IF(COUNTA(D88:N88)>0,\"'Scheme Name' missing but values entered in other columns\",\"\"))","v":""},null,false,1,2,3,4,5,6,7,8,9,10,11,12,13,{"$f":"IF(D88=\"Yes\",IF('Financial Information'!$L88=$O88,\"\",14),IF('Financial Information'!$L88=0,\"\",14))","v":14},"","",true,true,true,true,true,true,true,true,true,true,true,true,true,true,false]
[null,{"$f":"'Scheme and Member Information'!B89","v":0},{"$f":"'Scheme and Member Information'!C89","v":0},null,null,null,null,null,null,null,null,null,null,null,"",null,{"$f":"IF(S89,VLOOKUP(MIN(T89:AI89),'Data Validation (hidden)'!$B$30:$C$45,2,FALSE),IF(COUNTA(D89:N89)>0,\"'Scheme Name' missing but values entered in other columns\",\"\"))","v":""},null,false,1,2,3,4,5,6,7,8,9,10,11,12,13,{"$f":"IF(D89=\"Yes\",IF('Financial Information'!$L89=$O89,\"\",14),IF('Financial Information'!$L89=0,\"\",14))","v":14},"","",true,true,true,true,true,true,true,true,true,true,true,true,true,true,false]
[null,{"$f":"'Scheme and Member Information'!B90","v":0},{"$f":"'Scheme and Member Information'!C90","v":0},null,null,null,null,null,null,null,null,null,null,null,"",null,{"$f":"IF(S90,VLOOKUP(MIN(T90:AI90),'Data Validation (hidden)'!$B$30:$C$45,2,FALSE),IF(COUNTA(D90:N90)>0,\"'Scheme Name' missing but values entered in other columns\",\"\"))","v":""},null,false,1,2,3,4,5,6,7,8,9,10,11,12,13,{"$f":"IF(D90=\"Yes\",IF('Financial Information'!$L90=$O90,\"\",14),IF('Financial Information'!$L90=0,\"\",14))","v":14},"","",true,true,true,true,true,true,true,true,true,true,true,true,true,true,false]
[null,{"$f":"'Scheme and Member Information'!B91","v":0},{"$f":"'Scheme and Member Information'!C91","v":0},null,null,null,null,null,null,null,null,null,null,null,"",null,{"$f":"IF(S91,VLOOKUP(MIN(T91:AI91),'Data Validation (hidden)'!$B$30:$C$45,2,FALSE),IF(COUNTA(D91:N91)>0,\"'Scheme Name' missing but values entered in other columns\",\"\"))","v":""},null,false,1,2,3,4,5,6,7,8,9,10,11,12,13,{"$f":"IF(D91=\"Yes\",IF('Financial Information'!$L91=$O91,\"\",14),IF('Financial Information'!$L91=0,\"\",14))","v":14},"","",true,true,true,true,true,true,true,true,true,true,true,true,true,true,false]
[null,{"$f":"'Scheme and Member Information'!B92","v":0},{"$f":"'Scheme and Member Information'!C92","v":0},null,null,null,null,null,null,null,null,null,null,null,"",null,{"$f":"IF(S92,VLOOKUP(MIN(T92:AI92),'Data Validation (hidden)'!$B$30:$C$45,2,FALSE),IF(COUNTA(D92:N92)>0,\"'Scheme Name' missing but values entered in other columns\",\"\"))","v":""},null,false,1,2,3,4,5,6,7,8,9,10,11,12,13,{"$f":"IF(D92=\"Yes\",IF('Financial Information'!$L92=$O92,\"\",14),IF('Financial Information'!$L92=0,\"\",14))","v":14},"","",true,true,true,true,true,true,true,true,true,true,true,true,true,true,false]
[null,{"$f":"'Scheme and Member Information'!B93","v":0},{"$f":"'Scheme and Member Information'!C93","v":0},null,null,null,null,null,null,null,null,null,null,null,"",null,{"$f":"IF(S93,VLOOKUP(MIN(T93:AI93),'Data Validation (hidden)'!$B$30:$C$45,2,FALSE),IF(COUNTA(D93:N93)>0,\"'Scheme Name' missing but values entered in other columns\",\"\"))","v":""},null,false,1,2,3,4,5,6,7,8,9,10,11,12,13,{"$f":"IF(D93=\"Yes\",IF('Financial Information'!$L93=$O93,\"\",14),IF('Financial Information'!$L93=0,\"\",14))","v":14},"","",true,true,true,true,true,true,true,true,true,true,true,true,true,true,false]
[null,{"$f":"'Scheme and Member Information'!B94","v":0},{"$f":"'Scheme and Member Information'!C94","v":0},null,null,null,null,null,null,null,null,null,null,null,"",null,{"$f":"IF(S94,VLOOKUP(MIN(T94:AI94),'Data Validation (hidden)'!$B$30:$C$45,2,FALSE),IF(COUNTA(D94:N94)>0,\"'Scheme Name' missing but values entered in other columns\",\"\"))","v":""},null,false,1,2,3,4,5,6,7,8,9,10,11,12,13,{"$f":"IF(D94=\"Yes\",IF('Financial Information'!$L94=$O94,\"\",14),IF('Financial Information'!$L94=0,\"\",14))","v":14},"","",true,true,true,true,true,true,true,true,true,true,true,true,true,true,false]
[null,{"$f":"'Scheme and Member Information'!B95","v":0},{"$f":"'Scheme and Member Information'!C95","v":0},null,null,null,null,null,null,null,null,null,null,null,"",null,{"$f":"IF(S95,VLOOKUP(MIN(T95:AI95),'Data Validation (hidden)'!$B$30:$C$45,2,FALSE),IF(COUNTA(D95:N95)>0,\"'Scheme Name' missing but values entered in other columns\",\"\"))","v":""},null,false,1,2,3,4,5,6,7,8,9,10,11,12,13,{"$f":"IF(D95=\"Yes\",IF('Financial Information'!$L95=$O95,\"\",14),IF('Financial Information'!$L95=0,\"\",14))","v":14},"","",true,true,true,true,true,true,true,true,true,true,true,true,true,true,false]
[null,{"$f":"'Scheme and Member Information'!B96","v":0},{"$f":"'Scheme and Member Information'!C96","v":0},null,null,null,null,null,null,null,null,null,null,null,"",null,{"$f":"IF(S96,VLOOKUP(MIN(T96:AI96),'Data Validation (hidden)'!$B$30:$C$45,2,FALSE),IF(COUNTA(D96:N96)>0,\"'Scheme Name' missing but values entered in other columns\",\"\"))","v":""},null,false,1,2,3,4,5,6,7,8,9,10,11,12,13,{"$f":"IF(D96=\"Yes\",IF('Financial Information'!$L96=$O96,\"\",14),IF('Financial Information'!$L96=0,\"\",14))","v":14},"","",true,true,true,true,true,true,true,true,true,true,true,true,true,true,false]
[null,{"$f":"'Scheme and Member Information'!B97","v":0},{"$f":"'Scheme and Member Information'!C97","v":0},null,null,null,null,null,null,null,null,null,null,null,"",null,{"$f":"IF(S97,VLOOKUP(MIN(T97:AI97),'Data Validation (hidden)'!$B$30:$C$45,2,FALSE),IF(COUNTA(D97:N97)>0,\"'Scheme Name' missing but values entered in other columns\",\"\"))","v":""},null,false,1,2,3,4,5,6,7,8,9,10,11,12,13,{"$f":"IF(D97=\"Yes\",IF('Financial Information'!$L97=$O97,\"\",14),IF('Financial Information'!$L97=0,\"\",14))","v":14},"","",true,true,true,true,true,true,true,true,true,true,true,true,true,true,false]
[null,{"$f":"'Scheme and Member Information'!B98","v":0},{"$f":"'Scheme and Member Information'!C98","v":0},null,null,null,null,null,null,null,null,null,null,null,"",null,{"$f":"IF(S98,VLOOKUP(MIN(T98:AI98),'Data Validation (hidden)'!$B$30:$C$45,2,FALSE),IF(COUNTA(D98:N98)>0,\"'Scheme Name' missing but values entered in other columns\",\"\"))","v":""},null,false,1,2,3,4,5,6,7,8,9,10,11,12,13,{"$f":"IF(D98=\"Yes\",IF('Financial Information'!$L98=$O98,\"\",14),IF('Financial Information'!$L98=0,\"\",14))","v":14},"","",true,true,true,true,true,true,true,true,true,true,true,true,true,true,false]
[null,{"$f":"'Scheme and Member Information'!B99","v":0},{"$f":"'Scheme and Member Information'!C99","v":0},null,null,null,null,null,null,null,null,null,null,null,"",null,{"$f":"IF(S99,VLOOKUP(MIN(T99:AI99),'Data Validation (hidden)'!$B$30:$C$45,2,FALSE),IF(COUNTA(D99:N99)>0,\"'Scheme Name' missing but values entered in other columns\",\"\"))","v":""},null,false,1,2,3,4,5,6,7,8,9,10,11,12,13,{"$f":"IF(D99=\"Yes\",IF('Financial Information'!$L99=$O99,\"\",14),IF('Financial Information'!$L99=0,\"\",14))","v":14},"","",true,true,true,true,true,true,true,true,true,true,true,true,true,true,false]
[null,{"$f":"'Scheme and Member Information'!B100","v":0},{"$f":"'Scheme and Member Information'!C100","v":0},null,null,null,null,null,null,null,null,null,null,null,"",null,{"$f":"IF(S100,VLOOKUP(MIN(T100:AI100),'Data Validation (hidden)'!$B$30:$C$45,2,FALSE),IF(COUNTA(D100:N100)>0,\"'Scheme Name' missing but values entered in other columns\",\"\"))","v":""},null,false,1,2,3,4,5,6,7,8,9,10,11,12,13,{"$f":"IF(D100=\"Yes\",IF('Financial Information'!$L100=$O100,\"\",14),IF('Financial Information'!$L100=0,\"\",14))","v":14},"","",true,true,true,true,true,true,true,true,true,true,true,true,true,true,false]
[null,{"$f":"'Scheme and Member Information'!B101","v":0},{"$f":"'Scheme and Member Information'!C101","v":0},null,null,null,null,null,null,null,null,null,null,null,"",null,{"$f":"IF(S101,VLOOKUP(MIN(T101:AI101),'Data Validation (hidden)'!$B$30:$C$45,2,FALSE),IF(COUNTA(D101:N101)>0,\"'Scheme Name' missing but values entered in other columns\",\"\"))","v":""},null,false,1,2,3,4,5,6,7,8,9,10,11,12,13,{"$f":"IF(D101=\"Yes\",IF('Financial Information'!$L101=$O101,\"\",14),IF('Financial Information'!$L101=0,\"\",14))","v":14},"","",true,true,true,true,true,true,true,true,true,true,true,true,true,true,false]
[null,{"$f":"'Scheme and Member Information'!B102","v":0},{"$f":"'Scheme and Member Information'!C102","v":0},null,null,null,null,null,null,null,null,null,null,null,"",null,{"$f":"IF(S102,VLOOKUP(MIN(T102:AI102),'Data Validation (hidden)'!$B$30:$C$45,2,FALSE),IF(COUNTA(D102:N102)>0,\"'Scheme Name' missing but values entered in other columns\",\"\"))","v":""},null,false,1,2,3,4,5,6,7,8,9,10,11,12,13,{"$f":"IF(D102=\"Yes\",IF('Financial Information'!$L102=$O102,\"\",14),IF('Financial Information'!$L102=0,\"\",14))","v":14},"","",true,true,true,true,true,true,true,true,true,true,true,true,true,true,false]
[null,{"$f":"'Scheme and Member Information'!B103","v":0},{"$f":"'Scheme and Member Information'!C103","v":0},null,null,null,null,null,null,null,null,null,null,null,"",null,{"$f":"IF(S103,VLOOKUP(MIN(T103:AI103),'Data Validation (hidden)'!$B$30:$C$45,2,FALSE),IF(COUNTA(D103:N103)>0,\"'Scheme Name' missing but values entered in other columns\",\"\"))","v":""},null,false,1,2,3,4,5,6,7,8,9,10,11,12,13,{"$f":"IF(D103=\"Yes\",IF('Financial Information'!$L103=$O103,\"\",14),IF('Financial Information'!$L103=0,\"\",14))","v":14},"","",true,true,true,true,true,true,true,true,true,true,true,true,true,true,false]
[null,{"$f":"'Scheme and Member Information'!B104","v":0},{"$f":"'Scheme and Member Information'!C104","v":0},null,null,null,null,null,null,null,null,null,null,null,"",null,{"$f":"IF(S104,VLOOKUP(MIN(T104:AI104),'Data Validation (hidden)'!$B$30:$C$45,2,FALSE),IF(COUNTA(D104:N104)>0,\"'Scheme Name' missing but values entered in other columns\",\"\"))","v":""},null,false,1,2,3,4,5,6,7,8,9,10,11,12,13,{"$f":"IF(D104=\"Yes\",IF('Financial Information'!$L104=$O104,\"\",14),IF('Financial Information'!$L104=0,\"\",14))","v":14},"","",true,true,true,true,true,true,true,true,true,true,true,true,true,true,false]
[null,{"$f":"'Scheme and Member Information'!B105","v":0},{"$f":"'Scheme and Member Information'!C105","v":0},null,null,null,null,null,null,null,null,null,null,null,"",null,{"$f":"IF(S105,VLOOKUP(MIN(T105:AI105),'Data Validation (hidden)'!$B$30:$C$45,2,FALSE),IF(COUNTA(D105:N105)>0,\"'Scheme Name' missing but values entered in other columns\",\"\"))","v":""},null,false,1,2,3,4,5,6,7,8,9,10,11,12,13,{"$f":"IF(D105=\"Yes\",IF('Financial Information'!$L105=$O105,\"\",14),IF('Financial Information'!$L105=0,\"\",14))","v":14},"","",true,true,true,true,true,true,true,true,true,true,true,true,true,true,false]
[null,{"$f":"'Scheme and Member Information'!B106","v":0},{"$f":"'Scheme and Member Information'!C106","v":0},null,null,null,null,null,null,null,null,null,null,null,"",null,{"$f":"IF(S106,VLOOKUP(MIN(T106:AI106),'Data Validation (hidden)'!$B$30:$C$45,2,FALSE),IF(COUNTA(D106:N106)>0,\"'Scheme Name' missing but values entered in other columns\",\"\"))","v":""},null,false,1,2,3,4,5,6,7,8,9,10,11,12,13,{"$f":"IF(D106=\"Yes\",IF('Financial Information'!$L106=$O106,\"\",14),IF('Financial Information'!$L106=0,\"\",14))","v":14},"","",true,true,true,true,true,true,true,true,true,true,true,true,true,true,false]
[null,{"$f":"'Scheme and Member Information'!B107","v":0},{"$f":"'Scheme and Member Information'!C107","v":0},null,null,null,null,null,null,null,null,null,null,null,"",null,{"$f":"IF(S107,VLOOKUP(MIN(T107:AI107),'Data Validation (hidden)'!$B$30:$C$45,2,FALSE),IF(COUNTA(D107:N107)>0,\"'Scheme Name' missing but values entered in other columns\",\"\"))","v":""},null,false,1,2,3,4,5,6,7,8,9,10,11,12,13,{"$f":"IF(D107=\"Yes\",IF('Financial Information'!$L107=$O107,\"\",14),IF('Financial Information'!$L107=0,\"\",14))","v":14},"","",true,true,true,true,true,true,true,true,true,true,true,true,true,true,false]
[null,{"$f":"'Scheme and Member Information'!B108","v":0},{"$f":"'Scheme and Member Information'!C108","v":0},null,null,null,null,null,null,null,null,null,null,null,"",null,{"$f":"IF(S108,VLOOKUP(MIN(T108:AI108),'Data Validation (hidden)'!$B$30:$C$45,2,FALSE),IF(COUNTA(D108:N108)>0,\"'Scheme Name' missing but values entered in other columns\",\"\"))","v":""},null,false,1,2,3,4,5,6,7,8,9,10,11,12,13,{"$f":"IF(D108=\"Yes\",IF('Financial Information'!$L108=$O108,\"\",14),IF('Financial Information'!$L108=0,\"\",14))","v":14},"","",true,true,true,true,true,true,true,true,true,true,true,true,true,true,false]
[null,{"$f":"'Scheme and Member Information'!B109","v":0},{"$f":"'Scheme and Member Information'!C109","v":0},null,null,null,null,null,null,null,null,null,null,null,"",null,{"$f":"IF(S109,VLOOKUP(MIN(T109:AI109),'Data Validation (hidden)'!$B$30:$C$45,2,FALSE),IF(COUNTA(D109:N109)>0,\"'Scheme Name' missing but values entered in other columns\",\"\"))","v":""},null,false,1,2,3,4,5,6,7,8,9,10,11,12,13,{"$f":"IF(D109=\"Yes\",IF('Financial Information'!$L109=$O109,\"\",14),IF('Financial Information'!$L109=0,\"\",14))","v":14},"","",true,true,true,true,true,true,true,true,true,true,true,true,true,true,false]
[null,{"$f":"'Scheme and Member Information'!B110","v":0},{"$f":"'Scheme and Member Information'!C110","v":0},null,null,null,null,null,null,null,null,null,null,null,"",null,{"$f":"IF(S110,VLOOKUP(MIN(T110:AI110),'Data Validation (hidden)'!$B$30:$C$45,2,FALSE),IF(COUNTA(D110:N110)>0,\"'Scheme Name' missing but values entered in other columns\",\"\"))","v":""},null,false,1,2,3,4,5,6,7,8,9,10,11,12,13,{"$f":"IF(D110=\"Yes\",IF('Financial Information'!$L110=$O110,\"\",14),IF('Financial Information'!$L110=0,\"\",14))","v":14},"","",true,true,true,true,true,true,true,true,true,true,true,true,true,true,false]
[null,{"$f":"'Scheme and Member Information'!B111","v":0},{"$f":"'Scheme and Member Information'!C111","v":0},null,null,null,null,null,null,null,null,null,null,null,"",null,{"$f":"IF(S111,VLOOKUP(MIN(T111:AI111),'Data Validation (hidden)'!$B$30:$C$45,2,FALSE),IF(COUNTA(D111:N111)>0,\"'Scheme Name' missing but values entered in other columns\",\"\"))","v":""},null,false,1,2,3,4,5,6,7,8,9,10,11,12,13,{"$f":"IF(D111=\"Yes\",IF('Financial Information'!$L111=$O111,\"\",14),IF('Financial Information'!$L111=0,\"\",14))","v":14},"","",true,true,true,true,true,true,true,true,true,true,true,true,true,true,false]
[null,{"$f":"'Scheme and Member Information'!B112","v":0},{"$f":"'Scheme and Member Information'!C112","v":0},null,null,null,null,null,null,null,null,null,null,null,"",null,{"$f":"IF(S112,VLOOKUP(MIN(T112:AI112),'Data Validation (hidden)'!$B$30:$C$45,2,FALSE),IF(COUNTA(D112:N112)>0,\"'Scheme Name' missing but values entered in other columns\",\"\"))","v":""},null,false,1,2,3,4,5,6,7,8,9,10,11,12,13,{"$f":"IF(D112=\"Yes\",IF('Financial Information'!$L112=$O112,\"\",14),IF('Financial Information'!$L112=0,\"\",14))","v":14},"","",true,true,true,true,true,true,true,true,true,true,true,true,true,true,false]
[null,{"$f":"'Scheme and Member Information'!B113","v":0},{"$f":"'Scheme and Member Information'!C113","v":0},null,null,null,null,null,null,null,null,null,null,null,"",null,{"$f":"IF(S113,VLOOKUP(MIN(T113:AI113),'Data Validation (hidden)'!$B$30:$C$45,2,FALSE),IF(COUNTA(D113:N113)>0,\"'Scheme Name' missing but values entered in other columns\",\"\"))","v":""},null,false,1,2,3,4,5,6,7,8,9,10,11,12,13,{"$f":"IF(D113=\"Yes\",IF('Financial Information'!$L113=$O113,\"\",14),IF('Financial Information'!$L113=0,\"\",14))","v":14},"","",true,true,true,true,true,true,true,true,true,true,true,true,true,true,false]
[null,{"$f":"'Scheme and Member Information'!B114","v":0},{"$f":"'Scheme and Member Information'!C114","v":0},null,null,null,null,null,null,null,null,null,null,null,"",null,{"$f":"IF(S114,VLOOKUP(MIN(T114:AI114),'Data Validation (hidden)'!$B$30:$C$45,2,FALSE),IF(COUNTA(D114:N114)>0,\"'Scheme Name' missing but values entered in other columns\",\"\"))","v":""},null,false,1,2,3,4,5,6,7,8,9,10,11,12,13,{"$f":"IF(D114=\"Yes\",IF('Financial Information'!$L114=$O114,\"\",14),IF('Financial Information'!$L114=0,\"\",14))","v":14},"","",true,true,true,true,true,true,true,true,true,true,true,true,true,true,false]
[null,{"$f":"'Scheme and Member Information'!B115","v":0},{"$f":"'Scheme and Member Information'!C115","v":0},null,null,null,null,null,null,null,null,null,null,null,"",null,{"$f":"IF(S115,VLOOKUP(MIN(T115:AI115),'Data Validation (hidden)'!$B$30:$C$45,2,FALSE),IF(COUNTA(D115:N115)>0,\"'Scheme Name' missing but values entered in other columns\",\"\"))","v":""},null,false,1,2,3,4,5,6,7,8,9,10,11,12,13,{"$f":"IF(D115=\"Yes\",IF('Financial Information'!$L115=$O115,\"\",14),IF('Financial Information'!$L115=0,\"\",14))","v":14},"","",true,true,true,true,true,true,true,true,true,true,true,true,true,true,false]
[null,{"$f":"'Scheme and Member Information'!B116","v":0},{"$f":"'Scheme and Member Information'!C116","v":0},null,null,null,null,null,null,null,null,null,null,null,"",null,{"$f":"IF(S116,VLOOKUP(MIN(T116:AI116),'Data Validation (hidden)'!$B$30:$C$45,2,FALSE),IF(COUNTA(D116:N116)>0,\"'Scheme Name' missing but values entered in other columns\",\"\"))","v":""},null,false,1,2,3,4,5,6,7,8,9,10,11,12,13,{"$f":"IF(D116=\"Yes\",IF('Financial Information'!$L116=$O116,\"\",14),IF('Financial Information'!$L116=0,\"\",14))","v":14},"","",true,true,true,true,true,true,true,true,true,true,true,true,true,true,false]
[null,{"$f":"'Scheme and Member Information'!B117","v":0},{"$f":"'Scheme and Member Information'!C117","v":0},null,null,null,null,null,null,null,null,null,null,null,"",null,{"$f":"IF(S117,VLOOKUP(MIN(T117:AI117),'Data Validation (hidden)'!$B$30:$C$45,2,FALSE),IF(COUNTA(D117:N117)>0,\"'Scheme Name' missing but values entered in other columns\",\"\"))","v":""},null,false,1,2,3,4,5,6,7,8,9,10,11,12,13,{"$f":"IF(D117=\"Yes\",IF('Financial Information'!$L117=$O117,\"\",14),IF('Financial Information'!$L117=0,\"\",14))","v":14},"","",true,true,true,true,true,true,true,true,true,true,true,true,true,true,false]
[null,{"$f":"'Scheme and Member Information'!B118","v":0},{"$f":"'Scheme and Member Information'!C118","v":0},null,null,null,null,null,null,null,null,null,null,null,"",null,{"$f":"IF(S118,VLOOKUP(MIN(T118:AI118),'Data Validation (hidden)'!$B$30:$C$45,2,FALSE),IF(COUNTA(D118:N118)>0,\"'Scheme Name' missing but values entered in other columns\",\"\"))","v":""},null,false,1,2,3,4,5,6,7,8,9,10,11,12,13,{"$f":"IF(D118=\"Yes\",IF('Financial Information'!$L118=$O118,\"\",14),IF('Financial Information'!$L118=0,\"\",14))","v":14},"","",true,true,true,true,true,true,true,true,true,true,true,true,true,true,false]
[null,{"$f":"'Scheme and Member Information'!B119","v":0},{"$f":"'Scheme and Member Information'!C119","v":0},null,null,null,null,null,null,null,null,null,null,null,"",null,{"$f":"IF(S119,VLOOKUP(MIN(T119:AI119),'Data Validation (hidden)'!$B$30:$C$45,2,FALSE),IF(COUNTA(D119:N119)>0,\"'Scheme Name' missing but values entered in other columns\",\"\"))","v":""},null,false,1,2,3,4,5,6,7,8,9,10,11,12,13,{"$f":"IF(D119=\"Yes\",IF('Financial Information'!$L119=$O119,\"\",14),IF('Financial Information'!$L119=0,\"\",14))","v":14},"","",true,true,true,true,true,true,true,true,true,true,true,true,true,true,false]
[null,{"$f":"'Scheme and Member Information'!B120","v":0},{"$f":"'Scheme and Member Information'!C120","v":0},null,null,null,null,null,null,null,null,null,null,null,"",null,{"$f":"IF(S120,VLOOKUP(MIN(T120:AI120),'Data Validation (hidden)'!$B$30:$C$45,2,FALSE),IF(COUNTA(D120:N120)>0,\"'Scheme Name' missing but values entered in other columns\",\"\"))","v":""},null,false,1,2,3,4,5,6,7,8,9,10,11,12,13,{"$f":"IF(D120=\"Yes\",IF('Financial Information'!$L120=$O120,\"\",14),IF('Financial Information'!$L120=0,\"\",14))","v":14},"","",true,true,true,true,true,true,true,true,true,true,true,true,true,true,false]
[null,{"$f":"'Scheme and Member Information'!B121","v":0},{"$f":"'Scheme and Member Information'!C121","v":0},null,null,null,null,null,null,null,null,null,null,null,"",null,{"$f":"IF(S121,VLOOKUP(MIN(T121:AI121),'Data Validation (hidden)'!$B$30:$C$45,2,FALSE),IF(COUNTA(D121:N121)>0,\"'Scheme Name' missing but values entered in other columns\",\"\"))","v":""},null,false,1,2,3,4,5,6,7,8,9,10,11,12,13,{"$f":"IF(D121=\"Yes\",IF('Financial Information'!$L121=$O121,\"\",14),IF('Financial Information'!$L121=0,\"\",14))","v":14},"","",true,true,true,true,true,true,true,true,true,true,true,true,true,true,false]
[null,{"$f":"'Scheme and Member Information'!B122","v":0},{"$f":"'Scheme and Member Information'!C122","v":0},null,null,null,null,null,null,null,null,null,null,null,"",null,{"$f":"IF(S122,VLOOKUP(MIN(T122:AI122),'Data Validation (hidden)'!$B$30:$C$45,2,FALSE),IF(COUNTA(D122:N122)>0,\"'Scheme Name' missing but values entered in other columns\",\"\"))","v":""},null,false,1,2,3,4,5,6,7,8,9,10,11,12,13,{"$f":"IF(D122=\"Yes\",IF('Financial Information'!$L122=$O122,\"\",14),IF('Financial Information'!$L122=0,\"\",14))","v":14},"","",true,true,true,true,true,true,true,true,true,true,true,true,true,true,false]
[null,{"$f":"'Scheme and Member Information'!B123","v":0},{"$f":"'Scheme and Member Information'!C123","v":0},null,null,null,null,null,null,null,null,null,null,null,"",null,{"$f":"IF(S123,VLOOKUP(MIN(T123:AI123),'Data Validation (hidden)'!$B$30:$C$45,2,FALSE),IF(COUNTA(D123:N123)>0,\"'Scheme Name' missing but values entered in other columns\",\"\"))","v":""},null,false,1,2,3,4,5,6,7,8,9,10,11,12,13,{"$f":"IF(D123=\"Yes\",IF('Financial Information'!$L123=$O123,\"\",14),IF('Financial Information'!$L123=0,\"\",14))","v":14},"","",true,true,true,true,true,true,true,true,true,true,true,true,true,true,false]
[null,{"$f":"'Scheme and Member Information'!B124","v":0},{"$f":"'Scheme and Member Information'!C124","v":0},null,null,null,null,null,null,null,null,null,null,null,"",null,{"$f":"IF(S124,VLOOKUP(MIN(T124:AI124),'Data Validation (hidden)'!$B$30:$C$45,2,FALSE),IF(COUNTA(D124:N124)>0,\"'Scheme Name' missing but values entered in other columns\",\"\"))","v":""},null,false,1,2,3,4,5,6,7,8,9,10,11,12,13,{"$f":"IF(D124=\"Yes\",IF('Financial Information'!$L124=$O124,\"\",14),IF('Financial Information'!$L124=0,\"\",14))","v":14},"","",true,true,true,true,true,true,true,true,true,true,true,true,true,true,false]
[null,{"$f":"'Scheme and Member Information'!B125","v":0},{"$f":"'Scheme and Member Information'!C125","v":0},null,null,null,null,null,null,null,null,null,null,null,"",null,{"$f":"IF(S125,VLOOKUP(MIN(T125:AI125),'Data Validation (hidden)'!$B$30:$C$45,2,FALSE),IF(COUNTA(D125:N125)>0,\"'Scheme Name' missing but values entered in other columns\",\"\"))","v":""},null,false,1,2,3,4,5,6,7,8,9,10,11,12,13,{"$f":"IF(D125=\"Yes\",IF('Financial Information'!$L125=$O125,\"\",14),IF('Financial Information'!$L125=0,\"\",14))","v":14},"","",true,true,true,true,true,true,true,true,true,true,true,true,true,true,false]
[null,{"$f":"'Scheme and Member Information'!B126","v":0},{"$f":"'Scheme and Member Information'!C126","v":0},null,null,null,null,null,null,null,null,null,null,null,"",null,{"$f":"IF(S126,VLOOKUP(MIN(T126:AI126),'Data Validation (hidden)'!$B$30:$C$45,2,FALSE),IF(COUNTA(D126:N126)>0,\"'Scheme Name' missing but values entered in other columns\",\"\"))","v":""},null,false,1,2,3,4,5,6,7,8,9,10,11,12,13,{"$f":"IF(D126=\"Yes\",IF('Financial Information'!$L126=$O126,\"\",14),IF('Financial Information'!$L126=0,\"\",14))","v":14},"","",true,true,true,true,true,true,true,true,true,true,true,true,true,true,false]
[null,{"$f":"'Scheme and Member Information'!B127","v":0},{"$f":"'Scheme and Member Information'!C127","v":0},null,null,null,null,null,null,null,null,null,null,null,"",null,{"$f":"IF(S127,VLOOKUP(MIN(T127:AI127),'Data Validation (hidden)'!$B$30:$C$45,2,FALSE),IF(COUNTA(D127:N127)>0,\"'Scheme Name' missing but values entered in other columns\",\"\"))","v":""},null,false,1,2,3,4,5,6,7,8,9,10,11,12,13,{"$f":"IF(D127=\"Yes\",IF('Financial Information'!$L127=$O127,\"\",14),IF('Financial Information'!$L127=0,\"\",14))","v":14},"","",true,true,true,true,true,true,true,true,true,true,true,true,true,true,false]
[null,{"$f":"'Scheme and Member Information'!B128","v":0},{"$f":"'Scheme and Member Information'!C128","v":0},null,null,null,null,null,null,null,null,null,null,null,"",null,{"$f":"IF(S128,VLOOKUP(MIN(T128:AI128),'Data Validation (hidden)'!$B$30:$C$45,2,FALSE),IF(COUNTA(D128:N128)>0,\"'Scheme Name' missing but values entered in other columns\",\"\"))","v":""},null,false,1,2,3,4,5,6,7,8,9,10,11,12,13,{"$f":"IF(D128=\"Yes\",IF('Financial Information'!$L128=$O128,\"\",14),IF('Financial Information'!$L128=0,\"\",14))","v":14},"","",true,true,true,true,true,true,true,true,true,true,true,true,true,true,false]
[null,{"$f":"'Scheme and Member Information'!B129","v":0},{"$f":"'Scheme and Member Information'!C129","v":0},null,null,null,null,null,null,null,null,null,null,null,"",null,{"$f":"IF(S129,VLOOKUP(MIN(T129:AI129),'Data Validation (hidden)'!$B$30:$C$45,2,FALSE),IF(COUNTA(D129:N129)>0,\"'Scheme Name' missing but values entered in other columns\",\"\"))","v":""},null,false,1,2,3,4,5,6,7,8,9,10,11,12,13,{"$f":"IF(D129=\"Yes\",IF('Financial Information'!$L129=$O129,\"\",14),IF('Financial Information'!$L129=0,\"\",14))","v":14},"","",true,true,true,true,true,true,true,true,true,true,true,true,true,true,false]
[null,{"$f":"'Scheme and Member Information'!B130","v":0},{"$f":"'Scheme and Member Information'!C130","v":0},null,null,null,null,null,null,null,null,null,null,null,"",null,{"$f":"IF(S130,VLOOKUP(MIN(T130:AI130),'Data Validation (hidden)'!$B$30:$C$45,2,FALSE),IF(COUNTA(D130:N130)>0,\"'Scheme Name' missing but values entered in other columns\",\"\"))","v":""},null,false,1,2,3,4,5,6,7,8,9,10,11,12,13,{"$f":"IF(D130=\"Yes\",IF('Financial Information'!$L130=$O130,\"\",14),IF('Financial Information'!$L130=0,\"\",14))","v":14},"","",true,true,true,true,true,true,true,true,true,true,true,true,true,true,false]
[null,{"$f":"'Scheme and Member Information'!B131","v":0},{"$f":"'Scheme and Member Information'!C131","v":0},null,null,null,null,null,null,null,null,null,null,null,"",null,{"$f":"IF(S131,VLOOKUP(MIN(T131:AI131),'Data Validation (hidden)'!$B$30:$C$45,2,FALSE),IF(COUNTA(D131:N131)>0,\"'Scheme Name' missing but values entered in other columns\",\"\"))","v":""},null,false,1,2,3,4,5,6,7,8,9,10,11,12,13,{"$f":"IF(D131=\"Yes\",IF('Financial Information'!$L131=$O131,\"\",14),IF('Financial Information'!$L131=0,\"\",14))","v":14},"","",true,true,true,true,true,true,true,true,true,true,true,true,true,true,false]
[null,{"$f":"'Scheme and Member Information'!B132","v":0},{"$f":"'Scheme and Member Information'!C132","v":0},null,null,null,null,null,null,null,null,null,null,null,"",null,{"$f":"IF(S132,VLOOKUP(MIN(T132:AI132),'Data Validation (hidden)'!$B$30:$C$45,2,FALSE),IF(COUNTA(D132:N132)>0,\"'Scheme Name' missing but values entered in other columns\",\"\"))","v":""},null,false,1,2,3,4,5,6,7,8,9,10,11,12,13,{"$f":"IF(D132=\"Yes\",IF('Financial Information'!$L132=$O132,\"\",14),IF('Financial Information'!$L132=0,\"\",14))","v":14},"","",true,true,true,true,true,true,true,true,true,true,true,true,true,true,false]
[null,{"$f":"'Scheme and Member Information'!B133","v":0},{"$f":"'Scheme and Member Information'!C133","v":0},null,null,null,null,null,null,null,null,null,null,null,"",null,{"$f":"IF(S133,VLOOKUP(MIN(T133:AI133),'Data Validation (hidden)'!$B$30:$C$45,2,FALSE),IF(COUNTA(D133:N133)>0,\"'Scheme Name' missing but values entered in other columns\",\"\"))","v":""},null,false,1,2,3,4,5,6,7,8,9,10,11,12,13,{"$f":"IF(D133=\"Yes\",IF('Financial Information'!$L133=$O133,\"\",14),IF('Financial Information'!$L133=0,\"\",14))","v":14},"","",true,true,true,true,true,true,true,true,true,true,true,true,true,true,false]
[null,{"$f":"'Scheme and Member Information'!B134","v":0},{"$f":"'Scheme and Member Information'!C134","v":0},null,null,null,null,null,null,null,null,null,null,null,"",null,{"$f":"IF(S134,VLOOKUP(MIN(T134:AI134),'Data Validation (hidden)'!$B$30:$C$45,2,FALSE),IF(COUNTA(D134:N134)>0,\"'Scheme Name' missing but values entered in other columns\",\"\"))","v":""},null,false,1,2,3,4,5,6,7,8,9,10,11,12,13,{"$f":"IF(D134=\"Yes\",IF('Financial Information'!$L134=$O134,\"\",14),IF('Financial Information'!$L134=0,\"\",14))","v":14},"","",true,true,true,true,true,true,true,true,true,true,true,true,true,true,false]
[null,{"$f":"'Scheme and Member Information'!B135","v":0},{"$f":"'Scheme and Member Information'!C135","v":0},null,null,null,null,null,null,null,null,null,null,null,"",null,{"$f":"IF(S135,VLOOKUP(MIN(T135:AI135),'Data Validation (hidden)'!$B$30:$C$45,2,FALSE),IF(COUNTA(D135:N135)>0,\"'Scheme Name' missing but values entered in other columns\",\"\"))","v":""},null,false,1,2,3,4,5,6,7,8,9,10,11,12,13,{"$f":"IF(D135=\"Yes\",IF('Financial Information'!$L135=$O135,\"\",14),IF('Financial Information'!$L135=0,\"\",14))","v":14},"","",true,true,true,true,true,true,true,true,true,true,true,true,true,true,false]
[null,{"$f":"'Scheme and Member Information'!B136","v":0},{"$f":"'Scheme and Member Information'!C136","v":0},null,null,null,null,null,null,null,null,null,null,null,"",null,{"$f":"IF(S136,VLOOKUP(MIN(T136:AI136),'Data Validation (hidden)'!$B$30:$C$45,2,FALSE),IF(COUNTA(D136:N136)>0,\"'Scheme Name' missing but values entered in other columns\",\"\"))","v":""},null,false,1,2,3,4,5,6,7,8,9,10,11,12,13,{"$f":"IF(D136=\"Yes\",IF('Financial Information'!$L136=$O136,\"\",14),IF('Financial Information'!$L136=0,\"\",14))","v":14},"","",{"$f":"IF(CELL(\"format\", B136) = \"G\",TRUE,FALSE)","v":true},{"$f":"IF(CELL(\"format\", C136) = \"F0\",TRUE,FALSE)","v":true},{"$f":"IF(CELL(\"format\",D131)=\"G\",TRUE,FALSE)","v":true},{"$f":"IF( CELL(\"format\",E136) = \"C0\",TRUE,FALSE)","v":true},{"$f":"IF( CELL(\"format\",F136) = \"C0\",TRUE,FALSE)","v":true},{"$f":"IF( CELL(\"format\",G136) = \"C0\",TRUE,FALSE)","v":true},{"$f":"IF( CELL(\"format\",H136) = \"C0\",TRUE,FALSE)","v":true},{"$f":"IF( CELL(\"format\",I136) = \"C0\",TRUE,FALSE)","v":true},{"$f":"IF( CELL(\"format\",J136) = \"C0\",TRUE,FALSE)","v":true},{"$f":"IF( CELL(\"format\",K136) = \"C0\",TRUE,FALSE)","v":true},{"$f":"IF( CELL(\"format\",L136) = \"C0\",TRUE,FALSE)","v":true},{"$f":"IF( CELL(\"format\",M136) = \"C0\",TRUE,FALSE)","v":true},{"$f":"IF( CELL(\"format\",N136) = \"C0\",TRUE,FALSE)","v":true},{"$f":"IF( CELL(\"format\",O136) = \"C0\",TRUE,FALSE)","v":true},{"$f":"IF(Q136=\"\",FALSE,IF(Q136=\"OK\",FALSE,TRUE))","v":false}]
[null,{"$f":"'Scheme and Member Information'!B137","v":0},{"$f":"'Scheme and Member Information'!C137","v":0},null,null,null,null,null,null,null,null,null,null,null,{"$f":"IF(OR(E137<>\"\",F137<>\"\",G137<>\"\",H137<>\"\",I137<>\"\",J137<>\"\",K137<>\"\",L137<>\"\",M137<>\"\",N137<>\"\"),SUM(E137:N137),\"\")","v":""},null,{"$f":"IF(S137,VLOOKUP(MIN(T137:AI137),'Data Validation (hidden)'!$B$30:$C$45,2,FALSE),IF(COUNTA(D137:N137)>0,\"'Scheme Name' missing but values entered in other columns\",\"\"))","v":""},null,{"$f":"AND(B137<>\"\",B137<>0)","v":false},{"$f":"IF(C137=\"\",1,IF(C137=0,1,\"\"))","v":1},{"$f":"IF(D137=\"\",2,\"\")","v":2},{"$f":"IF(E137=\"\",IF(D137=\"No\",\"\",3),\"\")","v":3},{"$f":"IF(F137=\"\",IF(D137=\"No\",\"\",4),\"\")","v":4},{"$f":"IF(G137=\"\",IF(D137=\"No\",\"\",5),\"\")","v":5},{"$f":"IF(H137=\"\",IF(D137=\"No\",\"\",6),\"\")","v":6},{"$f":"IF(I137=\"\",IF(D137=\"No\",\"\",7),\"\")","v":7},{"$f":"IF(J137=\"\",IF(D137=\"No\",\"\",8),\"\")","v":8},{"$f":"IF(K137=\"\",IF(D137=\"No\",\"\",9),\"\")","v":9},{"$f":"IF(L137=\"\",IF(D137=\"No\",\"\",10),\"\")","v":10},{"$f":"IF(M137=\"\",IF(D137=\"No\",\"\",11),\"\")","v":11},{"$f":"IF(N137=\"\",IF(D137=\"No\",\"\",12),\"\")","v":12},{"$f":"IF(O137=\"\",IF(D137=\"No\",\"\",13),\"\")","v":13},{"$f":"IF(D137=\"Yes\",IF('Financial Information'!$L137=$O137,\"\",14),IF('Financial Information'!$L137=0,\"\",14))","v":14},{"$f":"IF(COUNT(T137:AG137)=0,\"10\",\"\")","v":""},{"$f":"IF(AND(AJ137,AK137,AL137,AM137,AN137,AO137,AP137,AQ137,AR137,AS137,AT137,AU137,AV137,AW137)=TRUE,\"\",15)","v":""},true,true,true,true,true,true,true,true,true,true,true,true,true,true,false]
[null,{"$f":"'Scheme and Member Information'!B138","v":0},{"$f":"'Scheme and Member Information'!C138","v":0},null,null,null,null,null,null,null,null,null,null,null,"",null,{"$f":"IF(S138,VLOOKUP(MIN(T138:AI138),'Data Validation (hidden)'!$B$30:$C$45,2,FALSE),IF(COUNTA(D138:N138)>0,\"'Scheme Name' missing but values entered in other columns\",\"\"))","v":""},null,false,1,2,3,4,5,6,7,8,9,10,11,12,13,{"$f":"IF(D138=\"Yes\",IF('Financial Information'!$L138=$O138,\"\",14),IF('Financial Information'!$L138=0,\"\",14))","v":14},"","",true,true,true,true,true,true,true,true,true,true,true,true,true,true,false]
[null,{"$f":"'Scheme and Member Information'!B139","v":0},{"$f":"'Scheme and Member Information'!C139","v":0},null,null,null,null,null,null,null,null,null,null,null,"",null,{"$f":"IF(S139,VLOOKUP(MIN(T139:AI139),'Data Validation (hidden)'!$B$30:$C$45,2,FALSE),IF(COUNTA(D139:N139)>0,\"'Scheme Name' missing but values entered in other columns\",\"\"))","v":""},null,false,1,2,3,4,5,6,7,8,9,10,11,12,13,{"$f":"IF(D139=\"Yes\",IF('Financial Information'!$L139=$O139,\"\",14),IF('Financial Information'!$L139=0,\"\",14))","v":14},"","",true,true,true,true,true,true,true,true,true,true,true,true,true,true,false]
[null,{"$f":"'Scheme and Member Information'!B140","v":0},{"$f":"'Scheme and Member Information'!C140","v":0},null,null,null,null,null,null,null,null,null,null,null,"",null,{"$f":"IF(S140,VLOOKUP(MIN(T140:AI140),'Data Validation (hidden)'!$B$30:$C$45,2,FALSE),IF(COUNTA(D140:N140)>0,\"'Scheme Name' missing but values entered in other columns\",\"\"))","v":""},null,false,1,2,3,4,5,6,7,8,9,10,11,12,13,{"$f":"IF(D140=\"Yes\",IF('Financial Information'!$L140=$O140,\"\",14),IF('Financial Information'!$L140=0,\"\",14))","v":14},"","",true,true,true,true,true,true,true,true,true,true,true,true,true,true,false]
[null,{"$f":"'Scheme and Member Information'!B141","v":0},{"$f":"'Scheme and Member Information'!C141","v":0},null,null,null,null,null,null,null,null,null,null,null,"",null,{"$f":"IF(S141,VLOOKUP(MIN(T141:AI141),'Data Validation (hidden)'!$B$30:$C$45,2,FALSE),IF(COUNTA(D141:N141)>0,\"'Scheme Name' missing but values entered in other columns\",\"\"))","v":""},null,false,1,2,3,4,5,6,7,8,9,10,11,12,13,{"$f":"IF(D141=\"Yes\",IF('Financial Information'!$L141=$O141,\"\",14),IF('Financial Information'!$L141=0,\"\",14))","v":14},"","",true,true,true,true,true,true,true,true,true,true,true,true,true,true,false]
[null,{"$f":"'Scheme and Member Information'!B142","v":0},{"$f":"'Scheme and Member Information'!C142","v":0},null,null,null,null,null,null,null,null,null,null,null,"",null,{"$f":"IF(S142,VLOOKUP(MIN(T142:AI142),'Data Validation (hidden)'!$B$30:$C$45,2,FALSE),IF(COUNTA(D142:N142)>0,\"'Scheme Name' missing but values entered in other columns\",\"\"))","v":""},null,false,1,2,3,4,5,6,7,8,9,10,11,12,13,{"$f":"IF(D142=\"Yes\",IF('Financial Information'!$L142=$O142,\"\",14),IF('Financial Information'!$L142=0,\"\",14))","v":14},"","",true,true,true,true,true,true,true,true,true,true,true,true,true,true,false]
[null,{"$f":"'Scheme and Member Information'!B143","v":0},{"$f":"'Scheme and Member Information'!C143","v":0},null,null,null,null,null,null,null,null,null,null,null,"",null,{"$f":"IF(S143,VLOOKUP(MIN(T143:AI143),'Data Validation (hidden)'!$B$30:$C$45,2,FALSE),IF(COUNTA(D143:N143)>0,\"'Scheme Name' missing but values entered in other columns\",\"\"))","v":""},null,false,1,2,3,4,5,6,7,8,9,10,11,12,13,{"$f":"IF(D143=\"Yes\",IF('Financial Information'!$L143=$O143,\"\",14),IF('Financial Information'!$L143=0,\"\",14))","v":14},"","",true,true,true,true,true,true,true,true,true,true,true,true,true,true,false]
[null,{"$f":"'Scheme and Member Information'!B144","v":0},{"$f":"'Scheme and Member Information'!C144","v":0},null,null,null,null,null,null,null,null,null,null,null,"",null,{"$f":"IF(S144,VLOOKUP(MIN(T144:AI144),'Data Validation (hidden)'!$B$30:$C$45,2,FALSE),IF(COUNTA(D144:N144)>0,\"'Scheme Name' missing but values entered in other columns\",\"\"))","v":""},null,false,1,2,3,4,5,6,7,8,9,10,11,12,13,{"$f":"IF(D144=\"Yes\",IF('Financial Information'!$L144=$O144,\"\",14),IF('Financial Information'!$L144=0,\"\",14))","v":14},"","",true,true,true,true,true,true,true,true,true,true,true,true,true,true,false]
[null,{"$f":"'Scheme and Member Information'!B145","v":0},{"$f":"'Scheme and Member Information'!C145","v":0},null,null,null,null,null,null,null,null,null,null,null,"",null,{"$f":"IF(S145,VLOOKUP(MIN(T145:AI145),'Data Validation (hidden)'!$B$30:$C$45,2,FALSE),IF(COUNTA(D145:N145)>0,\"'Scheme Name' missing but values entered in other columns\",\"\"))","v":""},null,false,1,2,3,4,5,6,7,8,9,10,11,12,13,{"$f":"IF(D145=\"Yes\",IF('Financial Information'!$L145=$O145,\"\",14),IF('Financial Information'!$L145=0,\"\",14))","v":14},"","",true,true,true,true,true,true,true,true,true,true,true,true,true,true,false]
[null,{"$f":"'Scheme and Member Information'!B146","v":0},{"$f":"'Scheme and Member Information'!C146","v":0},null,null,null,null,null,null,null,null,null,null,null,"",null,{"$f":"IF(S146,VLOOKUP(MIN(T146:AI146),'Data Validation (hidden)'!$B$30:$C$45,2,FALSE),IF(COUNTA(D146:N146)>0,\"'Scheme Name' missing but values entered in other columns\",\"\"))","v":""},null,false,1,2,3,4,5,6,7,8,9,10,11,12,13,{"$f":"IF(D146=\"Yes\",IF('Financial Information'!$L146=$O146,\"\",14),IF('Financial Information'!$L146=0,\"\",14))","v":14},"","",true,true,true,true,true,true,true,true,true,true,true,true,true,true,false]
[null,{"$f":"'Scheme and Member Information'!B147","v":0},{"$f":"'Scheme and Member Information'!C147","v":0},null,null,null,null,null,null,null,null,null,null,null,"",null,{"$f":"IF(S147,VLOOKUP(MIN(T147:AI147),'Data Validation (hidden)'!$B$30:$C$45,2,FALSE),IF(COUNTA(D147:N147)>0,\"'Scheme Name' missing but values entered in other columns\",\"\"))","v":""},null,false,1,2,3,4,5,6,7,8,9,10,11,12,13,{"$f":"IF(D147=\"Yes\",IF('Financial Information'!$L147=$O147,\"\",14),IF('Financial Information'!$L147=0,\"\",14))","v":14},"","",true,true,true,true,true,true,true,true,true,true,true,true,true,true,false]
[null,{"$f":"'Scheme and Member Information'!B148","v":0},{"$f":"'Scheme and Member Information'!C148","v":0},null,null,null,null,null,null,null,null,null,null,null,"",null,{"$f":"IF(S148,VLOOKUP(MIN(T148:AI148),'Data Validation (hidden)'!$B$30:$C$45,2,FALSE),IF(COUNTA(D148:N148)>0,\"'Scheme Name' missing but values entered in other columns\",\"\"))","v":""},null,false,1,2,3,4,5,6,7,8,9,10,11,12,13,{"$f":"IF(D148=\"Yes\",IF('Financial Information'!$L148=$O148,\"\",14),IF('Financial Information'!$L148=0,\"\",14))","v":14},"","",true,true,true,true,true,true,true,true,true,true,true,true,true,true,false]
[null,{"$f":"'Scheme and Member Information'!B149","v":0},{"$f":"'Scheme and Member Information'!C149","v":0},null,null,null,null,null,null,null,null,null,null,null,"",null,{"$f":"IF(S149,VLOOKUP(MIN(T149:AI149),'Data Validation (hidden)'!$B$30:$C$45,2,FALSE),IF(COUNTA(D149:N149)>0,\"'Scheme Name' missing but values entered in other columns\",\"\"))","v":""},null,false,1,2,3,4,5,6,7,8,9,10,11,12,13,{"$f":"IF(D149=\"Yes\",IF('Financial Information'!$L149=$O149,\"\",14),IF('Financial Information'!$L149=0,\"\",14))","v":14},"","",true,true,true,true,true,true,true,true,true,true,true,true,true,true,false]
[null,{"$f":"'Scheme and Member Information'!B150","v":0},{"$f":"'Scheme and Member Information'!C150","v":0},null,null,null,null,null,null,null,null,null,null,null,"",null,{"$f":"IF(S150,VLOOKUP(MIN(T150:AI150),'Data Validation (hidden)'!$B$30:$C$45,2,FALSE),IF(COUNTA(D150:N150)>0,\"'Scheme Name' missing but values entered in other columns\",\"\"))","v":""},null,false,1,2,3,4,5,6,7,8,9,10,11,12,13,{"$f":"IF(D150=\"Yes\",IF('Financial Information'!$L150=$O150,\"\",14),IF('Financial Information'!$L150=0,\"\",14))","v":14},"","",true,true,true,true,true,true,true,true,true,true,true,true,true,true,false]
[null,{"$f":"'Scheme and Member Information'!B151","v":0},{"$f":"'Scheme and Member Information'!C151","v":0},null,null,null,null,null,null,null,null,null,null,null,"",null,{"$f":"IF(S151,VLOOKUP(MIN(T151:AI151),'Data Validation (hidden)'!$B$30:$C$45,2,FALSE),IF(COUNTA(D151:N151)>0,\"'Scheme Name' missing but values entered in other columns\",\"\"))","v":""},null,false,1,2,3,4,5,6,7,8,9,10,11,12,13,{"$f":"IF(D151=\"Yes\",IF('Financial Information'!$L151=$O151,\"\",14),IF('Financial Information'!$L151=0,\"\",14))","v":14},"","",true,true,true,true,true,true,true,true,true,true,true,true,true,true,false]
[null,{"$f":"'Scheme and Member Information'!B152","v":0},{"$f":"'Scheme and Member Information'!C152","v":0},null,null,null,null,null,null,null,null,null,null,null,"",null,{"$f":"IF(S152,VLOOKUP(MIN(T152:AI152),'Data Validation (hidden)'!$B$30:$C$45,2,FALSE),IF(COUNTA(D152:N152)>0,\"'Scheme Name' missing but values entered in other columns\",\"\"))","v":""},null,false,1,2,3,4,5,6,7,8,9,10,11,12,13,{"$f":"IF(D152=\"Yes\",IF('Financial Information'!$L152=$O152,\"\",14),IF('Financial Information'!$L152=0,\"\",14))","v":14},"","",true,true,true,true,true,true,true,true,true,true,true,true,true,true,false]
[null,{"$f":"'Scheme and Member Information'!B153","v":0},{"$f":"'Scheme and Member Information'!C153","v":0},null,null,null,null,null,null,null,null,null,null,null,"",null,{"$f":"IF(S153,VLOOKUP(MIN(T153:AI153),'Data Validation (hidden)'!$B$30:$C$45,2,FALSE),IF(COUNTA(D153:N153)>0,\"'Scheme Name' missing but values entered in other columns\",\"\"))","v":""},null,false,1,2,3,4,5,6,7,8,9,10,11,12,13,{"$f":"IF(D153=\"Yes\",IF('Financial Information'!$L153=$O153,\"\",14),IF('Financial Information'!$L153=0,\"\",14))","v":14},"","",true,true,true,true,true,true,true,true,true,true,true,true,true,true,false]
[null,{"$f":"'Scheme and Member Information'!B154","v":0},{"$f":"'Scheme and Member Information'!C154","v":0},null,null,null,null,null,null,null,null,null,null,null,"",null,{"$f":"IF(S154,VLOOKUP(MIN(T154:AI154),'Data Validation (hidden)'!$B$30:$C$45,2,FALSE),IF(COUNTA(D154:N154)>0,\"'Scheme Name' missing but values entered in other columns\",\"\"))","v":""},null,false,1,2,3,4,5,6,7,8,9,10,11,12,13,{"$f":"IF(D154=\"Yes\",IF('Financial Information'!$L154=$O154,\"\",14),IF('Financial Information'!$L154=0,\"\",14))","v":14},"","",true,true,true,true,true,true,true,true,true,true,true,true,true,true,false]
[null,{"$f":"'Scheme and Member Information'!B155","v":0},{"$f":"'Scheme and Member Information'!C155","v":0},null,null,null,null,null,null,null,null,null,null,null,"",null,{"$f":"IF(S155,VLOOKUP(MIN(T155:AI155),'Data Validation (hidden)'!$B$30:$C$45,2,FALSE),IF(COUNTA(D155:N155)>0,\"'Scheme Name' missing but values entered in other columns\",\"\"))","v":""},null,false,1,2,3,4,5,6,7,8,9,10,11,12,13,{"$f":"IF(D155=\"Yes\",IF('Financial Information'!$L155=$O155,\"\",14),IF('Financial Information'!$L155=0,\"\",14))","v":14},"","",true,true,true,true,true,true,true,true,true,true,true,true,true,true,false]
[null,{"$f":"'Scheme and Member Information'!B156","v":0},{"$f":"'Scheme and Member Information'!C156","v":0},null,null,null,null,null,null,null,null,null,null,null,"",null,{"$f":"IF(S156,VLOOKUP(MIN(T156:AI156),'Data Validation (hidden)'!$B$30:$C$45,2,FALSE),IF(COUNTA(D156:N156)>0,\"'Scheme Name' missing but values entered in other columns\",\"\"))","v":""},null,false,1,2,3,4,5,6,7,8,9,10,11,12,13,{"$f":"IF(D156=\"Yes\",IF('Financial Information'!$L156=$O156,\"\",14),IF('Financial Information'!$L156=0,\"\",14))","v":14},"","",true,true,true,true,true,true,true,true,true,true,true,true,true,true,false]
[null,{"$f":"'Scheme and Member Information'!B157","v":0},{"$f":"'Scheme and Member Information'!C157","v":0},null,null,null,null,null,null,null,null,null,null,null,"",null,{"$f":"IF(S157,VLOOKUP(MIN(T157:AI157),'Data Validation (hidden)'!$B$30:$C$45,2,FALSE),IF(COUNTA(D157:N157)>0,\"'Scheme Name' missing but values entered in other columns\",\"\"))","v":""},null,false,1,2,3,4,5,6,7,8,9,10,11,12,13,{"$f":"IF(D157=\"Yes\",IF('Financial Information'!$L157=$O157,\"\",14),IF('Financial Information'!$L157=0,\"\",14))","v":14},"","",true,true,true,true,true,true,true,true,true,true,true,true,true,true,false]
[null,{"$f":"'Scheme and Member Information'!B158","v":0},{"$f":"'Scheme and Member Information'!C158","v":0},null,null,null,null,null,null,null,null,null,null,null,"",null,{"$f":"IF(S158,VLOOKUP(MIN(T158:AI158),'Data Validation (hidden)'!$B$30:$C$45,2,FALSE),IF(COUNTA(D158:N158)>0,\"'Scheme Name' missing but values entered in other columns\",\"\"))","v":""},null,false,1,2,3,4,5,6,7,8,9,10,11,12,13,{"$f":"IF(D158=\"Yes\",IF('Financial Information'!$L158=$O158,\"\",14),IF('Financial Information'!$L158=0,\"\",14))","v":14},"","",true,true,true,true,true,true,true,true,true,true,true,true,true,true,false]
[null,{"$f":"'Scheme and Member Information'!B159","v":0},{"$f":"'Scheme and Member Information'!C159","v":0},null,null,null,null,null,null,null,null,null,null,null,"",null,{"$f":"IF(S159,VLOOKUP(MIN(T159:AI159),'Data Validation (hidden)'!$B$30:$C$45,2,FALSE),IF(COUNTA(D159:N159)>0,\"'Scheme Name' missing but values entered in other columns\",\"\"))","v":""},null,false,1,2,3,4,5,6,7,8,9,10,11,12,13,{"$f":"IF(D159=\"Yes\",IF('Financial Information'!$L159=$O159,\"\",14),IF('Financial Information'!$L159=0,\"\",14))","v":14},"","",true,true,true,true,true,true,true,true,true,true,true,true,true,true,false]
[null,{"$f":"'Scheme and Member Information'!B160","v":0},{"$f":"'Scheme and Member Information'!C160","v":0},null,null,null,null,null,null,null,null,null,null,null,"",null,{"$f":"IF(S160,VLOOKUP(MIN(T160:AI160),'Data Validation (hidden)'!$B$30:$C$45,2,FALSE),IF(COUNTA(D160:N160)>0,\"'Scheme Name' missing but values entered in other columns\",\"\"))","v":""},null,false,1,2,3,4,5,6,7,8,9,10,11,12,13,{"$f":"IF(D160=\"Yes\",IF('Financial Information'!$L160=$O160,\"\",14),IF('Financial Information'!$L160=0,\"\",14))","v":14},"","",true,true,true,true,true,true,true,true,true,true,true,true,true,true,false]
[null,{"$f":"'Scheme and Member Information'!B161","v":0},{"$f":"'Scheme and Member Information'!C161","v":0},null,null,null,null,null,null,null,null,null,null,null,"",null,{"$f":"IF(S161,VLOOKUP(MIN(T161:AI161),'Data Validation (hidden)'!$B$30:$C$45,2,FALSE),IF(COUNTA(D161:N161)>0,\"'Scheme Name' missing but values entered in other columns\",\"\"))","v":""},null,false,1,2,3,4,5,6,7,8,9,10,11,12,13,{"$f":"IF(D161=\"Yes\",IF('Financial Information'!$L161=$O161,\"\",14),IF('Financial Information'!$L161=0,\"\",14))","v":14},"","",true,true,true,true,true,true,true,true,true,true,true,true,true,true,false]
[null,{"$f":"'Scheme and Member Information'!B162","v":0},{"$f":"'Scheme and Member Information'!C162","v":0},null,null,null,null,null,null,null,null,null,null,null,"",null,{"$f":"IF(S162,VLOOKUP(MIN(T162:AI162),'Data Validation (hidden)'!$B$30:$C$45,2,FALSE),IF(COUNTA(D162:N162)>0,\"'Scheme Name' missing but values entered in other columns\",\"\"))","v":""},null,false,1,2,3,4,5,6,7,8,9,10,11,12,13,{"$f":"IF(D162=\"Yes\",IF('Financial Information'!$L162=$O162,\"\",14),IF('Financial Information'!$L162=0,\"\",14))","v":14},"","",true,true,true,true,true,true,true,true,true,true,true,true,true,true,false]
[null,{"$f":"'Scheme and Member Information'!B163","v":0},{"$f":"'Scheme and Member Information'!C163","v":0},null,null,null,null,null,null,null,null,null,null,null,"",null,{"$f":"IF(S163,VLOOKUP(MIN(T163:AI163),'Data Validation (hidden)'!$B$30:$C$45,2,FALSE),IF(COUNTA(D163:N163)>0,\"'Scheme Name' missing but values entered in other columns\",\"\"))","v":""},null,false,1,2,3,4,5,6,7,8,9,10,11,12,13,{"$f":"IF(D163=\"Yes\",IF('Financial Information'!$L163=$O163,\"\",14),IF('Financial Information'!$L163=0,\"\",14))","v":14},"","",true,true,true,true,true,true,true,true,true,true,true,true,true,true,false]
[null,{"$f":"'Scheme and Member Information'!B164","v":0},{"$f":"'Scheme and Member Information'!C164","v":0},null,null,null,null,null,null,null,null,null,null,null,"",null,{"$f":"IF(S164,VLOOKUP(MIN(T164:AI164),'Data Validation (hidden)'!$B$30:$C$45,2,FALSE),IF(COUNTA(D164:N164)>0,\"'Scheme Name' missing but values entered in other columns\",\"\"))","v":""},null,false,1,2,3,4,5,6,7,8,9,10,11,12,13,{"$f":"IF(D164=\"Yes\",IF('Financial Information'!$L164=$O164,\"\",14),IF('Financial Information'!$L164=0,\"\",14))","v":14},"","",true,true,true,true,true,true,true,true,true,true,true,true,true,true,false]
[null,{"$f":"'Scheme and Member Information'!B165","v":0},{"$f":"'Scheme and Member Information'!C165","v":0},null,null,null,null,null,null,null,null,null,null,null,"",null,{"$f":"IF(S165,VLOOKUP(MIN(T165:AI165),'Data Validation (hidden)'!$B$30:$C$45,2,FALSE),IF(COUNTA(D165:N165)>0,\"'Scheme Name' missing but values entered in other columns\",\"\"))","v":""},null,false,1,2,3,4,5,6,7,8,9,10,11,12,13,{"$f":"IF(D165=\"Yes\",IF('Financial Information'!$L165=$O165,\"\",14),IF('Financial Information'!$L165=0,\"\",14))","v":14},"","",true,true,true,true,true,true,true,true,true,true,true,true,true,true,false]
[null,{"$f":"'Scheme and Member Information'!B166","v":0},{"$f":"'Scheme and Member Information'!C166","v":0},null,null,null,null,null,null,null,null,null,null,null,"",null,{"$f":"IF(S166,VLOOKUP(MIN(T166:AI166),'Data Validation (hidden)'!$B$30:$C$45,2,FALSE),IF(COUNTA(D166:N166)>0,\"'Scheme Name' missing but values entered in other columns\",\"\"))","v":""},null,false,1,2,3,4,5,6,7,8,9,10,11,12,13,{"$f":"IF(D166=\"Yes\",IF('Financial Information'!$L166=$O166,\"\",14),IF('Financial Information'!$L166=0,\"\",14))","v":14},"","",true,true,true,true,true,true,true,true,true,true,true,true,true,true,false]
[null,{"$f":"'Scheme and Member Information'!B167","v":0},{"$f":"'Scheme and Member Information'!C167","v":0},null,null,null,null,null,null,null,null,null,null,null,"",null,{"$f":"IF(S167,VLOOKUP(MIN(T167:AI167),'Data Validation (hidden)'!$B$30:$C$45,2,FALSE),IF(COUNTA(D167:N167)>0,\"'Scheme Name' missing but values entered in other columns\",\"\"))","v":""},null,false,1,2,3,4,5,6,7,8,9,10,11,12,13,{"$f":"IF(D167=\"Yes\",IF('Financial Information'!$L167=$O167,\"\",14),IF('Financial Information'!$L167=0,\"\",14))","v":14},"","",true,true,true,true,true,true,true,true,true,true,true,true,true,true,false]
[null,{"$f":"'Scheme and Member Information'!B168","v":0},{"$f":"'Scheme and Member Information'!C168","v":0},null,null,null,null,null,null,null,null,null,null,null,"",null,{"$f":"IF(S168,VLOOKUP(MIN(T168:AI168),'Data Validation (hidden)'!$B$30:$C$45,2,FALSE),IF(COUNTA(D168:N168)>0,\"'Scheme Name' missing but values entered in other columns\",\"\"))","v":""},null,false,1,2,3,4,5,6,7,8,9,10,11,12,13,{"$f":"IF(D168=\"Yes\",IF('Financial Information'!$L168=$O168,\"\",14),IF('Financial Information'!$L168=0,\"\",14))","v":14},"","",true,true,true,true,true,true,true,true,true,true,true,true,true,true,false]
[null,{"$f":"'Scheme and Member Information'!B169","v":0},{"$f":"'Scheme and Member Information'!C169","v":0},null,null,null,null,null,null,null,null,null,null,null,"",null,{"$f":"IF(S169,VLOOKUP(MIN(T169:AI169),'Data Validation (hidden)'!$B$30:$C$45,2,FALSE),IF(COUNTA(D169:N169)>0,\"'Scheme Name' missing but values entered in other columns\",\"\"))","v":""},null,false,1,2,3,4,5,6,7,8,9,10,11,12,13,{"$f":"IF(D169=\"Yes\",IF('Financial Information'!$L169=$O169,\"\",14),IF('Financial Information'!$L169=0,\"\",14))","v":14},"","",true,true,true,true,true,true,true,true,true,true,true,true,true,true,false]
[null,{"$f":"'Scheme and Member Information'!B170","v":0},{"$f":"'Scheme and Member Information'!C170","v":0},null,null,null,null,null,null,null,null,null,null,null,"",null,{"$f":"IF(S170,VLOOKUP(MIN(T170:AI170),'Data Validation (hidden)'!$B$30:$C$45,2,FALSE),IF(COUNTA(D170:N170)>0,\"'Scheme Name' missing but values entered in other columns\",\"\"))","v":""},null,false,1,2,3,4,5,6,7,8,9,10,11,12,13,{"$f":"IF(D170=\"Yes\",IF('Financial Information'!$L170=$O170,\"\",14),IF('Financial Information'!$L170=0,\"\",14))","v":14},"","",true,true,true,true,true,true,true,true,true,true,true,true,true,true,false]
[null,{"$f":"'Scheme and Member Information'!B171","v":0},{"$f":"'Scheme and Member Information'!C171","v":0},null,null,null,null,null,null,null,null,null,null,null,"",null,{"$f":"IF(S171,VLOOKUP(MIN(T171:AI171),'Data Validation (hidden)'!$B$30:$C$45,2,FALSE),IF(COUNTA(D171:N171)>0,\"'Scheme Name' missing but values entered in other columns\",\"\"))","v":""},null,false,1,2,3,4,5,6,7,8,9,10,11,12,13,{"$f":"IF(D171=\"Yes\",IF('Financial Information'!$L171=$O171,\"\",14),IF('Financial Information'!$L171=0,\"\",14))","v":14},"","",true,true,true,true,true,true,true,true,true,true,true,true,true,true,false]
[null,{"$f":"'Scheme and Member Information'!B172","v":0},{"$f":"'Scheme and Member Information'!C172","v":0},null,null,null,null,null,null,null,null,null,null,null,"",null,{"$f":"IF(S172,VLOOKUP(MIN(T172:AI172),'Data Validation (hidden)'!$B$30:$C$45,2,FALSE),IF(COUNTA(D172:N172)>0,\"'Scheme Name' missing but values entered in other columns\",\"\"))","v":""},null,false,1,2,3,4,5,6,7,8,9,10,11,12,13,{"$f":"IF(D172=\"Yes\",IF('Financial Information'!$L172=$O172,\"\",14),IF('Financial Information'!$L172=0,\"\",14))","v":14},"","",true,true,true,true,true,true,true,true,true,true,true,true,true,true,false]
[null,{"$f":"'Scheme and Member Information'!B173","v":0},{"$f":"'Scheme and Member Information'!C173","v":0},null,null,null,null,null,null,null,null,null,null,null,"",null,{"$f":"IF(S173,VLOOKUP(MIN(T173:AI173),'Data Validation (hidden)'!$B$30:$C$45,2,FALSE),IF(COUNTA(D173:N173)>0,\"'Scheme Name' missing but values entered in other columns\",\"\"))","v":""},null,false,1,2,3,4,5,6,7,8,9,10,11,12,13,{"$f":"IF(D173=\"Yes\",IF('Financial Information'!$L173=$O173,\"\",14),IF('Financial Information'!$L173=0,\"\",14))","v":14},"","",true,true,true,true,true,true,true,true,true,true,true,true,true,true,false]
[null,{"$f":"'Scheme and Member Information'!B174","v":0},{"$f":"'Scheme and Member Information'!C174","v":0},null,null,null,null,null,null,null,null,null,null,null,"",null,{"$f":"IF(S174,VLOOKUP(MIN(T174:AI174),'Data Validation (hidden)'!$B$30:$C$45,2,FALSE),IF(COUNTA(D174:N174)>0,\"'Scheme Name' missing but values entered in other columns\",\"\"))","v":""},null,false,1,2,3,4,5,6,7,8,9,10,11,12,13,{"$f":"IF(D174=\"Yes\",IF('Financial Information'!$L174=$O174,\"\",14),IF('Financial Information'!$L174=0,\"\",14))","v":14},"","",true,true,true,true,true,true,true,true,true,true,true,true,true,true,false]
[null,{"$f":"'Scheme and Member Information'!B175","v":0},{"$f":"'Scheme and Member Information'!C175","v":0},null,null,null,null,null,null,null,null,null,null,null,"",null,{"$f":"IF(S175,VLOOKUP(MIN(T175:AI175),'Data Validation (hidden)'!$B$30:$C$45,2,FALSE),IF(COUNTA(D175:N175)>0,\"'Scheme Name' missing but values entered in other columns\",\"\"))","v":""},null,false,1,2,3,4,5,6,7,8,9,10,11,12,13,{"$f":"IF(D175=\"Yes\",IF('Financial Information'!$L175=$O175,\"\",14),IF('Financial Information'!$L175=0,\"\",14))","v":14},"","",true,true,true,true,true,true,true,true,true,true,true,true,true,true,false]
[null,{"$f":"'Scheme and Member Information'!B176","v":0},{"$f":"'Scheme and Member Information'!C176","v":0},null,null,null,null,null,null,null,null,null,null,null,"",null,{"$f":"IF(S176,VLOOKUP(MIN(T176:AI176),'Data Validation (hidden)'!$B$30:$C$45,2,FALSE),IF(COUNTA(D176:N176)>0,\"'Scheme Name' missing but values entered in other columns\",\"\"))","v":""},null,false,1,2,3,4,5,6,7,8,9,10,11,12,13,{"$f":"IF(D176=\"Yes\",IF('Financial Information'!$L176=$O176,\"\",14),IF('Financial Information'!$L176=0,\"\",14))","v":14},"","",true,true,true,true,true,true,true,true,true,true,true,true,true,true,false]
[null,{"$f":"'Scheme and Member Information'!B177","v":0},{"$f":"'Scheme and Member Information'!C177","v":0},null,null,null,null,null,null,null,null,null,null,null,"",null,{"$f":"IF(S177,VLOOKUP(MIN(T177:AI177),'Data Validation (hidden)'!$B$30:$C$45,2,FALSE),IF(COUNTA(D177:N177)>0,\"'Scheme Name' missing but values entered in other columns\",\"\"))","v":""},null,false,1,2,3,4,5,6,7,8,9,10,11,12,13,{"$f":"IF(D177=\"Yes\",IF('Financial Information'!$L177=$O177,\"\",14),IF('Financial Information'!$L177=0,\"\",14))","v":14},"","",true,true,true,true,true,true,true,true,true,true,true,true,true,true,false]
[null,{"$f":"'Scheme and Member Information'!B178","v":0},{"$f":"'Scheme and Member Information'!C178","v":0},null,null,null,null,null,null,null,null,null,null,null,"",null,{"$f":"IF(S178,VLOOKUP(MIN(T178:AI178),'Data Validation (hidden)'!$B$30:$C$45,2,FALSE),IF(COUNTA(D178:N178)>0,\"'Scheme Name' missing but values entered in other columns\",\"\"))","v":""},null,false,1,2,3,4,5,6,7,8,9,10,11,12,13,{"$f":"IF(D178=\"Yes\",IF('Financial Information'!$L178=$O178,\"\",14),IF('Financial Information'!$L178=0,\"\",14))","v":14},"","",true,true,true,true,true,true,true,true,true,true,true,true,true,true,false]
[null,{"$f":"'Scheme and Member Information'!B179","v":0},{"$f":"'Scheme and Member Information'!C179","v":0},null,null,null,null,null,null,null,null,null,null,null,"",null,{"$f":"IF(S179,VLOOKUP(MIN(T179:AI179),'Data Validation (hidden)'!$B$30:$C$45,2,FALSE),IF(COUNTA(D179:N179)>0,\"'Scheme Name' missing but values entered in other columns\",\"\"))","v":""},null,false,1,2,3,4,5,6,7,8,9,10,11,12,13,{"$f":"IF(D179=\"Yes\",IF('Financial Information'!$L179=$O179,\"\",14),IF('Financial Information'!$L179=0,\"\",14))","v":14},"","",true,true,true,true,true,true,true,true,true,true,true,true,true,true,false]
[null,{"$f":"'Scheme and Member Information'!B180","v":0},{"$f":"'Scheme and Member Information'!C180","v":0},null,null,null,null,null,null,null,null,null,null,null,"",null,{"$f":"IF(S180,VLOOKUP(MIN(T180:AI180),'Data Validation (hidden)'!$B$30:$C$45,2,FALSE),IF(COUNTA(D180:N180)>0,\"'Scheme Name' missing but values entered in other columns\",\"\"))","v":""},null,false,1,2,3,4,5,6,7,8,9,10,11,12,13,{"$f":"IF(D180=\"Yes\",IF('Financial Information'!$L180=$O180,\"\",14),IF('Financial Information'!$L180=0,\"\",14))","v":14},"","",true,true,true,true,true,true,true,true,true,true,true,true,true,true,false]
[null,{"$f":"'Scheme and Member Information'!B181","v":0},{"$f":"'Scheme and Member Information'!C181","v":0},null,null,null,null,null,null,null,null,null,null,null,"",null,{"$f":"IF(S181,VLOOKUP(MIN(T181:AI181),'Data Validation (hidden)'!$B$30:$C$45,2,FALSE),IF(COUNTA(D181:N181)>0,\"'Scheme Name' missing but values entered in other columns\",\"\"))","v":""},null,false,1,2,3,4,5,6,7,8,9,10,11,12,13,{"$f":"IF(D181=\"Yes\",IF('Financial Information'!$L181=$O181,\"\",14),IF('Financial Information'!$L181=0,\"\",14))","v":14},"","",true,true,true,true,true,true,true,true,true,true,true,true,true,true,false]
[null,{"$f":"'Scheme and Member Information'!B182","v":0},{"$f":"'Scheme and Member Information'!C182","v":0},null,null,null,null,null,null,null,null,null,null,null,"",null,{"$f":"IF(S182,VLOOKUP(MIN(T182:AI182),'Data Validation (hidden)'!$B$30:$C$45,2,FALSE),IF(COUNTA(D182:N182)>0,\"'Scheme Name' missing but values entered in other columns\",\"\"))","v":""},null,false,1,2,3,4,5,6,7,8,9,10,11,12,13,{"$f":"IF(D182=\"Yes\",IF('Financial Information'!$L182=$O182,\"\",14),IF('Financial Information'!$L182=0,\"\",14))","v":14},"","",true,true,true,true,true,true,true,true,true,true,true,true,true,true,false]
[null,{"$f":"'Scheme and Member Information'!B183","v":0},{"$f":"'Scheme and Member Information'!C183","v":0},null,null,null,null,null,null,null,null,null,null,null,"",null,{"$f":"IF(S183,VLOOKUP(MIN(T183:AI183),'Data Validation (hidden)'!$B$30:$C$45,2,FALSE),IF(COUNTA(D183:N183)>0,\"'Scheme Name' missing but values entered in other columns\",\"\"))","v":""},null,false,1,2,3,4,5,6,7,8,9,10,11,12,13,{"$f":"IF(D183=\"Yes\",IF('Financial Information'!$L183=$O183,\"\",14),IF('Financial Information'!$L183=0,\"\",14))","v":14},"","",true,true,true,true,true,true,true,true,true,true,true,true,true,true,false]
[null,{"$f":"'Scheme and Member Information'!B184","v":0},{"$f":"'Scheme and Member Information'!C184","v":0},null,null,null,null,null,null,null,null,null,null,null,"",null,{"$f":"IF(S184,VLOOKUP(MIN(T184:AI184),'Data Validation (hidden)'!$B$30:$C$45,2,FALSE),IF(COUNTA(D184:N184)>0,\"'Scheme Name' missing but values entered in other columns\",\"\"))","v":""},null,false,1,2,3,4,5,6,7,8,9,10,11,12,13,{"$f":"IF(D184=\"Yes\",IF('Financial Information'!$L184=$O184,\"\",14),IF('Financial Information'!$L184=0,\"\",14))","v":14},"","",true,true,true,true,true,true,true,true,true,true,true,true,true,true,false]
[null,{"$f":"'Scheme and Member Information'!B185","v":0},{"$f":"'Scheme and Member Information'!C185","v":0},null,null,null,null,null,null,null,null,null,null,null,"",null,{"$f":"IF(S185,VLOOKUP(MIN(T185:AI185),'Data Validation (hidden)'!$B$30:$C$45,2,FALSE),IF(COUNTA(D185:N185)>0,\"'Scheme Name' missing but values entered in other columns\",\"\"))","v":""},null,false,1,2,3,4,5,6,7,8,9,10,11,12,13,{"$f":"IF(D185=\"Yes\",IF('Financial Information'!$L185=$O185,\"\",14),IF('Financial Information'!$L185=0,\"\",14))","v":14},"","",true,true,true,true,true,true,true,true,true,true,true,true,true,true,false]
[null,{"$f":"'Scheme and Member Information'!B186","v":0},{"$f":"'Scheme and Member Information'!C186","v":0},null,null,null,null,null,null,null,null,null,null,null,"",null,{"$f":"IF(S186,VLOOKUP(MIN(T186:AI186),'Data Validation (hidden)'!$B$30:$C$45,2,FALSE),IF(COUNTA(D186:N186)>0,\"'Scheme Name' missing but values entered in other columns\",\"\"))","v":""},null,false,1,2,3,4,5,6,7,8,9,10,11,12,13,{"$f":"IF(D186=\"Yes\",IF('Financial Information'!$L186=$O186,\"\",14),IF('Financial Information'!$L186=0,\"\",14))","v":14},"","",true,true,true,true,true,true,true,true,true,true,true,true,true,true,false]
[null,{"$f":"'Scheme and Member Information'!B187","v":0},{"$f":"'Scheme and Member Information'!C187","v":0},null,null,null,null,null,null,null,null,null,null,null,"",null,{"$f":"IF(S187,VLOOKUP(MIN(T187:AI187),'Data Validation (hidden)'!$B$30:$C$45,2,FALSE),IF(COUNTA(D187:N187)>0,\"'Scheme Name' missing but values entered in other columns\",\"\"))","v":""},null,false,1,2,3,4,5,6,7,8,9,10,11,12,13,{"$f":"IF(D187=\"Yes\",IF('Financial Information'!$L187=$O187,\"\",14),IF('Financial Information'!$L187=0,\"\",14))","v":14},"","",true,true,true,true,true,true,true,true,true,true,true,true,true,true,false]
[null,{"$f":"'Scheme and Member Information'!B188","v":0},{"$f":"'Scheme and Member Information'!C188","v":0},null,null,null,null,null,null,null,null,null,null,null,"",null,{"$f":"IF(S188,VLOOKUP(MIN(T188:AI188),'Data Validation (hidden)'!$B$30:$C$45,2,FALSE),IF(COUNTA(D188:N188)>0,\"'Scheme Name' missing but values entered in other columns\",\"\"))","v":""},null,false,1,2,3,4,5,6,7,8,9,10,11,12,13,{"$f":"IF(D188=\"Yes\",IF('Financial Information'!$L188=$O188,\"\",14),IF('Financial Information'!$L188=0,\"\",14))","v":14},"","",true,true,true,true,true,true,true,true,true,true,true,true,true,true,false]
[null,{"$f":"'Scheme and Member Information'!B189","v":0},{"$f":"'Scheme and Member Information'!C189","v":0},null,null,null,null,null,null,null,null,null,null,null,"",null,{"$f":"IF(S189,VLOOKUP(MIN(T189:AI189),'Data Validation (hidden)'!$B$30:$C$45,2,FALSE),IF(COUNTA(D189:N189)>0,\"'Scheme Name' missing but values entered in other columns\",\"\"))","v":""},null,false,1,2,3,4,5,6,7,8,9,10,11,12,13,{"$f":"IF(D189=\"Yes\",IF('Financial Information'!$L189=$O189,\"\",14),IF('Financial Information'!$L189=0,\"\",14))","v":14},"","",true,true,true,true,true,true,true,true,true,true,true,true,true,true,false]
[null,{"$f":"'Scheme and Member Information'!B190","v":0},{"$f":"'Scheme and Member Information'!C190","v":0},null,null,null,null,null,null,null,null,null,null,null,"",null,{"$f":"IF(S190,VLOOKUP(MIN(T190:AI190),'Data Validation (hidden)'!$B$30:$C$45,2,FALSE),IF(COUNTA(D190:N190)>0,\"'Scheme Name' missing but values entered in other columns\",\"\"))","v":""},null,false,1,2,3,4,5,6,7,8,9,10,11,12,13,{"$f":"IF(D190=\"Yes\",IF('Financial Information'!$L190=$O190,\"\",14),IF('Financial Information'!$L190=0,\"\",14))","v":14},"","",true,true,true,true,true,true,true,true,true,true,true,true,true,true,false]
[null,{"$f":"'Scheme and Member Information'!B191","v":0},{"$f":"'Scheme and Member Information'!C191","v":0},null,null,null,null,null,null,null,null,null,null,null,"",null,{"$f":"IF(S191,VLOOKUP(MIN(T191:AI191),'Data Validation (hidden)'!$B$30:$C$45,2,FALSE),IF(COUNTA(D191:N191)>0,\"'Scheme Name' missing but values entered in other columns\",\"\"))","v":""},null,false,1,2,3,4,5,6,7,8,9,10,11,12,13,{"$f":"IF(D191=\"Yes\",IF('Financial Information'!$L191=$O191,\"\",14),IF('Financial Information'!$L191=0,\"\",14))","v":14},"","",true,true,true,true,true,true,true,true,true,true,true,true,true,true,false]
[null,{"$f":"'Scheme and Member Information'!B192","v":0},{"$f":"'Scheme and Member Information'!C192","v":0},null,null,null,null,null,null,null,null,null,null,null,"",null,{"$f":"IF(S192,VLOOKUP(MIN(T192:AI192),'Data Validation (hidden)'!$B$30:$C$45,2,FALSE),IF(COUNTA(D192:N192)>0,\"'Scheme Name' missing but values entered in other columns\",\"\"))","v":""},null,false,1,2,3,4,5,6,7,8,9,10,11,12,13,{"$f":"IF(D192=\"Yes\",IF('Financial Information'!$L192=$O192,\"\",14),IF('Financial Information'!$L192=0,\"\",14))","v":14},"","",true,true,true,true,true,true,true,true,true,true,true,true,true,true,false]
[null,{"$f":"'Scheme and Member Information'!B193","v":0},{"$f":"'Scheme and Member Information'!C193","v":0},null,null,null,null,null,null,null,null,null,null,null,"",null,{"$f":"IF(S193,VLOOKUP(MIN(T193:AI193),'Data Validation (hidden)'!$B$30:$C$45,2,FALSE),IF(COUNTA(D193:N193)>0,\"'Scheme Name' missing but values entered in other columns\",\"\"))","v":""},null,false,1,2,3,4,5,6,7,8,9,10,11,12,13,{"$f":"IF(D193=\"Yes\",IF('Financial Information'!$L193=$O193,\"\",14),IF('Financial Information'!$L193=0,\"\",14))","v":14},"","",true,true,true,true,true,true,true,true,true,true,true,true,true,true,false]
[null,{"$f":"'Scheme and Member Information'!B194","v":0},{"$f":"'Scheme and Member Information'!C194","v":0},null,null,null,null,null,null,null,null,null,null,null,"",null,{"$f":"IF(S194,VLOOKUP(MIN(T194:AI194),'Data Validation (hidden)'!$B$30:$C$45,2,FALSE),IF(COUNTA(D194:N194)>0,\"'Scheme Name' missing but values entered in other columns\",\"\"))","v":""},null,false,1,2,3,4,5,6,7,8,9,10,11,12,13,{"$f":"IF(D194=\"Yes\",IF('Financial Information'!$L194=$O194,\"\",14),IF('Financial Information'!$L194=0,\"\",14))","v":14},"","",true,true,true,true,true,true,true,true,true,true,true,true,true,true,false]
[null,{"$f":"'Scheme and Member Information'!B195","v":0},{"$f":"'Scheme and Member Information'!C195","v":0},null,null,null,null,null,null,null,null,null,null,null,"",null,{"$f":"IF(S195,VLOOKUP(MIN(T195:AI195),'Data Validation (hidden)'!$B$30:$C$45,2,FALSE),IF(COUNTA(D195:N195)>0,\"'Scheme Name' missing but values entered in other columns\",\"\"))","v":""},null,false,1,2,3,4,5,6,7,8,9,10,11,12,13,{"$f":"IF(D195=\"Yes\",IF('Financial Information'!$L195=$O195,\"\",14),IF('Financial Information'!$L195=0,\"\",14))","v":14},"","",true,true,true,true,true,true,true,true,true,true,true,true,true,true,false]
[null,{"$f":"'Scheme and Member Information'!B196","v":0},{"$f":"'Scheme and Member Information'!C196","v":0},null,null,null,null,null,null,null,null,null,null,null,"",null,{"$f":"IF(S196,VLOOKUP(MIN(T196:AI196),'Data Validation (hidden)'!$B$30:$C$45,2,FALSE),IF(COUNTA(D196:N196)>0,\"'Scheme Name' missing but values entered in other columns\",\"\"))","v":""},null,false,1,2,3,4,5,6,7,8,9,10,11,12,13,{"$f":"IF(D196=\"Yes\",IF('Financial Information'!$L196=$O196,\"\",14),IF('Financial Information'!$L196=0,\"\",14))","v":14},"","",true,true,true,true,true,true,true,true,true,true,true,true,true,true,false]
[null,{"$f":"'Scheme and Member Information'!B197","v":0},{"$f":"'Scheme and Member Information'!C197","v":0},null,null,null,null,null,null,null,null,null,null,null,"",null,{"$f":"IF(S197,VLOOKUP(MIN(T197:AI197),'Data Validation (hidden)'!$B$30:$C$45,2,FALSE),IF(COUNTA(D197:N197)>0,\"'Scheme Name' missing but values entered in other columns\",\"\"))","v":""},null,false,1,2,3,4,5,6,7,8,9,10,11,12,13,{"$f":"IF(D197=\"Yes\",IF('Financial Information'!$L197=$O197,\"\",14),IF('Financial Information'!$L197=0,\"\",14))","v":14},"","",true,true,true,true,true,true,true,true,true,true,true,true,true,true,false]
[null,{"$f":"'Scheme and Member Information'!B198","v":0},{"$f":"'Scheme and Member Information'!C198","v":0},null,null,null,null,null,null,null,null,null,null,null,"",null,{"$f":"IF(S198,VLOOKUP(MIN(T198:AI198),'Data Validation (hidden)'!$B$30:$C$45,2,FALSE),IF(COUNTA(D198:N198)>0,\"'Scheme Name' missing but values entered in other columns\",\"\"))","v":""},null,false,1,2,3,4,5,6,7,8,9,10,11,12,13,{"$f":"IF(D198=\"Yes\",IF('Financial Information'!$L198=$O198,\"\",14),IF('Financial Information'!$L198=0,\"\",14))","v":14},"","",true,true,true,true,true,true,true,true,true,true,true,true,true,true,false]
[null,{"$f":"'Scheme and Member Information'!B199","v":0},{"$f":"'Scheme and Member Information'!C199","v":0},null,null,null,null,null,null,null,null,null,null,null,"",null,{"$f":"IF(S199,VLOOKUP(MIN(T199:AI199),'Data Validation (hidden)'!$B$30:$C$45,2,FALSE),IF(COUNTA(D199:N199)>0,\"'Scheme Name' missing but values entered in other columns\",\"\"))","v":""},null,false,1,2,3,4,5,6,7,8,9,10,11,12,13,{"$f":"IF(D199=\"Yes\",IF('Financial Information'!$L199=$O199,\"\",14),IF('Financial Information'!$L199=0,\"\",14))","v":14},"","",true,true,true,true,true,true,true,true,true,true,true,true,true,true,false]
[null,{"$f":"'Scheme and Member Information'!B200","v":0},{"$f":"'Scheme and Member Information'!C200","v":0},null,null,null,null,null,null,null,null,null,null,null,"",null,{"$f":"IF(S200,VLOOKUP(MIN(T200:AI200),'Data Validation (hidden)'!$B$30:$C$45,2,FALSE),IF(COUNTA(D200:N200)>0,\"'Scheme Name' missing but values entered in other columns\",\"\"))","v":""},null,false,1,2,3,4,5,6,7,8,9,10,11,12,13,{"$f":"IF(D200=\"Yes\",IF('Financial Information'!$L200=$O200,\"\",14),IF('Financial Information'!$L200=0,\"\",14))","v":14},"","",{"$f":"IF(CELL(\"format\", B200) = \"G\",TRUE,FALSE)","v":true},{"$f":"IF(CELL(\"format\", C200) = \"F0\",TRUE,FALSE)","v":true},{"$f":"IF(CELL(\"format\",D195)=\"G\",TRUE,FALSE)","v":true},{"$f":"IF( CELL(\"format\",E200) = \"C0\",TRUE,FALSE)","v":true},{"$f":"IF( CELL(\"format\",F200) = \"C0\",TRUE,FALSE)","v":true},{"$f":"IF( CELL(\"format\",G200) = \"C0\",TRUE,FALSE)","v":true},{"$f":"IF( CELL(\"format\",H200) = \"C0\",TRUE,FALSE)","v":true},{"$f":"IF( CELL(\"format\",I200) = \"C0\",TRUE,FALSE)","v":true},{"$f":"IF( CELL(\"format\",J200) = \"C0\",TRUE,FALSE)","v":true},{"$f":"IF( CELL(\"format\",K200) = \"C0\",TRUE,FALSE)","v":true},{"$f":"IF( CELL(\"format\",L200) = \"C0\",TRUE,FALSE)","v":true},{"$f":"IF( CELL(\"format\",M200) = \"C0\",TRUE,FALSE)","v":true},{"$f":"IF( CELL(\"format\",N200) = \"C0\",TRUE,FALSE)","v":true},{"$f":"IF( CELL(\"format\",O200) = \"C0\",TRUE,FALSE)","v":true},{"$f":"IF(Q200=\"\",FALSE,IF(Q200=\"OK\",FALSE,TRUE))","v":false}]
[null,{"$f":"'Scheme and Member Information'!B201","v":0},{"$f":"'Scheme and Member Information'!C201","v":0},null,null,null,null,null,null,null,null,null,null,null,{"$f":"IF(OR(E201<>\"\",F201<>\"\",G201<>\"\",H201<>\"\",I201<>\"\",J201<>\"\",K201<>\"\",L201<>\"\",M201<>\"\",N201<>\"\"),SUM(E201:N201),\"\")","v":""},null,{"$f":"IF(S201,VLOOKUP(MIN(T201:AI201),'Data Validation (hidden)'!$B$30:$C$45,2,FALSE),IF(COUNTA(D201:N201)>0,\"'Scheme Name' missing but values entered in other columns\",\"\"))","v":""},null,{"$f":"AND(B201<>\"\",B201<>0)","v":false},{"$f":"IF(C201=\"\",1,IF(C201=0,1,\"\"))","v":1},{"$f":"IF(D201=\"\",2,\"\")","v":2},{"$f":"IF(E201=\"\",IF(D201=\"No\",\"\",3),\"\")","v":3},{"$f":"IF(F201=\"\",IF(D201=\"No\",\"\",4),\"\")","v":4},{"$f":"IF(G201=\"\",IF(D201=\"No\",\"\",5),\"\")","v":5},{"$f":"IF(H201=\"\",IF(D201=\"No\",\"\",6),\"\")","v":6},{"$f":"IF(I201=\"\",IF(D201=\"No\",\"\",7),\"\")","v":7},{"$f":"IF(J201=\"\",IF(D201=\"No\",\"\",8),\"\")","v":8},{"$f":"IF(K201=\"\",IF(D201=\"No\",\"\",9),\"\")","v":9},{"$f":"IF(L201=\"\",IF(D201=\"No\",\"\",10),\"\")","v":10},{"$f":"IF(M201=\"\",IF(D201=\"No\",\"\",11),\"\")","v":11},{"$f":"IF(N201=\"\",IF(D201=\"No\",\"\",12),\"\")","v":12},{"$f":"IF(O201=\"\",IF(D201=\"No\",\"\",13),\"\")","v":13},{"$f":"IF(D201=\"Yes\",IF('Financial Information'!$L201=$O201,\"\",14),IF('Financial Information'!$L201=0,\"\",14))","v":14},{"$f":"IF(COUNT(T201:AG201)=0,\"10\",\"\")","v":""},{"$f":"IF(AND(AJ201,AK201,AL201,AM201,AN201,AO201,AP201,AQ201,AR201,AS201,AT201,AU201,AV201,AW201)=TRUE,\"\",15)","v":""},true,true,true,true,true,true,true,true,true,true,true,true,true,true,false]
[null,{"$f":"'Scheme and Member Information'!B202","v":0},{"$f":"'Scheme and Member Information'!C202","v":0},null,null,null,null,null,null,null,null,null,null,null,"",null,{"$f":"IF(S202,VLOOKUP(MIN(T202:AI202),'Data Validation (hidden)'!$B$30:$C$45,2,FALSE),IF(COUNTA(D202:N202)>0,\"'Scheme Name' missing but values entered in other columns\",\"\"))","v":""},null,false,1,2,3,4,5,6,7,8,9,10,11,12,13,{"$f":"IF(D202=\"Yes\",IF('Financial Information'!$L202=$O202,\"\",14),IF('Financial Information'!$L202=0,\"\",14))","v":14},"","",true,true,true,true,true,true,true,true,true,true,true,true,true,true,false]
[null,{"$f":"'Scheme and Member Information'!B203","v":0},{"$f":"'Scheme and Member Information'!C203","v":0},null,null,null,null,null,null,null,null,null,null,null,"",null,{"$f":"IF(S203,VLOOKUP(MIN(T203:AI203),'Data Validation (hidden)'!$B$30:$C$45,2,FALSE),IF(COUNTA(D203:N203)>0,\"'Scheme Name' missing but values entered in other columns\",\"\"))","v":""},null,false,1,2,3,4,5,6,7,8,9,10,11,12,13,{"$f":"IF(D203=\"Yes\",IF('Financial Information'!$L203=$O203,\"\",14),IF('Financial Information'!$L203=0,\"\",14))","v":14},"","",true,true,true,true,true,true,true,true,true,true,true,true,true,true,false]
[null,{"$f":"'Scheme and Member Information'!B204","v":0},{"$f":"'Scheme and Member Information'!C204","v":0},null,null,null,null,null,null,null,null,null,null,null,"",null,{"$f":"IF(S204,VLOOKUP(MIN(T204:AI204),'Data Validation (hidden)'!$B$30:$C$45,2,FALSE),IF(COUNTA(D204:N204)>0,\"'Scheme Name' missing but values entered in other columns\",\"\"))","v":""},null,false,1,2,3,4,5,6,7,8,9,10,11,12,13,{"$f":"IF(D204=\"Yes\",IF('Financial Information'!$L204=$O204,\"\",14),IF('Financial Information'!$L204=0,\"\",14))","v":14},"","",true,true,true,true,true,true,true,true,true,true,true,true,true,true,false]
[null,{"$f":"'Scheme and Member Information'!B205","v":0},{"$f":"'Scheme and Member Information'!C205","v":0},null,null,null,null,null,null,null,null,null,null,null,"",null,{"$f":"IF(S205,VLOOKUP(MIN(T205:AI205),'Data Validation (hidden)'!$B$30:$C$45,2,FALSE),IF(COUNTA(D205:N205)>0,\"'Scheme Name' missing but values entered in other columns\",\"\"))","v":""},null,false,1,2,3,4,5,6,7,8,9,10,11,12,13,{"$f":"IF(D205=\"Yes\",IF('Financial Information'!$L205=$O205,\"\",14),IF('Financial Information'!$L205=0,\"\",14))","v":14},"","",true,true,true,true,true,true,true,true,true,true,true,true,true,true,false]
[null,{"$f":"'Scheme and Member Information'!B206","v":0},{"$f":"'Scheme and Member Information'!C206","v":0},null,null,null,null,null,null,null,null,null,null,null,"",null,{"$f":"IF(S206,VLOOKUP(MIN(T206:AI206),'Data Validation (hidden)'!$B$30:$C$45,2,FALSE),IF(COUNTA(D206:N206)>0,\"'Scheme Name' missing but values entered in other columns\",\"\"))","v":""},null,false,1,2,3,4,5,6,7,8,9,10,11,12,13,{"$f":"IF(D206=\"Yes\",IF('Financial Information'!$L206=$O206,\"\",14),IF('Financial Information'!$L206=0,\"\",14))","v":14},"","",true,true,true,true,true,true,true,true,true,true,true,true,true,true,false]
[null,{"$f":"'Scheme and Member Information'!B207","v":0},{"$f":"'Scheme and Member Information'!C207","v":0},null,null,null,null,null,null,null,null,null,null,null,"",null,{"$f":"IF(S207,VLOOKUP(MIN(T207:AI207),'Data Validation (hidden)'!$B$30:$C$45,2,FALSE),IF(COUNTA(D207:N207)>0,\"'Scheme Name' missing but values entered in other columns\",\"\"))","v":""},null,false,1,2,3,4,5,6,7,8,9,10,11,12,13,{"$f":"IF(D207=\"Yes\",IF('Financial Information'!$L207=$O207,\"\",14),IF('Financial Information'!$L207=0,\"\",14))","v":14},"","",true,true,true,true,true,true,true,true,true,true,true,true,true,true,false]
[null,{"$f":"'Scheme and Member Information'!B208","v":0},{"$f":"'Scheme and Member Information'!C208","v":0},null,null,null,null,null,null,null,null,null,null,null,"",null,{"$f":"IF(S208,VLOOKUP(MIN(T208:AI208),'Data Validation (hidden)'!$B$30:$C$45,2,FALSE),IF(COUNTA(D208:N208)>0,\"'Scheme Name' missing but values entered in other columns\",\"\"))","v":""},null,false,1,2,3,4,5,6,7,8,9,10,11,12,13,{"$f":"IF(D208=\"Yes\",IF('Financial Information'!$L208=$O208,\"\",14),IF('Financial Information'!$L208=0,\"\",14))","v":14},"","",true,true,true,true,true,true,true,true,true,true,true,true,true,true,false]
[null,{"$f":"'Scheme and Member Information'!B209","v":0},{"$f":"'Scheme and Member Information'!C209","v":0},null,null,null,null,null,null,null,null,null,null,null,"",null,{"$f":"IF(S209,VLOOKUP(MIN(T209:AI209),'Data Validation (hidden)'!$B$30:$C$45,2,FALSE),IF(COUNTA(D209:N209)>0,\"'Scheme Name' missing but values entered in other columns\",\"\"))","v":""},null,false,1,2,3,4,5,6,7,8,9,10,11,12,13,{"$f":"IF(D209=\"Yes\",IF('Financial Information'!$L209=$O209,\"\",14),IF('Financial Information'!$L209=0,\"\",14))","v":14},"","",true,true,true,true,true,true,true,true,true,true,true,true,true,true,false]
[null,{"$f":"'Scheme and Member Information'!B210","v":0},{"$f":"'Scheme and Member Information'!C210","v":0},null,null,null,null,null,null,null,null,null,null,null,"",null,{"$f":"IF(S210,VLOOKUP(MIN(T210:AI210),'Data Validation (hidden)'!$B$30:$C$45,2,FALSE),IF(COUNTA(D210:N210)>0,\"'Scheme Name' missing but values entered in other columns\",\"\"))","v":""},null,false,1,2,3,4,5,6,7,8,9,10,11,12,13,{"$f":"IF(D210=\"Yes\",IF('Financial Information'!$L210=$O210,\"\",14),IF('Financial Information'!$L210=0,\"\",14))","v":14},"","",true,true,true,true,true,true,true,true,true,true,true,true,true,true,false]
[null,{"$f":"'Scheme and Member Information'!B211","v":0},{"$f":"'Scheme and Member Information'!C211","v":0},null,null,null,null,null,null,null,null,null,null,null,"",null,{"$f":"IF(S211,VLOOKUP(MIN(T211:AI211),'Data Validation (hidden)'!$B$30:$C$45,2,FALSE),IF(COUNTA(D211:N211)>0,\"'Scheme Name' missing but values entered in other columns\",\"\"))","v":""},null,false,1,2,3,4,5,6,7,8,9,10,11,12,13,{"$f":"IF(D211=\"Yes\",IF('Financial Information'!$L211=$O211,\"\",14),IF('Financial Information'!$L211=0,\"\",14))","v":14},"","",true,true,true,true,true,true,true,true,true,true,true,true,true,true,false]
[null,{"$f":"'Scheme and Member Information'!B212","v":0},{"$f":"'Scheme and Member Information'!C212","v":0},null,null,null,null,null,null,null,null,null,null,null,"",null,{"$f":"IF(S212,VLOOKUP(MIN(T212:AI212),'Data Validation (hidden)'!$B$30:$C$45,2,FALSE),IF(COUNTA(D212:N212)>0,\"'Scheme Name' missing but values entered in other columns\",\"\"))","v":""},null,false,1,2,3,4,5,6,7,8,9,10,11,12,13,{"$f":"IF(D212=\"Yes\",IF('Financial Information'!$L212=$O212,\"\",14),IF('Financial Information'!$L212=0,\"\",14))","v":14},"","",true,true,true,true,true,true,true,true,true,true,true,true,true,true,false]
[null,{"$f":"'Scheme and Member Information'!B213","v":0},{"$f":"'Scheme and Member Information'!C213","v":0},null,null,null,null,null,null,null,null,null,null,null,"",null,{"$f":"IF(S213,VLOOKUP(MIN(T213:AI213),'Data Validation (hidden)'!$B$30:$C$45,2,FALSE),IF(COUNTA(D213:N213)>0,\"'Scheme Name' missing but values entered in other columns\",\"\"))","v":""},null,false,1,2,3,4,5,6,7,8,9,10,11,12,13,{"$f":"IF(D213=\"Yes\",IF('Financial Information'!$L213=$O213,\"\",14),IF('Financial Information'!$L213=0,\"\",14))","v":14},"","",true,true,true,true,true,true,true,true,true,true,true,true,true,true,false]
[null,{"$f":"'Scheme and Member Information'!B214","v":0},{"$f":"'Scheme and Member Information'!C214","v":0},null,null,null,null,null,null,null,null,null,null,null,"",null,{"$f":"IF(S214,VLOOKUP(MIN(T214:AI214),'Data Validation (hidden)'!$B$30:$C$45,2,FALSE),IF(COUNTA(D214:N214)>0,\"'Scheme Name' missing but values entered in other columns\",\"\"))","v":""},null,false,1,2,3,4,5,6,7,8,9,10,11,12,13,{"$f":"IF(D214=\"Yes\",IF('Financial Information'!$L214=$O214,\"\",14),IF('Financial Information'!$L214=0,\"\",14))","v":14},"","",true,true,true,true,true,true,true,true,true,true,true,true,true,true,false]
[null,{"$f":"'Scheme and Member Information'!B215","v":0},{"$f":"'Scheme and Member Information'!C215","v":0},null,null,null,null,null,null,null,null,null,null,null,"",null,{"$f":"IF(S215,VLOOKUP(MIN(T215:AI215),'Data Validation (hidden)'!$B$30:$C$45,2,FALSE),IF(COUNTA(D215:N215)>0,\"'Scheme Name' missing but values entered in other columns\",\"\"))","v":""},null,false,1,2,3,4,5,6,7,8,9,10,11,12,13,{"$f":"IF(D215=\"Yes\",IF('Financial Information'!$L215=$O215,\"\",14),IF('Financial Information'!$L215=0,\"\",14))","v":14},"","",true,true,true,true,true,true,true,true,true,true,true,true,true,true,false]
[null,{"$f":"'Scheme and Member Information'!B216","v":0},{"$f":"'Scheme and Member Information'!C216","v":0},null,null,null,null,null,null,null,null,null,null,null,"",null,{"$f":"IF(S216,VLOOKUP(MIN(T216:AI216),'Data Validation (hidden)'!$B$30:$C$45,2,FALSE),IF(COUNTA(D216:N216)>0,\"'Scheme Name' missing but values entered in other columns\",\"\"))","v":""},null,false,1,2,3,4,5,6,7,8,9,10,11,12,13,{"$f":"IF(D216=\"Yes\",IF('Financial Information'!$L216=$O216,\"\",14),IF('Financial Information'!$L216=0,\"\",14))","v":14},"","",true,true,true,true,true,true,true,true,true,true,true,true,true,true,false]
[null,{"$f":"'Scheme and Member Information'!B217","v":0},{"$f":"'Scheme and Member Information'!C217","v":0},null,null,null,null,null,null,null,null,null,null,null,"",null,{"$f":"IF(S217,VLOOKUP(MIN(T217:AI217),'Data Validation (hidden)'!$B$30:$C$45,2,FALSE),IF(COUNTA(D217:N217)>0,\"'Scheme Name' missing but values entered in other columns\",\"\"))","v":""},null,false,1,2,3,4,5,6,7,8,9,10,11,12,13,{"$f":"IF(D217=\"Yes\",IF('Financial Information'!$L217=$O217,\"\",14),IF('Financial Information'!$L217=0,\"\",14))","v":14},"","",true,true,true,true,true,true,true,true,true,true,true,true,true,true,false]
[null,{"$f":"'Scheme and Member Information'!B218","v":0},{"$f":"'Scheme and Member Information'!C218","v":0},null,null,null,null,null,null,null,null,null,null,null,"",null,{"$f":"IF(S218,VLOOKUP(MIN(T218:AI218),'Data Validation (hidden)'!$B$30:$C$45,2,FALSE),IF(COUNTA(D218:N218)>0,\"'Scheme Name' missing but values entered in other columns\",\"\"))","v":""},null,false,1,2,3,4,5,6,7,8,9,10,11,12,13,{"$f":"IF(D218=\"Yes\",IF('Financial Information'!$L218=$O218,\"\",14),IF('Financial Information'!$L218=0,\"\",14))","v":14},"","",true,true,true,true,true,true,true,true,true,true,true,true,true,true,false]
[null,{"$f":"'Scheme and Member Information'!B219","v":0},{"$f":"'Scheme and Member Information'!C219","v":0},null,null,null,null,null,null,null,null,null,null,null,"",null,{"$f":"IF(S219,VLOOKUP(MIN(T219:AI219),'Data Validation (hidden)'!$B$30:$C$45,2,FALSE),IF(COUNTA(D219:N219)>0,\"'Scheme Name' missing but values entered in other columns\",\"\"))","v":""},null,false,1,2,3,4,5,6,7,8,9,10,11,12,13,{"$f":"IF(D219=\"Yes\",IF('Financial Information'!$L219=$O219,\"\",14),IF('Financial Information'!$L219=0,\"\",14))","v":14},"","",true,true,true,true,true,true,true,true,true,true,true,true,true,true,false]
[null,{"$f":"'Scheme and Member Information'!B220","v":0},{"$f":"'Scheme and Member Information'!C220","v":0},null,null,null,null,null,null,null,null,null,null,null,"",null,{"$f":"IF(S220,VLOOKUP(MIN(T220:AI220),'Data Validation (hidden)'!$B$30:$C$45,2,FALSE),IF(COUNTA(D220:N220)>0,\"'Scheme Name' missing but values entered in other columns\",\"\"))","v":""},null,false,1,2,3,4,5,6,7,8,9,10,11,12,13,{"$f":"IF(D220=\"Yes\",IF('Financial Information'!$L220=$O220,\"\",14),IF('Financial Information'!$L220=0,\"\",14))","v":14},"","",true,true,true,true,true,true,true,true,true,true,true,true,true,true,false]
[null,{"$f":"'Scheme and Member Information'!B221","v":0},{"$f":"'Scheme and Member Information'!C221","v":0},null,null,null,null,null,null,null,null,null,null,null,"",null,{"$f":"IF(S221,VLOOKUP(MIN(T221:AI221),'Data Validation (hidden)'!$B$30:$C$45,2,FALSE),IF(COUNTA(D221:N221)>0,\"'Scheme Name' missing but values entered in other columns\",\"\"))","v":""},null,false,1,2,3,4,5,6,7,8,9,10,11,12,13,{"$f":"IF(D221=\"Yes\",IF('Financial Information'!$L221=$O221,\"\",14),IF('Financial Information'!$L221=0,\"\",14))","v":14},"","",true,true,true,true,true,true,true,true,true,true,true,true,true,true,false]
[null,{"$f":"'Scheme and Member Information'!B222","v":0},{"$f":"'Scheme and Member Information'!C222","v":0},null,null,null,null,null,null,null,null,null,null,null,"",null,{"$f":"IF(S222,VLOOKUP(MIN(T222:AI222),'Data Validation (hidden)'!$B$30:$C$45,2,FALSE),IF(COUNTA(D222:N222)>0,\"'Scheme Name' missing but values entered in other columns\",\"\"))","v":""},null,false,1,2,3,4,5,6,7,8,9,10,11,12,13,{"$f":"IF(D222=\"Yes\",IF('Financial Information'!$L222=$O222,\"\",14),IF('Financial Information'!$L222=0,\"\",14))","v":14},"","",true,true,true,true,true,true,true,true,true,true,true,true,true,true,false]
[null,{"$f":"'Scheme and Member Information'!B223","v":0},{"$f":"'Scheme and Member Information'!C223","v":0},null,null,null,null,null,null,null,null,null,null,null,"",null,{"$f":"IF(S223,VLOOKUP(MIN(T223:AI223),'Data Validation (hidden)'!$B$30:$C$45,2,FALSE),IF(COUNTA(D223:N223)>0,\"'Scheme Name' missing but values entered in other columns\",\"\"))","v":""},null,false,1,2,3,4,5,6,7,8,9,10,11,12,13,{"$f":"IF(D223=\"Yes\",IF('Financial Information'!$L223=$O223,\"\",14),IF('Financial Information'!$L223=0,\"\",14))","v":14},"","",true,true,true,true,true,true,true,true,true,true,true,true,true,true,false]
[null,{"$f":"'Scheme and Member Information'!B224","v":0},{"$f":"'Scheme and Member Information'!C224","v":0},null,null,null,null,null,null,null,null,null,null,null,"",null,{"$f":"IF(S224,VLOOKUP(MIN(T224:AI224),'Data Validation (hidden)'!$B$30:$C$45,2,FALSE),IF(COUNTA(D224:N224)>0,\"'Scheme Name' missing but values entered in other columns\",\"\"))","v":""},null,false,1,2,3,4,5,6,7,8,9,10,11,12,13,{"$f":"IF(D224=\"Yes\",IF('Financial Information'!$L224=$O224,\"\",14),IF('Financial Information'!$L224=0,\"\",14))","v":14},"","",true,true,true,true,true,true,true,true,true,true,true,true,true,true,false]
[null,{"$f":"'Scheme and Member Information'!B225","v":0},{"$f":"'Scheme and Member Information'!C225","v":0},null,null,null,null,null,null,null,null,null,null,null,"",null,{"$f":"IF(S225,VLOOKUP(MIN(T225:AI225),'Data Validation (hidden)'!$B$30:$C$45,2,FALSE),IF(COUNTA(D225:N225)>0,\"'Scheme Name' missing but values entered in other columns\",\"\"))","v":""},null,false,1,2,3,4,5,6,7,8,9,10,11,12,13,{"$f":"IF(D225=\"Yes\",IF('Financial Information'!$L225=$O225,\"\",14),IF('Financial Information'!$L225=0,\"\",14))","v":14},"","",true,true,true,true,true,true,true,true,true,true,true,true,true,true,false]
[null,{"$f":"'Scheme and Member Information'!B226","v":0},{"$f":"'Scheme and Member Information'!C226","v":0},null,null,null,null,null,null,null,null,null,null,null,"",null,{"$f":"IF(S226,VLOOKUP(MIN(T226:AI226),'Data Validation (hidden)'!$B$30:$C$45,2,FALSE),IF(COUNTA(D226:N226)>0,\"'Scheme Name' missing but values entered in other columns\",\"\"))","v":""},null,false,1,2,3,4,5,6,7,8,9,10,11,12,13,{"$f":"IF(D226=\"Yes\",IF('Financial Information'!$L226=$O226,\"\",14),IF('Financial Information'!$L226=0,\"\",14))","v":14},"","",true,true,true,true,true,true,true,true,true,true,true,true,true,true,false]
[null,{"$f":"'Scheme and Member Information'!B227","v":0},{"$f":"'Scheme and Member Information'!C227","v":0},null,null,null,null,null,null,null,null,null,null,null,"",null,{"$f":"IF(S227,VLOOKUP(MIN(T227:AI227),'Data Validation (hidden)'!$B$30:$C$45,2,FALSE),IF(COUNTA(D227:N227)>0,\"'Scheme Name' missing but values entered in other columns\",\"\"))","v":""},null,false,1,2,3,4,5,6,7,8,9,10,11,12,13,{"$f":"IF(D227=\"Yes\",IF('Financial Information'!$L227=$O227,\"\",14),IF('Financial Information'!$L227=0,\"\",14))","v":14},"","",true,true,true,true,true,true,true,true,true,true,true,true,true,true,false]
[null,{"$f":"'Scheme and Member Information'!B228","v":0},{"$f":"'Scheme and Member Information'!C228","v":0},null,null,null,null,null,null,null,null,null,null,null,"",null,{"$f":"IF(S228,VLOOKUP(MIN(T228:AI228),'Data Validation (hidden)'!$B$30:$C$45,2,FALSE),IF(COUNTA(D228:N228)>0,\"'Scheme Name' missing but values entered in other columns\",\"\"))","v":""},null,false,1,2,3,4,5,6,7,8,9,10,11,12,13,{"$f":"IF(D228=\"Yes\",IF('Financial Information'!$L228=$O228,\"\",14),IF('Financial Information'!$L228=0,\"\",14))","v":14},"","",true,true,true,true,true,true,true,true,true,true,true,true,true,true,false]
[null,{"$f":"'Scheme and Member Information'!B229","v":0},{"$f":"'Scheme and Member Information'!C229","v":0},null,null,null,null,null,null,null,null,null,null,null,"",null,{"$f":"IF(S229,VLOOKUP(MIN(T229:AI229),'Data Validation (hidden)'!$B$30:$C$45,2,FALSE),IF(COUNTA(D229:N229)>0,\"'Scheme Name' missing but values entered in other columns\",\"\"))","v":""},null,false,1,2,3,4,5,6,7,8,9,10,11,12,13,{"$f":"IF(D229=\"Yes\",IF('Financial Information'!$L229=$O229,\"\",14),IF('Financial Information'!$L229=0,\"\",14))","v":14},"","",true,true,true,true,true,true,true,true,true,true,true,true,true,true,false]
[null,{"$f":"'Scheme and Member Information'!B230","v":0},{"$f":"'Scheme and Member Information'!C230","v":0},null,null,null,null,null,null,null,null,null,null,null,"",null,{"$f":"IF(S230,VLOOKUP(MIN(T230:AI230),'Data Validation (hidden)'!$B$30:$C$45,2,FALSE),IF(COUNTA(D230:N230)>0,\"'Scheme Name' missing but values entered in other columns\",\"\"))","v":""},null,false,1,2,3,4,5,6,7,8,9,10,11,12,13,{"$f":"IF(D230=\"Yes\",IF('Financial Information'!$L230=$O230,\"\",14),IF('Financial Information'!$L230=0,\"\",14))","v":14},"","",true,true,true,true,true,true,true,true,true,true,true,true,true,true,false]
[null,{"$f":"'Scheme and Member Information'!B231","v":0},{"$f":"'Scheme and Member Information'!C231","v":0},null,null,null,null,null,null,null,null,null,null,null,"",null,{"$f":"IF(S231,VLOOKUP(MIN(T231:AI231),'Data Validation (hidden)'!$B$30:$C$45,2,FALSE),IF(COUNTA(D231:N231)>0,\"'Scheme Name' missing but values entered in other columns\",\"\"))","v":""},null,false,1,2,3,4,5,6,7,8,9,10,11,12,13,{"$f":"IF(D231=\"Yes\",IF('Financial Information'!$L231=$O231,\"\",14),IF('Financial Information'!$L231=0,\"\",14))","v":14},"","",true,true,true,true,true,true,true,true,true,true,true,true,true,true,false]
[null,{"$f":"'Scheme and Member Information'!B232","v":0},{"$f":"'Scheme and Member Information'!C232","v":0},null,null,null,null,null,null,null,null,null,null,null,"",null,{"$f":"IF(S232,VLOOKUP(MIN(T232:AI232),'Data Validation (hidden)'!$B$30:$C$45,2,FALSE),IF(COUNTA(D232:N232)>0,\"'Scheme Name' missing but values entered in other columns\",\"\"))","v":""},null,false,1,2,3,4,5,6,7,8,9,10,11,12,13,{"$f":"IF(D232=\"Yes\",IF('Financial Information'!$L232=$O232,\"\",14),IF('Financial Information'!$L232=0,\"\",14))","v":14},"","",true,true,true,true,true,true,true,true,true,true,true,true,true,true,false]
[null,{"$f":"'Scheme and Member Information'!B233","v":0},{"$f":"'Scheme and Member Information'!C233","v":0},null,null,null,null,null,null,null,null,null,null,null,"",null,{"$f":"IF(S233,VLOOKUP(MIN(T233:AI233),'Data Validation (hidden)'!$B$30:$C$45,2,FALSE),IF(COUNTA(D233:N233)>0,\"'Scheme Name' missing but values entered in other columns\",\"\"))","v":""},null,false,1,2,3,4,5,6,7,8,9,10,11,12,13,{"$f":"IF(D233=\"Yes\",IF('Financial Information'!$L233=$O233,\"\",14),IF('Financial Information'!$L233=0,\"\",14))","v":14},"","",true,true,true,true,true,true,true,true,true,true,true,true,true,true,false]
[null,{"$f":"'Scheme and Member Information'!B234","v":0},{"$f":"'Scheme and Member Information'!C234","v":0},null,null,null,null,null,null,null,null,null,null,null,"",null,{"$f":"IF(S234,VLOOKUP(MIN(T234:AI234),'Data Validation (hidden)'!$B$30:$C$45,2,FALSE),IF(COUNTA(D234:N234)>0,\"'Scheme Name' missing but values entered in other columns\",\"\"))","v":""},null,false,1,2,3,4,5,6,7,8,9,10,11,12,13,{"$f":"IF(D234=\"Yes\",IF('Financial Information'!$L234=$O234,\"\",14),IF('Financial Information'!$L234=0,\"\",14))","v":14},"","",true,true,true,true,true,true,true,true,true,true,true,true,true,true,false]
[null,{"$f":"'Scheme and Member Information'!B235","v":0},{"$f":"'Scheme and Member Information'!C235","v":0},null,null,null,null,null,null,null,null,null,null,null,"",null,{"$f":"IF(S235,VLOOKUP(MIN(T235:AI235),'Data Validation (hidden)'!$B$30:$C$45,2,FALSE),IF(COUNTA(D235:N235)>0,\"'Scheme Name' missing but values entered in other columns\",\"\"))","v":""},null,false,1,2,3,4,5,6,7,8,9,10,11,12,13,{"$f":"IF(D235=\"Yes\",IF('Financial Information'!$L235=$O235,\"\",14),IF('Financial Information'!$L235=0,\"\",14))","v":14},"","",true,true,true,true,true,true,true,true,true,true,true,true,true,true,false]
[null,{"$f":"'Scheme and Member Information'!B236","v":0},{"$f":"'Scheme and Member Information'!C236","v":0},null,null,null,null,null,null,null,null,null,null,null,"",null,{"$f":"IF(S236,VLOOKUP(MIN(T236:AI236),'Data Validation (hidden)'!$B$30:$C$45,2,FALSE),IF(COUNTA(D236:N236)>0,\"'Scheme Name' missing but values entered in other columns\",\"\"))","v":""},null,false,1,2,3,4,5,6,7,8,9,10,11,12,13,{"$f":"IF(D236=\"Yes\",IF('Financial Information'!$L236=$O236,\"\",14),IF('Financial Information'!$L236=0,\"\",14))","v":14},"","",true,true,true,true,true,true,true,true,true,true,true,true,true,true,false]
[null,{"$f":"'Scheme and Member Information'!B237","v":0},{"$f":"'Scheme and Member Information'!C237","v":0},null,null,null,null,null,null,null,null,null,null,null,"",null,{"$f":"IF(S237,VLOOKUP(MIN(T237:AI237),'Data Validation (hidden)'!$B$30:$C$45,2,FALSE),IF(COUNTA(D237:N237)>0,\"'Scheme Name' missing but values entered in other columns\",\"\"))","v":""},null,false,1,2,3,4,5,6,7,8,9,10,11,12,13,{"$f":"IF(D237=\"Yes\",IF('Financial Information'!$L237=$O237,\"\",14),IF('Financial Information'!$L237=0,\"\",14))","v":14},"","",true,true,true,true,true,true,true,true,true,true,true,true,true,true,false]
[null,{"$f":"'Scheme and Member Information'!B238","v":0},{"$f":"'Scheme and Member Information'!C238","v":0},null,null,null,null,null,null,null,null,null,null,null,"",null,{"$f":"IF(S238,VLOOKUP(MIN(T238:AI238),'Data Validation (hidden)'!$B$30:$C$45,2,FALSE),IF(COUNTA(D238:N238)>0,\"'Scheme Name' missing but values entered in other columns\",\"\"))","v":""},null,false,1,2,3,4,5,6,7,8,9,10,11,12,13,{"$f":"IF(D238=\"Yes\",IF('Financial Information'!$L238=$O238,\"\",14),IF('Financial Information'!$L238=0,\"\",14))","v":14},"","",true,true,true,true,true,true,true,true,true,true,true,true,true,true,false]
[null,{"$f":"'Scheme and Member Information'!B239","v":0},{"$f":"'Scheme and Member Information'!C239","v":0},null,null,null,null,null,null,null,null,null,null,null,"",null,{"$f":"IF(S239,VLOOKUP(MIN(T239:AI239),'Data Validation (hidden)'!$B$30:$C$45,2,FALSE),IF(COUNTA(D239:N239)>0,\"'Scheme Name' missing but values entered in other columns\",\"\"))","v":""},null,false,1,2,3,4,5,6,7,8,9,10,11,12,13,{"$f":"IF(D239=\"Yes\",IF('Financial Information'!$L239=$O239,\"\",14),IF('Financial Information'!$L239=0,\"\",14))","v":14},"","",true,true,true,true,true,true,true,true,true,true,true,true,true,true,false]
[null,{"$f":"'Scheme and Member Information'!B240","v":0},{"$f":"'Scheme and Member Information'!C240","v":0},null,null,null,null,null,null,null,null,null,null,null,"",null,{"$f":"IF(S240,VLOOKUP(MIN(T240:AI240),'Data Validation (hidden)'!$B$30:$C$45,2,FALSE),IF(COUNTA(D240:N240)>0,\"'Scheme Name' missing but values entered in other columns\",\"\"))","v":""},null,false,1,2,3,4,5,6,7,8,9,10,11,12,13,{"$f":"IF(D240=\"Yes\",IF('Financial Information'!$L240=$O240,\"\",14),IF('Financial Information'!$L240=0,\"\",14))","v":14},"","",true,true,true,true,true,true,true,true,true,true,true,true,true,true,false]
[null,{"$f":"'Scheme and Member Information'!B241","v":0},{"$f":"'Scheme and Member Information'!C241","v":0},null,null,null,null,null,null,null,null,null,null,null,"",null,{"$f":"IF(S241,VLOOKUP(MIN(T241:AI241),'Data Validation (hidden)'!$B$30:$C$45,2,FALSE),IF(COUNTA(D241:N241)>0,\"'Scheme Name' missing but values entered in other columns\",\"\"))","v":""},null,false,1,2,3,4,5,6,7,8,9,10,11,12,13,{"$f":"IF(D241=\"Yes\",IF('Financial Information'!$L241=$O241,\"\",14),IF('Financial Information'!$L241=0,\"\",14))","v":14},"","",true,true,true,true,true,true,true,true,true,true,true,true,true,true,false]
[null,{"$f":"'Scheme and Member Information'!B242","v":0},{"$f":"'Scheme and Member Information'!C242","v":0},null,null,null,null,null,null,null,null,null,null,null,"",null,{"$f":"IF(S242,VLOOKUP(MIN(T242:AI242),'Data Validation (hidden)'!$B$30:$C$45,2,FALSE),IF(COUNTA(D242:N242)>0,\"'Scheme Name' missing but values entered in other columns\",\"\"))","v":""},null,false,1,2,3,4,5,6,7,8,9,10,11,12,13,{"$f":"IF(D242=\"Yes\",IF('Financial Information'!$L242=$O242,\"\",14),IF('Financial Information'!$L242=0,\"\",14))","v":14},"","",true,true,true,true,true,true,true,true,true,true,true,true,true,true,false]
[null,{"$f":"'Scheme and Member Information'!B243","v":0},{"$f":"'Scheme and Member Information'!C243","v":0},null,null,null,null,null,null,null,null,null,null,null,"",null,{"$f":"IF(S243,VLOOKUP(MIN(T243:AI243),'Data Validation (hidden)'!$B$30:$C$45,2,FALSE),IF(COUNTA(D243:N243)>0,\"'Scheme Name' missing but values entered in other columns\",\"\"))","v":""},null,false,1,2,3,4,5,6,7,8,9,10,11,12,13,{"$f":"IF(D243=\"Yes\",IF('Financial Information'!$L243=$O243,\"\",14),IF('Financial Information'!$L243=0,\"\",14))","v":14},"","",true,true,true,true,true,true,true,true,true,true,true,true,true,true,false]
[null,{"$f":"'Scheme and Member Information'!B244","v":0},{"$f":"'Scheme and Member Information'!C244","v":0},null,null,null,null,null,null,null,null,null,null,null,"",null,{"$f":"IF(S244,VLOOKUP(MIN(T244:AI244),'Data Validation (hidden)'!$B$30:$C$45,2,FALSE),IF(COUNTA(D244:N244)>0,\"'Scheme Name' missing but values entered in other columns\",\"\"))","v":""},null,false,1,2,3,4,5,6,7,8,9,10,11,12,13,{"$f":"IF(D244=\"Yes\",IF('Financial Information'!$L244=$O244,\"\",14),IF('Financial Information'!$L244=0,\"\",14))","v":14},"","",true,true,true,true,true,true,true,true,true,true,true,true,true,true,false]
[null,{"$f":"'Scheme and Member Information'!B245","v":0},{"$f":"'Scheme and Member Information'!C245","v":0},null,null,null,null,null,null,null,null,null,null,null,"",null,{"$f":"IF(S245,VLOOKUP(MIN(T245:AI245),'Data Validation (hidden)'!$B$30:$C$45,2,FALSE),IF(COUNTA(D245:N245)>0,\"'Scheme Name' missing but values entered in other columns\",\"\"))","v":""},null,false,1,2,3,4,5,6,7,8,9,10,11,12,13,{"$f":"IF(D245=\"Yes\",IF('Financial Information'!$L245=$O245,\"\",14),IF('Financial Information'!$L245=0,\"\",14))","v":14},"","",true,true,true,true,true,true,true,true,true,true,true,true,true,true,false]
[null,{"$f":"'Scheme and Member Information'!B246","v":0},{"$f":"'Scheme and Member Information'!C246","v":0},null,null,null,null,null,null,null,null,null,null,null,"",null,{"$f":"IF(S246,VLOOKUP(MIN(T246:AI246),'Data Validation (hidden)'!$B$30:$C$45,2,FALSE),IF(COUNTA(D246:N246)>0,\"'Scheme Name' missing but values entered in other columns\",\"\"))","v":""},null,false,1,2,3,4,5,6,7,8,9,10,11,12,13,{"$f":"IF(D246=\"Yes\",IF('Financial Information'!$L246=$O246,\"\",14),IF('Financial Information'!$L246=0,\"\",14))","v":14},"","",true,true,true,true,true,true,true,true,true,true,true,true,true,true,false]
[null,{"$f":"'Scheme and Member Information'!B247","v":0},{"$f":"'Scheme and Member Information'!C247","v":0},null,null,null,null,null,null,null,null,null,null,null,"",null,{"$f":"IF(S247,VLOOKUP(MIN(T247:AI247),'Data Validation (hidden)'!$B$30:$C$45,2,FALSE),IF(COUNTA(D247:N247)>0,\"'Scheme Name' missing but values entered in other columns\",\"\"))","v":""},null,false,1,2,3,4,5,6,7,8,9,10,11,12,13,{"$f":"IF(D247=\"Yes\",IF('Financial Information'!$L247=$O247,\"\",14),IF('Financial Information'!$L247=0,\"\",14))","v":14},"","",true,true,true,true,true,true,true,true,true,true,true,true,true,true,false]
[null,{"$f":"'Scheme and Member Information'!B248","v":0},{"$f":"'Scheme and Member Information'!C248","v":0},null,null,null,null,null,null,null,null,null,null,null,"",null,{"$f":"IF(S248,VLOOKUP(MIN(T248:AI248),'Data Validation (hidden)'!$B$30:$C$45,2,FALSE),IF(COUNTA(D248:N248)>0,\"'Scheme Name' missing but values entered in other columns\",\"\"))","v":""},null,false,1,2,3,4,5,6,7,8,9,10,11,12,13,{"$f":"IF(D248=\"Yes\",IF('Financial Information'!$L248=$O248,\"\",14),IF('Financial Information'!$L248=0,\"\",14))","v":14},"","",true,true,true,true,true,true,true,true,true,true,true,true,true,true,false]
[null,{"$f":"'Scheme and Member Information'!B249","v":0},{"$f":"'Scheme and Member Information'!C249","v":0},null,null,null,null,null,null,null,null,null,null,null,"",null,{"$f":"IF(S249,VLOOKUP(MIN(T249:AI249),'Data Validation (hidden)'!$B$30:$C$45,2,FALSE),IF(COUNTA(D249:N249)>0,\"'Scheme Name' missing but values entered in other columns\",\"\"))","v":""},null,false,1,2,3,4,5,6,7,8,9,10,11,12,13,{"$f":"IF(D249=\"Yes\",IF('Financial Information'!$L249=$O249,\"\",14),IF('Financial Information'!$L249=0,\"\",14))","v":14},"","",true,true,true,true,true,true,true,true,true,true,true,true,true,true,false]
[null,{"$f":"'Scheme and Member Information'!B250","v":0},{"$f":"'Scheme and Member Information'!C250","v":0},null,null,null,null,null,null,null,null,null,null,null,"",null,{"$f":"IF(S250,VLOOKUP(MIN(T250:AI250),'Data Validation (hidden)'!$B$30:$C$45,2,FALSE),IF(COUNTA(D250:N250)>0,\"'Scheme Name' missing but values entered in other columns\",\"\"))","v":""},null,false,1,2,3,4,5,6,7,8,9,10,11,12,13,{"$f":"IF(D250=\"Yes\",IF('Financial Information'!$L250=$O250,\"\",14),IF('Financial Information'!$L250=0,\"\",14))","v":14},"","",true,true,true,true,true,true,true,true,true,true,true,true,true,true,false]
[null,{"$f":"'Scheme and Member Information'!B251","v":0},{"$f":"'Scheme and Member Information'!C251","v":0},null,null,null,null,null,null,null,null,null,null,null,"",null,{"$f":"IF(S251,VLOOKUP(MIN(T251:AI251),'Data Validation (hidden)'!$B$30:$C$45,2,FALSE),IF(COUNTA(D251:N251)>0,\"'Scheme Name' missing but values entered in other columns\",\"\"))","v":""},null,false,1,2,3,4,5,6,7,8,9,10,11,12,13,{"$f":"IF(D251=\"Yes\",IF('Financial Information'!$L251=$O251,\"\",14),IF('Financial Information'!$L251=0,\"\",14))","v":14},"","",true,true,true,true,true,true,true,true,true,true,true,true,true,true,false]
[null,{"$f":"'Scheme and Member Information'!B252","v":0},{"$f":"'Scheme and Member Information'!C252","v":0},null,null,null,null,null,null,null,null,null,null,null,"",null,{"$f":"IF(S252,VLOOKUP(MIN(T252:AI252),'Data Validation (hidden)'!$B$30:$C$45,2,FALSE),IF(COUNTA(D252:N252)>0,\"'Scheme Name' missing but values entered in other columns\",\"\"))","v":""},null,false,1,2,3,4,5,6,7,8,9,10,11,12,13,{"$f":"IF(D252=\"Yes\",IF('Financial Information'!$L252=$O252,\"\",14),IF('Financial Information'!$L252=0,\"\",14))","v":14},"","",true,true,true,true,true,true,true,true,true,true,true,true,true,true,false]
[null,{"$f":"'Scheme and Member Information'!B253","v":0},{"$f":"'Scheme and Member Information'!C253","v":0},null,null,null,null,null,null,null,null,null,null,null,"",null,{"$f":"IF(S253,VLOOKUP(MIN(T253:AI253),'Data Validation (hidden)'!$B$30:$C$45,2,FALSE),IF(COUNTA(D253:N253)>0,\"'Scheme Name' missing but values entered in other columns\",\"\"))","v":""},null,false,1,2,3,4,5,6,7,8,9,10,11,12,13,{"$f":"IF(D253=\"Yes\",IF('Financial Information'!$L253=$O253,\"\",14),IF('Financial Information'!$L253=0,\"\",14))","v":14},"","",true,true,true,true,true,true,true,true,true,true,true,true,true,true,false]
[null,{"$f":"'Scheme and Member Information'!B254","v":0},{"$f":"'Scheme and Member Information'!C254","v":0},null,null,null,null,null,null,null,null,null,null,null,"",null,{"$f":"IF(S254,VLOOKUP(MIN(T254:AI254),'Data Validation (hidden)'!$B$30:$C$45,2,FALSE),IF(COUNTA(D254:N254)>0,\"'Scheme Name' missing but values entered in other columns\",\"\"))","v":""},null,false,1,2,3,4,5,6,7,8,9,10,11,12,13,{"$f":"IF(D254=\"Yes\",IF('Financial Information'!$L254=$O254,\"\",14),IF('Financial Information'!$L254=0,\"\",14))","v":14},"","",true,true,true,true,true,true,true,true,true,true,true,true,true,true,false]
[null,{"$f":"'Scheme and Member Information'!B255","v":0},{"$f":"'Scheme and Member Information'!C255","v":0},null,null,null,null,null,null,null,null,null,null,null,"",null,{"$f":"IF(S255,VLOOKUP(MIN(T255:AI255),'Data Validation (hidden)'!$B$30:$C$45,2,FALSE),IF(COUNTA(D255:N255)>0,\"'Scheme Name' missing but values entered in other columns\",\"\"))","v":""},null,false,1,2,3,4,5,6,7,8,9,10,11,12,13,{"$f":"IF(D255=\"Yes\",IF('Financial Information'!$L255=$O255,\"\",14),IF('Financial Information'!$L255=0,\"\",14))","v":14},"","",true,true,true,true,true,true,true,true,true,true,true,true,true,true,false]
[null,{"$f":"'Scheme and Member Information'!B256","v":0},{"$f":"'Scheme and Member Information'!C256","v":0},null,null,null,null,null,null,null,null,null,null,null,"",null,{"$f":"IF(S256,VLOOKUP(MIN(T256:AI256),'Data Validation (hidden)'!$B$30:$C$45,2,FALSE),IF(COUNTA(D256:N256)>0,\"'Scheme Name' missing but values entered in other columns\",\"\"))","v":""},null,false,1,2,3,4,5,6,7,8,9,10,11,12,13,{"$f":"IF(D256=\"Yes\",IF('Financial Information'!$L256=$O256,\"\",14),IF('Financial Information'!$L256=0,\"\",14))","v":14},"","",true,true,true,true,true,true,true,true,true,true,true,true,true,true,false]
[null,{"$f":"'Scheme and Member Information'!B257","v":0},{"$f":"'Scheme and Member Information'!C257","v":0},null,null,null,null,null,null,null,null,null,null,null,"",null,{"$f":"IF(S257,VLOOKUP(MIN(T257:AI257),'Data Validation (hidden)'!$B$30:$C$45,2,FALSE),IF(COUNTA(D257:N257)>0,\"'Scheme Name' missing but values entered in other columns\",\"\"))","v":""},null,false,1,2,3,4,5,6,7,8,9,10,11,12,13,{"$f":"IF(D257=\"Yes\",IF('Financial Information'!$L257=$O257,\"\",14),IF('Financial Information'!$L257=0,\"\",14))","v":14},"","",true,true,true,true,true,true,true,true,true,true,true,true,true,true,false]
[null,{"$f":"'Scheme and Member Information'!B258","v":0},{"$f":"'Scheme and Member Information'!C258","v":0},null,null,null,null,null,null,null,null,null,null,null,"",null,{"$f":"IF(S258,VLOOKUP(MIN(T258:AI258),'Data Validation (hidden)'!$B$30:$C$45,2,FALSE),IF(COUNTA(D258:N258)>0,\"'Scheme Name' missing but values entered in other columns\",\"\"))","v":""},null,false,1,2,3,4,5,6,7,8,9,10,11,12,13,{"$f":"IF(D258=\"Yes\",IF('Financial Information'!$L258=$O258,\"\",14),IF('Financial Information'!$L258=0,\"\",14))","v":14},"","",true,true,true,true,true,true,true,true,true,true,true,true,true,true,false]
[null,{"$f":"'Scheme and Member Information'!B259","v":0},{"$f":"'Scheme and Member Information'!C259","v":0},null,null,null,null,null,null,null,null,null,null,null,"",null,{"$f":"IF(S259,VLOOKUP(MIN(T259:AI259),'Data Validation (hidden)'!$B$30:$C$45,2,FALSE),IF(COUNTA(D259:N259)>0,\"'Scheme Name' missing but values entered in other columns\",\"\"))","v":""},null,false,1,2,3,4,5,6,7,8,9,10,11,12,13,{"$f":"IF(D259=\"Yes\",IF('Financial Information'!$L259=$O259,\"\",14),IF('Financial Information'!$L259=0,\"\",14))","v":14},"","",true,true,true,true,true,true,true,true,true,true,true,true,true,true,false]
[null,{"$f":"'Scheme and Member Information'!B260","v":0},{"$f":"'Scheme and Member Information'!C260","v":0},null,null,null,null,null,null,null,null,null,null,null,"",null,{"$f":"IF(S260,VLOOKUP(MIN(T260:AI260),'Data Validation (hidden)'!$B$30:$C$45,2,FALSE),IF(COUNTA(D260:N260)>0,\"'Scheme Name' missing but values entered in other columns\",\"\"))","v":""},null,false,1,2,3,4,5,6,7,8,9,10,11,12,13,{"$f":"IF(D260=\"Yes\",IF('Financial Information'!$L260=$O260,\"\",14),IF('Financial Information'!$L260=0,\"\",14))","v":14},"","",true,true,true,true,true,true,true,true,true,true,true,true,true,true,false]
[null,{"$f":"'Scheme and Member Information'!B261","v":0},{"$f":"'Scheme and Member Information'!C261","v":0},null,null,null,null,null,null,null,null,null,null,null,"",null,{"$f":"IF(S261,VLOOKUP(MIN(T261:AI261),'Data Validation (hidden)'!$B$30:$C$45,2,FALSE),IF(COUNTA(D261:N261)>0,\"'Scheme Name' missing but values entered in other columns\",\"\"))","v":""},null,false,1,2,3,4,5,6,7,8,9,10,11,12,13,{"$f":"IF(D261=\"Yes\",IF('Financial Information'!$L261=$O261,\"\",14),IF('Financial Information'!$L261=0,\"\",14))","v":14},"","",true,true,true,true,true,true,true,true,true,true,true,true,true,true,false]
[null,{"$f":"'Scheme and Member Information'!B262","v":0},{"$f":"'Scheme and Member Information'!C262","v":0},null,null,null,null,null,null,null,null,null,null,null,"",null,{"$f":"IF(S262,VLOOKUP(MIN(T262:AI262),'Data Validation (hidden)'!$B$30:$C$45,2,FALSE),IF(COUNTA(D262:N262)>0,\"'Scheme Name' missing but values entered in other columns\",\"\"))","v":""},null,false,1,2,3,4,5,6,7,8,9,10,11,12,13,{"$f":"IF(D262=\"Yes\",IF('Financial Information'!$L262=$O262,\"\",14),IF('Financial Information'!$L262=0,\"\",14))","v":14},"","",true,true,true,true,true,true,true,true,true,true,true,true,true,true,false]
[null,{"$f":"'Scheme and Member Information'!B263","v":0},{"$f":"'Scheme and Member Information'!C263","v":0},null,null,null,null,null,null,null,null,null,null,null,"",null,{"$f":"IF(S263,VLOOKUP(MIN(T263:AI263),'Data Validation (hidden)'!$B$30:$C$45,2,FALSE),IF(COUNTA(D263:N263)>0,\"'Scheme Name' missing but values entered in other columns\",\"\"))","v":""},null,false,1,2,3,4,5,6,7,8,9,10,11,12,13,{"$f":"IF(D263=\"Yes\",IF('Financial Information'!$L263=$O263,\"\",14),IF('Financial Information'!$L263=0,\"\",14))","v":14},"","",true,true,true,true,true,true,true,true,true,true,true,true,true,true,false]
[null,{"$f":"'Scheme and Member Information'!B264","v":0},{"$f":"'Scheme and Member Information'!C264","v":0},null,null,null,null,null,null,null,null,null,null,null,"",null,{"$f":"IF(S264,VLOOKUP(MIN(T264:AI264),'Data Validation (hidden)'!$B$30:$C$45,2,FALSE),IF(COUNTA(D264:N264)>0,\"'Scheme Name' missing but values entered in other columns\",\"\"))","v":""},null,false,1,2,3,4,5,6,7,8,9,10,11,12,13,{"$f":"IF(D264=\"Yes\",IF('Financial Information'!$L264=$O264,\"\",14),IF('Financial Information'!$L264=0,\"\",14))","v":14},"","",{"$f":"IF(CELL(\"format\", B264) = \"G\",TRUE,FALSE)","v":true},{"$f":"IF(CELL(\"format\", C264) = \"F0\",TRUE,FALSE)","v":true},{"$f":"IF(CELL(\"format\",D259)=\"G\",TRUE,FALSE)","v":true},{"$f":"IF( CELL(\"format\",E264) = \"C0\",TRUE,FALSE)","v":true},{"$f":"IF( CELL(\"format\",F264) = \"C0\",TRUE,FALSE)","v":true},{"$f":"IF( CELL(\"format\",G264) = \"C0\",TRUE,FALSE)","v":true},{"$f":"IF( CELL(\"format\",H264) = \"C0\",TRUE,FALSE)","v":true},{"$f":"IF( CELL(\"format\",I264) = \"C0\",TRUE,FALSE)","v":true},{"$f":"IF( CELL(\"format\",J264) = \"C0\",TRUE,FALSE)","v":true},{"$f":"IF( CELL(\"format\",K264) = \"C0\",TRUE,FALSE)","v":true},{"$f":"IF( CELL(\"format\",L264) = \"C0\",TRUE,FALSE)","v":true},{"$f":"IF( CELL(\"format\",M264) = \"C0\",TRUE,FALSE)","v":true},{"$f":"IF( CELL(\"format\",N264) = \"C0\",TRUE,FALSE)","v":true},{"$f":"IF( CELL(\"format\",O264) = \"C0\",TRUE,FALSE)","v":true},{"$f":"IF(Q264=\"\",FALSE,IF(Q264=\"OK\",FALSE,TRUE))","v":false}]
[null,{"$f":"'Scheme and Member Information'!B265","v":0},{"$f":"'Scheme and Member Information'!C265","v":0},null,null,null,null,null,null,null,null,null,null,null,{"$f":"IF(OR(E265<>\"\",F265<>\"\",G265<>\"\",H265<>\"\",I265<>\"\",J265<>\"\",K265<>\"\",L265<>\"\",M265<>\"\",N265<>\"\"),SUM(E265:N265),\"\")","v":""},null,{"$f":"IF(S265,VLOOKUP(MIN(T265:AI265),'Data Validation (hidden)'!$B$30:$C$45,2,FALSE),IF(COUNTA(D265:N265)>0,\"'Scheme Name' missing but values entered in other columns\",\"\"))","v":""},null,{"$f":"AND(B265<>\"\",B265<>0)","v":false},{"$f":"IF(C265=\"\",1,IF(C265=0,1,\"\"))","v":1},{"$f":"IF(D265=\"\",2,\"\")","v":2},{"$f":"IF(E265=\"\",IF(D265=\"No\",\"\",3),\"\")","v":3},{"$f":"IF(F265=\"\",IF(D265=\"No\",\"\",4),\"\")","v":4},{"$f":"IF(G265=\"\",IF(D265=\"No\",\"\",5),\"\")","v":5},{"$f":"IF(H265=\"\",IF(D265=\"No\",\"\",6),\"\")","v":6},{"$f":"IF(I265=\"\",IF(D265=\"No\",\"\",7),\"\")","v":7},{"$f":"IF(J265=\"\",IF(D265=\"No\",\"\",8),\"\")","v":8},{"$f":"IF(K265=\"\",IF(D265=\"No\",\"\",9),\"\")","v":9},{"$f":"IF(L265=\"\",IF(D265=\"No\",\"\",10),\"\")","v":10},{"$f":"IF(M265=\"\",IF(D265=\"No\",\"\",11),\"\")","v":11},{"$f":"IF(N265=\"\",IF(D265=\"No\",\"\",12),\"\")","v":12},{"$f":"IF(O265=\"\",IF(D265=\"No\",\"\",13),\"\")","v":13},{"$f":"IF(D265=\"Yes\",IF('Financial Information'!$L265=$O265,\"\",14),IF('Financial Information'!$L265=0,\"\",14))","v":14},{"$f":"IF(COUNT(T265:AG265)=0,\"10\",\"\")","v":""},{"$f":"IF(AND(AJ265,AK265,AL265,AM265,AN265,AO265,AP265,AQ265,AR265,AS265,AT265,AU265,AV265,AW265)=TRUE,\"\",15)","v":""},true,true,true,true,true,true,true,true,true,true,true,true,true,true,false]
[null,{"$f":"'Scheme and Member Information'!B266","v":0},{"$f":"'Scheme and Member Information'!C266","v":0},null,null,null,null,null,null,null,null,null,null,null,"",null,{"$f":"IF(S266,VLOOKUP(MIN(T266:AI266),'Data Validation (hidden)'!$B$30:$C$45,2,FALSE),IF(COUNTA(D266:N266)>0,\"'Scheme Name' missing but values entered in other columns\",\"\"))","v":""},null,false,1,2,3,4,5,6,7,8,9,10,11,12,13,{"$f":"IF(D266=\"Yes\",IF('Financial Information'!$L266=$O266,\"\",14),IF('Financial Information'!$L266=0,\"\",14))","v":14},"","",true,true,true,true,true,true,true,true,true,true,true,true,true,true,false]
[null,{"$f":"'Scheme and Member Information'!B267","v":0},{"$f":"'Scheme and Member Information'!C267","v":0},null,null,null,null,null,null,null,null,null,null,null,"",null,{"$f":"IF(S267,VLOOKUP(MIN(T267:AI267),'Data Validation (hidden)'!$B$30:$C$45,2,FALSE),IF(COUNTA(D267:N267)>0,\"'Scheme Name' missing but values entered in other columns\",\"\"))","v":""},null,false,1,2,3,4,5,6,7,8,9,10,11,12,13,{"$f":"IF(D267=\"Yes\",IF('Financial Information'!$L267=$O267,\"\",14),IF('Financial Information'!$L267=0,\"\",14))","v":14},"","",true,true,true,true,true,true,true,true,true,true,true,true,true,true,false]
[null,{"$f":"'Scheme and Member Information'!B268","v":0},{"$f":"'Scheme and Member Information'!C268","v":0},null,null,null,null,null,null,null,null,null,null,null,"",null,{"$f":"IF(S268,VLOOKUP(MIN(T268:AI268),'Data Validation (hidden)'!$B$30:$C$45,2,FALSE),IF(COUNTA(D268:N268)>0,\"'Scheme Name' missing but values entered in other columns\",\"\"))","v":""},null,false,1,2,3,4,5,6,7,8,9,10,11,12,13,{"$f":"IF(D268=\"Yes\",IF('Financial Information'!$L268=$O268,\"\",14),IF('Financial Information'!$L268=0,\"\",14))","v":14},"","",true,true,true,true,true,true,true,true,true,true,true,true,true,true,false]
[null,{"$f":"'Scheme and Member Information'!B269","v":0},{"$f":"'Scheme and Member Information'!C269","v":0},null,null,null,null,null,null,null,null,null,null,null,"",null,{"$f":"IF(S269,VLOOKUP(MIN(T269:AI269),'Data Validation (hidden)'!$B$30:$C$45,2,FALSE),IF(COUNTA(D269:N269)>0,\"'Scheme Name' missing but values entered in other columns\",\"\"))","v":""},null,false,1,2,3,4,5,6,7,8,9,10,11,12,13,{"$f":"IF(D269=\"Yes\",IF('Financial Information'!$L269=$O269,\"\",14),IF('Financial Information'!$L269=0,\"\",14))","v":14},"","",true,true,true,true,true,true,true,true,true,true,true,true,true,true,false]
[null,{"$f":"'Scheme and Member Information'!B270","v":0},{"$f":"'Scheme and Member Information'!C270","v":0},null,null,null,null,null,null,null,null,null,null,null,"",null,{"$f":"IF(S270,VLOOKUP(MIN(T270:AI270),'Data Validation (hidden)'!$B$30:$C$45,2,FALSE),IF(COUNTA(D270:N270)>0,\"'Scheme Name' missing but values entered in other columns\",\"\"))","v":""},null,false,1,2,3,4,5,6,7,8,9,10,11,12,13,{"$f":"IF(D270=\"Yes\",IF('Financial Information'!$L270=$O270,\"\",14),IF('Financial Information'!$L270=0,\"\",14))","v":14},"","",true,true,true,true,true,true,true,true,true,true,true,true,true,true,false]
[null,{"$f":"'Scheme and Member Information'!B271","v":0},{"$f":"'Scheme and Member Information'!C271","v":0},null,null,null,null,null,null,null,null,null,null,null,"",null,{"$f":"IF(S271,VLOOKUP(MIN(T271:AI271),'Data Validation (hidden)'!$B$30:$C$45,2,FALSE),IF(COUNTA(D271:N271)>0,\"'Scheme Name' missing but values entered in other columns\",\"\"))","v":""},null,false,1,2,3,4,5,6,7,8,9,10,11,12,13,{"$f":"IF(D271=\"Yes\",IF('Financial Information'!$L271=$O271,\"\",14),IF('Financial Information'!$L271=0,\"\",14))","v":14},"","",true,true,true,true,true,true,true,true,true,true,true,true,true,true,false]
[null,{"$f":"'Scheme and Member Information'!B272","v":0},{"$f":"'Scheme and Member Information'!C272","v":0},null,null,null,null,null,null,null,null,null,null,null,"",null,{"$f":"IF(S272,VLOOKUP(MIN(T272:AI272),'Data Validation (hidden)'!$B$30:$C$45,2,FALSE),IF(COUNTA(D272:N272)>0,\"'Scheme Name' missing but values entered in other columns\",\"\"))","v":""},null,false,1,2,3,4,5,6,7,8,9,10,11,12,13,{"$f":"IF(D272=\"Yes\",IF('Financial Information'!$L272=$O272,\"\",14),IF('Financial Information'!$L272=0,\"\",14))","v":14},"","",true,true,true,true,true,true,true,true,true,true,true,true,true,true,false]
[null,{"$f":"'Scheme and Member Information'!B273","v":0},{"$f":"'Scheme and Member Information'!C273","v":0},null,null,null,null,null,null,null,null,null,null,null,"",null,{"$f":"IF(S273,VLOOKUP(MIN(T273:AI273),'Data Validation (hidden)'!$B$30:$C$45,2,FALSE),IF(COUNTA(D273:N273)>0,\"'Scheme Name' missing but values entered in other columns\",\"\"))","v":""},null,false,1,2,3,4,5,6,7,8,9,10,11,12,13,{"$f":"IF(D273=\"Yes\",IF('Financial Information'!$L273=$O273,\"\",14),IF('Financial Information'!$L273=0,\"\",14))","v":14},"","",true,true,true,true,true,true,true,true,true,true,true,true,true,true,false]
[null,{"$f":"'Scheme and Member Information'!B274","v":0},{"$f":"'Scheme and Member Information'!C274","v":0},null,null,null,null,null,null,null,null,null,null,null,"",null,{"$f":"IF(S274,VLOOKUP(MIN(T274:AI274),'Data Validation (hidden)'!$B$30:$C$45,2,FALSE),IF(COUNTA(D274:N274)>0,\"'Scheme Name' missing but values entered in other columns\",\"\"))","v":""},null,false,1,2,3,4,5,6,7,8,9,10,11,12,13,{"$f":"IF(D274=\"Yes\",IF('Financial Information'!$L274=$O274,\"\",14),IF('Financial Information'!$L274=0,\"\",14))","v":14},"","",true,true,true,true,true,true,true,true,true,true,true,true,true,true,false]
[null,{"$f":"'Scheme and Member Information'!B275","v":0},{"$f":"'Scheme and Member Information'!C275","v":0},null,null,null,null,null,null,null,null,null,null,null,"",null,{"$f":"IF(S275,VLOOKUP(MIN(T275:AI275),'Data Validation (hidden)'!$B$30:$C$45,2,FALSE),IF(COUNTA(D275:N275)>0,\"'Scheme Name' missing but values entered in other columns\",\"\"))","v":""},null,false,1,2,3,4,5,6,7,8,9,10,11,12,13,{"$f":"IF(D275=\"Yes\",IF('Financial Information'!$L275=$O275,\"\",14),IF('Financial Information'!$L275=0,\"\",14))","v":14},"","",true,true,true,true,true,true,true,true,true,true,true,true,true,true,false]
[null,{"$f":"'Scheme and Member Information'!B276","v":0},{"$f":"'Scheme and Member Information'!C276","v":0},null,null,null,null,null,null,null,null,null,null,null,"",null,{"$f":"IF(S276,VLOOKUP(MIN(T276:AI276),'Data Validation (hidden)'!$B$30:$C$45,2,FALSE),IF(COUNTA(D276:N276)>0,\"'Scheme Name' missing but values entered in other columns\",\"\"))","v":""},null,false,1,2,3,4,5,6,7,8,9,10,11,12,13,{"$f":"IF(D276=\"Yes\",IF('Financial Information'!$L276=$O276,\"\",14),IF('Financial Information'!$L276=0,\"\",14))","v":14},"","",true,true,true,true,true,true,true,true,true,true,true,true,true,true,false]
[null,{"$f":"'Scheme and Member Information'!B277","v":0},{"$f":"'Scheme and Member Information'!C277","v":0},null,null,null,null,null,null,null,null,null,null,null,"",null,{"$f":"IF(S277,VLOOKUP(MIN(T277:AI277),'Data Validation (hidden)'!$B$30:$C$45,2,FALSE),IF(COUNTA(D277:N277)>0,\"'Scheme Name' missing but values entered in other columns\",\"\"))","v":""},null,false,1,2,3,4,5,6,7,8,9,10,11,12,13,{"$f":"IF(D277=\"Yes\",IF('Financial Information'!$L277=$O277,\"\",14),IF('Financial Information'!$L277=0,\"\",14))","v":14},"","",true,true,true,true,true,true,true,true,true,true,true,true,true,true,false]
[null,{"$f":"'Scheme and Member Information'!B278","v":0},{"$f":"'Scheme and Member Information'!C278","v":0},null,null,null,null,null,null,null,null,null,null,null,"",null,{"$f":"IF(S278,VLOOKUP(MIN(T278:AI278),'Data Validation (hidden)'!$B$30:$C$45,2,FALSE),IF(COUNTA(D278:N278)>0,\"'Scheme Name' missing but values entered in other columns\",\"\"))","v":""},null,false,1,2,3,4,5,6,7,8,9,10,11,12,13,{"$f":"IF(D278=\"Yes\",IF('Financial Information'!$L278=$O278,\"\",14),IF('Financial Information'!$L278=0,\"\",14))","v":14},"","",true,true,true,true,true,true,true,true,true,true,true,true,true,true,false]
[null,{"$f":"'Scheme and Member Information'!B279","v":0},{"$f":"'Scheme and Member Information'!C279","v":0},null,null,null,null,null,null,null,null,null,null,null,"",null,{"$f":"IF(S279,VLOOKUP(MIN(T279:AI279),'Data Validation (hidden)'!$B$30:$C$45,2,FALSE),IF(COUNTA(D279:N279)>0,\"'Scheme Name' missing but values entered in other columns\",\"\"))","v":""},null,false,1,2,3,4,5,6,7,8,9,10,11,12,13,{"$f":"IF(D279=\"Yes\",IF('Financial Information'!$L279=$O279,\"\",14),IF('Financial Information'!$L279=0,\"\",14))","v":14},"","",true,true,true,true,true,true,true,true,true,true,true,true,true,true,false]
[null,{"$f":"'Scheme and Member Information'!B280","v":0},{"$f":"'Scheme and Member Information'!C280","v":0},null,null,null,null,null,null,null,null,null,null,null,"",null,{"$f":"IF(S280,VLOOKUP(MIN(T280:AI280),'Data Validation (hidden)'!$B$30:$C$45,2,FALSE),IF(COUNTA(D280:N280)>0,\"'Scheme Name' missing but values entered in other columns\",\"\"))","v":""},null,false,1,2,3,4,5,6,7,8,9,10,11,12,13,{"$f":"IF(D280=\"Yes\",IF('Financial Information'!$L280=$O280,\"\",14),IF('Financial Information'!$L280=0,\"\",14))","v":14},"","",true,true,true,true,true,true,true,true,true,true,true,true,true,true,false]
[null,{"$f":"'Scheme and Member Information'!B281","v":0},{"$f":"'Scheme and Member Information'!C281","v":0},null,null,null,null,null,null,null,null,null,null,null,"",null,{"$f":"IF(S281,VLOOKUP(MIN(T281:AI281),'Data Validation (hidden)'!$B$30:$C$45,2,FALSE),IF(COUNTA(D281:N281)>0,\"'Scheme Name' missing but values entered in other columns\",\"\"))","v":""},null,false,1,2,3,4,5,6,7,8,9,10,11,12,13,{"$f":"IF(D281=\"Yes\",IF('Financial Information'!$L281=$O281,\"\",14),IF('Financial Information'!$L281=0,\"\",14))","v":14},"","",true,true,true,true,true,true,true,true,true,true,true,true,true,true,false]
[null,{"$f":"'Scheme and Member Information'!B282","v":0},{"$f":"'Scheme and Member Information'!C282","v":0},null,null,null,null,null,null,null,null,null,null,null,"",null,{"$f":"IF(S282,VLOOKUP(MIN(T282:AI282),'Data Validation (hidden)'!$B$30:$C$45,2,FALSE),IF(COUNTA(D282:N282)>0,\"'Scheme Name' missing but values entered in other columns\",\"\"))","v":""},null,false,1,2,3,4,5,6,7,8,9,10,11,12,13,{"$f":"IF(D282=\"Yes\",IF('Financial Information'!$L282=$O282,\"\",14),IF('Financial Information'!$L282=0,\"\",14))","v":14},"","",true,true,true,true,true,true,true,true,true,true,true,true,true,true,false]
[null,{"$f":"'Scheme and Member Information'!B283","v":0},{"$f":"'Scheme and Member Information'!C283","v":0},null,null,null,null,null,null,null,null,null,null,null,"",null,{"$f":"IF(S283,VLOOKUP(MIN(T283:AI283),'Data Validation (hidden)'!$B$30:$C$45,2,FALSE),IF(COUNTA(D283:N283)>0,\"'Scheme Name' missing but values entered in other columns\",\"\"))","v":""},null,false,1,2,3,4,5,6,7,8,9,10,11,12,13,{"$f":"IF(D283=\"Yes\",IF('Financial Information'!$L283=$O283,\"\",14),IF('Financial Information'!$L283=0,\"\",14))","v":14},"","",true,true,true,true,true,true,true,true,true,true,true,true,true,true,false]
[null,{"$f":"'Scheme and Member Information'!B284","v":0},{"$f":"'Scheme and Member Information'!C284","v":0},null,null,null,null,null,null,null,null,null,null,null,"",null,{"$f":"IF(S284,VLOOKUP(MIN(T284:AI284),'Data Validation (hidden)'!$B$30:$C$45,2,FALSE),IF(COUNTA(D284:N284)>0,\"'Scheme Name' missing but values entered in other columns\",\"\"))","v":""},null,false,1,2,3,4,5,6,7,8,9,10,11,12,13,{"$f":"IF(D284=\"Yes\",IF('Financial Information'!$L284=$O284,\"\",14),IF('Financial Information'!$L284=0,\"\",14))","v":14},"","",true,true,true,true,true,true,true,true,true,true,true,true,true,true,false]
[null,{"$f":"'Scheme and Member Information'!B285","v":0},{"$f":"'Scheme and Member Information'!C285","v":0},null,null,null,null,null,null,null,null,null,null,null,"",null,{"$f":"IF(S285,VLOOKUP(MIN(T285:AI285),'Data Validation (hidden)'!$B$30:$C$45,2,FALSE),IF(COUNTA(D285:N285)>0,\"'Scheme Name' missing but values entered in other columns\",\"\"))","v":""},null,false,1,2,3,4,5,6,7,8,9,10,11,12,13,{"$f":"IF(D285=\"Yes\",IF('Financial Information'!$L285=$O285,\"\",14),IF('Financial Information'!$L285=0,\"\",14))","v":14},"","",true,true,true,true,true,true,true,true,true,true,true,true,true,true,false]
[null,{"$f":"'Scheme and Member Information'!B286","v":0},{"$f":"'Scheme and Member Information'!C286","v":0},null,null,null,null,null,null,null,null,null,null,null,"",null,{"$f":"IF(S286,VLOOKUP(MIN(T286:AI286),'Data Validation (hidden)'!$B$30:$C$45,2,FALSE),IF(COUNTA(D286:N286)>0,\"'Scheme Name' missing but values entered in other columns\",\"\"))","v":""},null,false,1,2,3,4,5,6,7,8,9,10,11,12,13,{"$f":"IF(D286=\"Yes\",IF('Financial Information'!$L286=$O286,\"\",14),IF('Financial Information'!$L286=0,\"\",14))","v":14},"","",true,true,true,true,true,true,true,true,true,true,true,true,true,true,false]
[null,{"$f":"'Scheme and Member Information'!B287","v":0},{"$f":"'Scheme and Member Information'!C287","v":0},null,null,null,null,null,null,null,null,null,null,null,"",null,{"$f":"IF(S287,VLOOKUP(MIN(T287:AI287),'Data Validation (hidden)'!$B$30:$C$45,2,FALSE),IF(COUNTA(D287:N287)>0,\"'Scheme Name' missing but values entered in other columns\",\"\"))","v":""},null,false,1,2,3,4,5,6,7,8,9,10,11,12,13,{"$f":"IF(D287=\"Yes\",IF('Financial Information'!$L287=$O287,\"\",14),IF('Financial Information'!$L287=0,\"\",14))","v":14},"","",true,true,true,true,true,true,true,true,true,true,true,true,true,true,false]
[null,{"$f":"'Scheme and Member Information'!B288","v":0},{"$f":"'Scheme and Member Information'!C288","v":0},null,null,null,null,null,null,null,null,null,null,null,"",null,{"$f":"IF(S288,VLOOKUP(MIN(T288:AI288),'Data Validation (hidden)'!$B$30:$C$45,2,FALSE),IF(COUNTA(D288:N288)>0,\"'Scheme Name' missing but values entered in other columns\",\"\"))","v":""},null,false,1,2,3,4,5,6,7,8,9,10,11,12,13,{"$f":"IF(D288=\"Yes\",IF('Financial Information'!$L288=$O288,\"\",14),IF('Financial Information'!$L288=0,\"\",14))","v":14},"","",true,true,true,true,true,true,true,true,true,true,true,true,true,true,false]
[null,{"$f":"'Scheme and Member Information'!B289","v":0},{"$f":"'Scheme and Member Information'!C289","v":0},null,null,null,null,null,null,null,null,null,null,null,"",null,{"$f":"IF(S289,VLOOKUP(MIN(T289:AI289),'Data Validation (hidden)'!$B$30:$C$45,2,FALSE),IF(COUNTA(D289:N289)>0,\"'Scheme Name' missing but values entered in other columns\",\"\"))","v":""},null,false,1,2,3,4,5,6,7,8,9,10,11,12,13,{"$f":"IF(D289=\"Yes\",IF('Financial Information'!$L289=$O289,\"\",14),IF('Financial Information'!$L289=0,\"\",14))","v":14},"","",true,true,true,true,true,true,true,true,true,true,true,true,true,true,false]
[null,{"$f":"'Scheme and Member Information'!B290","v":0},{"$f":"'Scheme and Member Information'!C290","v":0},null,null,null,null,null,null,null,null,null,null,null,"",null,{"$f":"IF(S290,VLOOKUP(MIN(T290:AI290),'Data Validation (hidden)'!$B$30:$C$45,2,FALSE),IF(COUNTA(D290:N290)>0,\"'Scheme Name' missing but values entered in other columns\",\"\"))","v":""},null,false,1,2,3,4,5,6,7,8,9,10,11,12,13,{"$f":"IF(D290=\"Yes\",IF('Financial Information'!$L290=$O290,\"\",14),IF('Financial Information'!$L290=0,\"\",14))","v":14},"","",true,true,true,true,true,true,true,true,true,true,true,true,true,true,false]
[null,{"$f":"'Scheme and Member Information'!B291","v":0},{"$f":"'Scheme and Member Information'!C291","v":0},null,null,null,null,null,null,null,null,null,null,null,"",null,{"$f":"IF(S291,VLOOKUP(MIN(T291:AI291),'Data Validation (hidden)'!$B$30:$C$45,2,FALSE),IF(COUNTA(D291:N291)>0,\"'Scheme Name' missing but values entered in other columns\",\"\"))","v":""},null,false,1,2,3,4,5,6,7,8,9,10,11,12,13,{"$f":"IF(D291=\"Yes\",IF('Financial Information'!$L291=$O291,\"\",14),IF('Financial Information'!$L291=0,\"\",14))","v":14},"","",true,true,true,true,true,true,true,true,true,true,true,true,true,true,false]
[null,{"$f":"'Scheme and Member Information'!B292","v":0},{"$f":"'Scheme and Member Information'!C292","v":0},null,null,null,null,null,null,null,null,null,null,null,"",null,{"$f":"IF(S292,VLOOKUP(MIN(T292:AI292),'Data Validation (hidden)'!$B$30:$C$45,2,FALSE),IF(COUNTA(D292:N292)>0,\"'Scheme Name' missing but values entered in other columns\",\"\"))","v":""},null,false,1,2,3,4,5,6,7,8,9,10,11,12,13,{"$f":"IF(D292=\"Yes\",IF('Financial Information'!$L292=$O292,\"\",14),IF('Financial Information'!$L292=0,\"\",14))","v":14},"","",true,true,true,true,true,true,true,true,true,true,true,true,true,true,false]
[null,{"$f":"'Scheme and Member Information'!B293","v":0},{"$f":"'Scheme and Member Information'!C293","v":0},null,null,null,null,null,null,null,null,null,null,null,"",null,{"$f":"IF(S293,VLOOKUP(MIN(T293:AI293),'Data Validation (hidden)'!$B$30:$C$45,2,FALSE),IF(COUNTA(D293:N293)>0,\"'Scheme Name' missing but values entered in other columns\",\"\"))","v":""},null,false,1,2,3,4,5,6,7,8,9,10,11,12,13,{"$f":"IF(D293=\"Yes\",IF('Financial Information'!$L293=$O293,\"\",14),IF('Financial Information'!$L293=0,\"\",14))","v":14},"","",true,true,true,true,true,true,true,true,true,true,true,true,true,true,false]
[null,{"$f":"'Scheme and Member Information'!B294","v":0},{"$f":"'Scheme and Member Information'!C294","v":0},null,null,null,null,null,null,null,null,null,null,null,"",null,{"$f":"IF(S294,VLOOKUP(MIN(T294:AI294),'Data Validation (hidden)'!$B$30:$C$45,2,FALSE),IF(COUNTA(D294:N294)>0,\"'Scheme Name' missing but values entered in other columns\",\"\"))","v":""},null,false,1,2,3,4,5,6,7,8,9,10,11,12,13,{"$f":"IF(D294=\"Yes\",IF('Financial Information'!$L294=$O294,\"\",14),IF('Financial Information'!$L294=0,\"\",14))","v":14},"","",true,true,true,true,true,true,true,true,true,true,true,true,true,true,false]
[null,{"$f":"'Scheme and Member Information'!B295","v":0},{"$f":"'Scheme and Member Information'!C295","v":0},null,null,null,null,null,null,null,null,null,null,null,"",null,{"$f":"IF(S295,VLOOKUP(MIN(T295:AI295),'Data Validation (hidden)'!$B$30:$C$45,2,FALSE),IF(COUNTA(D295:N295)>0,\"'Scheme Name' missing but values entered in other columns\",\"\"))","v":""},null,false,1,2,3,4,5,6,7,8,9,10,11,12,13,{"$f":"IF(D295=\"Yes\",IF('Financial Information'!$L295=$O295,\"\",14),IF('Financial Information'!$L295=0,\"\",14))","v":14},"","",true,true,true,true,true,true,true,true,true,true,true,true,true,true,false]
[null,{"$f":"'Scheme and Member Information'!B296","v":0},{"$f":"'Scheme and Member Information'!C296","v":0},null,null,null,null,null,null,null,null,null,null,null,"",null,{"$f":"IF(S296,VLOOKUP(MIN(T296:AI296),'Data Validation (hidden)'!$B$30:$C$45,2,FALSE),IF(COUNTA(D296:N296)>0,\"'Scheme Name' missing but values entered in other columns\",\"\"))","v":""},null,false,1,2,3,4,5,6,7,8,9,10,11,12,13,{"$f":"IF(D296=\"Yes\",IF('Financial Information'!$L296=$O296,\"\",14),IF('Financial Information'!$L296=0,\"\",14))","v":14},"","",true,true,true,true,true,true,true,true,true,true,true,true,true,true,false]
[null,{"$f":"'Scheme and Member Information'!B297","v":0},{"$f":"'Scheme and Member Information'!C297","v":0},null,null,null,null,null,null,null,null,null,null,null,"",null,{"$f":"IF(S297,VLOOKUP(MIN(T297:AI297),'Data Validation (hidden)'!$B$30:$C$45,2,FALSE),IF(COUNTA(D297:N297)>0,\"'Scheme Name' missing but values entered in other columns\",\"\"))","v":""},null,false,1,2,3,4,5,6,7,8,9,10,11,12,13,{"$f":"IF(D297=\"Yes\",IF('Financial Information'!$L297=$O297,\"\",14),IF('Financial Information'!$L297=0,\"\",14))","v":14},"","",true,true,true,true,true,true,true,true,true,true,true,true,true,true,false]
[null,{"$f":"'Scheme and Member Information'!B298","v":0},{"$f":"'Scheme and Member Information'!C298","v":0},null,null,null,null,null,null,null,null,null,null,null,"",null,{"$f":"IF(S298,VLOOKUP(MIN(T298:AI298),'Data Validation (hidden)'!$B$30:$C$45,2,FALSE),IF(COUNTA(D298:N298)>0,\"'Scheme Name' missing but values entered in other columns\",\"\"))","v":""},null,false,1,2,3,4,5,6,7,8,9,10,11,12,13,{"$f":"IF(D298=\"Yes\",IF('Financial Information'!$L298=$O298,\"\",14),IF('Financial Information'!$L298=0,\"\",14))","v":14},"","",true,true,true,true,true,true,true,true,true,true,true,true,true,true,false]
[null,{"$f":"'Scheme and Member Information'!B299","v":0},{"$f":"'Scheme and Member Information'!C299","v":0},null,null,null,null,null,null,null,null,null,null,null,"",null,{"$f":"IF(S299,VLOOKUP(MIN(T299:AI299),'Data Validation (hidden)'!$B$30:$C$45,2,FALSE),IF(COUNTA(D299:N299)>0,\"'Scheme Name' missing but values entered in other columns\",\"\"))","v":""},null,false,1,2,3,4,5,6,7,8,9,10,11,12,13,{"$f":"IF(D299=\"Yes\",IF('Financial Information'!$L299=$O299,\"\",14),IF('Financial Information'!$L299=0,\"\",14))","v":14},"","",true,true,true,true,true,true,true,true,true,true,true,true,true,true,false]
[null,{"$f":"'Scheme and Member Information'!B300","v":0},{"$f":"'Scheme and Member Information'!C300","v":0},null,null,null,null,null,null,null,null,null,null,null,"",null,{"$f":"IF(S300,VLOOKUP(MIN(T300:AI300),'Data Validation (hidden)'!$B$30:$C$45,2,FALSE),IF(COUNTA(D300:N300)>0,\"'Scheme Name' missing but values entered in other columns\",\"\"))","v":""},null,false,1,2,3,4,5,6,7,8,9,10,11,12,13,{"$f":"IF(D300=\"Yes\",IF('Financial Information'!$L300=$O300,\"\",14),IF('Financial Information'!$L300=0,\"\",14))","v":14},"","",true,true,true,true,true,true,true,true,true,true,true,true,true,true,false]
[null,{"$f":"'Scheme and Member Information'!B301","v":0},{"$f":"'Scheme and Member Information'!C301","v":0},null,null,null,null,null,null,null,null,null,null,null,"",null,{"$f":"IF(S301,VLOOKUP(MIN(T301:AI301),'Data Validation (hidden)'!$B$30:$C$45,2,FALSE),IF(COUNTA(D301:N301)>0,\"'Scheme Name' missing but values entered in other columns\",\"\"))","v":""},null,false,1,2,3,4,5,6,7,8,9,10,11,12,13,{"$f":"IF(D301=\"Yes\",IF('Financial Information'!$L301=$O301,\"\",14),IF('Financial Information'!$L301=0,\"\",14))","v":14},"","",true,true,true,true,true,true,true,true,true,true,true,true,true,true,false]
[null,{"$f":"'Scheme and Member Information'!B302","v":0},{"$f":"'Scheme and Member Information'!C302","v":0},null,null,null,null,null,null,null,null,null,null,null,"",null,{"$f":"IF(S302,VLOOKUP(MIN(T302:AI302),'Data Validation (hidden)'!$B$30:$C$45,2,FALSE),IF(COUNTA(D302:N302)>0,\"'Scheme Name' missing but values entered in other columns\",\"\"))","v":""},null,false,1,2,3,4,5,6,7,8,9,10,11,12,13,{"$f":"IF(D302=\"Yes\",IF('Financial Information'!$L302=$O302,\"\",14),IF('Financial Information'!$L302=0,\"\",14))","v":14},"","",true,true,true,true,true,true,true,true,true,true,true,true,true,true,false]
[null,{"$f":"'Scheme and Member Information'!B303","v":0},{"$f":"'Scheme and Member Information'!C303","v":0},null,null,null,null,null,null,null,null,null,null,null,"",null,{"$f":"IF(S303,VLOOKUP(MIN(T303:AI303),'Data Validation (hidden)'!$B$30:$C$45,2,FALSE),IF(COUNTA(D303:N303)>0,\"'Scheme Name' missing but values entered in other columns\",\"\"))","v":""},null,false,1,2,3,4,5,6,7,8,9,10,11,12,13,{"$f":"IF(D303=\"Yes\",IF('Financial Information'!$L303=$O303,\"\",14),IF('Financial Information'!$L303=0,\"\",14))","v":14},"","",true,true,true,true,true,true,true,true,true,true,true,true,true,true,false]
[null,{"$f":"'Scheme and Member Information'!B304","v":0},{"$f":"'Scheme and Member Information'!C304","v":0},null,null,null,null,null,null,null,null,null,null,null,"",null,{"$f":"IF(S304,VLOOKUP(MIN(T304:AI304),'Data Validation (hidden)'!$B$30:$C$45,2,FALSE),IF(COUNTA(D304:N304)>0,\"'Scheme Name' missing but values entered in other columns\",\"\"))","v":""},null,false,1,2,3,4,5,6,7,8,9,10,11,12,13,{"$f":"IF(D304=\"Yes\",IF('Financial Information'!$L304=$O304,\"\",14),IF('Financial Information'!$L304=0,\"\",14))","v":14},"","",true,true,true,true,true,true,true,true,true,true,true,true,true,true,false]
[null,{"$f":"'Scheme and Member Information'!B305","v":0},{"$f":"'Scheme and Member Information'!C305","v":0},null,null,null,null,null,null,null,null,null,null,null,"",null,{"$f":"IF(S305,VLOOKUP(MIN(T305:AI305),'Data Validation (hidden)'!$B$30:$C$45,2,FALSE),IF(COUNTA(D305:N305)>0,\"'Scheme Name' missing but values entered in other columns\",\"\"))","v":""},null,false,1,2,3,4,5,6,7,8,9,10,11,12,13,{"$f":"IF(D305=\"Yes\",IF('Financial Information'!$L305=$O305,\"\",14),IF('Financial Information'!$L305=0,\"\",14))","v":14},"","",true,true,true,true,true,true,true,true,true,true,true,true,true,true,false]
[null,{"$f":"'Scheme and Member Information'!B306","v":0},{"$f":"'Scheme and Member Information'!C306","v":0},null,null,null,null,null,null,null,null,null,null,null,"",null,{"$f":"IF(S306,VLOOKUP(MIN(T306:AI306),'Data Validation (hidden)'!$B$30:$C$45,2,FALSE),IF(COUNTA(D306:N306)>0,\"'Scheme Name' missing but values entered in other columns\",\"\"))","v":""},null,false,1,2,3,4,5,6,7,8,9,10,11,12,13,{"$f":"IF(D306=\"Yes\",IF('Financial Information'!$L306=$O306,\"\",14),IF('Financial Information'!$L306=0,\"\",14))","v":14},"","",true,true,true,true,true,true,true,true,true,true,true,true,true,true,false]
[null,{"$f":"'Scheme and Member Information'!B307","v":0},{"$f":"'Scheme and Member Information'!C307","v":0},null,null,null,null,null,null,null,null,null,null,null,"",null,{"$f":"IF(S307,VLOOKUP(MIN(T307:AI307),'Data Validation (hidden)'!$B$30:$C$45,2,FALSE),IF(COUNTA(D307:N307)>0,\"'Scheme Name' missing but values entered in other columns\",\"\"))","v":""},null,false,1,2,3,4,5,6,7,8,9,10,11,12,13,{"$f":"IF(D307=\"Yes\",IF('Financial Information'!$L307=$O307,\"\",14),IF('Financial Information'!$L307=0,\"\",14))","v":14},"","",true,true,true,true,true,true,true,true,true,true,true,true,true,true,false]
[null,{"$f":"'Scheme and Member Information'!B308","v":0},{"$f":"'Scheme and Member Information'!C308","v":0},null,null,null,null,null,null,null,null,null,null,null,"",null,{"$f":"IF(S308,VLOOKUP(MIN(T308:AI308),'Data Validation (hidden)'!$B$30:$C$45,2,FALSE),IF(COUNTA(D308:N308)>0,\"'Scheme Name' missing but values entered in other columns\",\"\"))","v":""},null,false,1,2,3,4,5,6,7,8,9,10,11,12,13,{"$f":"IF(D308=\"Yes\",IF('Financial Information'!$L308=$O308,\"\",14),IF('Financial Information'!$L308=0,\"\",14))","v":14},"","",true,true,true,true,true,true,true,true,true,true,true,true,true,true,false]
[null,{"$f":"'Scheme and Member Information'!B309","v":0},{"$f":"'Scheme and Member Information'!C309","v":0},null,null,null,null,null,null,null,null,null,null,null,"",null,{"$f":"IF(S309,VLOOKUP(MIN(T309:AI309),'Data Validation (hidden)'!$B$30:$C$45,2,FALSE),IF(COUNTA(D309:N309)>0,\"'Scheme Name' missing but values entered in other columns\",\"\"))","v":""},null,false,1,2,3,4,5,6,7,8,9,10,11,12,13,{"$f":"IF(D309=\"Yes\",IF('Financial Information'!$L309=$O309,\"\",14),IF('Financial Information'!$L309=0,\"\",14))","v":14},"","",true,true,true,true,true,true,true,true,true,true,true,true,true,true,false]
[null,{"$f":"'Scheme and Member Information'!B310","v":0},{"$f":"'Scheme and Member Information'!C310","v":0},null,null,null,null,null,null,null,null,null,null,null,"",null,{"$f":"IF(S310,VLOOKUP(MIN(T310:AI310),'Data Validation (hidden)'!$B$30:$C$45,2,FALSE),IF(COUNTA(D310:N310)>0,\"'Scheme Name' missing but values entered in other columns\",\"\"))","v":""},null,false,1,2,3,4,5,6,7,8,9,10,11,12,13,{"$f":"IF(D310=\"Yes\",IF('Financial Information'!$L310=$O310,\"\",14),IF('Financial Information'!$L310=0,\"\",14))","v":14},"","",true,true,true,true,true,true,true,true,true,true,true,true,true,true,false]
[null,{"$f":"'Scheme and Member Information'!B311","v":0},{"$f":"'Scheme and Member Information'!C311","v":0},null,null,null,null,null,null,null,null,null,null,null,"",null,{"$f":"IF(S311,VLOOKUP(MIN(T311:AI311),'Data Validation (hidden)'!$B$30:$C$45,2,FALSE),IF(COUNTA(D311:N311)>0,\"'Scheme Name' missing but values entered in other columns\",\"\"))","v":""},null,false,1,2,3,4,5,6,7,8,9,10,11,12,13,{"$f":"IF(D311=\"Yes\",IF('Financial Information'!$L311=$O311,\"\",14),IF('Financial Information'!$L311=0,\"\",14))","v":14},"","",true,true,true,true,true,true,true,true,true,true,true,true,true,true,false]
[null,{"$f":"'Scheme and Member Information'!B312","v":0},{"$f":"'Scheme and Member Information'!C312","v":0},null,null,null,null,null,null,null,null,null,null,null,"",null,{"$f":"IF(S312,VLOOKUP(MIN(T312:AI312),'Data Validation (hidden)'!$B$30:$C$45,2,FALSE),IF(COUNTA(D312:N312)>0,\"'Scheme Name' missing but values entered in other columns\",\"\"))","v":""},null,false,1,2,3,4,5,6,7,8,9,10,11,12,13,{"$f":"IF(D312=\"Yes\",IF('Financial Information'!$L312=$O312,\"\",14),IF('Financial Information'!$L312=0,\"\",14))","v":14},"","",true,true,true,true,true,true,true,true,true,true,true,true,true,true,false]
[null,{"$f":"'Scheme and Member Information'!B313","v":0},{"$f":"'Scheme and Member Information'!C313","v":0},null,null,null,null,null,null,null,null,null,null,null,"",null,{"$f":"IF(S313,VLOOKUP(MIN(T313:AI313),'Data Validation (hidden)'!$B$30:$C$45,2,FALSE),IF(COUNTA(D313:N313)>0,\"'Scheme Name' missing but values entered in other columns\",\"\"))","v":""},null,false,1,2,3,4,5,6,7,8,9,10,11,12,13,{"$f":"IF(D313=\"Yes\",IF('Financial Information'!$L313=$O313,\"\",14),IF('Financial Information'!$L313=0,\"\",14))","v":14},"","",true,true,true,true,true,true,true,true,true,true,true,true,true,true,false]
[null,{"$f":"'Scheme and Member Information'!B314","v":0},{"$f":"'Scheme and Member Information'!C314","v":0},null,null,null,null,null,null,null,null,null,null,null,"",null,{"$f":"IF(S314,VLOOKUP(MIN(T314:AI314),'Data Validation (hidden)'!$B$30:$C$45,2,FALSE),IF(COUNTA(D314:N314)>0,\"'Scheme Name' missing but values entered in other columns\",\"\"))","v":""},null,false,1,2,3,4,5,6,7,8,9,10,11,12,13,{"$f":"IF(D314=\"Yes\",IF('Financial Information'!$L314=$O314,\"\",14),IF('Financial Information'!$L314=0,\"\",14))","v":14},"","",true,true,true,true,true,true,true,true,true,true,true,true,true,true,false]
[null,{"$f":"'Scheme and Member Information'!B315","v":0},{"$f":"'Scheme and Member Information'!C315","v":0},null,null,null,null,null,null,null,null,null,null,null,"",null,{"$f":"IF(S315,VLOOKUP(MIN(T315:AI315),'Data Validation (hidden)'!$B$30:$C$45,2,FALSE),IF(COUNTA(D315:N315)>0,\"'Scheme Name' missing but values entered in other columns\",\"\"))","v":""},null,false,1,2,3,4,5,6,7,8,9,10,11,12,13,{"$f":"IF(D315=\"Yes\",IF('Financial Information'!$L315=$O315,\"\",14),IF('Financial Information'!$L315=0,\"\",14))","v":14},"","",true,true,true,true,true,true,true,true,true,true,true,true,true,true,false]
[null,{"$f":"'Scheme and Member Information'!B316","v":0},{"$f":"'Scheme and Member Information'!C316","v":0},null,null,null,null,null,null,null,null,null,null,null,"",null,{"$f":"IF(S316,VLOOKUP(MIN(T316:AI316),'Data Validation (hidden)'!$B$30:$C$45,2,FALSE),IF(COUNTA(D316:N316)>0,\"'Scheme Name' missing but values entered in other columns\",\"\"))","v":""},null,false,1,2,3,4,5,6,7,8,9,10,11,12,13,{"$f":"IF(D316=\"Yes\",IF('Financial Information'!$L316=$O316,\"\",14),IF('Financial Information'!$L316=0,\"\",14))","v":14},"","",true,true,true,true,true,true,true,true,true,true,true,true,true,true,false]
[null,{"$f":"'Scheme and Member Information'!B317","v":0},{"$f":"'Scheme and Member Information'!C317","v":0},null,null,null,null,null,null,null,null,null,null,null,"",null,{"$f":"IF(S317,VLOOKUP(MIN(T317:AI317),'Data Validation (hidden)'!$B$30:$C$45,2,FALSE),IF(COUNTA(D317:N317)>0,\"'Scheme Name' missing but values entered in other columns\",\"\"))","v":""},null,false,1,2,3,4,5,6,7,8,9,10,11,12,13,{"$f":"IF(D317=\"Yes\",IF('Financial Information'!$L317=$O317,\"\",14),IF('Financial Information'!$L317=0,\"\",14))","v":14},"","",true,true,true,true,true,true,true,true,true,true,true,true,true,true,false]
[null,{"$f":"'Scheme and Member Information'!B318","v":0},{"$f":"'Scheme and Member Information'!C318","v":0},null,null,null,null,null,null,null,null,null,null,null,"",null,{"$f":"IF(S318,VLOOKUP(MIN(T318:AI318),'Data Validation (hidden)'!$B$30:$C$45,2,FALSE),IF(COUNTA(D318:N318)>0,\"'Scheme Name' missing but values entered in other columns\",\"\"))","v":""},null,false,1,2,3,4,5,6,7,8,9,10,11,12,13,{"$f":"IF(D318=\"Yes\",IF('Financial Information'!$L318=$O318,\"\",14),IF('Financial Information'!$L318=0,\"\",14))","v":14},"","",true,true,true,true,true,true,true,true,true,true,true,true,true,true,false]
[null,{"$f":"'Scheme and Member Information'!B319","v":0},{"$f":"'Scheme and Member Information'!C319","v":0},null,null,null,null,null,null,null,null,null,null,null,"",null,{"$f":"IF(S319,VLOOKUP(MIN(T319:AI319),'Data Validation (hidden)'!$B$30:$C$45,2,FALSE),IF(COUNTA(D319:N319)>0,\"'Scheme Name' missing but values entered in other columns\",\"\"))","v":""},null,false,1,2,3,4,5,6,7,8,9,10,11,12,13,{"$f":"IF(D319=\"Yes\",IF('Financial Information'!$L319=$O319,\"\",14),IF('Financial Information'!$L319=0,\"\",14))","v":14},"","",true,true,true,true,true,true,true,true,true,true,true,true,true,true,false]
[null,{"$f":"'Scheme and Member Information'!B320","v":0},{"$f":"'Scheme and Member Information'!C320","v":0},null,null,null,null,null,null,null,null,null,null,null,"",null,{"$f":"IF(S320,VLOOKUP(MIN(T320:AI320),'Data Validation (hidden)'!$B$30:$C$45,2,FALSE),IF(COUNTA(D320:N320)>0,\"'Scheme Name' missing but values entered in other columns\",\"\"))","v":""},null,false,1,2,3,4,5,6,7,8,9,10,11,12,13,{"$f":"IF(D320=\"Yes\",IF('Financial Information'!$L320=$O320,\"\",14),IF('Financial Information'!$L320=0,\"\",14))","v":14},"","",true,true,true,true,true,true,true,true,true,true,true,true,true,true,false]
[null,{"$f":"'Scheme and Member Information'!B321","v":0},{"$f":"'Scheme and Member Information'!C321","v":0},null,null,null,null,null,null,null,null,null,null,null,"",null,{"$f":"IF(S321,VLOOKUP(MIN(T321:AI321),'Data Validation (hidden)'!$B$30:$C$45,2,FALSE),IF(COUNTA(D321:N321)>0,\"'Scheme Name' missing but values entered in other columns\",\"\"))","v":""},null,false,1,2,3,4,5,6,7,8,9,10,11,12,13,{"$f":"IF(D321=\"Yes\",IF('Financial Information'!$L321=$O321,\"\",14),IF('Financial Information'!$L321=0,\"\",14))","v":14},"","",true,true,true,true,true,true,true,true,true,true,true,true,true,true,false]
[null,{"$f":"'Scheme and Member Information'!B322","v":0},{"$f":"'Scheme and Member Information'!C322","v":0},null,null,null,null,null,null,null,null,null,null,null,"",null,{"$f":"IF(S322,VLOOKUP(MIN(T322:AI322),'Data Validation (hidden)'!$B$30:$C$45,2,FALSE),IF(COUNTA(D322:N322)>0,\"'Scheme Name' missing but values entered in other columns\",\"\"))","v":""},null,false,1,2,3,4,5,6,7,8,9,10,11,12,13,{"$f":"IF(D322=\"Yes\",IF('Financial Information'!$L322=$O322,\"\",14),IF('Financial Information'!$L322=0,\"\",14))","v":14},"","",true,true,true,true,true,true,true,true,true,true,true,true,true,true,false]
[null,{"$f":"'Scheme and Member Information'!B323","v":0},{"$f":"'Scheme and Member Information'!C323","v":0},null,null,null,null,null,null,null,null,null,null,null,"",null,{"$f":"IF(S323,VLOOKUP(MIN(T323:AI323),'Data Validation (hidden)'!$B$30:$C$45,2,FALSE),IF(COUNTA(D323:N323)>0,\"'Scheme Name' missing but values entered in other columns\",\"\"))","v":""},null,false,1,2,3,4,5,6,7,8,9,10,11,12,13,{"$f":"IF(D323=\"Yes\",IF('Financial Information'!$L323=$O323,\"\",14),IF('Financial Information'!$L323=0,\"\",14))","v":14},"","",true,true,true,true,true,true,true,true,true,true,true,true,true,true,false]
[null,{"$f":"'Scheme and Member Information'!B324","v":0},{"$f":"'Scheme and Member Information'!C324","v":0},null,null,null,null,null,null,null,null,null,null,null,"",null,{"$f":"IF(S324,VLOOKUP(MIN(T324:AI324),'Data Validation (hidden)'!$B$30:$C$45,2,FALSE),IF(COUNTA(D324:N324)>0,\"'Scheme Name' missing but values entered in other columns\",\"\"))","v":""},null,false,1,2,3,4,5,6,7,8,9,10,11,12,13,{"$f":"IF(D324=\"Yes\",IF('Financial Information'!$L324=$O324,\"\",14),IF('Financial Information'!$L324=0,\"\",14))","v":14},"","",true,true,true,true,true,true,true,true,true,true,true,true,true,true,false]
[null,{"$f":"'Scheme and Member Information'!B325","v":0},{"$f":"'Scheme and Member Information'!C325","v":0},null,null,null,null,null,null,null,null,null,null,null,"",null,{"$f":"IF(S325,VLOOKUP(MIN(T325:AI325),'Data Validation (hidden)'!$B$30:$C$45,2,FALSE),IF(COUNTA(D325:N325)>0,\"'Scheme Name' missing but values entered in other columns\",\"\"))","v":""},null,false,1,2,3,4,5,6,7,8,9,10,11,12,13,{"$f":"IF(D325=\"Yes\",IF('Financial Information'!$L325=$O325,\"\",14),IF('Financial Information'!$L325=0,\"\",14))","v":14},"","",true,true,true,true,true,true,true,true,true,true,true,true,true,true,false]
[null,{"$f":"'Scheme and Member Information'!B326","v":0},{"$f":"'Scheme and Member Information'!C326","v":0},null,null,null,null,null,null,null,null,null,null,null,"",null,{"$f":"IF(S326,VLOOKUP(MIN(T326:AI326),'Data Validation (hidden)'!$B$30:$C$45,2,FALSE),IF(COUNTA(D326:N326)>0,\"'Scheme Name' missing but values entered in other columns\",\"\"))","v":""},null,false,1,2,3,4,5,6,7,8,9,10,11,12,13,{"$f":"IF(D326=\"Yes\",IF('Financial Information'!$L326=$O326,\"\",14),IF('Financial Information'!$L326=0,\"\",14))","v":14},"","",true,true,true,true,true,true,true,true,true,true,true,true,true,true,false]
[null,{"$f":"'Scheme and Member Information'!B327","v":0},{"$f":"'Scheme and Member Information'!C327","v":0},null,null,null,null,null,null,null,null,null,null,null,"",null,{"$f":"IF(S327,VLOOKUP(MIN(T327:AI327),'Data Validation (hidden)'!$B$30:$C$45,2,FALSE),IF(COUNTA(D327:N327)>0,\"'Scheme Name' missing but values entered in other columns\",\"\"))","v":""},null,false,1,2,3,4,5,6,7,8,9,10,11,12,13,{"$f":"IF(D327=\"Yes\",IF('Financial Information'!$L327=$O327,\"\",14),IF('Financial Information'!$L327=0,\"\",14))","v":14},"","",true,true,true,true,true,true,true,true,true,true,true,true,true,true,false]
[null,{"$f":"'Scheme and Member Information'!B328","v":0},{"$f":"'Scheme and Member Information'!C328","v":0},null,null,null,null,null,null,null,null,null,null,null,"",null,{"$f":"IF(S328,VLOOKUP(MIN(T328:AI328),'Data Validation (hidden)'!$B$30:$C$45,2,FALSE),IF(COUNTA(D328:N328)>0,\"'Scheme Name' missing but values entered in other columns\",\"\"))","v":""},null,false,1,2,3,4,5,6,7,8,9,10,11,12,13,{"$f":"IF(D328=\"Yes\",IF('Financial Information'!$L328=$O328,\"\",14),IF('Financial Information'!$L328=0,\"\",14))","v":14},"","",{"$f":"IF(CELL(\"format\", B328) = \"G\",TRUE,FALSE)","v":true},{"$f":"IF(CELL(\"format\", C328) = \"F0\",TRUE,FALSE)","v":true},{"$f":"IF(CELL(\"format\",D323)=\"G\",TRUE,FALSE)","v":true},{"$f":"IF( CELL(\"format\",E328) = \"C0\",TRUE,FALSE)","v":true},{"$f":"IF( CELL(\"format\",F328) = \"C0\",TRUE,FALSE)","v":true},{"$f":"IF( CELL(\"format\",G328) = \"C0\",TRUE,FALSE)","v":true},{"$f":"IF( CELL(\"format\",H328) = \"C0\",TRUE,FALSE)","v":true},{"$f":"IF( CELL(\"format\",I328) = \"C0\",TRUE,FALSE)","v":true},{"$f":"IF( CELL(\"format\",J328) = \"C0\",TRUE,FALSE)","v":true},{"$f":"IF( CELL(\"format\",K328) = \"C0\",TRUE,FALSE)","v":true},{"$f":"IF( CELL(\"format\",L328) = \"C0\",TRUE,FALSE)","v":true},{"$f":"IF( CELL(\"format\",M328) = \"C0\",TRUE,FALSE)","v":true},{"$f":"IF( CELL(\"format\",N328) = \"C0\",TRUE,FALSE)","v":true},{"$f":"IF( CELL(\"format\",O328) = \"C0\",TRUE,FALSE)","v":true},{"$f":"IF(Q328=\"\",FALSE,IF(Q328=\"OK\",FALSE,TRUE))","v":false}]
[null,{"$f":"'Scheme and Member Information'!B329","v":0},{"$f":"'Scheme and Member Information'!C329","v":0},null,null,null,null,null,null,null,null,null,null,null,{"$f":"IF(OR(E329<>\"\",F329<>\"\",G329<>\"\",H329<>\"\",I329<>\"\",J329<>\"\",K329<>\"\",L329<>\"\",M329<>\"\",N329<>\"\"),SUM(E329:N329),\"\")","v":""},null,{"$f":"IF(S329,VLOOKUP(MIN(T329:AI329),'Data Validation (hidden)'!$B$30:$C$45,2,FALSE),IF(COUNTA(D329:N329)>0,\"'Scheme Name' missing but values entered in other columns\",\"\"))","v":""},null,{"$f":"AND(B329<>\"\",B329<>0)","v":false},{"$f":"IF(C329=\"\",1,IF(C329=0,1,\"\"))","v":1},{"$f":"IF(D329=\"\",2,\"\")","v":2},{"$f":"IF(E329=\"\",IF(D329=\"No\",\"\",3),\"\")","v":3},{"$f":"IF(F329=\"\",IF(D329=\"No\",\"\",4),\"\")","v":4},{"$f":"IF(G329=\"\",IF(D329=\"No\",\"\",5),\"\")","v":5},{"$f":"IF(H329=\"\",IF(D329=\"No\",\"\",6),\"\")","v":6},{"$f":"IF(I329=\"\",IF(D329=\"No\",\"\",7),\"\")","v":7},{"$f":"IF(J329=\"\",IF(D329=\"No\",\"\",8),\"\")","v":8},{"$f":"IF(K329=\"\",IF(D329=\"No\",\"\",9),\"\")","v":9},{"$f":"IF(L329=\"\",IF(D329=\"No\",\"\",10),\"\")","v":10},{"$f":"IF(M329=\"\",IF(D329=\"No\",\"\",11),\"\")","v":11},{"$f":"IF(N329=\"\",IF(D329=\"No\",\"\",12),\"\")","v":12},{"$f":"IF(O329=\"\",IF(D329=\"No\",\"\",13),\"\")","v":13},{"$f":"IF(D329=\"Yes\",IF('Financial Information'!$L329=$O329,\"\",14),IF('Financial Information'!$L329=0,\"\",14))","v":14},{"$f":"IF(COUNT(T329:AG329)=0,\"10\",\"\")","v":""},{"$f":"IF(AND(AJ329,AK329,AL329,AM329,AN329,AO329,AP329,AQ329,AR329,AS329,AT329,AU329,AV329,AW329)=TRUE,\"\",15)","v":""},true,true,true,true,true,true,true,true,true,true,true,true,true,true,false]
[null,{"$f":"'Scheme and Member Information'!B330","v":0},{"$f":"'Scheme and Member Information'!C330","v":0},null,null,null,null,null,null,null,null,null,null,null,"",null,{"$f":"IF(S330,VLOOKUP(MIN(T330:AI330),'Data Validation (hidden)'!$B$30:$C$45,2,FALSE),IF(COUNTA(D330:N330)>0,\"'Scheme Name' missing but values entered in other columns\",\"\"))","v":""},null,false,1,2,3,4,5,6,7,8,9,10,11,12,13,{"$f":"IF(D330=\"Yes\",IF('Financial Information'!$L330=$O330,\"\",14),IF('Financial Information'!$L330=0,\"\",14))","v":14},"","",true,true,true,true,true,true,true,true,true,true,true,true,true,true,false]
[null,{"$f":"'Scheme and Member Information'!B331","v":0},{"$f":"'Scheme and Member Information'!C331","v":0},null,null,null,null,null,null,null,null,null,null,null,"",null,{"$f":"IF(S331,VLOOKUP(MIN(T331:AI331),'Data Validation (hidden)'!$B$30:$C$45,2,FALSE),IF(COUNTA(D331:N331)>0,\"'Scheme Name' missing but values entered in other columns\",\"\"))","v":""},null,false,1,2,3,4,5,6,7,8,9,10,11,12,13,{"$f":"IF(D331=\"Yes\",IF('Financial Information'!$L331=$O331,\"\",14),IF('Financial Information'!$L331=0,\"\",14))","v":14},"","",true,true,true,true,true,true,true,true,true,true,true,true,true,true,false]
[null,{"$f":"'Scheme and Member Information'!B332","v":0},{"$f":"'Scheme and Member Information'!C332","v":0},null,null,null,null,null,null,null,null,null,null,null,"",null,{"$f":"IF(S332,VLOOKUP(MIN(T332:AI332),'Data Validation (hidden)'!$B$30:$C$45,2,FALSE),IF(COUNTA(D332:N332)>0,\"'Scheme Name' missing but values entered in other columns\",\"\"))","v":""},null,false,1,2,3,4,5,6,7,8,9,10,11,12,13,{"$f":"IF(D332=\"Yes\",IF('Financial Information'!$L332=$O332,\"\",14),IF('Financial Information'!$L332=0,\"\",14))","v":14},"","",true,true,true,true,true,true,true,true,true,true,true,true,true,true,false]
[null,{"$f":"'Scheme and Member Information'!B333","v":0},{"$f":"'Scheme and Member Information'!C333","v":0},null,null,null,null,null,null,null,null,null,null,null,"",null,{"$f":"IF(S333,VLOOKUP(MIN(T333:AI333),'Data Validation (hidden)'!$B$30:$C$45,2,FALSE),IF(COUNTA(D333:N333)>0,\"'Scheme Name' missing but values entered in other columns\",\"\"))","v":""},null,false,1,2,3,4,5,6,7,8,9,10,11,12,13,{"$f":"IF(D333=\"Yes\",IF('Financial Information'!$L333=$O333,\"\",14),IF('Financial Information'!$L333=0,\"\",14))","v":14},"","",true,true,true,true,true,true,true,true,true,true,true,true,true,true,false]
[null,{"$f":"'Scheme and Member Information'!B334","v":0},{"$f":"'Scheme and Member Information'!C334","v":0},null,null,null,null,null,null,null,null,null,null,null,"",null,{"$f":"IF(S334,VLOOKUP(MIN(T334:AI334),'Data Validation (hidden)'!$B$30:$C$45,2,FALSE),IF(COUNTA(D334:N334)>0,\"'Scheme Name' missing but values entered in other columns\",\"\"))","v":""},null,false,1,2,3,4,5,6,7,8,9,10,11,12,13,{"$f":"IF(D334=\"Yes\",IF('Financial Information'!$L334=$O334,\"\",14),IF('Financial Information'!$L334=0,\"\",14))","v":14},"","",true,true,true,true,true,true,true,true,true,true,true,true,true,true,false]
[null,{"$f":"'Scheme and Member Information'!B335","v":0},{"$f":"'Scheme and Member Information'!C335","v":0},null,null,null,null,null,null,null,null,null,null,null,"",null,{"$f":"IF(S335,VLOOKUP(MIN(T335:AI335),'Data Validation (hidden)'!$B$30:$C$45,2,FALSE),IF(COUNTA(D335:N335)>0,\"'Scheme Name' missing but values entered in other columns\",\"\"))","v":""},null,false,1,2,3,4,5,6,7,8,9,10,11,12,13,{"$f":"IF(D335=\"Yes\",IF('Financial Information'!$L335=$O335,\"\",14),IF('Financial Information'!$L335=0,\"\",14))","v":14},"","",true,true,true,true,true,true,true,true,true,true,true,true,true,true,false]
[null,{"$f":"'Scheme and Member Information'!B336","v":0},{"$f":"'Scheme and Member Information'!C336","v":0},null,null,null,null,null,null,null,null,null,null,null,"",null,{"$f":"IF(S336,VLOOKUP(MIN(T336:AI336),'Data Validation (hidden)'!$B$30:$C$45,2,FALSE),IF(COUNTA(D336:N336)>0,\"'Scheme Name' missing but values entered in other columns\",\"\"))","v":""},null,false,1,2,3,4,5,6,7,8,9,10,11,12,13,{"$f":"IF(D336=\"Yes\",IF('Financial Information'!$L336=$O336,\"\",14),IF('Financial Information'!$L336=0,\"\",14))","v":14},"","",true,true,true,true,true,true,true,true,true,true,true,true,true,true,false]
[null,{"$f":"'Scheme and Member Information'!B337","v":0},{"$f":"'Scheme and Member Information'!C337","v":0},null,null,null,null,null,null,null,null,null,null,null,"",null,{"$f":"IF(S337,VLOOKUP(MIN(T337:AI337),'Data Validation (hidden)'!$B$30:$C$45,2,FALSE),IF(COUNTA(D337:N337)>0,\"'Scheme Name' missing but values entered in other columns\",\"\"))","v":""},null,false,1,2,3,4,5,6,7,8,9,10,11,12,13,{"$f":"IF(D337=\"Yes\",IF('Financial Information'!$L337=$O337,\"\",14),IF('Financial Information'!$L337=0,\"\",14))","v":14},"","",true,true,true,true,true,true,true,true,true,true,true,true,true,true,false]
[null,{"$f":"'Scheme and Member Information'!B338","v":0},{"$f":"'Scheme and Member Information'!C338","v":0},null,null,null,null,null,null,null,null,null,null,null,"",null,{"$f":"IF(S338,VLOOKUP(MIN(T338:AI338),'Data Validation (hidden)'!$B$30:$C$45,2,FALSE),IF(COUNTA(D338:N338)>0,\"'Scheme Name' missing but values entered in other columns\",\"\"))","v":""},null,false,1,2,3,4,5,6,7,8,9,10,11,12,13,{"$f":"IF(D338=\"Yes\",IF('Financial Information'!$L338=$O338,\"\",14),IF('Financial Information'!$L338=0,\"\",14))","v":14},"","",true,true,true,true,true,true,true,true,true,true,true,true,true,true,false]
[null,{"$f":"'Scheme and Member Information'!B339","v":0},{"$f":"'Scheme and Member Information'!C339","v":0},null,null,null,null,null,null,null,null,null,null,null,"",null,{"$f":"IF(S339,VLOOKUP(MIN(T339:AI339),'Data Validation (hidden)'!$B$30:$C$45,2,FALSE),IF(COUNTA(D339:N339)>0,\"'Scheme Name' missing but values entered in other columns\",\"\"))","v":""},null,false,1,2,3,4,5,6,7,8,9,10,11,12,13,{"$f":"IF(D339=\"Yes\",IF('Financial Information'!$L339=$O339,\"\",14),IF('Financial Information'!$L339=0,\"\",14))","v":14},"","",true,true,true,true,true,true,true,true,true,true,true,true,true,true,false]
[null,{"$f":"'Scheme and Member Information'!B340","v":0},{"$f":"'Scheme and Member Information'!C340","v":0},null,null,null,null,null,null,null,null,null,null,null,"",null,{"$f":"IF(S340,VLOOKUP(MIN(T340:AI340),'Data Validation (hidden)'!$B$30:$C$45,2,FALSE),IF(COUNTA(D340:N340)>0,\"'Scheme Name' missing but values entered in other columns\",\"\"))","v":""},null,false,1,2,3,4,5,6,7,8,9,10,11,12,13,{"$f":"IF(D340=\"Yes\",IF('Financial Information'!$L340=$O340,\"\",14),IF('Financial Information'!$L340=0,\"\",14))","v":14},"","",true,true,true,true,true,true,true,true,true,true,true,true,true,true,false]
[null,{"$f":"'Scheme and Member Information'!B341","v":0},{"$f":"'Scheme and Member Information'!C341","v":0},null,null,null,null,null,null,null,null,null,null,null,"",null,{"$f":"IF(S341,VLOOKUP(MIN(T341:AI341),'Data Validation (hidden)'!$B$30:$C$45,2,FALSE),IF(COUNTA(D341:N341)>0,\"'Scheme Name' missing but values entered in other columns\",\"\"))","v":""},null,false,1,2,3,4,5,6,7,8,9,10,11,12,13,{"$f":"IF(D341=\"Yes\",IF('Financial Information'!$L341=$O341,\"\",14),IF('Financial Information'!$L341=0,\"\",14))","v":14},"","",true,true,true,true,true,true,true,true,true,true,true,true,true,true,false]
[null,{"$f":"'Scheme and Member Information'!B342","v":0},{"$f":"'Scheme and Member Information'!C342","v":0},null,null,null,null,null,null,null,null,null,null,null,"",null,{"$f":"IF(S342,VLOOKUP(MIN(T342:AI342),'Data Validation (hidden)'!$B$30:$C$45,2,FALSE),IF(COUNTA(D342:N342)>0,\"'Scheme Name' missing but values entered in other columns\",\"\"))","v":""},null,false,1,2,3,4,5,6,7,8,9,10,11,12,13,{"$f":"IF(D342=\"Yes\",IF('Financial Information'!$L342=$O342,\"\",14),IF('Financial Information'!$L342=0,\"\",14))","v":14},"","",true,true,true,true,true,true,true,true,true,true,true,true,true,true,false]
[null,{"$f":"'Scheme and Member Information'!B343","v":0},{"$f":"'Scheme and Member Information'!C343","v":0},null,null,null,null,null,null,null,null,null,null,null,"",null,{"$f":"IF(S343,VLOOKUP(MIN(T343:AI343),'Data Validation (hidden)'!$B$30:$C$45,2,FALSE),IF(COUNTA(D343:N343)>0,\"'Scheme Name' missing but values entered in other columns\",\"\"))","v":""},null,false,1,2,3,4,5,6,7,8,9,10,11,12,13,{"$f":"IF(D343=\"Yes\",IF('Financial Information'!$L343=$O343,\"\",14),IF('Financial Information'!$L343=0,\"\",14))","v":14},"","",true,true,true,true,true,true,true,true,true,true,true,true,true,true,false]
[null,{"$f":"'Scheme and Member Information'!B344","v":0},{"$f":"'Scheme and Member Information'!C344","v":0},null,null,null,null,null,null,null,null,null,null,null,"",null,{"$f":"IF(S344,VLOOKUP(MIN(T344:AI344),'Data Validation (hidden)'!$B$30:$C$45,2,FALSE),IF(COUNTA(D344:N344)>0,\"'Scheme Name' missing but values entered in other columns\",\"\"))","v":""},null,false,1,2,3,4,5,6,7,8,9,10,11,12,13,{"$f":"IF(D344=\"Yes\",IF('Financial Information'!$L344=$O344,\"\",14),IF('Financial Information'!$L344=0,\"\",14))","v":14},"","",true,true,true,true,true,true,true,true,true,true,true,true,true,true,false]
[null,{"$f":"'Scheme and Member Information'!B345","v":0},{"$f":"'Scheme and Member Information'!C345","v":0},null,null,null,null,null,null,null,null,null,null,null,"",null,{"$f":"IF(S345,VLOOKUP(MIN(T345:AI345),'Data Validation (hidden)'!$B$30:$C$45,2,FALSE),IF(COUNTA(D345:N345)>0,\"'Scheme Name' missing but values entered in other columns\",\"\"))","v":""},null,false,1,2,3,4,5,6,7,8,9,10,11,12,13,{"$f":"IF(D345=\"Yes\",IF('Financial Information'!$L345=$O345,\"\",14),IF('Financial Information'!$L345=0,\"\",14))","v":14},"","",true,true,true,true,true,true,true,true,true,true,true,true,true,true,false]
[null,{"$f":"'Scheme and Member Information'!B346","v":0},{"$f":"'Scheme and Member Information'!C346","v":0},null,null,null,null,null,null,null,null,null,null,null,"",null,{"$f":"IF(S346,VLOOKUP(MIN(T346:AI346),'Data Validation (hidden)'!$B$30:$C$45,2,FALSE),IF(COUNTA(D346:N346)>0,\"'Scheme Name' missing but values entered in other columns\",\"\"))","v":""},null,false,1,2,3,4,5,6,7,8,9,10,11,12,13,{"$f":"IF(D346=\"Yes\",IF('Financial Information'!$L346=$O346,\"\",14),IF('Financial Information'!$L346=0,\"\",14))","v":14},"","",true,true,true,true,true,true,true,true,true,true,true,true,true,true,false]
[null,{"$f":"'Scheme and Member Information'!B347","v":0},{"$f":"'Scheme and Member Information'!C347","v":0},null,null,null,null,null,null,null,null,null,null,null,"",null,{"$f":"IF(S347,VLOOKUP(MIN(T347:AI347),'Data Validation (hidden)'!$B$30:$C$45,2,FALSE),IF(COUNTA(D347:N347)>0,\"'Scheme Name' missing but values entered in other columns\",\"\"))","v":""},null,false,1,2,3,4,5,6,7,8,9,10,11,12,13,{"$f":"IF(D347=\"Yes\",IF('Financial Information'!$L347=$O347,\"\",14),IF('Financial Information'!$L347=0,\"\",14))","v":14},"","",true,true,true,true,true,true,true,true,true,true,true,true,true,true,false]
[null,{"$f":"'Scheme and Member Information'!B348","v":0},{"$f":"'Scheme and Member Information'!C348","v":0},null,null,null,null,null,null,null,null,null,null,null,"",null,{"$f":"IF(S348,VLOOKUP(MIN(T348:AI348),'Data Validation (hidden)'!$B$30:$C$45,2,FALSE),IF(COUNTA(D348:N348)>0,\"'Scheme Name' missing but values entered in other columns\",\"\"))","v":""},null,false,1,2,3,4,5,6,7,8,9,10,11,12,13,{"$f":"IF(D348=\"Yes\",IF('Financial Information'!$L348=$O348,\"\",14),IF('Financial Information'!$L348=0,\"\",14))","v":14},"","",true,true,true,true,true,true,true,true,true,true,true,true,true,true,false]
[null,{"$f":"'Scheme and Member Information'!B349","v":0},{"$f":"'Scheme and Member Information'!C349","v":0},null,null,null,null,null,null,null,null,null,null,null,"",null,{"$f":"IF(S349,VLOOKUP(MIN(T349:AI349),'Data Validation (hidden)'!$B$30:$C$45,2,FALSE),IF(COUNTA(D349:N349)>0,\"'Scheme Name' missing but values entered in other columns\",\"\"))","v":""},null,false,1,2,3,4,5,6,7,8,9,10,11,12,13,{"$f":"IF(D349=\"Yes\",IF('Financial Information'!$L349=$O349,\"\",14),IF('Financial Information'!$L349=0,\"\",14))","v":14},"","",true,true,true,true,true,true,true,true,true,true,true,true,true,true,false]
[null,{"$f":"'Scheme and Member Information'!B350","v":0},{"$f":"'Scheme and Member Information'!C350","v":0},null,null,null,null,null,null,null,null,null,null,null,"",null,{"$f":"IF(S350,VLOOKUP(MIN(T350:AI350),'Data Validation (hidden)'!$B$30:$C$45,2,FALSE),IF(COUNTA(D350:N350)>0,\"'Scheme Name' missing but values entered in other columns\",\"\"))","v":""},null,false,1,2,3,4,5,6,7,8,9,10,11,12,13,{"$f":"IF(D350=\"Yes\",IF('Financial Information'!$L350=$O350,\"\",14),IF('Financial Information'!$L350=0,\"\",14))","v":14},"","",true,true,true,true,true,true,true,true,true,true,true,true,true,true,false]
[null,{"$f":"'Scheme and Member Information'!B351","v":0},{"$f":"'Scheme and Member Information'!C351","v":0},null,null,null,null,null,null,null,null,null,null,null,"",null,{"$f":"IF(S351,VLOOKUP(MIN(T351:AI351),'Data Validation (hidden)'!$B$30:$C$45,2,FALSE),IF(COUNTA(D351:N351)>0,\"'Scheme Name' missing but values entered in other columns\",\"\"))","v":""},null,false,1,2,3,4,5,6,7,8,9,10,11,12,13,{"$f":"IF(D351=\"Yes\",IF('Financial Information'!$L351=$O351,\"\",14),IF('Financial Information'!$L351=0,\"\",14))","v":14},"","",true,true,true,true,true,true,true,true,true,true,true,true,true,true,false]
[null,{"$f":"'Scheme and Member Information'!B352","v":0},{"$f":"'Scheme and Member Information'!C352","v":0},null,null,null,null,null,null,null,null,null,null,null,"",null,{"$f":"IF(S352,VLOOKUP(MIN(T352:AI352),'Data Validation (hidden)'!$B$30:$C$45,2,FALSE),IF(COUNTA(D352:N352)>0,\"'Scheme Name' missing but values entered in other columns\",\"\"))","v":""},null,false,1,2,3,4,5,6,7,8,9,10,11,12,13,{"$f":"IF(D352=\"Yes\",IF('Financial Information'!$L352=$O352,\"\",14),IF('Financial Information'!$L352=0,\"\",14))","v":14},"","",true,true,true,true,true,true,true,true,true,true,true,true,true,true,false]
[null,{"$f":"'Scheme and Member Information'!B353","v":0},{"$f":"'Scheme and Member Information'!C353","v":0},null,null,null,null,null,null,null,null,null,null,null,"",null,{"$f":"IF(S353,VLOOKUP(MIN(T353:AI353),'Data Validation (hidden)'!$B$30:$C$45,2,FALSE),IF(COUNTA(D353:N353)>0,\"'Scheme Name' missing but values entered in other columns\",\"\"))","v":""},null,false,1,2,3,4,5,6,7,8,9,10,11,12,13,{"$f":"IF(D353=\"Yes\",IF('Financial Information'!$L353=$O353,\"\",14),IF('Financial Information'!$L353=0,\"\",14))","v":14},"","",true,true,true,true,true,true,true,true,true,true,true,true,true,true,false]
[null,{"$f":"'Scheme and Member Information'!B354","v":0},{"$f":"'Scheme and Member Information'!C354","v":0},null,null,null,null,null,null,null,null,null,null,null,"",null,{"$f":"IF(S354,VLOOKUP(MIN(T354:AI354),'Data Validation (hidden)'!$B$30:$C$45,2,FALSE),IF(COUNTA(D354:N354)>0,\"'Scheme Name' missing but values entered in other columns\",\"\"))","v":""},null,false,1,2,3,4,5,6,7,8,9,10,11,12,13,{"$f":"IF(D354=\"Yes\",IF('Financial Information'!$L354=$O354,\"\",14),IF('Financial Information'!$L354=0,\"\",14))","v":14},"","",true,true,true,true,true,true,true,true,true,true,true,true,true,true,false]
[null,{"$f":"'Scheme and Member Information'!B355","v":0},{"$f":"'Scheme and Member Information'!C355","v":0},null,null,null,null,null,null,null,null,null,null,null,"",null,{"$f":"IF(S355,VLOOKUP(MIN(T355:AI355),'Data Validation (hidden)'!$B$30:$C$45,2,FALSE),IF(COUNTA(D355:N355)>0,\"'Scheme Name' missing but values entered in other columns\",\"\"))","v":""},null,false,1,2,3,4,5,6,7,8,9,10,11,12,13,{"$f":"IF(D355=\"Yes\",IF('Financial Information'!$L355=$O355,\"\",14),IF('Financial Information'!$L355=0,\"\",14))","v":14},"","",true,true,true,true,true,true,true,true,true,true,true,true,true,true,false]
[null,{"$f":"'Scheme and Member Information'!B356","v":0},{"$f":"'Scheme and Member Information'!C356","v":0},null,null,null,null,null,null,null,null,null,null,null,"",null,{"$f":"IF(S356,VLOOKUP(MIN(T356:AI356),'Data Validation (hidden)'!$B$30:$C$45,2,FALSE),IF(COUNTA(D356:N356)>0,\"'Scheme Name' missing but values entered in other columns\",\"\"))","v":""},null,false,1,2,3,4,5,6,7,8,9,10,11,12,13,{"$f":"IF(D356=\"Yes\",IF('Financial Information'!$L356=$O356,\"\",14),IF('Financial Information'!$L356=0,\"\",14))","v":14},"","",true,true,true,true,true,true,true,true,true,true,true,true,true,true,false]
[null,{"$f":"'Scheme and Member Information'!B357","v":0},{"$f":"'Scheme and Member Information'!C357","v":0},null,null,null,null,null,null,null,null,null,null,null,"",null,{"$f":"IF(S357,VLOOKUP(MIN(T357:AI357),'Data Validation (hidden)'!$B$30:$C$45,2,FALSE),IF(COUNTA(D357:N357)>0,\"'Scheme Name' missing but values entered in other columns\",\"\"))","v":""},null,false,1,2,3,4,5,6,7,8,9,10,11,12,13,{"$f":"IF(D357=\"Yes\",IF('Financial Information'!$L357=$O357,\"\",14),IF('Financial Information'!$L357=0,\"\",14))","v":14},"","",true,true,true,true,true,true,true,true,true,true,true,true,true,true,false]
[null,{"$f":"'Scheme and Member Information'!B358","v":0},{"$f":"'Scheme and Member Information'!C358","v":0},null,null,null,null,null,null,null,null,null,null,null,"",null,{"$f":"IF(S358,VLOOKUP(MIN(T358:AI358),'Data Validation (hidden)'!$B$30:$C$45,2,FALSE),IF(COUNTA(D358:N358)>0,\"'Scheme Name' missing but values entered in other columns\",\"\"))","v":""},null,false,1,2,3,4,5,6,7,8,9,10,11,12,13,{"$f":"IF(D358=\"Yes\",IF('Financial Information'!$L358=$O358,\"\",14),IF('Financial Information'!$L358=0,\"\",14))","v":14},"","",true,true,true,true,true,true,true,true,true,true,true,true,true,true,false]
[null,{"$f":"'Scheme and Member Information'!B359","v":0},{"$f":"'Scheme and Member Information'!C359","v":0},null,null,null,null,null,null,null,null,null,null,null,"",null,{"$f":"IF(S359,VLOOKUP(MIN(T359:AI359),'Data Validation (hidden)'!$B$30:$C$45,2,FALSE),IF(COUNTA(D359:N359)>0,\"'Scheme Name' missing but values entered in other columns\",\"\"))","v":""},null,false,1,2,3,4,5,6,7,8,9,10,11,12,13,{"$f":"IF(D359=\"Yes\",IF('Financial Information'!$L359=$O359,\"\",14),IF('Financial Information'!$L359=0,\"\",14))","v":14},"","",true,true,true,true,true,true,true,true,true,true,true,true,true,true,false]
[null,{"$f":"'Scheme and Member Information'!B360","v":0},{"$f":"'Scheme and Member Information'!C360","v":0},null,null,null,null,null,null,null,null,null,null,null,"",null,{"$f":"IF(S360,VLOOKUP(MIN(T360:AI360),'Data Validation (hidden)'!$B$30:$C$45,2,FALSE),IF(COUNTA(D360:N360)>0,\"'Scheme Name' missing but values entered in other columns\",\"\"))","v":""},null,false,1,2,3,4,5,6,7,8,9,10,11,12,13,{"$f":"IF(D360=\"Yes\",IF('Financial Information'!$L360=$O360,\"\",14),IF('Financial Information'!$L360=0,\"\",14))","v":14},"","",true,true,true,true,true,true,true,true,true,true,true,true,true,true,false]
[null,{"$f":"'Scheme and Member Information'!B361","v":0},{"$f":"'Scheme and Member Information'!C361","v":0},null,null,null,null,null,null,null,null,null,null,null,"",null,{"$f":"IF(S361,VLOOKUP(MIN(T361:AI361),'Data Validation (hidden)'!$B$30:$C$45,2,FALSE),IF(COUNTA(D361:N361)>0,\"'Scheme Name' missing but values entered in other columns\",\"\"))","v":""},null,false,1,2,3,4,5,6,7,8,9,10,11,12,13,{"$f":"IF(D361=\"Yes\",IF('Financial Information'!$L361=$O361,\"\",14),IF('Financial Information'!$L361=0,\"\",14))","v":14},"","",true,true,true,true,true,true,true,true,true,true,true,true,true,true,false]
[null,{"$f":"'Scheme and Member Information'!B362","v":0},{"$f":"'Scheme and Member Information'!C362","v":0},null,null,null,null,null,null,null,null,null,null,null,"",null,{"$f":"IF(S362,VLOOKUP(MIN(T362:AI362),'Data Validation (hidden)'!$B$30:$C$45,2,FALSE),IF(COUNTA(D362:N362)>0,\"'Scheme Name' missing but values entered in other columns\",\"\"))","v":""},null,false,1,2,3,4,5,6,7,8,9,10,11,12,13,{"$f":"IF(D362=\"Yes\",IF('Financial Information'!$L362=$O362,\"\",14),IF('Financial Information'!$L362=0,\"\",14))","v":14},"","",true,true,true,true,true,true,true,true,true,true,true,true,true,true,false]
[null,{"$f":"'Scheme and Member Information'!B363","v":0},{"$f":"'Scheme and Member Information'!C363","v":0},null,null,null,null,null,null,null,null,null,null,null,"",null,{"$f":"IF(S363,VLOOKUP(MIN(T363:AI363),'Data Validation (hidden)'!$B$30:$C$45,2,FALSE),IF(COUNTA(D363:N363)>0,\"'Scheme Name' missing but values entered in other columns\",\"\"))","v":""},null,false,1,2,3,4,5,6,7,8,9,10,11,12,13,{"$f":"IF(D363=\"Yes\",IF('Financial Information'!$L363=$O363,\"\",14),IF('Financial Information'!$L363=0,\"\",14))","v":14},"","",true,true,true,true,true,true,true,true,true,true,true,true,true,true,false]
[null,{"$f":"'Scheme and Member Information'!B364","v":0},{"$f":"'Scheme and Member Information'!C364","v":0},null,null,null,null,null,null,null,null,null,null,null,"",null,{"$f":"IF(S364,VLOOKUP(MIN(T364:AI364),'Data Validation (hidden)'!$B$30:$C$45,2,FALSE),IF(COUNTA(D364:N364)>0,\"'Scheme Name' missing but values entered in other columns\",\"\"))","v":""},null,false,1,2,3,4,5,6,7,8,9,10,11,12,13,{"$f":"IF(D364=\"Yes\",IF('Financial Information'!$L364=$O364,\"\",14),IF('Financial Information'!$L364=0,\"\",14))","v":14},"","",true,true,true,true,true,true,true,true,true,true,true,true,true,true,false]
[null,{"$f":"'Scheme and Member Information'!B365","v":0},{"$f":"'Scheme and Member Information'!C365","v":0},null,null,null,null,null,null,null,null,null,null,null,"",null,{"$f":"IF(S365,VLOOKUP(MIN(T365:AI365),'Data Validation (hidden)'!$B$30:$C$45,2,FALSE),IF(COUNTA(D365:N365)>0,\"'Scheme Name' missing but values entered in other columns\",\"\"))","v":""},null,false,1,2,3,4,5,6,7,8,9,10,11,12,13,{"$f":"IF(D365=\"Yes\",IF('Financial Information'!$L365=$O365,\"\",14),IF('Financial Information'!$L365=0,\"\",14))","v":14},"","",true,true,true,true,true,true,true,true,true,true,true,true,true,true,false]
[null,{"$f":"'Scheme and Member Information'!B366","v":0},{"$f":"'Scheme and Member Information'!C366","v":0},null,null,null,null,null,null,null,null,null,null,null,"",null,{"$f":"IF(S366,VLOOKUP(MIN(T366:AI366),'Data Validation (hidden)'!$B$30:$C$45,2,FALSE),IF(COUNTA(D366:N366)>0,\"'Scheme Name' missing but values entered in other columns\",\"\"))","v":""},null,false,1,2,3,4,5,6,7,8,9,10,11,12,13,{"$f":"IF(D366=\"Yes\",IF('Financial Information'!$L366=$O366,\"\",14),IF('Financial Information'!$L366=0,\"\",14))","v":14},"","",true,true,true,true,true,true,true,true,true,true,true,true,true,true,false]
[null,{"$f":"'Scheme and Member Information'!B367","v":0},{"$f":"'Scheme and Member Information'!C367","v":0},null,null,null,null,null,null,null,null,null,null,null,"",null,{"$f":"IF(S367,VLOOKUP(MIN(T367:AI367),'Data Validation (hidden)'!$B$30:$C$45,2,FALSE),IF(COUNTA(D367:N367)>0,\"'Scheme Name' missing but values entered in other columns\",\"\"))","v":""},null,false,1,2,3,4,5,6,7,8,9,10,11,12,13,{"$f":"IF(D367=\"Yes\",IF('Financial Information'!$L367=$O367,\"\",14),IF('Financial Information'!$L367=0,\"\",14))","v":14},"","",true,true,true,true,true,true,true,true,true,true,true,true,true,true,false]
[null,{"$f":"'Scheme and Member Information'!B368","v":0},{"$f":"'Scheme and Member Information'!C368","v":0},null,null,null,null,null,null,null,null,null,null,null,"",null,{"$f":"IF(S368,VLOOKUP(MIN(T368:AI368),'Data Validation (hidden)'!$B$30:$C$45,2,FALSE),IF(COUNTA(D368:N368)>0,\"'Scheme Name' missing but values entered in other columns\",\"\"))","v":""},null,false,1,2,3,4,5,6,7,8,9,10,11,12,13,{"$f":"IF(D368=\"Yes\",IF('Financial Information'!$L368=$O368,\"\",14),IF('Financial Information'!$L368=0,\"\",14))","v":14},"","",true,true,true,true,true,true,true,true,true,true,true,true,true,true,false]
[null,{"$f":"'Scheme and Member Information'!B369","v":0},{"$f":"'Scheme and Member Information'!C369","v":0},null,null,null,null,null,null,null,null,null,null,null,"",null,{"$f":"IF(S369,VLOOKUP(MIN(T369:AI369),'Data Validation (hidden)'!$B$30:$C$45,2,FALSE),IF(COUNTA(D369:N369)>0,\"'Scheme Name' missing but values entered in other columns\",\"\"))","v":""},null,false,1,2,3,4,5,6,7,8,9,10,11,12,13,{"$f":"IF(D369=\"Yes\",IF('Financial Information'!$L369=$O369,\"\",14),IF('Financial Information'!$L369=0,\"\",14))","v":14},"","",true,true,true,true,true,true,true,true,true,true,true,true,true,true,false]
[null,{"$f":"'Scheme and Member Information'!B370","v":0},{"$f":"'Scheme and Member Information'!C370","v":0},null,null,null,null,null,null,null,null,null,null,null,"",null,{"$f":"IF(S370,VLOOKUP(MIN(T370:AI370),'Data Validation (hidden)'!$B$30:$C$45,2,FALSE),IF(COUNTA(D370:N370)>0,\"'Scheme Name' missing but values entered in other columns\",\"\"))","v":""},null,false,1,2,3,4,5,6,7,8,9,10,11,12,13,{"$f":"IF(D370=\"Yes\",IF('Financial Information'!$L370=$O370,\"\",14),IF('Financial Information'!$L370=0,\"\",14))","v":14},"","",true,true,true,true,true,true,true,true,true,true,true,true,true,true,false]
[null,{"$f":"'Scheme and Member Information'!B371","v":0},{"$f":"'Scheme and Member Information'!C371","v":0},null,null,null,null,null,null,null,null,null,null,null,"",null,{"$f":"IF(S371,VLOOKUP(MIN(T371:AI371),'Data Validation (hidden)'!$B$30:$C$45,2,FALSE),IF(COUNTA(D371:N371)>0,\"'Scheme Name' missing but values entered in other columns\",\"\"))","v":""},null,false,1,2,3,4,5,6,7,8,9,10,11,12,13,{"$f":"IF(D371=\"Yes\",IF('Financial Information'!$L371=$O371,\"\",14),IF('Financial Information'!$L371=0,\"\",14))","v":14},"","",true,true,true,true,true,true,true,true,true,true,true,true,true,true,false]
[null,{"$f":"'Scheme and Member Information'!B372","v":0},{"$f":"'Scheme and Member Information'!C372","v":0},null,null,null,null,null,null,null,null,null,null,null,"",null,{"$f":"IF(S372,VLOOKUP(MIN(T372:AI372),'Data Validation (hidden)'!$B$30:$C$45,2,FALSE),IF(COUNTA(D372:N372)>0,\"'Scheme Name' missing but values entered in other columns\",\"\"))","v":""},null,false,1,2,3,4,5,6,7,8,9,10,11,12,13,{"$f":"IF(D372=\"Yes\",IF('Financial Information'!$L372=$O372,\"\",14),IF('Financial Information'!$L372=0,\"\",14))","v":14},"","",true,true,true,true,true,true,true,true,true,true,true,true,true,true,false]
[null,{"$f":"'Scheme and Member Information'!B373","v":0},{"$f":"'Scheme and Member Information'!C373","v":0},null,null,null,null,null,null,null,null,null,null,null,"",null,{"$f":"IF(S373,VLOOKUP(MIN(T373:AI373),'Data Validation (hidden)'!$B$30:$C$45,2,FALSE),IF(COUNTA(D373:N373)>0,\"'Scheme Name' missing but values entered in other columns\",\"\"))","v":""},null,false,1,2,3,4,5,6,7,8,9,10,11,12,13,{"$f":"IF(D373=\"Yes\",IF('Financial Information'!$L373=$O373,\"\",14),IF('Financial Information'!$L373=0,\"\",14))","v":14},"","",true,true,true,true,true,true,true,true,true,true,true,true,true,true,false]
[null,{"$f":"'Scheme and Member Information'!B374","v":0},{"$f":"'Scheme and Member Information'!C374","v":0},null,null,null,null,null,null,null,null,null,null,null,"",null,{"$f":"IF(S374,VLOOKUP(MIN(T374:AI374),'Data Validation (hidden)'!$B$30:$C$45,2,FALSE),IF(COUNTA(D374:N374)>0,\"'Scheme Name' missing but values entered in other columns\",\"\"))","v":""},null,false,1,2,3,4,5,6,7,8,9,10,11,12,13,{"$f":"IF(D374=\"Yes\",IF('Financial Information'!$L374=$O374,\"\",14),IF('Financial Information'!$L374=0,\"\",14))","v":14},"","",true,true,true,true,true,true,true,true,true,true,true,true,true,true,false]
[null,{"$f":"'Scheme and Member Information'!B375","v":0},{"$f":"'Scheme and Member Information'!C375","v":0},null,null,null,null,null,null,null,null,null,null,null,"",null,{"$f":"IF(S375,VLOOKUP(MIN(T375:AI375),'Data Validation (hidden)'!$B$30:$C$45,2,FALSE),IF(COUNTA(D375:N375)>0,\"'Scheme Name' missing but values entered in other columns\",\"\"))","v":""},null,false,1,2,3,4,5,6,7,8,9,10,11,12,13,{"$f":"IF(D375=\"Yes\",IF('Financial Information'!$L375=$O375,\"\",14),IF('Financial Information'!$L375=0,\"\",14))","v":14},"","",true,true,true,true,true,true,true,true,true,true,true,true,true,true,false]
[null,{"$f":"'Scheme and Member Information'!B376","v":0},{"$f":"'Scheme and Member Information'!C376","v":0},null,null,null,null,null,null,null,null,null,null,null,"",null,{"$f":"IF(S376,VLOOKUP(MIN(T376:AI376),'Data Validation (hidden)'!$B$30:$C$45,2,FALSE),IF(COUNTA(D376:N376)>0,\"'Scheme Name' missing but values entered in other columns\",\"\"))","v":""},null,false,1,2,3,4,5,6,7,8,9,10,11,12,13,{"$f":"IF(D376=\"Yes\",IF('Financial Information'!$L376=$O376,\"\",14),IF('Financial Information'!$L376=0,\"\",14))","v":14},"","",true,true,true,true,true,true,true,true,true,true,true,true,true,true,false]
[null,{"$f":"'Scheme and Member Information'!B377","v":0},{"$f":"'Scheme and Member Information'!C377","v":0},null,null,null,null,null,null,null,null,null,null,null,"",null,{"$f":"IF(S377,VLOOKUP(MIN(T377:AI377),'Data Validation (hidden)'!$B$30:$C$45,2,FALSE),IF(COUNTA(D377:N377)>0,\"'Scheme Name' missing but values entered in other columns\",\"\"))","v":""},null,false,1,2,3,4,5,6,7,8,9,10,11,12,13,{"$f":"IF(D377=\"Yes\",IF('Financial Information'!$L377=$O377,\"\",14),IF('Financial Information'!$L377=0,\"\",14))","v":14},"","",true,true,true,true,true,true,true,true,true,true,true,true,true,true,false]
[null,{"$f":"'Scheme and Member Information'!B378","v":0},{"$f":"'Scheme and Member Information'!C378","v":0},null,null,null,null,null,null,null,null,null,null,null,"",null,{"$f":"IF(S378,VLOOKUP(MIN(T378:AI378),'Data Validation (hidden)'!$B$30:$C$45,2,FALSE),IF(COUNTA(D378:N378)>0,\"'Scheme Name' missing but values entered in other columns\",\"\"))","v":""},null,false,1,2,3,4,5,6,7,8,9,10,11,12,13,{"$f":"IF(D378=\"Yes\",IF('Financial Information'!$L378=$O378,\"\",14),IF('Financial Information'!$L378=0,\"\",14))","v":14},"","",true,true,true,true,true,true,true,true,true,true,true,true,true,true,false]
[null,{"$f":"'Scheme and Member Information'!B379","v":0},{"$f":"'Scheme and Member Information'!C379","v":0},null,null,null,null,null,null,null,null,null,null,null,"",null,{"$f":"IF(S379,VLOOKUP(MIN(T379:AI379),'Data Validation (hidden)'!$B$30:$C$45,2,FALSE),IF(COUNTA(D379:N379)>0,\"'Scheme Name' missing but values entered in other columns\",\"\"))","v":""},null,false,1,2,3,4,5,6,7,8,9,10,11,12,13,{"$f":"IF(D379=\"Yes\",IF('Financial Information'!$L379=$O379,\"\",14),IF('Financial Information'!$L379=0,\"\",14))","v":14},"","",true,true,true,true,true,true,true,true,true,true,true,true,true,true,false]
[null,{"$f":"'Scheme and Member Information'!B380","v":0},{"$f":"'Scheme and Member Information'!C380","v":0},null,null,null,null,null,null,null,null,null,null,null,"",null,{"$f":"IF(S380,VLOOKUP(MIN(T380:AI380),'Data Validation (hidden)'!$B$30:$C$45,2,FALSE),IF(COUNTA(D380:N380)>0,\"'Scheme Name' missing but values entered in other columns\",\"\"))","v":""},null,false,1,2,3,4,5,6,7,8,9,10,11,12,13,{"$f":"IF(D380=\"Yes\",IF('Financial Information'!$L380=$O380,\"\",14),IF('Financial Information'!$L380=0,\"\",14))","v":14},"","",true,true,true,true,true,true,true,true,true,true,true,true,true,true,false]
[null,{"$f":"'Scheme and Member Information'!B381","v":0},{"$f":"'Scheme and Member Information'!C381","v":0},null,null,null,null,null,null,null,null,null,null,null,"",null,{"$f":"IF(S381,VLOOKUP(MIN(T381:AI381),'Data Validation (hidden)'!$B$30:$C$45,2,FALSE),IF(COUNTA(D381:N381)>0,\"'Scheme Name' missing but values entered in other columns\",\"\"))","v":""},null,false,1,2,3,4,5,6,7,8,9,10,11,12,13,{"$f":"IF(D381=\"Yes\",IF('Financial Information'!$L381=$O381,\"\",14),IF('Financial Information'!$L381=0,\"\",14))","v":14},"","",true,true,true,true,true,true,true,true,true,true,true,true,true,true,false]
[null,{"$f":"'Scheme and Member Information'!B382","v":0},{"$f":"'Scheme and Member Information'!C382","v":0},null,null,null,null,null,null,null,null,null,null,null,"",null,{"$f":"IF(S382,VLOOKUP(MIN(T382:AI382),'Data Validation (hidden)'!$B$30:$C$45,2,FALSE),IF(COUNTA(D382:N382)>0,\"'Scheme Name' missing but values entered in other columns\",\"\"))","v":""},null,false,1,2,3,4,5,6,7,8,9,10,11,12,13,{"$f":"IF(D382=\"Yes\",IF('Financial Information'!$L382=$O382,\"\",14),IF('Financial Information'!$L382=0,\"\",14))","v":14},"","",true,true,true,true,true,true,true,true,true,true,true,true,true,true,false]
[null,{"$f":"'Scheme and Member Information'!B383","v":0},{"$f":"'Scheme and Member Information'!C383","v":0},null,null,null,null,null,null,null,null,null,null,null,"",null,{"$f":"IF(S383,VLOOKUP(MIN(T383:AI383),'Data Validation (hidden)'!$B$30:$C$45,2,FALSE),IF(COUNTA(D383:N383)>0,\"'Scheme Name' missing but values entered in other columns\",\"\"))","v":""},null,false,1,2,3,4,5,6,7,8,9,10,11,12,13,{"$f":"IF(D383=\"Yes\",IF('Financial Information'!$L383=$O383,\"\",14),IF('Financial Information'!$L383=0,\"\",14))","v":14},"","",true,true,true,true,true,true,true,true,true,true,true,true,true,true,false]
[null,{"$f":"'Scheme and Member Information'!B384","v":0},{"$f":"'Scheme and Member Information'!C384","v":0},null,null,null,null,null,null,null,null,null,null,null,"",null,{"$f":"IF(S384,VLOOKUP(MIN(T384:AI384),'Data Validation (hidden)'!$B$30:$C$45,2,FALSE),IF(COUNTA(D384:N384)>0,\"'Scheme Name' missing but values entered in other columns\",\"\"))","v":""},null,false,1,2,3,4,5,6,7,8,9,10,11,12,13,{"$f":"IF(D384=\"Yes\",IF('Financial Information'!$L384=$O384,\"\",14),IF('Financial Information'!$L384=0,\"\",14))","v":14},"","",true,true,true,true,true,true,true,true,true,true,true,true,true,true,false]
[null,{"$f":"'Scheme and Member Information'!B385","v":0},{"$f":"'Scheme and Member Information'!C385","v":0},null,null,null,null,null,null,null,null,null,null,null,"",null,{"$f":"IF(S385,VLOOKUP(MIN(T385:AI385),'Data Validation (hidden)'!$B$30:$C$45,2,FALSE),IF(COUNTA(D385:N385)>0,\"'Scheme Name' missing but values entered in other columns\",\"\"))","v":""},null,false,1,2,3,4,5,6,7,8,9,10,11,12,13,{"$f":"IF(D385=\"Yes\",IF('Financial Information'!$L385=$O385,\"\",14),IF('Financial Information'!$L385=0,\"\",14))","v":14},"","",true,true,true,true,true,true,true,true,true,true,true,true,true,true,false]
[null,{"$f":"'Scheme and Member Information'!B386","v":0},{"$f":"'Scheme and Member Information'!C386","v":0},null,null,null,null,null,null,null,null,null,null,null,"",null,{"$f":"IF(S386,VLOOKUP(MIN(T386:AI386),'Data Validation (hidden)'!$B$30:$C$45,2,FALSE),IF(COUNTA(D386:N386)>0,\"'Scheme Name' missing but values entered in other columns\",\"\"))","v":""},null,false,1,2,3,4,5,6,7,8,9,10,11,12,13,{"$f":"IF(D386=\"Yes\",IF('Financial Information'!$L386=$O386,\"\",14),IF('Financial Information'!$L386=0,\"\",14))","v":14},"","",true,true,true,true,true,true,true,true,true,true,true,true,true,true,false]
[null,{"$f":"'Scheme and Member Information'!B387","v":0},{"$f":"'Scheme and Member Information'!C387","v":0},null,null,null,null,null,null,null,null,null,null,null,"",null,{"$f":"IF(S387,VLOOKUP(MIN(T387:AI387),'Data Validation (hidden)'!$B$30:$C$45,2,FALSE),IF(COUNTA(D387:N387)>0,\"'Scheme Name' missing but values entered in other columns\",\"\"))","v":""},null,false,1,2,3,4,5,6,7,8,9,10,11,12,13,{"$f":"IF(D387=\"Yes\",IF('Financial Information'!$L387=$O387,\"\",14),IF('Financial Information'!$L387=0,\"\",14))","v":14},"","",true,true,true,true,true,true,true,true,true,true,true,true,true,true,false]
[null,{"$f":"'Scheme and Member Information'!B388","v":0},{"$f":"'Scheme and Member Information'!C388","v":0},null,null,null,null,null,null,null,null,null,null,null,"",null,{"$f":"IF(S388,VLOOKUP(MIN(T388:AI388),'Data Validation (hidden)'!$B$30:$C$45,2,FALSE),IF(COUNTA(D388:N388)>0,\"'Scheme Name' missing but values entered in other columns\",\"\"))","v":""},null,false,1,2,3,4,5,6,7,8,9,10,11,12,13,{"$f":"IF(D388=\"Yes\",IF('Financial Information'!$L388=$O388,\"\",14),IF('Financial Information'!$L388=0,\"\",14))","v":14},"","",true,true,true,true,true,true,true,true,true,true,true,true,true,true,false]
[null,{"$f":"'Scheme and Member Information'!B389","v":0},{"$f":"'Scheme and Member Information'!C389","v":0},null,null,null,null,null,null,null,null,null,null,null,"",null,{"$f":"IF(S389,VLOOKUP(MIN(T389:AI389),'Data Validation (hidden)'!$B$30:$C$45,2,FALSE),IF(COUNTA(D389:N389)>0,\"'Scheme Name' missing but values entered in other columns\",\"\"))","v":""},null,false,1,2,3,4,5,6,7,8,9,10,11,12,13,{"$f":"IF(D389=\"Yes\",IF('Financial Information'!$L389=$O389,\"\",14),IF('Financial Information'!$L389=0,\"\",14))","v":14},"","",true,true,true,true,true,true,true,true,true,true,true,true,true,true,false]
[null,{"$f":"'Scheme and Member Information'!B390","v":0},{"$f":"'Scheme and Member Information'!C390","v":0},null,null,null,null,null,null,null,null,null,null,null,"",null,{"$f":"IF(S390,VLOOKUP(MIN(T390:AI390),'Data Validation (hidden)'!$B$30:$C$45,2,FALSE),IF(COUNTA(D390:N390)>0,\"'Scheme Name' missing but values entered in other columns\",\"\"))","v":""},null,false,1,2,3,4,5,6,7,8,9,10,11,12,13,{"$f":"IF(D390=\"Yes\",IF('Financial Information'!$L390=$O390,\"\",14),IF('Financial Information'!$L390=0,\"\",14))","v":14},"","",true,true,true,true,true,true,true,true,true,true,true,true,true,true,false]
[null,{"$f":"'Scheme and Member Information'!B391","v":0},{"$f":"'Scheme and Member Information'!C391","v":0},null,null,null,null,null,null,null,null,null,null,null,"",null,{"$f":"IF(S391,VLOOKUP(MIN(T391:AI391),'Data Validation (hidden)'!$B$30:$C$45,2,FALSE),IF(COUNTA(D391:N391)>0,\"'Scheme Name' missing but values entered in other columns\",\"\"))","v":""},null,false,1,2,3,4,5,6,7,8,9,10,11,12,13,{"$f":"IF(D391=\"Yes\",IF('Financial Information'!$L391=$O391,\"\",14),IF('Financial Information'!$L391=0,\"\",14))","v":14},"","",true,true,true,true,true,true,true,true,true,true,true,true,true,true,false]
[null,{"$f":"'Scheme and Member Information'!B392","v":0},{"$f":"'Scheme and Member Information'!C392","v":0},null,null,null,null,null,null,null,null,null,null,null,"",null,{"$f":"IF(S392,VLOOKUP(MIN(T392:AI392),'Data Validation (hidden)'!$B$30:$C$45,2,FALSE),IF(COUNTA(D392:N392)>0,\"'Scheme Name' missing but values entered in other columns\",\"\"))","v":""},null,false,1,2,3,4,5,6,7,8,9,10,11,12,13,{"$f":"IF(D392=\"Yes\",IF('Financial Information'!$L392=$O392,\"\",14),IF('Financial Information'!$L392=0,\"\",14))","v":14},"","",{"$f":"IF(CELL(\"format\", B392) = \"G\",TRUE,FALSE)","v":true},{"$f":"IF(CELL(\"format\", C392) = \"F0\",TRUE,FALSE)","v":true},{"$f":"IF(CELL(\"format\",D387)=\"G\",TRUE,FALSE)","v":true},{"$f":"IF( CELL(\"format\",E392) = \"C0\",TRUE,FALSE)","v":true},{"$f":"IF( CELL(\"format\",F392) = \"C0\",TRUE,FALSE)","v":true},{"$f":"IF( CELL(\"format\",G392) = \"C0\",TRUE,FALSE)","v":true},{"$f":"IF( CELL(\"format\",H392) = \"C0\",TRUE,FALSE)","v":true},{"$f":"IF( CELL(\"format\",I392) = \"C0\",TRUE,FALSE)","v":true},{"$f":"IF( CELL(\"format\",J392) = \"C0\",TRUE,FALSE)","v":true},{"$f":"IF( CELL(\"format\",K392) = \"C0\",TRUE,FALSE)","v":true},{"$f":"IF( CELL(\"format\",L392) = \"C0\",TRUE,FALSE)","v":true},{"$f":"IF( CELL(\"format\",M392) = \"C0\",TRUE,FALSE)","v":true},{"$f":"IF( CELL(\"format\",N392) = \"C0\",TRUE,FALSE)","v":true},{"$f":"IF( CELL(\"format\",O392) = \"C0\",TRUE,FALSE)","v":true},{"$f":"IF(Q392=\"\",FALSE,IF(Q392=\"OK\",FALSE,TRUE))","v":false}]
[null,{"$f":"'Scheme and Member Information'!B393","v":0},{"$f":"'Scheme and Member Information'!C393","v":0},null,null,null,null,null,null,null,null,null,null,null,{"$f":"IF(OR(E393<>\"\",F393<>\"\",G393<>\"\",H393<>\"\",I393<>\"\",J393<>\"\",K393<>\"\",L393<>\"\",M393<>\"\",N393<>\"\"),SUM(E393:N393),\"\")","v":""},null,{"$f":"IF(S393,VLOOKUP(MIN(T393:AI393),'Data Validation (hidden)'!$B$30:$C$45,2,FALSE),IF(COUNTA(D393:N393)>0,\"'Scheme Name' missing but values entered in other columns\",\"\"))","v":""},null,{"$f":"AND(B393<>\"\",B393<>0)","v":false},{"$f":"IF(C393=\"\",1,IF(C393=0,1,\"\"))","v":1},{"$f":"IF(D393=\"\",2,\"\")","v":2},{"$f":"IF(E393=\"\",IF(D393=\"No\",\"\",3),\"\")","v":3},{"$f":"IF(F393=\"\",IF(D393=\"No\",\"\",4),\"\")","v":4},{"$f":"IF(G393=\"\",IF(D393=\"No\",\"\",5),\"\")","v":5},{"$f":"IF(H393=\"\",IF(D393=\"No\",\"\",6),\"\")","v":6},{"$f":"IF(I393=\"\",IF(D393=\"No\",\"\",7),\"\")","v":7},{"$f":"IF(J393=\"\",IF(D393=\"No\",\"\",8),\"\")","v":8},{"$f":"IF(K393=\"\",IF(D393=\"No\",\"\",9),\"\")","v":9},{"$f":"IF(L393=\"\",IF(D393=\"No\",\"\",10),\"\")","v":10},{"$f":"IF(M393=\"\",IF(D393=\"No\",\"\",11),\"\")","v":11},{"$f":"IF(N393=\"\",IF(D393=\"No\",\"\",12),\"\")","v":12},{"$f":"IF(O393=\"\",IF(D393=\"No\",\"\",13),\"\")","v":13},{"$f":"IF(D393=\"Yes\",IF('Financial Information'!$L393=$O393,\"\",14),IF('Financial Information'!$L393=0,\"\",14))","v":14},{"$f":"IF(COUNT(T393:AG393)=0,\"10\",\"\")","v":""},{"$f":"IF(AND(AJ393,AK393,AL393,AM393,AN393,AO393,AP393,AQ393,AR393,AS393,AT393,AU393,AV393,AW393)=TRUE,\"\",15)","v":""},true,true,true,true,true,true,true,true,true,true,true,true,true,true,false]
[null,{"$f":"'Scheme and Member Information'!B394","v":0},{"$f":"'Scheme and Member Information'!C394","v":0},null,null,null,null,null,null,null,null,null,null,null,"",null,{"$f":"IF(S394,VLOOKUP(MIN(T394:AI394),'Data Validation (hidden)'!$B$30:$C$45,2,FALSE),IF(COUNTA(D394:N394)>0,\"'Scheme Name' missing but values entered in other columns\",\"\"))","v":""},null,false,1,2,3,4,5,6,7,8,9,10,11,12,13,{"$f":"IF(D394=\"Yes\",IF('Financial Information'!$L394=$O394,\"\",14),IF('Financial Information'!$L394=0,\"\",14))","v":14},"","",true,true,true,true,true,true,true,true,true,true,true,true,true,true,false]
[null,{"$f":"'Scheme and Member Information'!B395","v":0},{"$f":"'Scheme and Member Information'!C395","v":0},null,null,null,null,null,null,null,null,null,null,null,"",null,{"$f":"IF(S395,VLOOKUP(MIN(T395:AI395),'Data Validation (hidden)'!$B$30:$C$45,2,FALSE),IF(COUNTA(D395:N395)>0,\"'Scheme Name' missing but values entered in other columns\",\"\"))","v":""},null,false,1,2,3,4,5,6,7,8,9,10,11,12,13,{"$f":"IF(D395=\"Yes\",IF('Financial Information'!$L395=$O395,\"\",14),IF('Financial Information'!$L395=0,\"\",14))","v":14},"","",true,true,true,true,true,true,true,true,true,true,true,true,true,true,false]
[null,{"$f":"'Scheme and Member Information'!B396","v":0},{"$f":"'Scheme and Member Information'!C396","v":0},null,null,null,null,null,null,null,null,null,null,null,"",null,{"$f":"IF(S396,VLOOKUP(MIN(T396:AI396),'Data Validation (hidden)'!$B$30:$C$45,2,FALSE),IF(COUNTA(D396:N396)>0,\"'Scheme Name' missing but values entered in other columns\",\"\"))","v":""},null,false,1,2,3,4,5,6,7,8,9,10,11,12,13,{"$f":"IF(D396=\"Yes\",IF('Financial Information'!$L396=$O396,\"\",14),IF('Financial Information'!$L396=0,\"\",14))","v":14},"","",true,true,true,true,true,true,true,true,true,true,true,true,true,true,false]
[null,{"$f":"'Scheme and Member Information'!B397","v":0},{"$f":"'Scheme and Member Information'!C397","v":0},null,null,null,null,null,null,null,null,null,null,null,"",null,{"$f":"IF(S397,VLOOKUP(MIN(T397:AI397),'Data Validation (hidden)'!$B$30:$C$45,2,FALSE),IF(COUNTA(D397:N397)>0,\"'Scheme Name' missing but values entered in other columns\",\"\"))","v":""},null,false,1,2,3,4,5,6,7,8,9,10,11,12,13,{"$f":"IF(D397=\"Yes\",IF('Financial Information'!$L397=$O397,\"\",14),IF('Financial Information'!$L397=0,\"\",14))","v":14},"","",true,true,true,true,true,true,true,true,true,true,true,true,true,true,false]
[null,{"$f":"'Scheme and Member Information'!B398","v":0},{"$f":"'Scheme and Member Information'!C398","v":0},null,null,null,null,null,null,null,null,null,null,null,"",null,{"$f":"IF(S398,VLOOKUP(MIN(T398:AI398),'Data Validation (hidden)'!$B$30:$C$45,2,FALSE),IF(COUNTA(D398:N398)>0,\"'Scheme Name' missing but values entered in other columns\",\"\"))","v":""},null,false,1,2,3,4,5,6,7,8,9,10,11,12,13,{"$f":"IF(D398=\"Yes\",IF('Financial Information'!$L398=$O398,\"\",14),IF('Financial Information'!$L398=0,\"\",14))","v":14},"","",true,true,true,true,true,true,true,true,true,true,true,true,true,true,false]
[null,{"$f":"'Scheme and Member Information'!B399","v":0},{"$f":"'Scheme and Member Information'!C399","v":0},null,null,null,null,null,null,null,null,null,null,null,"",null,{"$f":"IF(S399,VLOOKUP(MIN(T399:AI399),'Data Validation (hidden)'!$B$30:$C$45,2,FALSE),IF(COUNTA(D399:N399)>0,\"'Scheme Name' missing but values entered in other columns\",\"\"))","v":""},null,false,1,2,3,4,5,6,7,8,9,10,11,12,13,{"$f":"IF(D399=\"Yes\",IF('Financial Information'!$L399=$O399,\"\",14),IF('Financial Information'!$L399=0,\"\",14))","v":14},"","",true,true,true,true,true,true,true,true,true,true,true,true,true,true,false]
[null,{"$f":"'Scheme and Member Information'!B400","v":0},{"$f":"'Scheme and Member Information'!C400","v":0},null,null,null,null,null,null,null,null,null,null,null,"",null,{"$f":"IF(S400,VLOOKUP(MIN(T400:AI400),'Data Validation (hidden)'!$B$30:$C$45,2,FALSE),IF(COUNTA(D400:N400)>0,\"'Scheme Name' missing but values entered in other columns\",\"\"))","v":""},null,false,1,2,3,4,5,6,7,8,9,10,11,12,13,{"$f":"IF(D400=\"Yes\",IF('Financial Information'!$L400=$O400,\"\",14),IF('Financial Information'!$L400=0,\"\",14))","v":14},"","",true,true,true,true,true,true,true,true,true,true,true,true,true,true,false]
[null,{"$f":"'Scheme and Member Information'!B401","v":0},{"$f":"'Scheme and Member Information'!C401","v":0},null,null,null,null,null,null,null,null,null,null,null,"",null,{"$f":"IF(S401,VLOOKUP(MIN(T401:AI401),'Data Validation (hidden)'!$B$30:$C$45,2,FALSE),IF(COUNTA(D401:N401)>0,\"'Scheme Name' missing but values entered in other columns\",\"\"))","v":""},null,false,1,2,3,4,5,6,7,8,9,10,11,12,13,{"$f":"IF(D401=\"Yes\",IF('Financial Information'!$L401=$O401,\"\",14),IF('Financial Information'!$L401=0,\"\",14))","v":14},"","",true,true,true,true,true,true,true,true,true,true,true,true,true,true,false]
[null,{"$f":"'Scheme and Member Information'!B402","v":0},{"$f":"'Scheme and Member Information'!C402","v":0},null,null,null,null,null,null,null,null,null,null,null,"",null,{"$f":"IF(S402,VLOOKUP(MIN(T402:AI402),'Data Validation (hidden)'!$B$30:$C$45,2,FALSE),IF(COUNTA(D402:N402)>0,\"'Scheme Name' missing but values entered in other columns\",\"\"))","v":""},null,false,1,2,3,4,5,6,7,8,9,10,11,12,13,{"$f":"IF(D402=\"Yes\",IF('Financial Information'!$L402=$O402,\"\",14),IF('Financial Information'!$L402=0,\"\",14))","v":14},"","",true,true,true,true,true,true,true,true,true,true,true,true,true,true,false]
[null,{"$f":"'Scheme and Member Information'!B403","v":0},{"$f":"'Scheme and Member Information'!C403","v":0},null,null,null,null,null,null,null,null,null,null,null,"",null,{"$f":"IF(S403,VLOOKUP(MIN(T403:AI403),'Data Validation (hidden)'!$B$30:$C$45,2,FALSE),IF(COUNTA(D403:N403)>0,\"'Scheme Name' missing but values entered in other columns\",\"\"))","v":""},null,false,1,2,3,4,5,6,7,8,9,10,11,12,13,{"$f":"IF(D403=\"Yes\",IF('Financial Information'!$L403=$O403,\"\",14),IF('Financial Information'!$L403=0,\"\",14))","v":14},"","",true,true,true,true,true,true,true,true,true,true,true,true,true,true,false]
[null,{"$f":"'Scheme and Member Information'!B404","v":0},{"$f":"'Scheme and Member Information'!C404","v":0},null,null,null,null,null,null,null,null,null,null,null,"",null,{"$f":"IF(S404,VLOOKUP(MIN(T404:AI404),'Data Validation (hidden)'!$B$30:$C$45,2,FALSE),IF(COUNTA(D404:N404)>0,\"'Scheme Name' missing but values entered in other columns\",\"\"))","v":""},null,false,1,2,3,4,5,6,7,8,9,10,11,12,13,{"$f":"IF(D404=\"Yes\",IF('Financial Information'!$L404=$O404,\"\",14),IF('Financial Information'!$L404=0,\"\",14))","v":14},"","",true,true,true,true,true,true,true,true,true,true,true,true,true,true,false]
[null,{"$f":"'Scheme and Member Information'!B405","v":0},{"$f":"'Scheme and Member Information'!C405","v":0},null,null,null,null,null,null,null,null,null,null,null,"",null,{"$f":"IF(S405,VLOOKUP(MIN(T405:AI405),'Data Validation (hidden)'!$B$30:$C$45,2,FALSE),IF(COUNTA(D405:N405)>0,\"'Scheme Name' missing but values entered in other columns\",\"\"))","v":""},null,false,1,2,3,4,5,6,7,8,9,10,11,12,13,{"$f":"IF(D405=\"Yes\",IF('Financial Information'!$L405=$O405,\"\",14),IF('Financial Information'!$L405=0,\"\",14))","v":14},"","",true,true,true,true,true,true,true,true,true,true,true,true,true,true,false]
[null,{"$f":"'Scheme and Member Information'!B406","v":0},{"$f":"'Scheme and Member Information'!C406","v":0},null,null,null,null,null,null,null,null,null,null,null,"",null,{"$f":"IF(S406,VLOOKUP(MIN(T406:AI406),'Data Validation (hidden)'!$B$30:$C$45,2,FALSE),IF(COUNTA(D406:N406)>0,\"'Scheme Name' missing but values entered in other columns\",\"\"))","v":""},null,false,1,2,3,4,5,6,7,8,9,10,11,12,13,{"$f":"IF(D406=\"Yes\",IF('Financial Information'!$L406=$O406,\"\",14),IF('Financial Information'!$L406=0,\"\",14))","v":14},"","",true,true,true,true,true,true,true,true,true,true,true,true,true,true,false]
[null,{"$f":"'Scheme and Member Information'!B407","v":0},{"$f":"'Scheme and Member Information'!C407","v":0},null,null,null,null,null,null,null,null,null,null,null,"",null,{"$f":"IF(S407,VLOOKUP(MIN(T407:AI407),'Data Validation (hidden)'!$B$30:$C$45,2,FALSE),IF(COUNTA(D407:N407)>0,\"'Scheme Name' missing but values entered in other columns\",\"\"))","v":""},null,false,1,2,3,4,5,6,7,8,9,10,11,12,13,{"$f":"IF(D407=\"Yes\",IF('Financial Information'!$L407=$O407,\"\",14),IF('Financial Information'!$L407=0,\"\",14))","v":14},"","",true,true,true,true,true,true,true,true,true,true,true,true,true,true,false]
[null,{"$f":"'Scheme and Member Information'!B408","v":0},{"$f":"'Scheme and Member Information'!C408","v":0},null,null,null,null,null,null,null,null,null,null,null,"",null,{"$f":"IF(S408,VLOOKUP(MIN(T408:AI408),'Data Validation (hidden)'!$B$30:$C$45,2,FALSE),IF(COUNTA(D408:N408)>0,\"'Scheme Name' missing but values entered in other columns\",\"\"))","v":""},null,false,1,2,3,4,5,6,7,8,9,10,11,12,13,{"$f":"IF(D408=\"Yes\",IF('Financial Information'!$L408=$O408,\"\",14),IF('Financial Information'!$L408=0,\"\",14))","v":14},"","",true,true,true,true,true,true,true,true,true,true,true,true,true,true,false]
[null,{"$f":"'Scheme and Member Information'!B409","v":0},{"$f":"'Scheme and Member Information'!C409","v":0},null,null,null,null,null,null,null,null,null,null,null,"",null,{"$f":"IF(S409,VLOOKUP(MIN(T409:AI409),'Data Validation (hidden)'!$B$30:$C$45,2,FALSE),IF(COUNTA(D409:N409)>0,\"'Scheme Name' missing but values entered in other columns\",\"\"))","v":""},null,false,1,2,3,4,5,6,7,8,9,10,11,12,13,{"$f":"IF(D409=\"Yes\",IF('Financial Information'!$L409=$O409,\"\",14),IF('Financial Information'!$L409=0,\"\",14))","v":14},"","",true,true,true,true,true,true,true,true,true,true,true,true,true,true,false]
[null,{"$f":"'Scheme and Member Information'!B410","v":0},{"$f":"'Scheme and Member Information'!C410","v":0},null,null,null,null,null,null,null,null,null,null,null,"",null,{"$f":"IF(S410,VLOOKUP(MIN(T410:AI410),'Data Validation (hidden)'!$B$30:$C$45,2,FALSE),IF(COUNTA(D410:N410)>0,\"'Scheme Name' missing but values entered in other columns\",\"\"))","v":""},null,false,1,2,3,4,5,6,7,8,9,10,11,12,13,{"$f":"IF(D410=\"Yes\",IF('Financial Information'!$L410=$O410,\"\",14),IF('Financial Information'!$L410=0,\"\",14))","v":14},"","",true,true,true,true,true,true,true,true,true,true,true,true,true,true,false]
[null,{"$f":"'Scheme and Member Information'!B411","v":0},{"$f":"'Scheme and Member Information'!C411","v":0},null,null,null,null,null,null,null,null,null,null,null,"",null,{"$f":"IF(S411,VLOOKUP(MIN(T411:AI411),'Data Validation (hidden)'!$B$30:$C$45,2,FALSE),IF(COUNTA(D411:N411)>0,\"'Scheme Name' missing but values entered in other columns\",\"\"))","v":""},null,false,1,2,3,4,5,6,7,8,9,10,11,12,13,{"$f":"IF(D411=\"Yes\",IF('Financial Information'!$L411=$O411,\"\",14),IF('Financial Information'!$L411=0,\"\",14))","v":14},"","",true,true,true,true,true,true,true,true,true,true,true,true,true,true,false]
[null,{"$f":"'Scheme and Member Information'!B412","v":0},{"$f":"'Scheme and Member Information'!C412","v":0},null,null,null,null,null,null,null,null,null,null,null,"",null,{"$f":"IF(S412,VLOOKUP(MIN(T412:AI412),'Data Validation (hidden)'!$B$30:$C$45,2,FALSE),IF(COUNTA(D412:N412)>0,\"'Scheme Name' missing but values entered in other columns\",\"\"))","v":""},null,false,1,2,3,4,5,6,7,8,9,10,11,12,13,{"$f":"IF(D412=\"Yes\",IF('Financial Information'!$L412=$O412,\"\",14),IF('Financial Information'!$L412=0,\"\",14))","v":14},"","",true,true,true,true,true,true,true,true,true,true,true,true,true,true,false]
[null,{"$f":"'Scheme and Member Information'!B413","v":0},{"$f":"'Scheme and Member Information'!C413","v":0},null,null,null,null,null,null,null,null,null,null,null,"",null,{"$f":"IF(S413,VLOOKUP(MIN(T413:AI413),'Data Validation (hidden)'!$B$30:$C$45,2,FALSE),IF(COUNTA(D413:N413)>0,\"'Scheme Name' missing but values entered in other columns\",\"\"))","v":""},null,false,1,2,3,4,5,6,7,8,9,10,11,12,13,{"$f":"IF(D413=\"Yes\",IF('Financial Information'!$L413=$O413,\"\",14),IF('Financial Information'!$L413=0,\"\",14))","v":14},"","",true,true,true,true,true,true,true,true,true,true,true,true,true,true,false]
[null,{"$f":"'Scheme and Member Information'!B414","v":0},{"$f":"'Scheme and Member Information'!C414","v":0},null,null,null,null,null,null,null,null,null,null,null,"",null,{"$f":"IF(S414,VLOOKUP(MIN(T414:AI414),'Data Validation (hidden)'!$B$30:$C$45,2,FALSE),IF(COUNTA(D414:N414)>0,\"'Scheme Name' missing but values entered in other columns\",\"\"))","v":""},null,false,1,2,3,4,5,6,7,8,9,10,11,12,13,{"$f":"IF(D414=\"Yes\",IF('Financial Information'!$L414=$O414,\"\",14),IF('Financial Information'!$L414=0,\"\",14))","v":14},"","",true,true,true,true,true,true,true,true,true,true,true,true,true,true,false]
[null,{"$f":"'Scheme and Member Information'!B415","v":0},{"$f":"'Scheme and Member Information'!C415","v":0},null,null,null,null,null,null,null,null,null,null,null,"",null,{"$f":"IF(S415,VLOOKUP(MIN(T415:AI415),'Data Validation (hidden)'!$B$30:$C$45,2,FALSE),IF(COUNTA(D415:N415)>0,\"'Scheme Name' missing but values entered in other columns\",\"\"))","v":""},null,false,1,2,3,4,5,6,7,8,9,10,11,12,13,{"$f":"IF(D415=\"Yes\",IF('Financial Information'!$L415=$O415,\"\",14),IF('Financial Information'!$L415=0,\"\",14))","v":14},"","",true,true,true,true,true,true,true,true,true,true,true,true,true,true,false]
[null,{"$f":"'Scheme and Member Information'!B416","v":0},{"$f":"'Scheme and Member Information'!C416","v":0},null,null,null,null,null,null,null,null,null,null,null,"",null,{"$f":"IF(S416,VLOOKUP(MIN(T416:AI416),'Data Validation (hidden)'!$B$30:$C$45,2,FALSE),IF(COUNTA(D416:N416)>0,\"'Scheme Name' missing but values entered in other columns\",\"\"))","v":""},null,false,1,2,3,4,5,6,7,8,9,10,11,12,13,{"$f":"IF(D416=\"Yes\",IF('Financial Information'!$L416=$O416,\"\",14),IF('Financial Information'!$L416=0,\"\",14))","v":14},"","",true,true,true,true,true,true,true,true,true,true,true,true,true,true,false]
[null,{"$f":"'Scheme and Member Information'!B417","v":0},{"$f":"'Scheme and Member Information'!C417","v":0},null,null,null,null,null,null,null,null,null,null,null,"",null,{"$f":"IF(S417,VLOOKUP(MIN(T417:AI417),'Data Validation (hidden)'!$B$30:$C$45,2,FALSE),IF(COUNTA(D417:N417)>0,\"'Scheme Name' missing but values entered in other columns\",\"\"))","v":""},null,false,1,2,3,4,5,6,7,8,9,10,11,12,13,{"$f":"IF(D417=\"Yes\",IF('Financial Information'!$L417=$O417,\"\",14),IF('Financial Information'!$L417=0,\"\",14))","v":14},"","",true,true,true,true,true,true,true,true,true,true,true,true,true,true,false]
[null,{"$f":"'Scheme and Member Information'!B418","v":0},{"$f":"'Scheme and Member Information'!C418","v":0},null,null,null,null,null,null,null,null,null,null,null,"",null,{"$f":"IF(S418,VLOOKUP(MIN(T418:AI418),'Data Validation (hidden)'!$B$30:$C$45,2,FALSE),IF(COUNTA(D418:N418)>0,\"'Scheme Name' missing but values entered in other columns\",\"\"))","v":""},null,false,1,2,3,4,5,6,7,8,9,10,11,12,13,{"$f":"IF(D418=\"Yes\",IF('Financial Information'!$L418=$O418,\"\",14),IF('Financial Information'!$L418=0,\"\",14))","v":14},"","",true,true,true,true,true,true,true,true,true,true,true,true,true,true,false]
[null,{"$f":"'Scheme and Member Information'!B419","v":0},{"$f":"'Scheme and Member Information'!C419","v":0},null,null,null,null,null,null,null,null,null,null,null,"",null,{"$f":"IF(S419,VLOOKUP(MIN(T419:AI419),'Data Validation (hidden)'!$B$30:$C$45,2,FALSE),IF(COUNTA(D419:N419)>0,\"'Scheme Name' missing but values entered in other columns\",\"\"))","v":""},null,false,1,2,3,4,5,6,7,8,9,10,11,12,13,{"$f":"IF(D419=\"Yes\",IF('Financial Information'!$L419=$O419,\"\",14),IF('Financial Information'!$L419=0,\"\",14))","v":14},"","",true,true,true,true,true,true,true,true,true,true,true,true,true,true,false]
[null,{"$f":"'Scheme and Member Information'!B420","v":0},{"$f":"'Scheme and Member Information'!C420","v":0},null,null,null,null,null,null,null,null,null,null,null,"",null,{"$f":"IF(S420,VLOOKUP(MIN(T420:AI420),'Data Validation (hidden)'!$B$30:$C$45,2,FALSE),IF(COUNTA(D420:N420)>0,\"'Scheme Name' missing but values entered in other columns\",\"\"))","v":""},null,false,1,2,3,4,5,6,7,8,9,10,11,12,13,{"$f":"IF(D420=\"Yes\",IF('Financial Information'!$L420=$O420,\"\",14),IF('Financial Information'!$L420=0,\"\",14))","v":14},"","",true,true,true,true,true,true,true,true,true,true,true,true,true,true,false]
[null,{"$f":"'Scheme and Member Information'!B421","v":0},{"$f":"'Scheme and Member Information'!C421","v":0},null,null,null,null,null,null,null,null,null,null,null,"",null,{"$f":"IF(S421,VLOOKUP(MIN(T421:AI421),'Data Validation (hidden)'!$B$30:$C$45,2,FALSE),IF(COUNTA(D421:N421)>0,\"'Scheme Name' missing but values entered in other columns\",\"\"))","v":""},null,false,1,2,3,4,5,6,7,8,9,10,11,12,13,{"$f":"IF(D421=\"Yes\",IF('Financial Information'!$L421=$O421,\"\",14),IF('Financial Information'!$L421=0,\"\",14))","v":14},"","",true,true,true,true,true,true,true,true,true,true,true,true,true,true,false]
[null,{"$f":"'Scheme and Member Information'!B422","v":0},{"$f":"'Scheme and Member Information'!C422","v":0},null,null,null,null,null,null,null,null,null,null,null,"",null,{"$f":"IF(S422,VLOOKUP(MIN(T422:AI422),'Data Validation (hidden)'!$B$30:$C$45,2,FALSE),IF(COUNTA(D422:N422)>0,\"'Scheme Name' missing but values entered in other columns\",\"\"))","v":""},null,false,1,2,3,4,5,6,7,8,9,10,11,12,13,{"$f":"IF(D422=\"Yes\",IF('Financial Information'!$L422=$O422,\"\",14),IF('Financial Information'!$L422=0,\"\",14))","v":14},"","",true,true,true,true,true,true,true,true,true,true,true,true,true,true,false]
[null,{"$f":"'Scheme and Member Information'!B423","v":0},{"$f":"'Scheme and Member Information'!C423","v":0},null,null,null,null,null,null,null,null,null,null,null,"",null,{"$f":"IF(S423,VLOOKUP(MIN(T423:AI423),'Data Validation (hidden)'!$B$30:$C$45,2,FALSE),IF(COUNTA(D423:N423)>0,\"'Scheme Name' missing but values entered in other columns\",\"\"))","v":""},null,false,1,2,3,4,5,6,7,8,9,10,11,12,13,{"$f":"IF(D423=\"Yes\",IF('Financial Information'!$L423=$O423,\"\",14),IF('Financial Information'!$L423=0,\"\",14))","v":14},"","",true,true,true,true,true,true,true,true,true,true,true,true,true,true,false]
[null,{"$f":"'Scheme and Member Information'!B424","v":0},{"$f":"'Scheme and Member Information'!C424","v":0},null,null,null,null,null,null,null,null,null,null,null,"",null,{"$f":"IF(S424,VLOOKUP(MIN(T424:AI424),'Data Validation (hidden)'!$B$30:$C$45,2,FALSE),IF(COUNTA(D424:N424)>0,\"'Scheme Name' missing but values entered in other columns\",\"\"))","v":""},null,false,1,2,3,4,5,6,7,8,9,10,11,12,13,{"$f":"IF(D424=\"Yes\",IF('Financial Information'!$L424=$O424,\"\",14),IF('Financial Information'!$L424=0,\"\",14))","v":14},"","",true,true,true,true,true,true,true,true,true,true,true,true,true,true,false]
[null,{"$f":"'Scheme and Member Information'!B425","v":0},{"$f":"'Scheme and Member Information'!C425","v":0},null,null,null,null,null,null,null,null,null,null,null,"",null,{"$f":"IF(S425,VLOOKUP(MIN(T425:AI425),'Data Validation (hidden)'!$B$30:$C$45,2,FALSE),IF(COUNTA(D425:N425)>0,\"'Scheme Name' missing but values entered in other columns\",\"\"))","v":""},null,false,1,2,3,4,5,6,7,8,9,10,11,12,13,{"$f":"IF(D425=\"Yes\",IF('Financial Information'!$L425=$O425,\"\",14),IF('Financial Information'!$L425=0,\"\",14))","v":14},"","",true,true,true,true,true,true,true,true,true,true,true,true,true,true,false]
[null,{"$f":"'Scheme and Member Information'!B426","v":0},{"$f":"'Scheme and Member Information'!C426","v":0},null,null,null,null,null,null,null,null,null,null,null,"",null,{"$f":"IF(S426,VLOOKUP(MIN(T426:AI426),'Data Validation (hidden)'!$B$30:$C$45,2,FALSE),IF(COUNTA(D426:N426)>0,\"'Scheme Name' missing but values entered in other columns\",\"\"))","v":""},null,false,1,2,3,4,5,6,7,8,9,10,11,12,13,{"$f":"IF(D426=\"Yes\",IF('Financial Information'!$L426=$O426,\"\",14),IF('Financial Information'!$L426=0,\"\",14))","v":14},"","",true,true,true,true,true,true,true,true,true,true,true,true,true,true,false]
[null,{"$f":"'Scheme and Member Information'!B427","v":0},{"$f":"'Scheme and Member Information'!C427","v":0},null,null,null,null,null,null,null,null,null,null,null,"",null,{"$f":"IF(S427,VLOOKUP(MIN(T427:AI427),'Data Validation (hidden)'!$B$30:$C$45,2,FALSE),IF(COUNTA(D427:N427)>0,\"'Scheme Name' missing but values entered in other columns\",\"\"))","v":""},null,false,1,2,3,4,5,6,7,8,9,10,11,12,13,{"$f":"IF(D427=\"Yes\",IF('Financial Information'!$L427=$O427,\"\",14),IF('Financial Information'!$L427=0,\"\",14))","v":14},"","",true,true,true,true,true,true,true,true,true,true,true,true,true,true,false]
[null,{"$f":"'Scheme and Member Information'!B428","v":0},{"$f":"'Scheme and Member Information'!C428","v":0},null,null,null,null,null,null,null,null,null,null,null,"",null,{"$f":"IF(S428,VLOOKUP(MIN(T428:AI428),'Data Validation (hidden)'!$B$30:$C$45,2,FALSE),IF(COUNTA(D428:N428)>0,\"'Scheme Name' missing but values entered in other columns\",\"\"))","v":""},null,false,1,2,3,4,5,6,7,8,9,10,11,12,13,{"$f":"IF(D428=\"Yes\",IF('Financial Information'!$L428=$O428,\"\",14),IF('Financial Information'!$L428=0,\"\",14))","v":14},"","",true,true,true,true,true,true,true,true,true,true,true,true,true,true,false]
[null,{"$f":"'Scheme and Member Information'!B429","v":0},{"$f":"'Scheme and Member Information'!C429","v":0},null,null,null,null,null,null,null,null,null,null,null,"",null,{"$f":"IF(S429,VLOOKUP(MIN(T429:AI429),'Data Validation (hidden)'!$B$30:$C$45,2,FALSE),IF(COUNTA(D429:N429)>0,\"'Scheme Name' missing but values entered in other columns\",\"\"))","v":""},null,false,1,2,3,4,5,6,7,8,9,10,11,12,13,{"$f":"IF(D429=\"Yes\",IF('Financial Information'!$L429=$O429,\"\",14),IF('Financial Information'!$L429=0,\"\",14))","v":14},"","",true,true,true,true,true,true,true,true,true,true,true,true,true,true,false]
[null,{"$f":"'Scheme and Member Information'!B430","v":0},{"$f":"'Scheme and Member Information'!C430","v":0},null,null,null,null,null,null,null,null,null,null,null,"",null,{"$f":"IF(S430,VLOOKUP(MIN(T430:AI430),'Data Validation (hidden)'!$B$30:$C$45,2,FALSE),IF(COUNTA(D430:N430)>0,\"'Scheme Name' missing but values entered in other columns\",\"\"))","v":""},null,false,1,2,3,4,5,6,7,8,9,10,11,12,13,{"$f":"IF(D430=\"Yes\",IF('Financial Information'!$L430=$O430,\"\",14),IF('Financial Information'!$L430=0,\"\",14))","v":14},"","",true,true,true,true,true,true,true,true,true,true,true,true,true,true,false]
[null,{"$f":"'Scheme and Member Information'!B431","v":0},{"$f":"'Scheme and Member Information'!C431","v":0},null,null,null,null,null,null,null,null,null,null,null,"",null,{"$f":"IF(S431,VLOOKUP(MIN(T431:AI431),'Data Validation (hidden)'!$B$30:$C$45,2,FALSE),IF(COUNTA(D431:N431)>0,\"'Scheme Name' missing but values entered in other columns\",\"\"))","v":""},null,false,1,2,3,4,5,6,7,8,9,10,11,12,13,{"$f":"IF(D431=\"Yes\",IF('Financial Information'!$L431=$O431,\"\",14),IF('Financial Information'!$L431=0,\"\",14))","v":14},"","",true,true,true,true,true,true,true,true,true,true,true,true,true,true,false]
[null,{"$f":"'Scheme and Member Information'!B432","v":0},{"$f":"'Scheme and Member Information'!C432","v":0},null,null,null,null,null,null,null,null,null,null,null,"",null,{"$f":"IF(S432,VLOOKUP(MIN(T432:AI432),'Data Validation (hidden)'!$B$30:$C$45,2,FALSE),IF(COUNTA(D432:N432)>0,\"'Scheme Name' missing but values entered in other columns\",\"\"))","v":""},null,false,1,2,3,4,5,6,7,8,9,10,11,12,13,{"$f":"IF(D432=\"Yes\",IF('Financial Information'!$L432=$O432,\"\",14),IF('Financial Information'!$L432=0,\"\",14))","v":14},"","",true,true,true,true,true,true,true,true,true,true,true,true,true,true,false]
[null,{"$f":"'Scheme and Member Information'!B433","v":0},{"$f":"'Scheme and Member Information'!C433","v":0},null,null,null,null,null,null,null,null,null,null,null,"",null,{"$f":"IF(S433,VLOOKUP(MIN(T433:AI433),'Data Validation (hidden)'!$B$30:$C$45,2,FALSE),IF(COUNTA(D433:N433)>0,\"'Scheme Name' missing but values entered in other columns\",\"\"))","v":""},null,false,1,2,3,4,5,6,7,8,9,10,11,12,13,{"$f":"IF(D433=\"Yes\",IF('Financial Information'!$L433=$O433,\"\",14),IF('Financial Information'!$L433=0,\"\",14))","v":14},"","",true,true,true,true,true,true,true,true,true,true,true,true,true,true,false]
[null,{"$f":"'Scheme and Member Information'!B434","v":0},{"$f":"'Scheme and Member Information'!C434","v":0},null,null,null,null,null,null,null,null,null,null,null,"",null,{"$f":"IF(S434,VLOOKUP(MIN(T434:AI434),'Data Validation (hidden)'!$B$30:$C$45,2,FALSE),IF(COUNTA(D434:N434)>0,\"'Scheme Name' missing but values entered in other columns\",\"\"))","v":""},null,false,1,2,3,4,5,6,7,8,9,10,11,12,13,{"$f":"IF(D434=\"Yes\",IF('Financial Information'!$L434=$O434,\"\",14),IF('Financial Information'!$L434=0,\"\",14))","v":14},"","",true,true,true,true,true,true,true,true,true,true,true,true,true,true,false]
[null,{"$f":"'Scheme and Member Information'!B435","v":0},{"$f":"'Scheme and Member Information'!C435","v":0},null,null,null,null,null,null,null,null,null,null,null,"",null,{"$f":"IF(S435,VLOOKUP(MIN(T435:AI435),'Data Validation (hidden)'!$B$30:$C$45,2,FALSE),IF(COUNTA(D435:N435)>0,\"'Scheme Name' missing but values entered in other columns\",\"\"))","v":""},null,false,1,2,3,4,5,6,7,8,9,10,11,12,13,{"$f":"IF(D435=\"Yes\",IF('Financial Information'!$L435=$O435,\"\",14),IF('Financial Information'!$L435=0,\"\",14))","v":14},"","",true,true,true,true,true,true,true,true,true,true,true,true,true,true,false]
[null,{"$f":"'Scheme and Member Information'!B436","v":0},{"$f":"'Scheme and Member Information'!C436","v":0},null,null,null,null,null,null,null,null,null,null,null,"",null,{"$f":"IF(S436,VLOOKUP(MIN(T436:AI436),'Data Validation (hidden)'!$B$30:$C$45,2,FALSE),IF(COUNTA(D436:N436)>0,\"'Scheme Name' missing but values entered in other columns\",\"\"))","v":""},null,false,1,2,3,4,5,6,7,8,9,10,11,12,13,{"$f":"IF(D436=\"Yes\",IF('Financial Information'!$L436=$O436,\"\",14),IF('Financial Information'!$L436=0,\"\",14))","v":14},"","",true,true,true,true,true,true,true,true,true,true,true,true,true,true,false]
[null,{"$f":"'Scheme and Member Information'!B437","v":0},{"$f":"'Scheme and Member Information'!C437","v":0},null,null,null,null,null,null,null,null,null,null,null,"",null,{"$f":"IF(S437,VLOOKUP(MIN(T437:AI437),'Data Validation (hidden)'!$B$30:$C$45,2,FALSE),IF(COUNTA(D437:N437)>0,\"'Scheme Name' missing but values entered in other columns\",\"\"))","v":""},null,false,1,2,3,4,5,6,7,8,9,10,11,12,13,{"$f":"IF(D437=\"Yes\",IF('Financial Information'!$L437=$O437,\"\",14),IF('Financial Information'!$L437=0,\"\",14))","v":14},"","",true,true,true,true,true,true,true,true,true,true,true,true,true,true,false]
[null,{"$f":"'Scheme and Member Information'!B438","v":0},{"$f":"'Scheme and Member Information'!C438","v":0},null,null,null,null,null,null,null,null,null,null,null,"",null,{"$f":"IF(S438,VLOOKUP(MIN(T438:AI438),'Data Validation (hidden)'!$B$30:$C$45,2,FALSE),IF(COUNTA(D438:N438)>0,\"'Scheme Name' missing but values entered in other columns\",\"\"))","v":""},null,false,1,2,3,4,5,6,7,8,9,10,11,12,13,{"$f":"IF(D438=\"Yes\",IF('Financial Information'!$L438=$O438,\"\",14),IF('Financial Information'!$L438=0,\"\",14))","v":14},"","",true,true,true,true,true,true,true,true,true,true,true,true,true,true,false]
[null,{"$f":"'Scheme and Member Information'!B439","v":0},{"$f":"'Scheme and Member Information'!C439","v":0},null,null,null,null,null,null,null,null,null,null,null,"",null,{"$f":"IF(S439,VLOOKUP(MIN(T439:AI439),'Data Validation (hidden)'!$B$30:$C$45,2,FALSE),IF(COUNTA(D439:N439)>0,\"'Scheme Name' missing but values entered in other columns\",\"\"))","v":""},null,false,1,2,3,4,5,6,7,8,9,10,11,12,13,{"$f":"IF(D439=\"Yes\",IF('Financial Information'!$L439=$O439,\"\",14),IF('Financial Information'!$L439=0,\"\",14))","v":14},"","",true,true,true,true,true,true,true,true,true,true,true,true,true,true,false]
[null,{"$f":"'Scheme and Member Information'!B440","v":0},{"$f":"'Scheme and Member Information'!C440","v":0},null,null,null,null,null,null,null,null,null,null,null,"",null,{"$f":"IF(S440,VLOOKUP(MIN(T440:AI440),'Data Validation (hidden)'!$B$30:$C$45,2,FALSE),IF(COUNTA(D440:N440)>0,\"'Scheme Name' missing but values entered in other columns\",\"\"))","v":""},null,false,1,2,3,4,5,6,7,8,9,10,11,12,13,{"$f":"IF(D440=\"Yes\",IF('Financial Information'!$L440=$O440,\"\",14),IF('Financial Information'!$L440=0,\"\",14))","v":14},"","",true,true,true,true,true,true,true,true,true,true,true,true,true,true,false]
[null,{"$f":"'Scheme and Member Information'!B441","v":0},{"$f":"'Scheme and Member Information'!C441","v":0},null,null,null,null,null,null,null,null,null,null,null,"",null,{"$f":"IF(S441,VLOOKUP(MIN(T441:AI441),'Data Validation (hidden)'!$B$30:$C$45,2,FALSE),IF(COUNTA(D441:N441)>0,\"'Scheme Name' missing but values entered in other columns\",\"\"))","v":""},null,false,1,2,3,4,5,6,7,8,9,10,11,12,13,{"$f":"IF(D441=\"Yes\",IF('Financial Information'!$L441=$O441,\"\",14),IF('Financial Information'!$L441=0,\"\",14))","v":14},"","",true,true,true,true,true,true,true,true,true,true,true,true,true,true,false]
[null,{"$f":"'Scheme and Member Information'!B442","v":0},{"$f":"'Scheme and Member Information'!C442","v":0},null,null,null,null,null,null,null,null,null,null,null,"",null,{"$f":"IF(S442,VLOOKUP(MIN(T442:AI442),'Data Validation (hidden)'!$B$30:$C$45,2,FALSE),IF(COUNTA(D442:N442)>0,\"'Scheme Name' missing but values entered in other columns\",\"\"))","v":""},null,false,1,2,3,4,5,6,7,8,9,10,11,12,13,{"$f":"IF(D442=\"Yes\",IF('Financial Information'!$L442=$O442,\"\",14),IF('Financial Information'!$L442=0,\"\",14))","v":14},"","",true,true,true,true,true,true,true,true,true,true,true,true,true,true,false]
[null,{"$f":"'Scheme and Member Information'!B443","v":0},{"$f":"'Scheme and Member Information'!C443","v":0},null,null,null,null,null,null,null,null,null,null,null,"",null,{"$f":"IF(S443,VLOOKUP(MIN(T443:AI443),'Data Validation (hidden)'!$B$30:$C$45,2,FALSE),IF(COUNTA(D443:N443)>0,\"'Scheme Name' missing but values entered in other columns\",\"\"))","v":""},null,false,1,2,3,4,5,6,7,8,9,10,11,12,13,{"$f":"IF(D443=\"Yes\",IF('Financial Information'!$L443=$O443,\"\",14),IF('Financial Information'!$L443=0,\"\",14))","v":14},"","",true,true,true,true,true,true,true,true,true,true,true,true,true,true,false]
[null,{"$f":"'Scheme and Member Information'!B444","v":0},{"$f":"'Scheme and Member Information'!C444","v":0},null,null,null,null,null,null,null,null,null,null,null,"",null,{"$f":"IF(S444,VLOOKUP(MIN(T444:AI444),'Data Validation (hidden)'!$B$30:$C$45,2,FALSE),IF(COUNTA(D444:N444)>0,\"'Scheme Name' missing but values entered in other columns\",\"\"))","v":""},null,false,1,2,3,4,5,6,7,8,9,10,11,12,13,{"$f":"IF(D444=\"Yes\",IF('Financial Information'!$L444=$O444,\"\",14),IF('Financial Information'!$L444=0,\"\",14))","v":14},"","",true,true,true,true,true,true,true,true,true,true,true,true,true,true,false]
[null,{"$f":"'Scheme and Member Information'!B445","v":0},{"$f":"'Scheme and Member Information'!C445","v":0},null,null,null,null,null,null,null,null,null,null,null,"",null,{"$f":"IF(S445,VLOOKUP(MIN(T445:AI445),'Data Validation (hidden)'!$B$30:$C$45,2,FALSE),IF(COUNTA(D445:N445)>0,\"'Scheme Name' missing but values entered in other columns\",\"\"))","v":""},null,false,1,2,3,4,5,6,7,8,9,10,11,12,13,{"$f":"IF(D445=\"Yes\",IF('Financial Information'!$L445=$O445,\"\",14),IF('Financial Information'!$L445=0,\"\",14))","v":14},"","",true,true,true,true,true,true,true,true,true,true,true,true,true,true,false]
[null,{"$f":"'Scheme and Member Information'!B446","v":0},{"$f":"'Scheme and Member Information'!C446","v":0},null,null,null,null,null,null,null,null,null,null,null,"",null,{"$f":"IF(S446,VLOOKUP(MIN(T446:AI446),'Data Validation (hidden)'!$B$30:$C$45,2,FALSE),IF(COUNTA(D446:N446)>0,\"'Scheme Name' missing but values entered in other columns\",\"\"))","v":""},null,false,1,2,3,4,5,6,7,8,9,10,11,12,13,{"$f":"IF(D446=\"Yes\",IF('Financial Information'!$L446=$O446,\"\",14),IF('Financial Information'!$L446=0,\"\",14))","v":14},"","",true,true,true,true,true,true,true,true,true,true,true,true,true,true,false]
[null,{"$f":"'Scheme and Member Information'!B447","v":0},{"$f":"'Scheme and Member Information'!C447","v":0},null,null,null,null,null,null,null,null,null,null,null,"",null,{"$f":"IF(S447,VLOOKUP(MIN(T447:AI447),'Data Validation (hidden)'!$B$30:$C$45,2,FALSE),IF(COUNTA(D447:N447)>0,\"'Scheme Name' missing but values entered in other columns\",\"\"))","v":""},null,false,1,2,3,4,5,6,7,8,9,10,11,12,13,{"$f":"IF(D447=\"Yes\",IF('Financial Information'!$L447=$O447,\"\",14),IF('Financial Information'!$L447=0,\"\",14))","v":14},"","",true,true,true,true,true,true,true,true,true,true,true,true,true,true,false]
[null,{"$f":"'Scheme and Member Information'!B448","v":0},{"$f":"'Scheme and Member Information'!C448","v":0},null,null,null,null,null,null,null,null,null,null,null,"",null,{"$f":"IF(S448,VLOOKUP(MIN(T448:AI448),'Data Validation (hidden)'!$B$30:$C$45,2,FALSE),IF(COUNTA(D448:N448)>0,\"'Scheme Name' missing but values entered in other columns\",\"\"))","v":""},null,false,1,2,3,4,5,6,7,8,9,10,11,12,13,{"$f":"IF(D448=\"Yes\",IF('Financial Information'!$L448=$O448,\"\",14),IF('Financial Information'!$L448=0,\"\",14))","v":14},"","",true,true,true,true,true,true,true,true,true,true,true,true,true,true,false]
[null,{"$f":"'Scheme and Member Information'!B449","v":0},{"$f":"'Scheme and Member Information'!C449","v":0},null,null,null,null,null,null,null,null,null,null,null,"",null,{"$f":"IF(S449,VLOOKUP(MIN(T449:AI449),'Data Validation (hidden)'!$B$30:$C$45,2,FALSE),IF(COUNTA(D449:N449)>0,\"'Scheme Name' missing but values entered in other columns\",\"\"))","v":""},null,false,1,2,3,4,5,6,7,8,9,10,11,12,13,{"$f":"IF(D449=\"Yes\",IF('Financial Information'!$L449=$O449,\"\",14),IF('Financial Information'!$L449=0,\"\",14))","v":14},"","",true,true,true,true,true,true,true,true,true,true,true,true,true,true,false]
[null,{"$f":"'Scheme and Member Information'!B450","v":0},{"$f":"'Scheme and Member Information'!C450","v":0},null,null,null,null,null,null,null,null,null,null,null,"",null,{"$f":"IF(S450,VLOOKUP(MIN(T450:AI450),'Data Validation (hidden)'!$B$30:$C$45,2,FALSE),IF(COUNTA(D450:N450)>0,\"'Scheme Name' missing but values entered in other columns\",\"\"))","v":""},null,false,1,2,3,4,5,6,7,8,9,10,11,12,13,{"$f":"IF(D450=\"Yes\",IF('Financial Information'!$L450=$O450,\"\",14),IF('Financial Information'!$L450=0,\"\",14))","v":14},"","",true,true,true,true,true,true,true,true,true,true,true,true,true,true,false]
[null,{"$f":"'Scheme and Member Information'!B451","v":0},{"$f":"'Scheme and Member Information'!C451","v":0},null,null,null,null,null,null,null,null,null,null,null,"",null,{"$f":"IF(S451,VLOOKUP(MIN(T451:AI451),'Data Validation (hidden)'!$B$30:$C$45,2,FALSE),IF(COUNTA(D451:N451)>0,\"'Scheme Name' missing but values entered in other columns\",\"\"))","v":""},null,false,1,2,3,4,5,6,7,8,9,10,11,12,13,{"$f":"IF(D451=\"Yes\",IF('Financial Information'!$L451=$O451,\"\",14),IF('Financial Information'!$L451=0,\"\",14))","v":14},"","",true,true,true,true,true,true,true,true,true,true,true,true,true,true,false]
[null,{"$f":"'Scheme and Member Information'!B452","v":0},{"$f":"'Scheme and Member Information'!C452","v":0},null,null,null,null,null,null,null,null,null,null,null,"",null,{"$f":"IF(S452,VLOOKUP(MIN(T452:AI452),'Data Validation (hidden)'!$B$30:$C$45,2,FALSE),IF(COUNTA(D452:N452)>0,\"'Scheme Name' missing but values entered in other columns\",\"\"))","v":""},null,false,1,2,3,4,5,6,7,8,9,10,11,12,13,{"$f":"IF(D452=\"Yes\",IF('Financial Information'!$L452=$O452,\"\",14),IF('Financial Information'!$L452=0,\"\",14))","v":14},"","",true,true,true,true,true,true,true,true,true,true,true,true,true,true,false]
[null,{"$f":"'Scheme and Member Information'!B453","v":0},{"$f":"'Scheme and Member Information'!C453","v":0},null,null,null,null,null,null,null,null,null,null,null,"",null,{"$f":"IF(S453,VLOOKUP(MIN(T453:AI453),'Data Validation (hidden)'!$B$30:$C$45,2,FALSE),IF(COUNTA(D453:N453)>0,\"'Scheme Name' missing but values entered in other columns\",\"\"))","v":""},null,false,1,2,3,4,5,6,7,8,9,10,11,12,13,{"$f":"IF(D453=\"Yes\",IF('Financial Information'!$L453=$O453,\"\",14),IF('Financial Information'!$L453=0,\"\",14))","v":14},"","",true,true,true,true,true,true,true,true,true,true,true,true,true,true,false]
[null,{"$f":"'Scheme and Member Information'!B454","v":0},{"$f":"'Scheme and Member Information'!C454","v":0},null,null,null,null,null,null,null,null,null,null,null,"",null,{"$f":"IF(S454,VLOOKUP(MIN(T454:AI454),'Data Validation (hidden)'!$B$30:$C$45,2,FALSE),IF(COUNTA(D454:N454)>0,\"'Scheme Name' missing but values entered in other columns\",\"\"))","v":""},null,false,1,2,3,4,5,6,7,8,9,10,11,12,13,{"$f":"IF(D454=\"Yes\",IF('Financial Information'!$L454=$O454,\"\",14),IF('Financial Information'!$L454=0,\"\",14))","v":14},"","",true,true,true,true,true,true,true,true,true,true,true,true,true,true,false]
[null,{"$f":"'Scheme and Member Information'!B455","v":0},{"$f":"'Scheme and Member Information'!C455","v":0},null,null,null,null,null,null,null,null,null,null,null,"",null,{"$f":"IF(S455,VLOOKUP(MIN(T455:AI455),'Data Validation (hidden)'!$B$30:$C$45,2,FALSE),IF(COUNTA(D455:N455)>0,\"'Scheme Name' missing but values entered in other columns\",\"\"))","v":""},null,false,1,2,3,4,5,6,7,8,9,10,11,12,13,{"$f":"IF(D455=\"Yes\",IF('Financial Information'!$L455=$O455,\"\",14),IF('Financial Information'!$L455=0,\"\",14))","v":14},"","",true,true,true,true,true,true,true,true,true,true,true,true,true,true,false]
[null,{"$f":"'Scheme and Member Information'!B456","v":0},{"$f":"'Scheme and Member Information'!C456","v":0},null,null,null,null,null,null,null,null,null,null,null,"",null,{"$f":"IF(S456,VLOOKUP(MIN(T456:AI456),'Data Validation (hidden)'!$B$30:$C$45,2,FALSE),IF(COUNTA(D456:N456)>0,\"'Scheme Name' missing but values entered in other columns\",\"\"))","v":""},null,false,1,2,3,4,5,6,7,8,9,10,11,12,13,{"$f":"IF(D456=\"Yes\",IF('Financial Information'!$L456=$O456,\"\",14),IF('Financial Information'!$L456=0,\"\",14))","v":14},"","",{"$f":"IF(CELL(\"format\", B456) = \"G\",TRUE,FALSE)","v":true},{"$f":"IF(CELL(\"format\", C456) = \"F0\",TRUE,FALSE)","v":true},{"$f":"IF(CELL(\"format\",D451)=\"G\",TRUE,FALSE)","v":true},{"$f":"IF( CELL(\"format\",E456) = \"C0\",TRUE,FALSE)","v":true},{"$f":"IF( CELL(\"format\",F456) = \"C0\",TRUE,FALSE)","v":true},{"$f":"IF( CELL(\"format\",G456) = \"C0\",TRUE,FALSE)","v":true},{"$f":"IF( CELL(\"format\",H456) = \"C0\",TRUE,FALSE)","v":true},{"$f":"IF( CELL(\"format\",I456) = \"C0\",TRUE,FALSE)","v":true},{"$f":"IF( CELL(\"format\",J456) = \"C0\",TRUE,FALSE)","v":true},{"$f":"IF( CELL(\"format\",K456) = \"C0\",TRUE,FALSE)","v":true},{"$f":"IF( CELL(\"format\",L456) = \"C0\",TRUE,FALSE)","v":true},{"$f":"IF( CELL(\"format\",M456) = \"C0\",TRUE,FALSE)","v":true},{"$f":"IF( CELL(\"format\",N456) = \"C0\",TRUE,FALSE)","v":true},{"$f":"IF( CELL(\"format\",O456) = \"C0\",TRUE,FALSE)","v":true},{"$f":"IF(Q456=\"\",FALSE,IF(Q456=\"OK\",FALSE,TRUE))","v":false}]
[null,{"$f":"'Scheme and Member Information'!B457","v":0},{"$f":"'Scheme and Member Information'!C457","v":0},null,null,null,null,null,null,null,null,null,null,null,{"$f":"IF(OR(E457<>\"\",F457<>\"\",G457<>\"\",H457<>\"\",I457<>\"\",J457<>\"\",K457<>\"\",L457<>\"\",M457<>\"\",N457<>\"\"),SUM(E457:N457),\"\")","v":""},null,{"$f":"IF(S457,VLOOKUP(MIN(T457:AI457),'Data Validation (hidden)'!$B$30:$C$45,2,FALSE),IF(COUNTA(D457:N457)>0,\"'Scheme Name' missing but values entered in other columns\",\"\"))","v":""},null,{"$f":"AND(B457<>\"\",B457<>0)","v":false},{"$f":"IF(C457=\"\",1,IF(C457=0,1,\"\"))","v":1},{"$f":"IF(D457=\"\",2,\"\")","v":2},{"$f":"IF(E457=\"\",IF(D457=\"No\",\"\",3),\"\")","v":3},{"$f":"IF(F457=\"\",IF(D457=\"No\",\"\",4),\"\")","v":4},{"$f":"IF(G457=\"\",IF(D457=\"No\",\"\",5),\"\")","v":5},{"$f":"IF(H457=\"\",IF(D457=\"No\",\"\",6),\"\")","v":6},{"$f":"IF(I457=\"\",IF(D457=\"No\",\"\",7),\"\")","v":7},{"$f":"IF(J457=\"\",IF(D457=\"No\",\"\",8),\"\")","v":8},{"$f":"IF(K457=\"\",IF(D457=\"No\",\"\",9),\"\")","v":9},{"$f":"IF(L457=\"\",IF(D457=\"No\",\"\",10),\"\")","v":10},{"$f":"IF(M457=\"\",IF(D457=\"No\",\"\",11),\"\")","v":11},{"$f":"IF(N457=\"\",IF(D457=\"No\",\"\",12),\"\")","v":12},{"$f":"IF(O457=\"\",IF(D457=\"No\",\"\",13),\"\")","v":13},{"$f":"IF(D457=\"Yes\",IF('Financial Information'!$L457=$O457,\"\",14),IF('Financial Information'!$L457=0,\"\",14))","v":14},{"$f":"IF(COUNT(T457:AG457)=0,\"10\",\"\")","v":""},{"$f":"IF(AND(AJ457,AK457,AL457,AM457,AN457,AO457,AP457,AQ457,AR457,AS457,AT457,AU457,AV457,AW457)=TRUE,\"\",15)","v":""},true,true,true,true,true,true,true,true,true,true,true,true,true,true,false]
[null,{"$f":"'Scheme and Member Information'!B458","v":0},{"$f":"'Scheme and Member Information'!C458","v":0},null,null,null,null,null,null,null,null,null,null,null,"",null,{"$f":"IF(S458,VLOOKUP(MIN(T458:AI458),'Data Validation (hidden)'!$B$30:$C$45,2,FALSE),IF(COUNTA(D458:N458)>0,\"'Scheme Name' missing but values entered in other columns\",\"\"))","v":""},null,false,1,2,3,4,5,6,7,8,9,10,11,12,13,{"$f":"IF(D458=\"Yes\",IF('Financial Information'!$L458=$O458,\"\",14),IF('Financial Information'!$L458=0,\"\",14))","v":14},"","",true,true,true,true,true,true,true,true,true,true,true,true,true,true,false]
[null,{"$f":"'Scheme and Member Information'!B459","v":0},{"$f":"'Scheme and Member Information'!C459","v":0},null,null,null,null,null,null,null,null,null,null,null,"",null,{"$f":"IF(S459,VLOOKUP(MIN(T459:AI459),'Data Validation (hidden)'!$B$30:$C$45,2,FALSE),IF(COUNTA(D459:N459)>0,\"'Scheme Name' missing but values entered in other columns\",\"\"))","v":""},null,false,1,2,3,4,5,6,7,8,9,10,11,12,13,{"$f":"IF(D459=\"Yes\",IF('Financial Information'!$L459=$O459,\"\",14),IF('Financial Information'!$L459=0,\"\",14))","v":14},"","",true,true,true,true,true,true,true,true,true,true,true,true,true,true,false]
[null,{"$f":"'Scheme and Member Information'!B460","v":0},{"$f":"'Scheme and Member Information'!C460","v":0},null,null,null,null,null,null,null,null,null,null,null,"",null,{"$f":"IF(S460,VLOOKUP(MIN(T460:AI460),'Data Validation (hidden)'!$B$30:$C$45,2,FALSE),IF(COUNTA(D460:N460)>0,\"'Scheme Name' missing but values entered in other columns\",\"\"))","v":""},null,false,1,2,3,4,5,6,7,8,9,10,11,12,13,{"$f":"IF(D460=\"Yes\",IF('Financial Information'!$L460=$O460,\"\",14),IF('Financial Information'!$L460=0,\"\",14))","v":14},"","",true,true,true,true,true,true,true,true,true,true,true,true,true,true,false]
[null,{"$f":"'Scheme and Member Information'!B461","v":0},{"$f":"'Scheme and Member Information'!C461","v":0},null,null,null,null,null,null,null,null,null,null,null,"",null,{"$f":"IF(S461,VLOOKUP(MIN(T461:AI461),'Data Validation (hidden)'!$B$30:$C$45,2,FALSE),IF(COUNTA(D461:N461)>0,\"'Scheme Name' missing but values entered in other columns\",\"\"))","v":""},null,false,1,2,3,4,5,6,7,8,9,10,11,12,13,{"$f":"IF(D461=\"Yes\",IF('Financial Information'!$L461=$O461,\"\",14),IF('Financial Information'!$L461=0,\"\",14))","v":14},"","",true,true,true,true,true,true,true,true,true,true,true,true,true,true,false]
[null,{"$f":"'Scheme and Member Information'!B462","v":0},{"$f":"'Scheme and Member Information'!C462","v":0},null,null,null,null,null,null,null,null,null,null,null,"",null,{"$f":"IF(S462,VLOOKUP(MIN(T462:AI462),'Data Validation (hidden)'!$B$30:$C$45,2,FALSE),IF(COUNTA(D462:N462)>0,\"'Scheme Name' missing but values entered in other columns\",\"\"))","v":""},null,false,1,2,3,4,5,6,7,8,9,10,11,12,13,{"$f":"IF(D462=\"Yes\",IF('Financial Information'!$L462=$O462,\"\",14),IF('Financial Information'!$L462=0,\"\",14))","v":14},"","",true,true,true,true,true,true,true,true,true,true,true,true,true,true,false]
[null,{"$f":"'Scheme and Member Information'!B463","v":0},{"$f":"'Scheme and Member Information'!C463","v":0},null,null,null,null,null,null,null,null,null,null,null,"",null,{"$f":"IF(S463,VLOOKUP(MIN(T463:AI463),'Data Validation (hidden)'!$B$30:$C$45,2,FALSE),IF(COUNTA(D463:N463)>0,\"'Scheme Name' missing but values entered in other columns\",\"\"))","v":""},null,false,1,2,3,4,5,6,7,8,9,10,11,12,13,{"$f":"IF(D463=\"Yes\",IF('Financial Information'!$L463=$O463,\"\",14),IF('Financial Information'!$L463=0,\"\",14))","v":14},"","",true,true,true,true,true,true,true,true,true,true,true,true,true,true,false]
[null,{"$f":"'Scheme and Member Information'!B464","v":0},{"$f":"'Scheme and Member Information'!C464","v":0},null,null,null,null,null,null,null,null,null,null,null,"",null,{"$f":"IF(S464,VLOOKUP(MIN(T464:AI464),'Data Validation (hidden)'!$B$30:$C$45,2,FALSE),IF(COUNTA(D464:N464)>0,\"'Scheme Name' missing but values entered in other columns\",\"\"))","v":""},null,false,1,2,3,4,5,6,7,8,9,10,11,12,13,{"$f":"IF(D464=\"Yes\",IF('Financial Information'!$L464=$O464,\"\",14),IF('Financial Information'!$L464=0,\"\",14))","v":14},"","",true,true,true,true,true,true,true,true,true,true,true,true,true,true,false]
[null,{"$f":"'Scheme and Member Information'!B465","v":0},{"$f":"'Scheme and Member Information'!C465","v":0},null,null,null,null,null,null,null,null,null,null,null,"",null,{"$f":"IF(S465,VLOOKUP(MIN(T465:AI465),'Data Validation (hidden)'!$B$30:$C$45,2,FALSE),IF(COUNTA(D465:N465)>0,\"'Scheme Name' missing but values entered in other columns\",\"\"))","v":""},null,false,1,2,3,4,5,6,7,8,9,10,11,12,13,{"$f":"IF(D465=\"Yes\",IF('Financial Information'!$L465=$O465,\"\",14),IF('Financial Information'!$L465=0,\"\",14))","v":14},"","",true,true,true,true,true,true,true,true,true,true,true,true,true,true,false]
[null,{"$f":"'Scheme and Member Information'!B466","v":0},{"$f":"'Scheme and Member Information'!C466","v":0},null,null,null,null,null,null,null,null,null,null,null,"",null,{"$f":"IF(S466,VLOOKUP(MIN(T466:AI466),'Data Validation (hidden)'!$B$30:$C$45,2,FALSE),IF(COUNTA(D466:N466)>0,\"'Scheme Name' missing but values entered in other columns\",\"\"))","v":""},null,false,1,2,3,4,5,6,7,8,9,10,11,12,13,{"$f":"IF(D466=\"Yes\",IF('Financial Information'!$L466=$O466,\"\",14),IF('Financial Information'!$L466=0,\"\",14))","v":14},"","",true,true,true,true,true,true,true,true,true,true,true,true,true,true,false]
[null,{"$f":"'Scheme and Member Information'!B467","v":0},{"$f":"'Scheme and Member Information'!C467","v":0},null,null,null,null,null,null,null,null,null,null,null,"",null,{"$f":"IF(S467,VLOOKUP(MIN(T467:AI467),'Data Validation (hidden)'!$B$30:$C$45,2,FALSE),IF(COUNTA(D467:N467)>0,\"'Scheme Name' missing but values entered in other columns\",\"\"))","v":""},null,false,1,2,3,4,5,6,7,8,9,10,11,12,13,{"$f":"IF(D467=\"Yes\",IF('Financial Information'!$L467=$O467,\"\",14),IF('Financial Information'!$L467=0,\"\",14))","v":14},"","",true,true,true,true,true,true,true,true,true,true,true,true,true,true,false]
[null,{"$f":"'Scheme and Member Information'!B468","v":0},{"$f":"'Scheme and Member Information'!C468","v":0},null,null,null,null,null,null,null,null,null,null,null,"",null,{"$f":"IF(S468,VLOOKUP(MIN(T468:AI468),'Data Validation (hidden)'!$B$30:$C$45,2,FALSE),IF(COUNTA(D468:N468)>0,\"'Scheme Name' missing but values entered in other columns\",\"\"))","v":""},null,false,1,2,3,4,5,6,7,8,9,10,11,12,13,{"$f":"IF(D468=\"Yes\",IF('Financial Information'!$L468=$O468,\"\",14),IF('Financial Information'!$L468=0,\"\",14))","v":14},"","",true,true,true,true,true,true,true,true,true,true,true,true,true,true,false]
[null,{"$f":"'Scheme and Member Information'!B469","v":0},{"$f":"'Scheme and Member Information'!C469","v":0},null,null,null,null,null,null,null,null,null,null,null,"",null,{"$f":"IF(S469,VLOOKUP(MIN(T469:AI469),'Data Validation (hidden)'!$B$30:$C$45,2,FALSE),IF(COUNTA(D469:N469)>0,\"'Scheme Name' missing but values entered in other columns\",\"\"))","v":""},null,false,1,2,3,4,5,6,7,8,9,10,11,12,13,{"$f":"IF(D469=\"Yes\",IF('Financial Information'!$L469=$O469,\"\",14),IF('Financial Information'!$L469=0,\"\",14))","v":14},"","",true,true,true,true,true,true,true,true,true,true,true,true,true,true,false]
[null,{"$f":"'Scheme and Member Information'!B470","v":0},{"$f":"'Scheme and Member Information'!C470","v":0},null,null,null,null,null,null,null,null,null,null,null,"",null,{"$f":"IF(S470,VLOOKUP(MIN(T470:AI470),'Data Validation (hidden)'!$B$30:$C$45,2,FALSE),IF(COUNTA(D470:N470)>0,\"'Scheme Name' missing but values entered in other columns\",\"\"))","v":""},null,false,1,2,3,4,5,6,7,8,9,10,11,12,13,{"$f":"IF(D470=\"Yes\",IF('Financial Information'!$L470=$O470,\"\",14),IF('Financial Information'!$L470=0,\"\",14))","v":14},"","",true,true,true,true,true,true,true,true,true,true,true,true,true,true,false]
[null,{"$f":"'Scheme and Member Information'!B471","v":0},{"$f":"'Scheme and Member Information'!C471","v":0},null,null,null,null,null,null,null,null,null,null,null,"",null,{"$f":"IF(S471,VLOOKUP(MIN(T471:AI471),'Data Validation (hidden)'!$B$30:$C$45,2,FALSE),IF(COUNTA(D471:N471)>0,\"'Scheme Name' missing but values entered in other columns\",\"\"))","v":""},null,false,1,2,3,4,5,6,7,8,9,10,11,12,13,{"$f":"IF(D471=\"Yes\",IF('Financial Information'!$L471=$O471,\"\",14),IF('Financial Information'!$L471=0,\"\",14))","v":14},"","",true,true,true,true,true,true,true,true,true,true,true,true,true,true,false]
[null,{"$f":"'Scheme and Member Information'!B472","v":0},{"$f":"'Scheme and Member Information'!C472","v":0},null,null,null,null,null,null,null,null,null,null,null,"",null,{"$f":"IF(S472,VLOOKUP(MIN(T472:AI472),'Data Validation (hidden)'!$B$30:$C$45,2,FALSE),IF(COUNTA(D472:N472)>0,\"'Scheme Name' missing but values entered in other columns\",\"\"))","v":""},null,false,1,2,3,4,5,6,7,8,9,10,11,12,13,{"$f":"IF(D472=\"Yes\",IF('Financial Information'!$L472=$O472,\"\",14),IF('Financial Information'!$L472=0,\"\",14))","v":14},"","",true,true,true,true,true,true,true,true,true,true,true,true,true,true,false]
[null,{"$f":"'Scheme and Member Information'!B473","v":0},{"$f":"'Scheme and Member Information'!C473","v":0},null,null,null,null,null,null,null,null,null,null,null,"",null,{"$f":"IF(S473,VLOOKUP(MIN(T473:AI473),'Data Validation (hidden)'!$B$30:$C$45,2,FALSE),IF(COUNTA(D473:N473)>0,\"'Scheme Name' missing but values entered in other columns\",\"\"))","v":""},null,false,1,2,3,4,5,6,7,8,9,10,11,12,13,{"$f":"IF(D473=\"Yes\",IF('Financial Information'!$L473=$O473,\"\",14),IF('Financial Information'!$L473=0,\"\",14))","v":14},"","",true,true,true,true,true,true,true,true,true,true,true,true,true,true,false]
[null,{"$f":"'Scheme and Member Information'!B474","v":0},{"$f":"'Scheme and Member Information'!C474","v":0},null,null,null,null,null,null,null,null,null,null,null,"",null,{"$f":"IF(S474,VLOOKUP(MIN(T474:AI474),'Data Validation (hidden)'!$B$30:$C$45,2,FALSE),IF(COUNTA(D474:N474)>0,\"'Scheme Name' missing but values entered in other columns\",\"\"))","v":""},null,false,1,2,3,4,5,6,7,8,9,10,11,12,13,{"$f":"IF(D474=\"Yes\",IF('Financial Information'!$L474=$O474,\"\",14),IF('Financial Information'!$L474=0,\"\",14))","v":14},"","",true,true,true,true,true,true,true,true,true,true,true,true,true,true,false]
[null,{"$f":"'Scheme and Member Information'!B475","v":0},{"$f":"'Scheme and Member Information'!C475","v":0},null,null,null,null,null,null,null,null,null,null,null,"",null,{"$f":"IF(S475,VLOOKUP(MIN(T475:AI475),'Data Validation (hidden)'!$B$30:$C$45,2,FALSE),IF(COUNTA(D475:N475)>0,\"'Scheme Name' missing but values entered in other columns\",\"\"))","v":""},null,false,1,2,3,4,5,6,7,8,9,10,11,12,13,{"$f":"IF(D475=\"Yes\",IF('Financial Information'!$L475=$O475,\"\",14),IF('Financial Information'!$L475=0,\"\",14))","v":14},"","",true,true,true,true,true,true,true,true,true,true,true,true,true,true,false]
[null,{"$f":"'Scheme and Member Information'!B476","v":0},{"$f":"'Scheme and Member Information'!C476","v":0},null,null,null,null,null,null,null,null,null,null,null,"",null,{"$f":"IF(S476,VLOOKUP(MIN(T476:AI476),'Data Validation (hidden)'!$B$30:$C$45,2,FALSE),IF(COUNTA(D476:N476)>0,\"'Scheme Name' missing but values entered in other columns\",\"\"))","v":""},null,false,1,2,3,4,5,6,7,8,9,10,11,12,13,{"$f":"IF(D476=\"Yes\",IF('Financial Information'!$L476=$O476,\"\",14),IF('Financial Information'!$L476=0,\"\",14))","v":14},"","",true,true,true,true,true,true,true,true,true,true,true,true,true,true,false]
[null,{"$f":"'Scheme and Member Information'!B477","v":0},{"$f":"'Scheme and Member Information'!C477","v":0},null,null,null,null,null,null,null,null,null,null,null,"",null,{"$f":"IF(S477,VLOOKUP(MIN(T477:AI477),'Data Validation (hidden)'!$B$30:$C$45,2,FALSE),IF(COUNTA(D477:N477)>0,\"'Scheme Name' missing but values entered in other columns\",\"\"))","v":""},null,false,1,2,3,4,5,6,7,8,9,10,11,12,13,{"$f":"IF(D477=\"Yes\",IF('Financial Information'!$L477=$O477,\"\",14),IF('Financial Information'!$L477=0,\"\",14))","v":14},"","",true,true,true,true,true,true,true,true,true,true,true,true,true,true,false]
[null,{"$f":"'Scheme and Member Information'!B478","v":0},{"$f":"'Scheme and Member Information'!C478","v":0},null,null,null,null,null,null,null,null,null,null,null,"",null,{"$f":"IF(S478,VLOOKUP(MIN(T478:AI478),'Data Validation (hidden)'!$B$30:$C$45,2,FALSE),IF(COUNTA(D478:N478)>0,\"'Scheme Name' missing but values entered in other columns\",\"\"))","v":""},null,false,1,2,3,4,5,6,7,8,9,10,11,12,13,{"$f":"IF(D478=\"Yes\",IF('Financial Information'!$L478=$O478,\"\",14),IF('Financial Information'!$L478=0,\"\",14))","v":14},"","",true,true,true,true,true,true,true,true,true,true,true,true,true,true,false]
[null,{"$f":"'Scheme and Member Information'!B479","v":0},{"$f":"'Scheme and Member Information'!C479","v":0},null,null,null,null,null,null,null,null,null,null,null,"",null,{"$f":"IF(S479,VLOOKUP(MIN(T479:AI479),'Data Validation (hidden)'!$B$30:$C$45,2,FALSE),IF(COUNTA(D479:N479)>0,\"'Scheme Name' missing but values entered in other columns\",\"\"))","v":""},null,false,1,2,3,4,5,6,7,8,9,10,11,12,13,{"$f":"IF(D479=\"Yes\",IF('Financial Information'!$L479=$O479,\"\",14),IF('Financial Information'!$L479=0,\"\",14))","v":14},"","",true,true,true,true,true,true,true,true,true,true,true,true,true,true,false]
[null,{"$f":"'Scheme and Member Information'!B480","v":0},{"$f":"'Scheme and Member Information'!C480","v":0},null,null,null,null,null,null,null,null,null,null,null,"",null,{"$f":"IF(S480,VLOOKUP(MIN(T480:AI480),'Data Validation (hidden)'!$B$30:$C$45,2,FALSE),IF(COUNTA(D480:N480)>0,\"'Scheme Name' missing but values entered in other columns\",\"\"))","v":""},null,false,1,2,3,4,5,6,7,8,9,10,11,12,13,{"$f":"IF(D480=\"Yes\",IF('Financial Information'!$L480=$O480,\"\",14),IF('Financial Information'!$L480=0,\"\",14))","v":14},"","",true,true,true,true,true,true,true,true,true,true,true,true,true,true,false]
[null,{"$f":"'Scheme and Member Information'!B481","v":0},{"$f":"'Scheme and Member Information'!C481","v":0},null,null,null,null,null,null,null,null,null,null,null,"",null,{"$f":"IF(S481,VLOOKUP(MIN(T481:AI481),'Data Validation (hidden)'!$B$30:$C$45,2,FALSE),IF(COUNTA(D481:N481)>0,\"'Scheme Name' missing but values entered in other columns\",\"\"))","v":""},null,false,1,2,3,4,5,6,7,8,9,10,11,12,13,{"$f":"IF(D481=\"Yes\",IF('Financial Information'!$L481=$O481,\"\",14),IF('Financial Information'!$L481=0,\"\",14))","v":14},"","",true,true,true,true,true,true,true,true,true,true,true,true,true,true,false]
[null,{"$f":"'Scheme and Member Information'!B482","v":0},{"$f":"'Scheme and Member Information'!C482","v":0},null,null,null,null,null,null,null,null,null,null,null,"",null,{"$f":"IF(S482,VLOOKUP(MIN(T482:AI482),'Data Validation (hidden)'!$B$30:$C$45,2,FALSE),IF(COUNTA(D482:N482)>0,\"'Scheme Name' missing but values entered in other columns\",\"\"))","v":""},null,false,1,2,3,4,5,6,7,8,9,10,11,12,13,{"$f":"IF(D482=\"Yes\",IF('Financial Information'!$L482=$O482,\"\",14),IF('Financial Information'!$L482=0,\"\",14))","v":14},"","",true,true,true,true,true,true,true,true,true,true,true,true,true,true,false]
[null,{"$f":"'Scheme and Member Information'!B483","v":0},{"$f":"'Scheme and Member Information'!C483","v":0},null,null,null,null,null,null,null,null,null,null,null,"",null,{"$f":"IF(S483,VLOOKUP(MIN(T483:AI483),'Data Validation (hidden)'!$B$30:$C$45,2,FALSE),IF(COUNTA(D483:N483)>0,\"'Scheme Name' missing but values entered in other columns\",\"\"))","v":""},null,false,1,2,3,4,5,6,7,8,9,10,11,12,13,{"$f":"IF(D483=\"Yes\",IF('Financial Information'!$L483=$O483,\"\",14),IF('Financial Information'!$L483=0,\"\",14))","v":14},"","",true,true,true,true,true,true,true,true,true,true,true,true,true,true,false]
[null,{"$f":"'Scheme and Member Information'!B484","v":0},{"$f":"'Scheme and Member Information'!C484","v":0},null,null,null,null,null,null,null,null,null,null,null,"",null,{"$f":"IF(S484,VLOOKUP(MIN(T484:AI484),'Data Validation (hidden)'!$B$30:$C$45,2,FALSE),IF(COUNTA(D484:N484)>0,\"'Scheme Name' missing but values entered in other columns\",\"\"))","v":""},null,false,1,2,3,4,5,6,7,8,9,10,11,12,13,{"$f":"IF(D484=\"Yes\",IF('Financial Information'!$L484=$O484,\"\",14),IF('Financial Information'!$L484=0,\"\",14))","v":14},"","",true,true,true,true,true,true,true,true,true,true,true,true,true,true,false]
[null,{"$f":"'Scheme and Member Information'!B485","v":0},{"$f":"'Scheme and Member Information'!C485","v":0},null,null,null,null,null,null,null,null,null,null,null,"",null,{"$f":"IF(S485,VLOOKUP(MIN(T485:AI485),'Data Validation (hidden)'!$B$30:$C$45,2,FALSE),IF(COUNTA(D485:N485)>0,\"'Scheme Name' missing but values entered in other columns\",\"\"))","v":""},null,false,1,2,3,4,5,6,7,8,9,10,11,12,13,{"$f":"IF(D485=\"Yes\",IF('Financial Information'!$L485=$O485,\"\",14),IF('Financial Information'!$L485=0,\"\",14))","v":14},"","",true,true,true,true,true,true,true,true,true,true,true,true,true,true,false]
[null,{"$f":"'Scheme and Member Information'!B486","v":0},{"$f":"'Scheme and Member Information'!C486","v":0},null,null,null,null,null,null,null,null,null,null,null,"",null,{"$f":"IF(S486,VLOOKUP(MIN(T486:AI486),'Data Validation (hidden)'!$B$30:$C$45,2,FALSE),IF(COUNTA(D486:N486)>0,\"'Scheme Name' missing but values entered in other columns\",\"\"))","v":""},null,false,1,2,3,4,5,6,7,8,9,10,11,12,13,{"$f":"IF(D486=\"Yes\",IF('Financial Information'!$L486=$O486,\"\",14),IF('Financial Information'!$L486=0,\"\",14))","v":14},"","",true,true,true,true,true,true,true,true,true,true,true,true,true,true,false]
[null,{"$f":"'Scheme and Member Information'!B487","v":0},{"$f":"'Scheme and Member Information'!C487","v":0},null,null,null,null,null,null,null,null,null,null,null,"",null,{"$f":"IF(S487,VLOOKUP(MIN(T487:AI487),'Data Validation (hidden)'!$B$30:$C$45,2,FALSE),IF(COUNTA(D487:N487)>0,\"'Scheme Name' missing but values entered in other columns\",\"\"))","v":""},null,false,1,2,3,4,5,6,7,8,9,10,11,12,13,{"$f":"IF(D487=\"Yes\",IF('Financial Information'!$L487=$O487,\"\",14),IF('Financial Information'!$L487=0,\"\",14))","v":14},"","",true,true,true,true,true,true,true,true,true,true,true,true,true,true,false]
[null,{"$f":"'Scheme and Member Information'!B488","v":0},{"$f":"'Scheme and Member Information'!C488","v":0},null,null,null,null,null,null,null,null,null,null,null,"",null,{"$f":"IF(S488,VLOOKUP(MIN(T488:AI488),'Data Validation (hidden)'!$B$30:$C$45,2,FALSE),IF(COUNTA(D488:N488)>0,\"'Scheme Name' missing but values entered in other columns\",\"\"))","v":""},null,false,1,2,3,4,5,6,7,8,9,10,11,12,13,{"$f":"IF(D488=\"Yes\",IF('Financial Information'!$L488=$O488,\"\",14),IF('Financial Information'!$L488=0,\"\",14))","v":14},"","",true,true,true,true,true,true,true,true,true,true,true,true,true,true,false]
[null,{"$f":"'Scheme and Member Information'!B489","v":0},{"$f":"'Scheme and Member Information'!C489","v":0},null,null,null,null,null,null,null,null,null,null,null,"",null,{"$f":"IF(S489,VLOOKUP(MIN(T489:AI489),'Data Validation (hidden)'!$B$30:$C$45,2,FALSE),IF(COUNTA(D489:N489)>0,\"'Scheme Name' missing but values entered in other columns\",\"\"))","v":""},null,false,1,2,3,4,5,6,7,8,9,10,11,12,13,{"$f":"IF(D489=\"Yes\",IF('Financial Information'!$L489=$O489,\"\",14),IF('Financial Information'!$L489=0,\"\",14))","v":14},"","",true,true,true,true,true,true,true,true,true,true,true,true,true,true,false]
[null,{"$f":"'Scheme and Member Information'!B490","v":0},{"$f":"'Scheme and Member Information'!C490","v":0},null,null,null,null,null,null,null,null,null,null,null,"",null,{"$f":"IF(S490,VLOOKUP(MIN(T490:AI490),'Data Validation (hidden)'!$B$30:$C$45,2,FALSE),IF(COUNTA(D490:N490)>0,\"'Scheme Name' missing but values entered in other columns\",\"\"))","v":""},null,false,1,2,3,4,5,6,7,8,9,10,11,12,13,{"$f":"IF(D490=\"Yes\",IF('Financial Information'!$L490=$O490,\"\",14),IF('Financial Information'!$L490=0,\"\",14))","v":14},"","",true,true,true,true,true,true,true,true,true,true,true,true,true,true,false]
[null,{"$f":"'Scheme and Member Information'!B491","v":0},{"$f":"'Scheme and Member Information'!C491","v":0},null,null,null,null,null,null,null,null,null,null,null,"",null,{"$f":"IF(S491,VLOOKUP(MIN(T491:AI491),'Data Validation (hidden)'!$B$30:$C$45,2,FALSE),IF(COUNTA(D491:N491)>0,\"'Scheme Name' missing but values entered in other columns\",\"\"))","v":""},null,false,1,2,3,4,5,6,7,8,9,10,11,12,13,{"$f":"IF(D491=\"Yes\",IF('Financial Information'!$L491=$O491,\"\",14),IF('Financial Information'!$L491=0,\"\",14))","v":14},"","",true,true,true,true,true,true,true,true,true,true,true,true,true,true,false]
[null,{"$f":"'Scheme and Member Information'!B492","v":0},{"$f":"'Scheme and Member Information'!C492","v":0},null,null,null,null,null,null,null,null,null,null,null,"",null,{"$f":"IF(S492,VLOOKUP(MIN(T492:AI492),'Data Validation (hidden)'!$B$30:$C$45,2,FALSE),IF(COUNTA(D492:N492)>0,\"'Scheme Name' missing but values entered in other columns\",\"\"))","v":""},null,false,1,2,3,4,5,6,7,8,9,10,11,12,13,{"$f":"IF(D492=\"Yes\",IF('Financial Information'!$L492=$O492,\"\",14),IF('Financial Information'!$L492=0,\"\",14))","v":14},"","",true,true,true,true,true,true,true,true,true,true,true,true,true,true,false]
[null,{"$f":"'Scheme and Member Information'!B493","v":0},{"$f":"'Scheme and Member Information'!C493","v":0},null,null,null,null,null,null,null,null,null,null,null,"",null,{"$f":"IF(S493,VLOOKUP(MIN(T493:AI493),'Data Validation (hidden)'!$B$30:$C$45,2,FALSE),IF(COUNTA(D493:N493)>0,\"'Scheme Name' missing but values entered in other columns\",\"\"))","v":""},null,false,1,2,3,4,5,6,7,8,9,10,11,12,13,{"$f":"IF(D493=\"Yes\",IF('Financial Information'!$L493=$O493,\"\",14),IF('Financial Information'!$L493=0,\"\",14))","v":14},"","",true,true,true,true,true,true,true,true,true,true,true,true,true,true,false]
[null,{"$f":"'Scheme and Member Information'!B494","v":0},{"$f":"'Scheme and Member Information'!C494","v":0},null,null,null,null,null,null,null,null,null,null,null,"",null,{"$f":"IF(S494,VLOOKUP(MIN(T494:AI494),'Data Validation (hidden)'!$B$30:$C$45,2,FALSE),IF(COUNTA(D494:N494)>0,\"'Scheme Name' missing but values entered in other columns\",\"\"))","v":""},null,false,1,2,3,4,5,6,7,8,9,10,11,12,13,{"$f":"IF(D494=\"Yes\",IF('Financial Information'!$L494=$O494,\"\",14),IF('Financial Information'!$L494=0,\"\",14))","v":14},"","",true,true,true,true,true,true,true,true,true,true,true,true,true,true,false]
[null,{"$f":"'Scheme and Member Information'!B495","v":0},{"$f":"'Scheme and Member Information'!C495","v":0},null,null,null,null,null,null,null,null,null,null,null,"",null,{"$f":"IF(S495,VLOOKUP(MIN(T495:AI495),'Data Validation (hidden)'!$B$30:$C$45,2,FALSE),IF(COUNTA(D495:N495)>0,\"'Scheme Name' missing but values entered in other columns\",\"\"))","v":""},null,false,1,2,3,4,5,6,7,8,9,10,11,12,13,{"$f":"IF(D495=\"Yes\",IF('Financial Information'!$L495=$O495,\"\",14),IF('Financial Information'!$L495=0,\"\",14))","v":14},"","",true,true,true,true,true,true,true,true,true,true,true,true,true,true,false]
[null,{"$f":"'Scheme and Member Information'!B496","v":0},{"$f":"'Scheme and Member Information'!C496","v":0},null,null,null,null,null,null,null,null,null,null,null,"",null,{"$f":"IF(S496,VLOOKUP(MIN(T496:AI496),'Data Validation (hidden)'!$B$30:$C$45,2,FALSE),IF(COUNTA(D496:N496)>0,\"'Scheme Name' missing but values entered in other columns\",\"\"))","v":""},null,false,1,2,3,4,5,6,7,8,9,10,11,12,13,{"$f":"IF(D496=\"Yes\",IF('Financial Information'!$L496=$O496,\"\",14),IF('Financial Information'!$L496=0,\"\",14))","v":14},"","",true,true,true,true,true,true,true,true,true,true,true,true,true,true,false]
[null,{"$f":"'Scheme and Member Information'!B497","v":0},{"$f":"'Scheme and Member Information'!C497","v":0},null,null,null,null,null,null,null,null,null,null,null,"",null,{"$f":"IF(S497,VLOOKUP(MIN(T497:AI497),'Data Validation (hidden)'!$B$30:$C$45,2,FALSE),IF(COUNTA(D497:N497)>0,\"'Scheme Name' missing but values entered in other columns\",\"\"))","v":""},null,false,1,2,3,4,5,6,7,8,9,10,11,12,13,{"$f":"IF(D497=\"Yes\",IF('Financial Information'!$L497=$O497,\"\",14),IF('Financial Information'!$L497=0,\"\",14))","v":14},"","",true,true,true,true,true,true,true,true,true,true,true,true,true,true,false]
[null,{"$f":"'Scheme and Member Information'!B498","v":0},{"$f":"'Scheme and Member Information'!C498","v":0},null,null,null,null,null,null,null,null,null,null,null,"",null,{"$f":"IF(S498,VLOOKUP(MIN(T498:AI498),'Data Validation (hidden)'!$B$30:$C$45,2,FALSE),IF(COUNTA(D498:N498)>0,\"'Scheme Name' missing but values entered in other columns\",\"\"))","v":""},null,false,1,2,3,4,5,6,7,8,9,10,11,12,13,{"$f":"IF(D498=\"Yes\",IF('Financial Information'!$L498=$O498,\"\",14),IF('Financial Information'!$L498=0,\"\",14))","v":14},"","",true,true,true,true,true,true,true,true,true,true,true,true,true,true,false]
[null,{"$f":"'Scheme and Member Information'!B499","v":0},{"$f":"'Scheme and Member Information'!C499","v":0},null,null,null,null,null,null,null,null,null,null,null,"",null,{"$f":"IF(S499,VLOOKUP(MIN(T499:AI499),'Data Validation (hidden)'!$B$30:$C$45,2,FALSE),IF(COUNTA(D499:N499)>0,\"'Scheme Name' missing but values entered in other columns\",\"\"))","v":""},null,false,1,2,3,4,5,6,7,8,9,10,11,12,13,{"$f":"IF(D499=\"Yes\",IF('Financial Information'!$L499=$O499,\"\",14),IF('Financial Information'!$L499=0,\"\",14))","v":14},"","",true,true,true,true,true,true,true,true,true,true,true,true,true,true,false]
[null,{"$f":"'Scheme and Member Information'!B500","v":0},{"$f":"'Scheme and Member Information'!C500","v":0},null,null,null,null,null,null,null,null,null,null,null,"",null,{"$f":"IF(S500,VLOOKUP(MIN(T500:AI500),'Data Validation (hidden)'!$B$30:$C$45,2,FALSE),IF(COUNTA(D500:N500)>0,\"'Scheme Name' missing but values entered in other columns\",\"\"))","v":""},null,false,1,2,3,4,5,6,7,8,9,10,11,12,13,{"$f":"IF(D500=\"Yes\",IF('Financial Information'!$L500=$O500,\"\",14),IF('Financial Information'!$L500=0,\"\",14))","v":14},"","",true,true,true,true,true,true,true,true,true,true,true,true,true,true,false]
[null,{"$f":"'Scheme and Member Information'!B501","v":0},{"$f":"'Scheme and Member Information'!C501","v":0},null,null,null,null,null,null,null,null,null,null,null,"",null,{"$f":"IF(S501,VLOOKUP(MIN(T501:AI501),'Data Validation (hidden)'!$B$30:$C$45,2,FALSE),IF(COUNTA(D501:N501)>0,\"'Scheme Name' missing but values entered in other columns\",\"\"))","v":""},null,false,1,2,3,4,5,6,7,8,9,10,11,12,13,{"$f":"IF(D501=\"Yes\",IF('Financial Information'!$L501=$O501,\"\",14),IF('Financial Information'!$L501=0,\"\",14))","v":14},"","",true,true,true,true,true,true,true,true,true,true,true,true,true,true,false]
[null,{"$f":"'Scheme and Member Information'!B502","v":0},{"$f":"'Scheme and Member Information'!C502","v":0},null,null,null,null,null,null,null,null,null,null,null,"",null,{"$f":"IF(S502,VLOOKUP(MIN(T502:AI502),'Data Validation (hidden)'!$B$30:$C$45,2,FALSE),IF(COUNTA(D502:N502)>0,\"'Scheme Name' missing but values entered in other columns\",\"\"))","v":""},null,false,1,2,3,4,5,6,7,8,9,10,11,12,13,{"$f":"IF(D502=\"Yes\",IF('Financial Information'!$L502=$O502,\"\",14),IF('Financial Information'!$L502=0,\"\",14))","v":14},"","",true,true,true,true,true,true,true,true,true,true,true,true,true,true,false]
[null,{"$f":"'Scheme and Member Information'!B503","v":0},{"$f":"'Scheme and Member Information'!C503","v":0},null,null,null,null,null,null,null,null,null,null,null,"",null,{"$f":"IF(S503,VLOOKUP(MIN(T503:AI503),'Data Validation (hidden)'!$B$30:$C$45,2,FALSE),IF(COUNTA(D503:N503)>0,\"'Scheme Name' missing but values entered in other columns\",\"\"))","v":""},null,false,1,2,3,4,5,6,7,8,9,10,11,12,13,{"$f":"IF(D503=\"Yes\",IF('Financial Information'!$L503=$O503,\"\",14),IF('Financial Information'!$L503=0,\"\",14))","v":14},"","",true,true,true,true,true,true,true,true,true,true,true,true,true,true,false]
[null,{"$f":"'Scheme and Member Information'!B504","v":0},{"$f":"'Scheme and Member Information'!C504","v":0},null,null,null,null,null,null,null,null,null,null,null,"",null,{"$f":"IF(S504,VLOOKUP(MIN(T504:AI504),'Data Validation (hidden)'!$B$30:$C$45,2,FALSE),IF(COUNTA(D504:N504)>0,\"'Scheme Name' missing but values entered in other columns\",\"\"))","v":""},null,false,1,2,3,4,5,6,7,8,9,10,11,12,13,{"$f":"IF(D504=\"Yes\",IF('Financial Information'!$L504=$O504,\"\",14),IF('Financial Information'!$L504=0,\"\",14))","v":14},"","",true,true,true,true,true,true,true,true,true,true,true,true,true,true,false]
[null,{"$f":"'Scheme and Member Information'!B505","v":0},{"$f":"'Scheme and Member Information'!C505","v":0},null,null,null,null,null,null,null,null,null,null,null,"",null,{"$f":"IF(S505,VLOOKUP(MIN(T505:AI505),'Data Validation (hidden)'!$B$30:$C$45,2,FALSE),IF(COUNTA(D505:N505)>0,\"'Scheme Name' missing but values entered in other columns\",\"\"))","v":""},null,false,1,2,3,4,5,6,7,8,9,10,11,12,13,{"$f":"IF(D505=\"Yes\",IF('Financial Information'!$L505=$O505,\"\",14),IF('Financial Information'!$L505=0,\"\",14))","v":14},"","",true,true,true,true,true,true,true,true,true,true,true,true,true,true,false]
[null,{"$f":"'Scheme and Member Information'!B506","v":0},{"$f":"'Scheme and Member Information'!C506","v":0},null,null,null,null,null,null,null,null,null,null,null,"",null,{"$f":"IF(S506,VLOOKUP(MIN(T506:AI506),'Data Validation (hidden)'!$B$30:$C$45,2,FALSE),IF(COUNTA(D506:N506)>0,\"'Scheme Name' missing but values entered in other columns\",\"\"))","v":""},null,false,1,2,3,4,5,6,7,8,9,10,11,12,13,{"$f":"IF(D506=\"Yes\",IF('Financial Information'!$L506=$O506,\"\",14),IF('Financial Information'!$L506=0,\"\",14))","v":14},"","",true,true,true,true,true,true,true,true,true,true,true,true,true,true,false]
[null,{"$f":"'Scheme and Member Information'!B507","v":0},{"$f":"'Scheme and Member Information'!C507","v":0},null,null,null,null,null,null,null,null,null,null,null,"",null,{"$f":"IF(S507,VLOOKUP(MIN(T507:AI507),'Data Validation (hidden)'!$B$30:$C$45,2,FALSE),IF(COUNTA(D507:N507)>0,\"'Scheme Name' missing but values entered in other columns\",\"\"))","v":""},null,false,1,2,3,4,5,6,7,8,9,10,11,12,13,{"$f":"IF(D507=\"Yes\",IF('Financial Information'!$L507=$O507,\"\",14),IF('Financial Information'!$L507=0,\"\",14))","v":14},"","",true,true,true,true,true,true,true,true,true,true,true,true,true,true,false]
[null,{"$f":"'Scheme and Member Information'!B508","v":0},{"$f":"'Scheme and Member Information'!C508","v":0},null,null,null,null,null,null,null,null,null,null,null,"",null,{"$f":"IF(S508,VLOOKUP(MIN(T508:AI508),'Data Validation (hidden)'!$B$30:$C$45,2,FALSE),IF(COUNTA(D508:N508)>0,\"'Scheme Name' missing but values entered in other columns\",\"\"))","v":""},null,false,1,2,3,4,5,6,7,8,9,10,11,12,13,{"$f":"IF(D508=\"Yes\",IF('Financial Information'!$L508=$O508,\"\",14),IF('Financial Information'!$L508=0,\"\",14))","v":14},"","",true,true,true,true,true,true,true,true,true,true,true,true,true,true,false]
[null,{"$f":"'Scheme and Member Information'!B509","v":0},{"$f":"'Scheme and Member Information'!C509","v":0},null,null,null,null,null,null,null,null,null,null,null,"",null,{"$f":"IF(S509,VLOOKUP(MIN(T509:AI509),'Data Validation (hidden)'!$B$30:$C$45,2,FALSE),IF(COUNTA(D509:N509)>0,\"'Scheme Name' missing but values entered in other columns\",\"\"))","v":""},null,false,1,2,3,4,5,6,7,8,9,10,11,12,13,{"$f":"IF(D509=\"Yes\",IF('Financial Information'!$L509=$O509,\"\",14),IF('Financial Information'!$L509=0,\"\",14))","v":14},"","",true,true,true,true,true,true,true,true,true,true,true,true,true,true,false]
[null,{"$f":"'Scheme and Member Information'!B510","v":0},{"$f":"'Scheme and Member Information'!C510","v":0},null,null,null,null,null,null,null,null,null,null,null,"",null,{"$f":"IF(S510,VLOOKUP(MIN(T510:AI510),'Data Validation (hidden)'!$B$30:$C$45,2,FALSE),IF(COUNTA(D510:N510)>0,\"'Scheme Name' missing but values entered in other columns\",\"\"))","v":""},null,false,1,2,3,4,5,6,7,8,9,10,11,12,13,{"$f":"IF(D510=\"Yes\",IF('Financial Information'!$L510=$O510,\"\",14),IF('Financial Information'!$L510=0,\"\",14))","v":14},"","",true,true,true,true,true,true,true,true,true,true,true,true,true,true,false]
[null,{"$f":"'Scheme and Member Information'!B511","v":0},{"$f":"'Scheme and Member Information'!C511","v":0},null,null,null,null,null,null,null,null,null,null,null,"",null,{"$f":"IF(S511,VLOOKUP(MIN(T511:AI511),'Data Validation (hidden)'!$B$30:$C$45,2,FALSE),IF(COUNTA(D511:N511)>0,\"'Scheme Name' missing but values entered in other columns\",\"\"))","v":""},null,false,1,2,3,4,5,6,7,8,9,10,11,12,13,{"$f":"IF(D511=\"Yes\",IF('Financial Information'!$L511=$O511,\"\",14),IF('Financial Information'!$L511=0,\"\",14))","v":14},"","",true,true,true,true,true,true,true,true,true,true,true,true,true,true,false]
[null,{"$f":"'Scheme and Member Information'!B512","v":0},{"$f":"'Scheme and Member Information'!C512","v":0},null,null,null,null,null,null,null,null,null,null,null,"",null,{"$f":"IF(S512,VLOOKUP(MIN(T512:AI512),'Data Validation (hidden)'!$B$30:$C$45,2,FALSE),IF(COUNTA(D512:N512)>0,\"'Scheme Name' missing but values entered in other columns\",\"\"))","v":""},null,false,1,2,3,4,5,6,7,8,9,10,11,12,13,{"$f":"IF(D512=\"Yes\",IF('Financial Information'!$L512=$O512,\"\",14),IF('Financial Information'!$L512=0,\"\",14))","v":14},"","",true,true,true,true,true,true,true,true,true,true,true,true,true,true,false]
[null,{"$f":"'Scheme and Member Information'!B513","v":0},{"$f":"'Scheme and Member Information'!C513","v":0},null,null,null,null,null,null,null,null,null,null,null,"",null,{"$f":"IF(S513,VLOOKUP(MIN(T513:AI513),'Data Validation (hidden)'!$B$30:$C$45,2,FALSE),IF(COUNTA(D513:N513)>0,\"'Scheme Name' missing but values entered in other columns\",\"\"))","v":""},null,false,1,2,3,4,5,6,7,8,9,10,11,12,13,{"$f":"IF(D513=\"Yes\",IF('Financial Information'!$L513=$O513,\"\",14),IF('Financial Information'!$L513=0,\"\",14))","v":14},"","",true,true,true,true,true,true,true,true,true,true,true,true,true,true,false]
[null,{"$f":"'Scheme and Member Information'!B514","v":0},{"$f":"'Scheme and Member Information'!C514","v":0},null,null,null,null,null,null,null,null,null,null,null,"",null,{"$f":"IF(S514,VLOOKUP(MIN(T514:AI514),'Data Validation (hidden)'!$B$30:$C$45,2,FALSE),IF(COUNTA(D514:N514)>0,\"'Scheme Name' missing but values entered in other columns\",\"\"))","v":""},null,false,1,2,3,4,5,6,7,8,9,10,11,12,13,{"$f":"IF(D514=\"Yes\",IF('Financial Information'!$L514=$O514,\"\",14),IF('Financial Information'!$L514=0,\"\",14))","v":14},"","",true,true,true,true,true,true,true,true,true,true,true,true,true,true,false]
[null,{"$f":"'Scheme and Member Information'!B515","v":0},{"$f":"'Scheme and Member Information'!C515","v":0},null,null,null,null,null,null,null,null,null,null,null,"",null,{"$f":"IF(S515,VLOOKUP(MIN(T515:AI515),'Data Validation (hidden)'!$B$30:$C$45,2,FALSE),IF(COUNTA(D515:N515)>0,\"'Scheme Name' missing but values entered in other columns\",\"\"))","v":""},null,false,1,2,3,4,5,6,7,8,9,10,11,12,13,{"$f":"IF(D515=\"Yes\",IF('Financial Information'!$L515=$O515,\"\",14),IF('Financial Information'!$L515=0,\"\",14))","v":14},"","",true,true,true,true,true,true,true,true,true,true,true,true,true,true,false]
[null,{"$f":"'Scheme and Member Information'!B516","v":0},{"$f":"'Scheme and Member Information'!C516","v":0},null,null,null,null,null,null,null,null,null,null,null,"",null,{"$f":"IF(S516,VLOOKUP(MIN(T516:AI516),'Data Validation (hidden)'!$B$30:$C$45,2,FALSE),IF(COUNTA(D516:N516)>0,\"'Scheme Name' missing but values entered in other columns\",\"\"))","v":""},null,false,1,2,3,4,5,6,7,8,9,10,11,12,13,{"$f":"IF(D516=\"Yes\",IF('Financial Information'!$L516=$O516,\"\",14),IF('Financial Information'!$L516=0,\"\",14))","v":14},"","",true,true,true,true,true,true,true,true,true,true,true,true,true,true,false]
[null,{"$f":"'Scheme and Member Information'!B517","v":0},{"$f":"'Scheme and Member Information'!C517","v":0},null,null,null,null,null,null,null,null,null,null,null,"",null,{"$f":"IF(S517,VLOOKUP(MIN(T517:AI517),'Data Validation (hidden)'!$B$30:$C$45,2,FALSE),IF(COUNTA(D517:N517)>0,\"'Scheme Name' missing but values entered in other columns\",\"\"))","v":""},null,false,1,2,3,4,5,6,7,8,9,10,11,12,13,{"$f":"IF(D517=\"Yes\",IF('Financial Information'!$L517=$O517,\"\",14),IF('Financial Information'!$L517=0,\"\",14))","v":14},"","",true,true,true,true,true,true,true,true,true,true,true,true,true,true,false]
[null,{"$f":"'Scheme and Member Information'!B518","v":0},{"$f":"'Scheme and Member Information'!C518","v":0},null,null,null,null,null,null,null,null,null,null,null,"",null,{"$f":"IF(S518,VLOOKUP(MIN(T518:AI518),'Data Validation (hidden)'!$B$30:$C$45,2,FALSE),IF(COUNTA(D518:N518)>0,\"'Scheme Name' missing but values entered in other columns\",\"\"))","v":""},null,false,1,2,3,4,5,6,7,8,9,10,11,12,13,{"$f":"IF(D518=\"Yes\",IF('Financial Information'!$L518=$O518,\"\",14),IF('Financial Information'!$L518=0,\"\",14))","v":14},"","",true,true,true,true,true,true,true,true,true,true,true,true,true,true,false]
[null,{"$f":"'Scheme and Member Information'!B519","v":0},{"$f":"'Scheme and Member Information'!C519","v":0},null,null,null,null,null,null,null,null,null,null,null,"",null,{"$f":"IF(S519,VLOOKUP(MIN(T519:AI519),'Data Validation (hidden)'!$B$30:$C$45,2,FALSE),IF(COUNTA(D519:N519)>0,\"'Scheme Name' missing but values entered in other columns\",\"\"))","v":""},null,false,1,2,3,4,5,6,7,8,9,10,11,12,13,{"$f":"IF(D519=\"Yes\",IF('Financial Information'!$L519=$O519,\"\",14),IF('Financial Information'!$L519=0,\"\",14))","v":14},"","",true,true,true,true,true,true,true,true,true,true,true,true,true,true,false]
[null,{"$f":"'Scheme and Member Information'!B520","v":0},{"$f":"'Scheme and Member Information'!C520","v":0},null,null,null,null,null,null,null,null,null,null,null,"",null,{"$f":"IF(S520,VLOOKUP(MIN(T520:AI520),'Data Validation (hidden)'!$B$30:$C$45,2,FALSE),IF(COUNTA(D520:N520)>0,\"'Scheme Name' missing but values entered in other columns\",\"\"))","v":""},null,false,1,2,3,4,5,6,7,8,9,10,11,12,13,{"$f":"IF(D520=\"Yes\",IF('Financial Information'!$L520=$O520,\"\",14),IF('Financial Information'!$L520=0,\"\",14))","v":14},"","",{"$f":"IF(CELL(\"format\", B520) = \"G\",TRUE,FALSE)","v":true},{"$f":"IF(CELL(\"format\", C520) = \"F0\",TRUE,FALSE)","v":true},{"$f":"IF(CELL(\"format\",D515)=\"G\",TRUE,FALSE)","v":true},{"$f":"IF( CELL(\"format\",E520) = \"C0\",TRUE,FALSE)","v":true},{"$f":"IF( CELL(\"format\",F520) = \"C0\",TRUE,FALSE)","v":true},{"$f":"IF( CELL(\"format\",G520) = \"C0\",TRUE,FALSE)","v":true},{"$f":"IF( CELL(\"format\",H520) = \"C0\",TRUE,FALSE)","v":true},{"$f":"IF( CELL(\"format\",I520) = \"C0\",TRUE,FALSE)","v":true},{"$f":"IF( CELL(\"format\",J520) = \"C0\",TRUE,FALSE)","v":true},{"$f":"IF( CELL(\"format\",K520) = \"C0\",TRUE,FALSE)","v":true},{"$f":"IF( CELL(\"format\",L520) = \"C0\",TRUE,FALSE)","v":true},{"$f":"IF( CELL(\"format\",M520) = \"C0\",TRUE,FALSE)","v":true},{"$f":"IF( CELL(\"format\",N520) = \"C0\",TRUE,FALSE)","v":true},{"$f":"IF( CELL(\"format\",O520) = \"C0\",TRUE,FALSE)","v":true},{"$f":"IF(Q520=\"\",FALSE,IF(Q520=\"OK\",FALSE,TRUE))","v":false}]
[null,{"$f":"'Scheme and Member Information'!B521","v":0},{"$f":"'Scheme and Member Information'!C521","v":0},null,null,null,null,null,null,null,null,null,null,null,{"$f":"IF(OR(E521<>\"\",F521<>\"\",G521<>\"\",H521<>\"\",I521<>\"\",J521<>\"\",K521<>\"\",L521<>\"\",M521<>\"\",N521<>\"\"),SUM(E521:N521),\"\")","v":""},null,{"$f":"IF(S521,VLOOKUP(MIN(T521:AI521),'Data Validation (hidden)'!$B$30:$C$45,2,FALSE),IF(COUNTA(D521:N521)>0,\"'Scheme Name' missing but values entered in other columns\",\"\"))","v":""},null,{"$f":"AND(B521<>\"\",B521<>0)","v":false},{"$f":"IF(C521=\"\",1,IF(C521=0,1,\"\"))","v":1},{"$f":"IF(D521=\"\",2,\"\")","v":2},{"$f":"IF(E521=\"\",IF(D521=\"No\",\"\",3),\"\")","v":3},{"$f":"IF(F521=\"\",IF(D521=\"No\",\"\",4),\"\")","v":4},{"$f":"IF(G521=\"\",IF(D521=\"No\",\"\",5),\"\")","v":5},{"$f":"IF(H521=\"\",IF(D521=\"No\",\"\",6),\"\")","v":6},{"$f":"IF(I521=\"\",IF(D521=\"No\",\"\",7),\"\")","v":7},{"$f":"IF(J521=\"\",IF(D521=\"No\",\"\",8),\"\")","v":8},{"$f":"IF(K521=\"\",IF(D521=\"No\",\"\",9),\"\")","v":9},{"$f":"IF(L521=\"\",IF(D521=\"No\",\"\",10),\"\")","v":10},{"$f":"IF(M521=\"\",IF(D521=\"No\",\"\",11),\"\")","v":11},{"$f":"IF(N521=\"\",IF(D521=\"No\",\"\",12),\"\")","v":12},{"$f":"IF(O521=\"\",IF(D521=\"No\",\"\",13),\"\")","v":13},{"$f":"IF(D521=\"Yes\",IF('Financial Information'!$L521=$O521,\"\",14),IF('Financial Information'!$L521=0,\"\",14))","v":14},{"$f":"IF(COUNT(T521:AG521)=0,\"10\",\"\")","v":""},{"$f":"IF(AND(AJ521,AK521,AL521,AM521,AN521,AO521,AP521,AQ521,AR521,AS521,AT521,AU521,AV521,AW521)=TRUE,\"\",15)","v":""},true,true,true,true,true,true,true,true,true,true,true,true,true,true,false]
[null,{"$f":"'Scheme and Member Information'!B522","v":0},{"$f":"'Scheme and Member Information'!C522","v":0},null,null,null,null,null,null,null,null,null,null,null,"",null,{"$f":"IF(S522,VLOOKUP(MIN(T522:AI522),'Data Validation (hidden)'!$B$30:$C$45,2,FALSE),IF(COUNTA(D522:N522)>0,\"'Scheme Name' missing but values entered in other columns\",\"\"))","v":""},null,false,1,2,3,4,5,6,7,8,9,10,11,12,13,{"$f":"IF(D522=\"Yes\",IF('Financial Information'!$L522=$O522,\"\",14),IF('Financial Information'!$L522=0,\"\",14))","v":14},"","",true,true,true,true,true,true,true,true,true,true,true,true,true,true,false]
[null,{"$f":"'Scheme and Member Information'!B523","v":0},{"$f":"'Scheme and Member Information'!C523","v":0},null,null,null,null,null,null,null,null,null,null,null,"",null,{"$f":"IF(S523,VLOOKUP(MIN(T523:AI523),'Data Validation (hidden)'!$B$30:$C$45,2,FALSE),IF(COUNTA(D523:N523)>0,\"'Scheme Name' missing but values entered in other columns\",\"\"))","v":""},null,false,1,2,3,4,5,6,7,8,9,10,11,12,13,{"$f":"IF(D523=\"Yes\",IF('Financial Information'!$L523=$O523,\"\",14),IF('Financial Information'!$L523=0,\"\",14))","v":14},"","",true,true,true,true,true,true,true,true,true,true,true,true,true,true,false]
[null,{"$f":"'Scheme and Member Information'!B524","v":0},{"$f":"'Scheme and Member Information'!C524","v":0},null,null,null,null,null,null,null,null,null,null,null,"",null,{"$f":"IF(S524,VLOOKUP(MIN(T524:AI524),'Data Validation (hidden)'!$B$30:$C$45,2,FALSE),IF(COUNTA(D524:N524)>0,\"'Scheme Name' missing but values entered in other columns\",\"\"))","v":""},null,false,1,2,3,4,5,6,7,8,9,10,11,12,13,{"$f":"IF(D524=\"Yes\",IF('Financial Information'!$L524=$O524,\"\",14),IF('Financial Information'!$L524=0,\"\",14))","v":14},"","",true,true,true,true,true,true,true,true,true,true,true,true,true,true,false]
[null,{"$f":"'Scheme and Member Information'!B525","v":0},{"$f":"'Scheme and Member Information'!C525","v":0},null,null,null,null,null,null,null,null,null,null,null,"",null,{"$f":"IF(S525,VLOOKUP(MIN(T525:AI525),'Data Validation (hidden)'!$B$30:$C$45,2,FALSE),IF(COUNTA(D525:N525)>0,\"'Scheme Name' missing but values entered in other columns\",\"\"))","v":""},null,false,1,2,3,4,5,6,7,8,9,10,11,12,13,{"$f":"IF(D525=\"Yes\",IF('Financial Information'!$L525=$O525,\"\",14),IF('Financial Information'!$L525=0,\"\",14))","v":14},"","",true,true,true,true,true,true,true,true,true,true,true,true,true,true,false]
[null,{"$f":"'Scheme and Member Information'!B526","v":0},{"$f":"'Scheme and Member Information'!C526","v":0},null,null,null,null,null,null,null,null,null,null,null,"",null,{"$f":"IF(S526,VLOOKUP(MIN(T526:AI526),'Data Validation (hidden)'!$B$30:$C$45,2,FALSE),IF(COUNTA(D526:N526)>0,\"'Scheme Name' missing but values entered in other columns\",\"\"))","v":""},null,false,1,2,3,4,5,6,7,8,9,10,11,12,13,{"$f":"IF(D526=\"Yes\",IF('Financial Information'!$L526=$O526,\"\",14),IF('Financial Information'!$L526=0,\"\",14))","v":14},"","",true,true,true,true,true,true,true,true,true,true,true,true,true,true,false]
[null,{"$f":"'Scheme and Member Information'!B527","v":0},{"$f":"'Scheme and Member Information'!C527","v":0},null,null,null,null,null,null,null,null,null,null,null,"",null,{"$f":"IF(S527,VLOOKUP(MIN(T527:AI527),'Data Validation (hidden)'!$B$30:$C$45,2,FALSE),IF(COUNTA(D527:N527)>0,\"'Scheme Name' missing but values entered in other columns\",\"\"))","v":""},null,false,1,2,3,4,5,6,7,8,9,10,11,12,13,{"$f":"IF(D527=\"Yes\",IF('Financial Information'!$L527=$O527,\"\",14),IF('Financial Information'!$L527=0,\"\",14))","v":14},"","",true,true,true,true,true,true,true,true,true,true,true,true,true,true,false]
[null,{"$f":"'Scheme and Member Information'!B528","v":0},{"$f":"'Scheme and Member Information'!C528","v":0},null,null,null,null,null,null,null,null,null,null,null,"",null,{"$f":"IF(S528,VLOOKUP(MIN(T528:AI528),'Data Validation (hidden)'!$B$30:$C$45,2,FALSE),IF(COUNTA(D528:N528)>0,\"'Scheme Name' missing but values entered in other columns\",\"\"))","v":""},null,false,1,2,3,4,5,6,7,8,9,10,11,12,13,{"$f":"IF(D528=\"Yes\",IF('Financial Information'!$L528=$O528,\"\",14),IF('Financial Information'!$L528=0,\"\",14))","v":14},"","",true,true,true,true,true,true,true,true,true,true,true,true,true,true,false]
[null,{"$f":"'Scheme and Member Information'!B529","v":0},{"$f":"'Scheme and Member Information'!C529","v":0},null,null,null,null,null,null,null,null,null,null,null,"",null,{"$f":"IF(S529,VLOOKUP(MIN(T529:AI529),'Data Validation (hidden)'!$B$30:$C$45,2,FALSE),IF(COUNTA(D529:N529)>0,\"'Scheme Name' missing but values entered in other columns\",\"\"))","v":""},null,false,1,2,3,4,5,6,7,8,9,10,11,12,13,{"$f":"IF(D529=\"Yes\",IF('Financial Information'!$L529=$O529,\"\",14),IF('Financial Information'!$L529=0,\"\",14))","v":14},"","",true,true,true,true,true,true,true,true,true,true,true,true,true,true,false]
[null,{"$f":"'Scheme and Member Information'!B530","v":0},{"$f":"'Scheme and Member Information'!C530","v":0},null,null,null,null,null,null,null,null,null,null,null,"",null,{"$f":"IF(S530,VLOOKUP(MIN(T530:AI530),'Data Validation (hidden)'!$B$30:$C$45,2,FALSE),IF(COUNTA(D530:N530)>0,\"'Scheme Name' missing but values entered in other columns\",\"\"))","v":""},null,false,1,2,3,4,5,6,7,8,9,10,11,12,13,{"$f":"IF(D530=\"Yes\",IF('Financial Information'!$L530=$O530,\"\",14),IF('Financial Information'!$L530=0,\"\",14))","v":14},"","",true,true,true,true,true,true,true,true,true,true,true,true,true,true,false]
[null,{"$f":"'Scheme and Member Information'!B531","v":0},{"$f":"'Scheme and Member Information'!C531","v":0},null,null,null,null,null,null,null,null,null,null,null,"",null,{"$f":"IF(S531,VLOOKUP(MIN(T531:AI531),'Data Validation (hidden)'!$B$30:$C$45,2,FALSE),IF(COUNTA(D531:N531)>0,\"'Scheme Name' missing but values entered in other columns\",\"\"))","v":""},null,false,1,2,3,4,5,6,7,8,9,10,11,12,13,{"$f":"IF(D531=\"Yes\",IF('Financial Information'!$L531=$O531,\"\",14),IF('Financial Information'!$L531=0,\"\",14))","v":14},"","",true,true,true,true,true,true,true,true,true,true,true,true,true,true,false]
[null,{"$f":"'Scheme and Member Information'!B532","v":0},{"$f":"'Scheme and Member Information'!C532","v":0},null,null,null,null,null,null,null,null,null,null,null,"",null,{"$f":"IF(S532,VLOOKUP(MIN(T532:AI532),'Data Validation (hidden)'!$B$30:$C$45,2,FALSE),IF(COUNTA(D532:N532)>0,\"'Scheme Name' missing but values entered in other columns\",\"\"))","v":""},null,false,1,2,3,4,5,6,7,8,9,10,11,12,13,{"$f":"IF(D532=\"Yes\",IF('Financial Information'!$L532=$O532,\"\",14),IF('Financial Information'!$L532=0,\"\",14))","v":14},"","",true,true,true,true,true,true,true,true,true,true,true,true,true,true,false]
[null,{"$f":"'Scheme and Member Information'!B533","v":0},{"$f":"'Scheme and Member Information'!C533","v":0},null,null,null,null,null,null,null,null,null,null,null,"",null,{"$f":"IF(S533,VLOOKUP(MIN(T533:AI533),'Data Validation (hidden)'!$B$30:$C$45,2,FALSE),IF(COUNTA(D533:N533)>0,\"'Scheme Name' missing but values entered in other columns\",\"\"))","v":""},null,false,1,2,3,4,5,6,7,8,9,10,11,12,13,{"$f":"IF(D533=\"Yes\",IF('Financial Information'!$L533=$O533,\"\",14),IF('Financial Information'!$L533=0,\"\",14))","v":14},"","",true,true,true,true,true,true,true,true,true,true,true,true,true,true,false]
[null,{"$f":"'Scheme and Member Information'!B534","v":0},{"$f":"'Scheme and Member Information'!C534","v":0},null,null,null,null,null,null,null,null,null,null,null,"",null,{"$f":"IF(S534,VLOOKUP(MIN(T534:AI534),'Data Validation (hidden)'!$B$30:$C$45,2,FALSE),IF(COUNTA(D534:N534)>0,\"'Scheme Name' missing but values entered in other columns\",\"\"))","v":""},null,false,1,2,3,4,5,6,7,8,9,10,11,12,13,{"$f":"IF(D534=\"Yes\",IF('Financial Information'!$L534=$O534,\"\",14),IF('Financial Information'!$L534=0,\"\",14))","v":14},"","",true,true,true,true,true,true,true,true,true,true,true,true,true,true,false]
[null,{"$f":"'Scheme and Member Information'!B535","v":0},{"$f":"'Scheme and Member Information'!C535","v":0},null,null,null,null,null,null,null,null,null,null,null,"",null,{"$f":"IF(S535,VLOOKUP(MIN(T535:AI535),'Data Validation (hidden)'!$B$30:$C$45,2,FALSE),IF(COUNTA(D535:N535)>0,\"'Scheme Name' missing but values entered in other columns\",\"\"))","v":""},null,false,1,2,3,4,5,6,7,8,9,10,11,12,13,{"$f":"IF(D535=\"Yes\",IF('Financial Information'!$L535=$O535,\"\",14),IF('Financial Information'!$L535=0,\"\",14))","v":14},"","",true,true,true,true,true,true,true,true,true,true,true,true,true,true,false]
[null,{"$f":"'Scheme and Member Information'!B536","v":0},{"$f":"'Scheme and Member Information'!C536","v":0},null,null,null,null,null,null,null,null,null,null,null,"",null,{"$f":"IF(S536,VLOOKUP(MIN(T536:AI536),'Data Validation (hidden)'!$B$30:$C$45,2,FALSE),IF(COUNTA(D536:N536)>0,\"'Scheme Name' missing but values entered in other columns\",\"\"))","v":""},null,false,1,2,3,4,5,6,7,8,9,10,11,12,13,{"$f":"IF(D536=\"Yes\",IF('Financial Information'!$L536=$O536,\"\",14),IF('Financial Information'!$L536=0,\"\",14))","v":14},"","",true,true,true,true,true,true,true,true,true,true,true,true,true,true,false]
[null,{"$f":"'Scheme and Member Information'!B537","v":0},{"$f":"'Scheme and Member Information'!C537","v":0},null,null,null,null,null,null,null,null,null,null,null,"",null,{"$f":"IF(S537,VLOOKUP(MIN(T537:AI537),'Data Validation (hidden)'!$B$30:$C$45,2,FALSE),IF(COUNTA(D537:N537)>0,\"'Scheme Name' missing but values entered in other columns\",\"\"))","v":""},null,false,1,2,3,4,5,6,7,8,9,10,11,12,13,{"$f":"IF(D537=\"Yes\",IF('Financial Information'!$L537=$O537,\"\",14),IF('Financial Information'!$L537=0,\"\",14))","v":14},"","",true,true,true,true,true,true,true,true,true,true,true,true,true,true,false]
[null,{"$f":"'Scheme and Member Information'!B538","v":0},{"$f":"'Scheme and Member Information'!C538","v":0},null,null,null,null,null,null,null,null,null,null,null,"",null,{"$f":"IF(S538,VLOOKUP(MIN(T538:AI538),'Data Validation (hidden)'!$B$30:$C$45,2,FALSE),IF(COUNTA(D538:N538)>0,\"'Scheme Name' missing but values entered in other columns\",\"\"))","v":""},null,false,1,2,3,4,5,6,7,8,9,10,11,12,13,{"$f":"IF(D538=\"Yes\",IF('Financial Information'!$L538=$O538,\"\",14),IF('Financial Information'!$L538=0,\"\",14))","v":14},"","",true,true,true,true,true,true,true,true,true,true,true,true,true,true,false]
[null,{"$f":"'Scheme and Member Information'!B539","v":0},{"$f":"'Scheme and Member Information'!C539","v":0},null,null,null,null,null,null,null,null,null,null,null,"",null,{"$f":"IF(S539,VLOOKUP(MIN(T539:AI539),'Data Validation (hidden)'!$B$30:$C$45,2,FALSE),IF(COUNTA(D539:N539)>0,\"'Scheme Name' missing but values entered in other columns\",\"\"))","v":""},null,false,1,2,3,4,5,6,7,8,9,10,11,12,13,{"$f":"IF(D539=\"Yes\",IF('Financial Information'!$L539=$O539,\"\",14),IF('Financial Information'!$L539=0,\"\",14))","v":14},"","",true,true,true,true,true,true,true,true,true,true,true,true,true,true,false]
[null,{"$f":"'Scheme and Member Information'!B540","v":0},{"$f":"'Scheme and Member Information'!C540","v":0},null,null,null,null,null,null,null,null,null,null,null,"",null,{"$f":"IF(S540,VLOOKUP(MIN(T540:AI540),'Data Validation (hidden)'!$B$30:$C$45,2,FALSE),IF(COUNTA(D540:N540)>0,\"'Scheme Name' missing but values entered in other columns\",\"\"))","v":""},null,false,1,2,3,4,5,6,7,8,9,10,11,12,13,{"$f":"IF(D540=\"Yes\",IF('Financial Information'!$L540=$O540,\"\",14),IF('Financial Information'!$L540=0,\"\",14))","v":14},"","",true,true,true,true,true,true,true,true,true,true,true,true,true,true,false]
[null,{"$f":"'Scheme and Member Information'!B541","v":0},{"$f":"'Scheme and Member Information'!C541","v":0},null,null,null,null,null,null,null,null,null,null,null,"",null,{"$f":"IF(S541,VLOOKUP(MIN(T541:AI541),'Data Validation (hidden)'!$B$30:$C$45,2,FALSE),IF(COUNTA(D541:N541)>0,\"'Scheme Name' missing but values entered in other columns\",\"\"))","v":""},null,false,1,2,3,4,5,6,7,8,9,10,11,12,13,{"$f":"IF(D541=\"Yes\",IF('Financial Information'!$L541=$O541,\"\",14),IF('Financial Information'!$L541=0,\"\",14))","v":14},"","",true,true,true,true,true,true,true,true,true,true,true,true,true,true,false]
[null,{"$f":"'Scheme and Member Information'!B542","v":0},{"$f":"'Scheme and Member Information'!C542","v":0},null,null,null,null,null,null,null,null,null,null,null,"",null,{"$f":"IF(S542,VLOOKUP(MIN(T542:AI542),'Data Validation (hidden)'!$B$30:$C$45,2,FALSE),IF(COUNTA(D542:N542)>0,\"'Scheme Name' missing but values entered in other columns\",\"\"))","v":""},null,false,1,2,3,4,5,6,7,8,9,10,11,12,13,{"$f":"IF(D542=\"Yes\",IF('Financial Information'!$L542=$O542,\"\",14),IF('Financial Information'!$L542=0,\"\",14))","v":14},"","",true,true,true,true,true,true,true,true,true,true,true,true,true,true,false]
[null,{"$f":"'Scheme and Member Information'!B543","v":0},{"$f":"'Scheme and Member Information'!C543","v":0},null,null,null,null,null,null,null,null,null,null,null,"",null,{"$f":"IF(S543,VLOOKUP(MIN(T543:AI543),'Data Validation (hidden)'!$B$30:$C$45,2,FALSE),IF(COUNTA(D543:N543)>0,\"'Scheme Name' missing but values entered in other columns\",\"\"))","v":""},null,false,1,2,3,4,5,6,7,8,9,10,11,12,13,{"$f":"IF(D543=\"Yes\",IF('Financial Information'!$L543=$O543,\"\",14),IF('Financial Information'!$L543=0,\"\",14))","v":14},"","",true,true,true,true,true,true,true,true,true,true,true,true,true,true,false]
[null,{"$f":"'Scheme and Member Information'!B544","v":0},{"$f":"'Scheme and Member Information'!C544","v":0},null,null,null,null,null,null,null,null,null,null,null,"",null,{"$f":"IF(S544,VLOOKUP(MIN(T544:AI544),'Data Validation (hidden)'!$B$30:$C$45,2,FALSE),IF(COUNTA(D544:N544)>0,\"'Scheme Name' missing but values entered in other columns\",\"\"))","v":""},null,false,1,2,3,4,5,6,7,8,9,10,11,12,13,{"$f":"IF(D544=\"Yes\",IF('Financial Information'!$L544=$O544,\"\",14),IF('Financial Information'!$L544=0,\"\",14))","v":14},"","",true,true,true,true,true,true,true,true,true,true,true,true,true,true,false]
[null,{"$f":"'Scheme and Member Information'!B545","v":0},{"$f":"'Scheme and Member Information'!C545","v":0},null,null,null,null,null,null,null,null,null,null,null,"",null,{"$f":"IF(S545,VLOOKUP(MIN(T545:AI545),'Data Validation (hidden)'!$B$30:$C$45,2,FALSE),IF(COUNTA(D545:N545)>0,\"'Scheme Name' missing but values entered in other columns\",\"\"))","v":""},null,false,1,2,3,4,5,6,7,8,9,10,11,12,13,{"$f":"IF(D545=\"Yes\",IF('Financial Information'!$L545=$O545,\"\",14),IF('Financial Information'!$L545=0,\"\",14))","v":14},"","",true,true,true,true,true,true,true,true,true,true,true,true,true,true,false]
[null,{"$f":"'Scheme and Member Information'!B546","v":0},{"$f":"'Scheme and Member Information'!C546","v":0},null,null,null,null,null,null,null,null,null,null,null,"",null,{"$f":"IF(S546,VLOOKUP(MIN(T546:AI546),'Data Validation (hidden)'!$B$30:$C$45,2,FALSE),IF(COUNTA(D546:N546)>0,\"'Scheme Name' missing but values entered in other columns\",\"\"))","v":""},null,false,1,2,3,4,5,6,7,8,9,10,11,12,13,{"$f":"IF(D546=\"Yes\",IF('Financial Information'!$L546=$O546,\"\",14),IF('Financial Information'!$L546=0,\"\",14))","v":14},"","",true,true,true,true,true,true,true,true,true,true,true,true,true,true,false]
[null,{"$f":"'Scheme and Member Information'!B547","v":0},{"$f":"'Scheme and Member Information'!C547","v":0},null,null,null,null,null,null,null,null,null,null,null,"",null,{"$f":"IF(S547,VLOOKUP(MIN(T547:AI547),'Data Validation (hidden)'!$B$30:$C$45,2,FALSE),IF(COUNTA(D547:N547)>0,\"'Scheme Name' missing but values entered in other columns\",\"\"))","v":""},null,false,1,2,3,4,5,6,7,8,9,10,11,12,13,{"$f":"IF(D547=\"Yes\",IF('Financial Information'!$L547=$O547,\"\",14),IF('Financial Information'!$L547=0,\"\",14))","v":14},"","",true,true,true,true,true,true,true,true,true,true,true,true,true,true,false]
[null,{"$f":"'Scheme and Member Information'!B548","v":0},{"$f":"'Scheme and Member Information'!C548","v":0},null,null,null,null,null,null,null,null,null,null,null,"",null,{"$f":"IF(S548,VLOOKUP(MIN(T548:AI548),'Data Validation (hidden)'!$B$30:$C$45,2,FALSE),IF(COUNTA(D548:N548)>0,\"'Scheme Name' missing but values entered in other columns\",\"\"))","v":""},null,false,1,2,3,4,5,6,7,8,9,10,11,12,13,{"$f":"IF(D548=\"Yes\",IF('Financial Information'!$L548=$O548,\"\",14),IF('Financial Information'!$L548=0,\"\",14))","v":14},"","",true,true,true,true,true,true,true,true,true,true,true,true,true,true,false]
[null,{"$f":"'Scheme and Member Information'!B549","v":0},{"$f":"'Scheme and Member Information'!C549","v":0},null,null,null,null,null,null,null,null,null,null,null,"",null,{"$f":"IF(S549,VLOOKUP(MIN(T549:AI549),'Data Validation (hidden)'!$B$30:$C$45,2,FALSE),IF(COUNTA(D549:N549)>0,\"'Scheme Name' missing but values entered in other columns\",\"\"))","v":""},null,false,1,2,3,4,5,6,7,8,9,10,11,12,13,{"$f":"IF(D549=\"Yes\",IF('Financial Information'!$L549=$O549,\"\",14),IF('Financial Information'!$L549=0,\"\",14))","v":14},"","",true,true,true,true,true,true,true,true,true,true,true,true,true,true,false]
[null,{"$f":"'Scheme and Member Information'!B550","v":0},{"$f":"'Scheme and Member Information'!C550","v":0},null,null,null,null,null,null,null,null,null,null,null,"",null,{"$f":"IF(S550,VLOOKUP(MIN(T550:AI550),'Data Validation (hidden)'!$B$30:$C$45,2,FALSE),IF(COUNTA(D550:N550)>0,\"'Scheme Name' missing but values entered in other columns\",\"\"))","v":""},null,false,1,2,3,4,5,6,7,8,9,10,11,12,13,{"$f":"IF(D550=\"Yes\",IF('Financial Information'!$L550=$O550,\"\",14),IF('Financial Information'!$L550=0,\"\",14))","v":14},"","",true,true,true,true,true,true,true,true,true,true,true,true,true,true,false]
[null,{"$f":"'Scheme and Member Information'!B551","v":0},{"$f":"'Scheme and Member Information'!C551","v":0},null,null,null,null,null,null,null,null,null,null,null,"",null,{"$f":"IF(S551,VLOOKUP(MIN(T551:AI551),'Data Validation (hidden)'!$B$30:$C$45,2,FALSE),IF(COUNTA(D551:N551)>0,\"'Scheme Name' missing but values entered in other columns\",\"\"))","v":""},null,false,1,2,3,4,5,6,7,8,9,10,11,12,13,{"$f":"IF(D551=\"Yes\",IF('Financial Information'!$L551=$O551,\"\",14),IF('Financial Information'!$L551=0,\"\",14))","v":14},"","",true,true,true,true,true,true,true,true,true,true,true,true,true,true,false]
[null,{"$f":"'Scheme and Member Information'!B552","v":0},{"$f":"'Scheme and Member Information'!C552","v":0},null,null,null,null,null,null,null,null,null,null,null,"",null,{"$f":"IF(S552,VLOOKUP(MIN(T552:AI552),'Data Validation (hidden)'!$B$30:$C$45,2,FALSE),IF(COUNTA(D552:N552)>0,\"'Scheme Name' missing but values entered in other columns\",\"\"))","v":""},null,false,1,2,3,4,5,6,7,8,9,10,11,12,13,{"$f":"IF(D552=\"Yes\",IF('Financial Information'!$L552=$O552,\"\",14),IF('Financial Information'!$L552=0,\"\",14))","v":14},"","",true,true,true,true,true,true,true,true,true,true,true,true,true,true,false]
[null,{"$f":"'Scheme and Member Information'!B553","v":0},{"$f":"'Scheme and Member Information'!C553","v":0},null,null,null,null,null,null,null,null,null,null,null,"",null,{"$f":"IF(S553,VLOOKUP(MIN(T553:AI553),'Data Validation (hidden)'!$B$30:$C$45,2,FALSE),IF(COUNTA(D553:N553)>0,\"'Scheme Name' missing but values entered in other columns\",\"\"))","v":""},null,false,1,2,3,4,5,6,7,8,9,10,11,12,13,{"$f":"IF(D553=\"Yes\",IF('Financial Information'!$L553=$O553,\"\",14),IF('Financial Information'!$L553=0,\"\",14))","v":14},"","",true,true,true,true,true,true,true,true,true,true,true,true,true,true,false]
[null,{"$f":"'Scheme and Member Information'!B554","v":0},{"$f":"'Scheme and Member Information'!C554","v":0},null,null,null,null,null,null,null,null,null,null,null,"",null,{"$f":"IF(S554,VLOOKUP(MIN(T554:AI554),'Data Validation (hidden)'!$B$30:$C$45,2,FALSE),IF(COUNTA(D554:N554)>0,\"'Scheme Name' missing but values entered in other columns\",\"\"))","v":""},null,false,1,2,3,4,5,6,7,8,9,10,11,12,13,{"$f":"IF(D554=\"Yes\",IF('Financial Information'!$L554=$O554,\"\",14),IF('Financial Information'!$L554=0,\"\",14))","v":14},"","",true,true,true,true,true,true,true,true,true,true,true,true,true,true,false]
[null,{"$f":"'Scheme and Member Information'!B555","v":0},{"$f":"'Scheme and Member Information'!C555","v":0},null,null,null,null,null,null,null,null,null,null,null,"",null,{"$f":"IF(S555,VLOOKUP(MIN(T555:AI555),'Data Validation (hidden)'!$B$30:$C$45,2,FALSE),IF(COUNTA(D555:N555)>0,\"'Scheme Name' missing but values entered in other columns\",\"\"))","v":""},null,false,1,2,3,4,5,6,7,8,9,10,11,12,13,{"$f":"IF(D555=\"Yes\",IF('Financial Information'!$L555=$O555,\"\",14),IF('Financial Information'!$L555=0,\"\",14))","v":14},"","",true,true,true,true,true,true,true,true,true,true,true,true,true,true,false]
[null,{"$f":"'Scheme and Member Information'!B556","v":0},{"$f":"'Scheme and Member Information'!C556","v":0},null,null,null,null,null,null,null,null,null,null,null,"",null,{"$f":"IF(S556,VLOOKUP(MIN(T556:AI556),'Data Validation (hidden)'!$B$30:$C$45,2,FALSE),IF(COUNTA(D556:N556)>0,\"'Scheme Name' missing but values entered in other columns\",\"\"))","v":""},null,false,1,2,3,4,5,6,7,8,9,10,11,12,13,{"$f":"IF(D556=\"Yes\",IF('Financial Information'!$L556=$O556,\"\",14),IF('Financial Information'!$L556=0,\"\",14))","v":14},"","",true,true,true,true,true,true,true,true,true,true,true,true,true,true,false]
[null,{"$f":"'Scheme and Member Information'!B557","v":0},{"$f":"'Scheme and Member Information'!C557","v":0},null,null,null,null,null,null,null,null,null,null,null,"",null,{"$f":"IF(S557,VLOOKUP(MIN(T557:AI557),'Data Validation (hidden)'!$B$30:$C$45,2,FALSE),IF(COUNTA(D557:N557)>0,\"'Scheme Name' missing but values entered in other columns\",\"\"))","v":""},null,false,1,2,3,4,5,6,7,8,9,10,11,12,13,{"$f":"IF(D557=\"Yes\",IF('Financial Information'!$L557=$O557,\"\",14),IF('Financial Information'!$L557=0,\"\",14))","v":14},"","",true,true,true,true,true,true,true,true,true,true,true,true,true,true,false]
[null,{"$f":"'Scheme and Member Information'!B558","v":0},{"$f":"'Scheme and Member Information'!C558","v":0},null,null,null,null,null,null,null,null,null,null,null,"",null,{"$f":"IF(S558,VLOOKUP(MIN(T558:AI558),'Data Validation (hidden)'!$B$30:$C$45,2,FALSE),IF(COUNTA(D558:N558)>0,\"'Scheme Name' missing but values entered in other columns\",\"\"))","v":""},null,false,1,2,3,4,5,6,7,8,9,10,11,12,13,{"$f":"IF(D558=\"Yes\",IF('Financial Information'!$L558=$O558,\"\",14),IF('Financial Information'!$L558=0,\"\",14))","v":14},"","",true,true,true,true,true,true,true,true,true,true,true,true,true,true,false]
[null,{"$f":"'Scheme and Member Information'!B559","v":0},{"$f":"'Scheme and Member Information'!C559","v":0},null,null,null,null,null,null,null,null,null,null,null,"",null,{"$f":"IF(S559,VLOOKUP(MIN(T559:AI559),'Data Validation (hidden)'!$B$30:$C$45,2,FALSE),IF(COUNTA(D559:N559)>0,\"'Scheme Name' missing but values entered in other columns\",\"\"))","v":""},null,false,1,2,3,4,5,6,7,8,9,10,11,12,13,{"$f":"IF(D559=\"Yes\",IF('Financial Information'!$L559=$O559,\"\",14),IF('Financial Information'!$L559=0,\"\",14))","v":14},"","",true,true,true,true,true,true,true,true,true,true,true,true,true,true,false]
[null,{"$f":"'Scheme and Member Information'!B560","v":0},{"$f":"'Scheme and Member Information'!C560","v":0},null,null,null,null,null,null,null,null,null,null,null,"",null,{"$f":"IF(S560,VLOOKUP(MIN(T560:AI560),'Data Validation (hidden)'!$B$30:$C$45,2,FALSE),IF(COUNTA(D560:N560)>0,\"'Scheme Name' missing but values entered in other columns\",\"\"))","v":""},null,false,1,2,3,4,5,6,7,8,9,10,11,12,13,{"$f":"IF(D560=\"Yes\",IF('Financial Information'!$L560=$O560,\"\",14),IF('Financial Information'!$L560=0,\"\",14))","v":14},"","",true,true,true,true,true,true,true,true,true,true,true,true,true,true,false]
[null,{"$f":"'Scheme and Member Information'!B561","v":0},{"$f":"'Scheme and Member Information'!C561","v":0},null,null,null,null,null,null,null,null,null,null,null,"",null,{"$f":"IF(S561,VLOOKUP(MIN(T561:AI561),'Data Validation (hidden)'!$B$30:$C$45,2,FALSE),IF(COUNTA(D561:N561)>0,\"'Scheme Name' missing but values entered in other columns\",\"\"))","v":""},null,false,1,2,3,4,5,6,7,8,9,10,11,12,13,{"$f":"IF(D561=\"Yes\",IF('Financial Information'!$L561=$O561,\"\",14),IF('Financial Information'!$L561=0,\"\",14))","v":14},"","",true,true,true,true,true,true,true,true,true,true,true,true,true,true,false]
[null,{"$f":"'Scheme and Member Information'!B562","v":0},{"$f":"'Scheme and Member Information'!C562","v":0},null,null,null,null,null,null,null,null,null,null,null,"",null,{"$f":"IF(S562,VLOOKUP(MIN(T562:AI562),'Data Validation (hidden)'!$B$30:$C$45,2,FALSE),IF(COUNTA(D562:N562)>0,\"'Scheme Name' missing but values entered in other columns\",\"\"))","v":""},null,false,1,2,3,4,5,6,7,8,9,10,11,12,13,{"$f":"IF(D562=\"Yes\",IF('Financial Information'!$L562=$O562,\"\",14),IF('Financial Information'!$L562=0,\"\",14))","v":14},"","",true,true,true,true,true,true,true,true,true,true,true,true,true,true,false]
[null,{"$f":"'Scheme and Member Information'!B563","v":0},{"$f":"'Scheme and Member Information'!C563","v":0},null,null,null,null,null,null,null,null,null,null,null,"",null,{"$f":"IF(S563,VLOOKUP(MIN(T563:AI563),'Data Validation (hidden)'!$B$30:$C$45,2,FALSE),IF(COUNTA(D563:N563)>0,\"'Scheme Name' missing but values entered in other columns\",\"\"))","v":""},null,false,1,2,3,4,5,6,7,8,9,10,11,12,13,{"$f":"IF(D563=\"Yes\",IF('Financial Information'!$L563=$O563,\"\",14),IF('Financial Information'!$L563=0,\"\",14))","v":14},"","",true,true,true,true,true,true,true,true,true,true,true,true,true,true,false]
[null,{"$f":"'Scheme and Member Information'!B564","v":0},{"$f":"'Scheme and Member Information'!C564","v":0},null,null,null,null,null,null,null,null,null,null,null,"",null,{"$f":"IF(S564,VLOOKUP(MIN(T564:AI564),'Data Validation (hidden)'!$B$30:$C$45,2,FALSE),IF(COUNTA(D564:N564)>0,\"'Scheme Name' missing but values entered in other columns\",\"\"))","v":""},null,false,1,2,3,4,5,6,7,8,9,10,11,12,13,{"$f":"IF(D564=\"Yes\",IF('Financial Information'!$L564=$O564,\"\",14),IF('Financial Information'!$L564=0,\"\",14))","v":14},"","",true,true,true,true,true,true,true,true,true,true,true,true,true,true,false]
[null,{"$f":"'Scheme and Member Information'!B565","v":0},{"$f":"'Scheme and Member Information'!C565","v":0},null,null,null,null,null,null,null,null,null,null,null,"",null,{"$f":"IF(S565,VLOOKUP(MIN(T565:AI565),'Data Validation (hidden)'!$B$30:$C$45,2,FALSE),IF(COUNTA(D565:N565)>0,\"'Scheme Name' missing but values entered in other columns\",\"\"))","v":""},null,false,1,2,3,4,5,6,7,8,9,10,11,12,13,{"$f":"IF(D565=\"Yes\",IF('Financial Information'!$L565=$O565,\"\",14),IF('Financial Information'!$L565=0,\"\",14))","v":14},"","",true,true,true,true,true,true,true,true,true,true,true,true,true,true,false]
[null,{"$f":"'Scheme and Member Information'!B566","v":0},{"$f":"'Scheme and Member Information'!C566","v":0},null,null,null,null,null,null,null,null,null,null,null,"",null,{"$f":"IF(S566,VLOOKUP(MIN(T566:AI566),'Data Validation (hidden)'!$B$30:$C$45,2,FALSE),IF(COUNTA(D566:N566)>0,\"'Scheme Name' missing but values entered in other columns\",\"\"))","v":""},null,false,1,2,3,4,5,6,7,8,9,10,11,12,13,{"$f":"IF(D566=\"Yes\",IF('Financial Information'!$L566=$O566,\"\",14),IF('Financial Information'!$L566=0,\"\",14))","v":14},"","",true,true,true,true,true,true,true,true,true,true,true,true,true,true,false]
[null,{"$f":"'Scheme and Member Information'!B567","v":0},{"$f":"'Scheme and Member Information'!C567","v":0},null,null,null,null,null,null,null,null,null,null,null,"",null,{"$f":"IF(S567,VLOOKUP(MIN(T567:AI567),'Data Validation (hidden)'!$B$30:$C$45,2,FALSE),IF(COUNTA(D567:N567)>0,\"'Scheme Name' missing but values entered in other columns\",\"\"))","v":""},null,false,1,2,3,4,5,6,7,8,9,10,11,12,13,{"$f":"IF(D567=\"Yes\",IF('Financial Information'!$L567=$O567,\"\",14),IF('Financial Information'!$L567=0,\"\",14))","v":14},"","",true,true,true,true,true,true,true,true,true,true,true,true,true,true,false]
[null,{"$f":"'Scheme and Member Information'!B568","v":0},{"$f":"'Scheme and Member Information'!C568","v":0},null,null,null,null,null,null,null,null,null,null,null,"",null,{"$f":"IF(S568,VLOOKUP(MIN(T568:AI568),'Data Validation (hidden)'!$B$30:$C$45,2,FALSE),IF(COUNTA(D568:N568)>0,\"'Scheme Name' missing but values entered in other columns\",\"\"))","v":""},null,false,1,2,3,4,5,6,7,8,9,10,11,12,13,{"$f":"IF(D568=\"Yes\",IF('Financial Information'!$L568=$O568,\"\",14),IF('Financial Information'!$L568=0,\"\",14))","v":14},"","",true,true,true,true,true,true,true,true,true,true,true,true,true,true,false]
[null,{"$f":"'Scheme and Member Information'!B569","v":0},{"$f":"'Scheme and Member Information'!C569","v":0},null,null,null,null,null,null,null,null,null,null,null,"",null,{"$f":"IF(S569,VLOOKUP(MIN(T569:AI569),'Data Validation (hidden)'!$B$30:$C$45,2,FALSE),IF(COUNTA(D569:N569)>0,\"'Scheme Name' missing but values entered in other columns\",\"\"))","v":""},null,false,1,2,3,4,5,6,7,8,9,10,11,12,13,{"$f":"IF(D569=\"Yes\",IF('Financial Information'!$L569=$O569,\"\",14),IF('Financial Information'!$L569=0,\"\",14))","v":14},"","",true,true,true,true,true,true,true,true,true,true,true,true,true,true,false]
[null,{"$f":"'Scheme and Member Information'!B570","v":0},{"$f":"'Scheme and Member Information'!C570","v":0},null,null,null,null,null,null,null,null,null,null,null,"",null,{"$f":"IF(S570,VLOOKUP(MIN(T570:AI570),'Data Validation (hidden)'!$B$30:$C$45,2,FALSE),IF(COUNTA(D570:N570)>0,\"'Scheme Name' missing but values entered in other columns\",\"\"))","v":""},null,false,1,2,3,4,5,6,7,8,9,10,11,12,13,{"$f":"IF(D570=\"Yes\",IF('Financial Information'!$L570=$O570,\"\",14),IF('Financial Information'!$L570=0,\"\",14))","v":14},"","",true,true,true,true,true,true,true,true,true,true,true,true,true,true,false]
[null,{"$f":"'Scheme and Member Information'!B571","v":0},{"$f":"'Scheme and Member Information'!C571","v":0},null,null,null,null,null,null,null,null,null,null,null,"",null,{"$f":"IF(S571,VLOOKUP(MIN(T571:AI571),'Data Validation (hidden)'!$B$30:$C$45,2,FALSE),IF(COUNTA(D571:N571)>0,\"'Scheme Name' missing but values entered in other columns\",\"\"))","v":""},null,false,1,2,3,4,5,6,7,8,9,10,11,12,13,{"$f":"IF(D571=\"Yes\",IF('Financial Information'!$L571=$O571,\"\",14),IF('Financial Information'!$L571=0,\"\",14))","v":14},"","",true,true,true,true,true,true,true,true,true,true,true,true,true,true,false]
[null,{"$f":"'Scheme and Member Information'!B572","v":0},{"$f":"'Scheme and Member Information'!C572","v":0},null,null,null,null,null,null,null,null,null,null,null,"",null,{"$f":"IF(S572,VLOOKUP(MIN(T572:AI572),'Data Validation (hidden)'!$B$30:$C$45,2,FALSE),IF(COUNTA(D572:N572)>0,\"'Scheme Name' missing but values entered in other columns\",\"\"))","v":""},null,false,1,2,3,4,5,6,7,8,9,10,11,12,13,{"$f":"IF(D572=\"Yes\",IF('Financial Information'!$L572=$O572,\"\",14),IF('Financial Information'!$L572=0,\"\",14))","v":14},"","",true,true,true,true,true,true,true,true,true,true,true,true,true,true,false]
[null,{"$f":"'Scheme and Member Information'!B573","v":0},{"$f":"'Scheme and Member Information'!C573","v":0},null,null,null,null,null,null,null,null,null,null,null,"",null,{"$f":"IF(S573,VLOOKUP(MIN(T573:AI573),'Data Validation (hidden)'!$B$30:$C$45,2,FALSE),IF(COUNTA(D573:N573)>0,\"'Scheme Name' missing but values entered in other columns\",\"\"))","v":""},null,false,1,2,3,4,5,6,7,8,9,10,11,12,13,{"$f":"IF(D573=\"Yes\",IF('Financial Information'!$L573=$O573,\"\",14),IF('Financial Information'!$L573=0,\"\",14))","v":14},"","",true,true,true,true,true,true,true,true,true,true,true,true,true,true,false]
[null,{"$f":"'Scheme and Member Information'!B574","v":0},{"$f":"'Scheme and Member Information'!C574","v":0},null,null,null,null,null,null,null,null,null,null,null,"",null,{"$f":"IF(S574,VLOOKUP(MIN(T574:AI574),'Data Validation (hidden)'!$B$30:$C$45,2,FALSE),IF(COUNTA(D574:N574)>0,\"'Scheme Name' missing but values entered in other columns\",\"\"))","v":""},null,false,1,2,3,4,5,6,7,8,9,10,11,12,13,{"$f":"IF(D574=\"Yes\",IF('Financial Information'!$L574=$O574,\"\",14),IF('Financial Information'!$L574=0,\"\",14))","v":14},"","",true,true,true,true,true,true,true,true,true,true,true,true,true,true,false]
[null,{"$f":"'Scheme and Member Information'!B575","v":0},{"$f":"'Scheme and Member Information'!C575","v":0},null,null,null,null,null,null,null,null,null,null,null,"",null,{"$f":"IF(S575,VLOOKUP(MIN(T575:AI575),'Data Validation (hidden)'!$B$30:$C$45,2,FALSE),IF(COUNTA(D575:N575)>0,\"'Scheme Name' missing but values entered in other columns\",\"\"))","v":""},null,false,1,2,3,4,5,6,7,8,9,10,11,12,13,{"$f":"IF(D575=\"Yes\",IF('Financial Information'!$L575=$O575,\"\",14),IF('Financial Information'!$L575=0,\"\",14))","v":14},"","",true,true,true,true,true,true,true,true,true,true,true,true,true,true,false]
[null,{"$f":"'Scheme and Member Information'!B576","v":0},{"$f":"'Scheme and Member Information'!C576","v":0},null,null,null,null,null,null,null,null,null,null,null,"",null,{"$f":"IF(S576,VLOOKUP(MIN(T576:AI576),'Data Validation (hidden)'!$B$30:$C$45,2,FALSE),IF(COUNTA(D576:N576)>0,\"'Scheme Name' missing but values entered in other columns\",\"\"))","v":""},null,false,1,2,3,4,5,6,7,8,9,10,11,12,13,{"$f":"IF(D576=\"Yes\",IF('Financial Information'!$L576=$O576,\"\",14),IF('Financial Information'!$L576=0,\"\",14))","v":14},"","",true,true,true,true,true,true,true,true,true,true,true,true,true,true,false]
[null,{"$f":"'Scheme and Member Information'!B577","v":0},{"$f":"'Scheme and Member Information'!C577","v":0},null,null,null,null,null,null,null,null,null,null,null,"",null,{"$f":"IF(S577,VLOOKUP(MIN(T577:AI577),'Data Validation (hidden)'!$B$30:$C$45,2,FALSE),IF(COUNTA(D577:N577)>0,\"'Scheme Name' missing but values entered in other columns\",\"\"))","v":""},null,false,1,2,3,4,5,6,7,8,9,10,11,12,13,{"$f":"IF(D577=\"Yes\",IF('Financial Information'!$L577=$O577,\"\",14),IF('Financial Information'!$L577=0,\"\",14))","v":14},"","",true,true,true,true,true,true,true,true,true,true,true,true,true,true,false]
[null,{"$f":"'Scheme and Member Information'!B578","v":0},{"$f":"'Scheme and Member Information'!C578","v":0},null,null,null,null,null,null,null,null,null,null,null,"",null,{"$f":"IF(S578,VLOOKUP(MIN(T578:AI578),'Data Validation (hidden)'!$B$30:$C$45,2,FALSE),IF(COUNTA(D578:N578)>0,\"'Scheme Name' missing but values entered in other columns\",\"\"))","v":""},null,false,1,2,3,4,5,6,7,8,9,10,11,12,13,{"$f":"IF(D578=\"Yes\",IF('Financial Information'!$L578=$O578,\"\",14),IF('Financial Information'!$L578=0,\"\",14))","v":14},"","",true,true,true,true,true,true,true,true,true,true,true,true,true,true,false]
[null,{"$f":"'Scheme and Member Information'!B579","v":0},{"$f":"'Scheme and Member Information'!C579","v":0},null,null,null,null,null,null,null,null,null,null,null,"",null,{"$f":"IF(S579,VLOOKUP(MIN(T579:AI579),'Data Validation (hidden)'!$B$30:$C$45,2,FALSE),IF(COUNTA(D579:N579)>0,\"'Scheme Name' missing but values entered in other columns\",\"\"))","v":""},null,false,1,2,3,4,5,6,7,8,9,10,11,12,13,{"$f":"IF(D579=\"Yes\",IF('Financial Information'!$L579=$O579,\"\",14),IF('Financial Information'!$L579=0,\"\",14))","v":14},"","",true,true,true,true,true,true,true,true,true,true,true,true,true,true,false]
[null,{"$f":"'Scheme and Member Information'!B580","v":0},{"$f":"'Scheme and Member Information'!C580","v":0},null,null,null,null,null,null,null,null,null,null,null,"",null,{"$f":"IF(S580,VLOOKUP(MIN(T580:AI580),'Data Validation (hidden)'!$B$30:$C$45,2,FALSE),IF(COUNTA(D580:N580)>0,\"'Scheme Name' missing but values entered in other columns\",\"\"))","v":""},null,false,1,2,3,4,5,6,7,8,9,10,11,12,13,{"$f":"IF(D580=\"Yes\",IF('Financial Information'!$L580=$O580,\"\",14),IF('Financial Information'!$L580=0,\"\",14))","v":14},"","",true,true,true,true,true,true,true,true,true,true,true,true,true,true,false]
[null,{"$f":"'Scheme and Member Information'!B581","v":0},{"$f":"'Scheme and Member Information'!C581","v":0},null,null,null,null,null,null,null,null,null,null,null,"",null,{"$f":"IF(S581,VLOOKUP(MIN(T581:AI581),'Data Validation (hidden)'!$B$30:$C$45,2,FALSE),IF(COUNTA(D581:N581)>0,\"'Scheme Name' missing but values entered in other columns\",\"\"))","v":""},null,false,1,2,3,4,5,6,7,8,9,10,11,12,13,{"$f":"IF(D581=\"Yes\",IF('Financial Information'!$L581=$O581,\"\",14),IF('Financial Information'!$L581=0,\"\",14))","v":14},"","",true,true,true,true,true,true,true,true,true,true,true,true,true,true,false]
[null,{"$f":"'Scheme and Member Information'!B582","v":0},{"$f":"'Scheme and Member Information'!C582","v":0},null,null,null,null,null,null,null,null,null,null,null,"",null,{"$f":"IF(S582,VLOOKUP(MIN(T582:AI582),'Data Validation (hidden)'!$B$30:$C$45,2,FALSE),IF(COUNTA(D582:N582)>0,\"'Scheme Name' missing but values entered in other columns\",\"\"))","v":""},null,false,1,2,3,4,5,6,7,8,9,10,11,12,13,{"$f":"IF(D582=\"Yes\",IF('Financial Information'!$L582=$O582,\"\",14),IF('Financial Information'!$L582=0,\"\",14))","v":14},"","",true,true,true,true,true,true,true,true,true,true,true,true,true,true,false]
[null,{"$f":"'Scheme and Member Information'!B583","v":0},{"$f":"'Scheme and Member Information'!C583","v":0},null,null,null,null,null,null,null,null,null,null,null,"",null,{"$f":"IF(S583,VLOOKUP(MIN(T583:AI583),'Data Validation (hidden)'!$B$30:$C$45,2,FALSE),IF(COUNTA(D583:N583)>0,\"'Scheme Name' missing but values entered in other columns\",\"\"))","v":""},null,false,1,2,3,4,5,6,7,8,9,10,11,12,13,{"$f":"IF(D583=\"Yes\",IF('Financial Information'!$L583=$O583,\"\",14),IF('Financial Information'!$L583=0,\"\",14))","v":14},"","",true,true,true,true,true,true,true,true,true,true,true,true,true,true,false]
[null,{"$f":"'Scheme and Member Information'!B584","v":0},{"$f":"'Scheme and Member Information'!C584","v":0},null,null,null,null,null,null,null,null,null,null,null,"",null,{"$f":"IF(S584,VLOOKUP(MIN(T584:AI584),'Data Validation (hidden)'!$B$30:$C$45,2,FALSE),IF(COUNTA(D584:N584)>0,\"'Scheme Name' missing but values entered in other columns\",\"\"))","v":""},null,false,1,2,3,4,5,6,7,8,9,10,11,12,13,{"$f":"IF(D584=\"Yes\",IF('Financial Information'!$L584=$O584,\"\",14),IF('Financial Information'!$L584=0,\"\",14))","v":14},"","",{"$f":"IF(CELL(\"format\", B584) = \"G\",TRUE,FALSE)","v":true},{"$f":"IF(CELL(\"format\", C584) = \"F0\",TRUE,FALSE)","v":true},{"$f":"IF(CELL(\"format\",D579)=\"G\",TRUE,FALSE)","v":true},{"$f":"IF( CELL(\"format\",E584) = \"C0\",TRUE,FALSE)","v":true},{"$f":"IF( CELL(\"format\",F584) = \"C0\",TRUE,FALSE)","v":true},{"$f":"IF( CELL(\"format\",G584) = \"C0\",TRUE,FALSE)","v":true},{"$f":"IF( CELL(\"format\",H584) = \"C0\",TRUE,FALSE)","v":true},{"$f":"IF( CELL(\"format\",I584) = \"C0\",TRUE,FALSE)","v":true},{"$f":"IF( CELL(\"format\",J584) = \"C0\",TRUE,FALSE)","v":true},{"$f":"IF( CELL(\"format\",K584) = \"C0\",TRUE,FALSE)","v":true},{"$f":"IF( CELL(\"format\",L584) = \"C0\",TRUE,FALSE)","v":true},{"$f":"IF( CELL(\"format\",M584) = \"C0\",TRUE,FALSE)","v":true},{"$f":"IF( CELL(\"format\",N584) = \"C0\",TRUE,FALSE)","v":true},{"$f":"IF( CELL(\"format\",O584) = \"C0\",TRUE,FALSE)","v":true},{"$f":"IF(Q584=\"\",FALSE,IF(Q584=\"OK\",FALSE,TRUE))","v":false}]
[null,{"$f":"'Scheme and Member Information'!B585","v":0},{"$f":"'Scheme and Member Information'!C585","v":0},null,null,null,null,null,null,null,null,null,null,null,{"$f":"IF(OR(E585<>\"\",F585<>\"\",G585<>\"\",H585<>\"\",I585<>\"\",J585<>\"\",K585<>\"\",L585<>\"\",M585<>\"\",N585<>\"\"),SUM(E585:N585),\"\")","v":""},null,{"$f":"IF(S585,VLOOKUP(MIN(T585:AI585),'Data Validation (hidden)'!$B$30:$C$45,2,FALSE),IF(COUNTA(D585:N585)>0,\"'Scheme Name' missing but values entered in other columns\",\"\"))","v":""},null,{"$f":"AND(B585<>\"\",B585<>0)","v":false},{"$f":"IF(C585=\"\",1,IF(C585=0,1,\"\"))","v":1},{"$f":"IF(D585=\"\",2,\"\")","v":2},{"$f":"IF(E585=\"\",IF(D585=\"No\",\"\",3),\"\")","v":3},{"$f":"IF(F585=\"\",IF(D585=\"No\",\"\",4),\"\")","v":4},{"$f":"IF(G585=\"\",IF(D585=\"No\",\"\",5),\"\")","v":5},{"$f":"IF(H585=\"\",IF(D585=\"No\",\"\",6),\"\")","v":6},{"$f":"IF(I585=\"\",IF(D585=\"No\",\"\",7),\"\")","v":7},{"$f":"IF(J585=\"\",IF(D585=\"No\",\"\",8),\"\")","v":8},{"$f":"IF(K585=\"\",IF(D585=\"No\",\"\",9),\"\")","v":9},{"$f":"IF(L585=\"\",IF(D585=\"No\",\"\",10),\"\")","v":10},{"$f":"IF(M585=\"\",IF(D585=\"No\",\"\",11),\"\")","v":11},{"$f":"IF(N585=\"\",IF(D585=\"No\",\"\",12),\"\")","v":12},{"$f":"IF(O585=\"\",IF(D585=\"No\",\"\",13),\"\")","v":13},{"$f":"IF(D585=\"Yes\",IF('Financial Information'!$L585=$O585,\"\",14),IF('Financial Information'!$L585=0,\"\",14))","v":14},{"$f":"IF(COUNT(T585:AG585)=0,\"10\",\"\")","v":""},{"$f":"IF(AND(AJ585,AK585,AL585,AM585,AN585,AO585,AP585,AQ585,AR585,AS585,AT585,AU585,AV585,AW585)=TRUE,\"\",15)","v":""},true,true,true,true,true,true,true,true,true,true,true,true,true,true,false]
[null,{"$f":"'Scheme and Member Information'!B586","v":0},{"$f":"'Scheme and Member Information'!C586","v":0},null,null,null,null,null,null,null,null,null,null,null,"",null,{"$f":"IF(S586,VLOOKUP(MIN(T586:AI586),'Data Validation (hidden)'!$B$30:$C$45,2,FALSE),IF(COUNTA(D586:N586)>0,\"'Scheme Name' missing but values entered in other columns\",\"\"))","v":""},null,false,1,2,3,4,5,6,7,8,9,10,11,12,13,{"$f":"IF(D586=\"Yes\",IF('Financial Information'!$L586=$O586,\"\",14),IF('Financial Information'!$L586=0,\"\",14))","v":14},"","",true,true,true,true,true,true,true,true,true,true,true,true,true,true,false]
[null,{"$f":"'Scheme and Member Information'!B587","v":0},{"$f":"'Scheme and Member Information'!C587","v":0},null,null,null,null,null,null,null,null,null,null,null,"",null,{"$f":"IF(S587,VLOOKUP(MIN(T587:AI587),'Data Validation (hidden)'!$B$30:$C$45,2,FALSE),IF(COUNTA(D587:N587)>0,\"'Scheme Name' missing but values entered in other columns\",\"\"))","v":""},null,false,1,2,3,4,5,6,7,8,9,10,11,12,13,{"$f":"IF(D587=\"Yes\",IF('Financial Information'!$L587=$O587,\"\",14),IF('Financial Information'!$L587=0,\"\",14))","v":14},"","",true,true,true,true,true,true,true,true,true,true,true,true,true,true,false]
[null,{"$f":"'Scheme and Member Information'!B588","v":0},{"$f":"'Scheme and Member Information'!C588","v":0},null,null,null,null,null,null,null,null,null,null,null,"",null,{"$f":"IF(S588,VLOOKUP(MIN(T588:AI588),'Data Validation (hidden)'!$B$30:$C$45,2,FALSE),IF(COUNTA(D588:N588)>0,\"'Scheme Name' missing but values entered in other columns\",\"\"))","v":""},null,false,1,2,3,4,5,6,7,8,9,10,11,12,13,{"$f":"IF(D588=\"Yes\",IF('Financial Information'!$L588=$O588,\"\",14),IF('Financial Information'!$L588=0,\"\",14))","v":14},"","",true,true,true,true,true,true,true,true,true,true,true,true,true,true,false]
[null,{"$f":"'Scheme and Member Information'!B589","v":0},{"$f":"'Scheme and Member Information'!C589","v":0},null,null,null,null,null,null,null,null,null,null,null,"",null,{"$f":"IF(S589,VLOOKUP(MIN(T589:AI589),'Data Validation (hidden)'!$B$30:$C$45,2,FALSE),IF(COUNTA(D589:N589)>0,\"'Scheme Name' missing but values entered in other columns\",\"\"))","v":""},null,false,1,2,3,4,5,6,7,8,9,10,11,12,13,{"$f":"IF(D589=\"Yes\",IF('Financial Information'!$L589=$O589,\"\",14),IF('Financial Information'!$L589=0,\"\",14))","v":14},"","",true,true,true,true,true,true,true,true,true,true,true,true,true,true,false]
[null,{"$f":"'Scheme and Member Information'!B590","v":0},{"$f":"'Scheme and Member Information'!C590","v":0},null,null,null,null,null,null,null,null,null,null,null,"",null,{"$f":"IF(S590,VLOOKUP(MIN(T590:AI590),'Data Validation (hidden)'!$B$30:$C$45,2,FALSE),IF(COUNTA(D590:N590)>0,\"'Scheme Name' missing but values entered in other columns\",\"\"))","v":""},null,false,1,2,3,4,5,6,7,8,9,10,11,12,13,{"$f":"IF(D590=\"Yes\",IF('Financial Information'!$L590=$O590,\"\",14),IF('Financial Information'!$L590=0,\"\",14))","v":14},"","",true,true,true,true,true,true,true,true,true,true,true,true,true,true,false]
[null,{"$f":"'Scheme and Member Information'!B591","v":0},{"$f":"'Scheme and Member Information'!C591","v":0},null,null,null,null,null,null,null,null,null,null,null,"",null,{"$f":"IF(S591,VLOOKUP(MIN(T591:AI591),'Data Validation (hidden)'!$B$30:$C$45,2,FALSE),IF(COUNTA(D591:N591)>0,\"'Scheme Name' missing but values entered in other columns\",\"\"))","v":""},null,false,1,2,3,4,5,6,7,8,9,10,11,12,13,{"$f":"IF(D591=\"Yes\",IF('Financial Information'!$L591=$O591,\"\",14),IF('Financial Information'!$L591=0,\"\",14))","v":14},"","",true,true,true,true,true,true,true,true,true,true,true,true,true,true,false]
[null,{"$f":"'Scheme and Member Information'!B592","v":0},{"$f":"'Scheme and Member Information'!C592","v":0},null,null,null,null,null,null,null,null,null,null,null,"",null,{"$f":"IF(S592,VLOOKUP(MIN(T592:AI592),'Data Validation (hidden)'!$B$30:$C$45,2,FALSE),IF(COUNTA(D592:N592)>0,\"'Scheme Name' missing but values entered in other columns\",\"\"))","v":""},null,false,1,2,3,4,5,6,7,8,9,10,11,12,13,{"$f":"IF(D592=\"Yes\",IF('Financial Information'!$L592=$O592,\"\",14),IF('Financial Information'!$L592=0,\"\",14))","v":14},"","",true,true,true,true,true,true,true,true,true,true,true,true,true,true,false]
[null,{"$f":"'Scheme and Member Information'!B593","v":0},{"$f":"'Scheme and Member Information'!C593","v":0},null,null,null,null,null,null,null,null,null,null,null,"",null,{"$f":"IF(S593,VLOOKUP(MIN(T593:AI593),'Data Validation (hidden)'!$B$30:$C$45,2,FALSE),IF(COUNTA(D593:N593)>0,\"'Scheme Name' missing but values entered in other columns\",\"\"))","v":""},null,false,1,2,3,4,5,6,7,8,9,10,11,12,13,{"$f":"IF(D593=\"Yes\",IF('Financial Information'!$L593=$O593,\"\",14),IF('Financial Information'!$L593=0,\"\",14))","v":14},"","",true,true,true,true,true,true,true,true,true,true,true,true,true,true,false]
[null,{"$f":"'Scheme and Member Information'!B594","v":0},{"$f":"'Scheme and Member Information'!C594","v":0},null,null,null,null,null,null,null,null,null,null,null,"",null,{"$f":"IF(S594,VLOOKUP(MIN(T594:AI594),'Data Validation (hidden)'!$B$30:$C$45,2,FALSE),IF(COUNTA(D594:N594)>0,\"'Scheme Name' missing but values entered in other columns\",\"\"))","v":""},null,false,1,2,3,4,5,6,7,8,9,10,11,12,13,{"$f":"IF(D594=\"Yes\",IF('Financial Information'!$L594=$O594,\"\",14),IF('Financial Information'!$L594=0,\"\",14))","v":14},"","",true,true,true,true,true,true,true,true,true,true,true,true,true,true,false]
[null,{"$f":"'Scheme and Member Information'!B595","v":0},{"$f":"'Scheme and Member Information'!C595","v":0},null,null,null,null,null,null,null,null,null,null,null,"",null,{"$f":"IF(S595,VLOOKUP(MIN(T595:AI595),'Data Validation (hidden)'!$B$30:$C$45,2,FALSE),IF(COUNTA(D595:N595)>0,\"'Scheme Name' missing but values entered in other columns\",\"\"))","v":""},null,false,1,2,3,4,5,6,7,8,9,10,11,12,13,{"$f":"IF(D595=\"Yes\",IF('Financial Information'!$L595=$O595,\"\",14),IF('Financial Information'!$L595=0,\"\",14))","v":14},"","",true,true,true,true,true,true,true,true,true,true,true,true,true,true,false]
[null,{"$f":"'Scheme and Member Information'!B596","v":0},{"$f":"'Scheme and Member Information'!C596","v":0},null,null,null,null,null,null,null,null,null,null,null,"",null,{"$f":"IF(S596,VLOOKUP(MIN(T596:AI596),'Data Validation (hidden)'!$B$30:$C$45,2,FALSE),IF(COUNTA(D596:N596)>0,\"'Scheme Name' missing but values entered in other columns\",\"\"))","v":""},null,false,1,2,3,4,5,6,7,8,9,10,11,12,13,{"$f":"IF(D596=\"Yes\",IF('Financial Information'!$L596=$O596,\"\",14),IF('Financial Information'!$L596=0,\"\",14))","v":14},"","",true,true,true,true,true,true,true,true,true,true,true,true,true,true,false]
[null,{"$f":"'Scheme and Member Information'!B597","v":0},{"$f":"'Scheme and Member Information'!C597","v":0},null,null,null,null,null,null,null,null,null,null,null,"",null,{"$f":"IF(S597,VLOOKUP(MIN(T597:AI597),'Data Validation (hidden)'!$B$30:$C$45,2,FALSE),IF(COUNTA(D597:N597)>0,\"'Scheme Name' missing but values entered in other columns\",\"\"))","v":""},null,false,1,2,3,4,5,6,7,8,9,10,11,12,13,{"$f":"IF(D597=\"Yes\",IF('Financial Information'!$L597=$O597,\"\",14),IF('Financial Information'!$L597=0,\"\",14))","v":14},"","",true,true,true,true,true,true,true,true,true,true,true,true,true,true,false]
[null,{"$f":"'Scheme and Member Information'!B598","v":0},{"$f":"'Scheme and Member Information'!C598","v":0},null,null,null,null,null,null,null,null,null,null,null,"",null,{"$f":"IF(S598,VLOOKUP(MIN(T598:AI598),'Data Validation (hidden)'!$B$30:$C$45,2,FALSE),IF(COUNTA(D598:N598)>0,\"'Scheme Name' missing but values entered in other columns\",\"\"))","v":""},null,false,1,2,3,4,5,6,7,8,9,10,11,12,13,{"$f":"IF(D598=\"Yes\",IF('Financial Information'!$L598=$O598,\"\",14),IF('Financial Information'!$L598=0,\"\",14))","v":14},"","",true,true,true,true,true,true,true,true,true,true,true,true,true,true,false]
[null,{"$f":"'Scheme and Member Information'!B599","v":0},{"$f":"'Scheme and Member Information'!C599","v":0},null,null,null,null,null,null,null,null,null,null,null,"",null,{"$f":"IF(S599,VLOOKUP(MIN(T599:AI599),'Data Validation (hidden)'!$B$30:$C$45,2,FALSE),IF(COUNTA(D599:N599)>0,\"'Scheme Name' missing but values entered in other columns\",\"\"))","v":""},null,false,1,2,3,4,5,6,7,8,9,10,11,12,13,{"$f":"IF(D599=\"Yes\",IF('Financial Information'!$L599=$O599,\"\",14),IF('Financial Information'!$L599=0,\"\",14))","v":14},"","",true,true,true,true,true,true,true,true,true,true,true,true,true,true,false]
[null,{"$f":"'Scheme and Member Information'!B600","v":0},{"$f":"'Scheme and Member Information'!C600","v":0},null,null,null,null,null,null,null,null,null,null,null,"",null,{"$f":"IF(S600,VLOOKUP(MIN(T600:AI600),'Data Validation (hidden)'!$B$30:$C$45,2,FALSE),IF(COUNTA(D600:N600)>0,\"'Scheme Name' missing but values entered in other columns\",\"\"))","v":""},null,false,1,2,3,4,5,6,7,8,9,10,11,12,13,{"$f":"IF(D600=\"Yes\",IF('Financial Information'!$L600=$O600,\"\",14),IF('Financial Information'!$L600=0,\"\",14))","v":14},"","",true,true,true,true,true,true,true,true,true,true,true,true,true,true,false]
[null,{"$f":"'Scheme and Member Information'!B601","v":0},{"$f":"'Scheme and Member Information'!C601","v":0},null,null,null,null,null,null,null,null,null,null,null,"",null,{"$f":"IF(S601,VLOOKUP(MIN(T601:AI601),'Data Validation (hidden)'!$B$30:$C$45,2,FALSE),IF(COUNTA(D601:N601)>0,\"'Scheme Name' missing but values entered in other columns\",\"\"))","v":""},null,false,1,2,3,4,5,6,7,8,9,10,11,12,13,{"$f":"IF(D601=\"Yes\",IF('Financial Information'!$L601=$O601,\"\",14),IF('Financial Information'!$L601=0,\"\",14))","v":14},"","",true,true,true,true,true,true,true,true,true,true,true,true,true,true,false]
[null,{"$f":"'Scheme and Member Information'!B602","v":0},{"$f":"'Scheme and Member Information'!C602","v":0},null,null,null,null,null,null,null,null,null,null,null,"",null,{"$f":"IF(S602,VLOOKUP(MIN(T602:AI602),'Data Validation (hidden)'!$B$30:$C$45,2,FALSE),IF(COUNTA(D602:N602)>0,\"'Scheme Name' missing but values entered in other columns\",\"\"))","v":""},null,false,1,2,3,4,5,6,7,8,9,10,11,12,13,{"$f":"IF(D602=\"Yes\",IF('Financial Information'!$L602=$O602,\"\",14),IF('Financial Information'!$L602=0,\"\",14))","v":14},"","",true,true,true,true,true,true,true,true,true,true,true,true,true,true,false]
[null,{"$f":"'Scheme and Member Information'!B603","v":0},{"$f":"'Scheme and Member Information'!C603","v":0},null,null,null,null,null,null,null,null,null,null,null,"",null,{"$f":"IF(S603,VLOOKUP(MIN(T603:AI603),'Data Validation (hidden)'!$B$30:$C$45,2,FALSE),IF(COUNTA(D603:N603)>0,\"'Scheme Name' missing but values entered in other columns\",\"\"))","v":""},null,false,1,2,3,4,5,6,7,8,9,10,11,12,13,{"$f":"IF(D603=\"Yes\",IF('Financial Information'!$L603=$O603,\"\",14),IF('Financial Information'!$L603=0,\"\",14))","v":14},"","",true,true,true,true,true,true,true,true,true,true,true,true,true,true,false]
[null,{"$f":"'Scheme and Member Information'!B604","v":0},{"$f":"'Scheme and Member Information'!C604","v":0},null,null,null,null,null,null,null,null,null,null,null,"",null,{"$f":"IF(S604,VLOOKUP(MIN(T604:AI604),'Data Validation (hidden)'!$B$30:$C$45,2,FALSE),IF(COUNTA(D604:N604)>0,\"'Scheme Name' missing but values entered in other columns\",\"\"))","v":""},null,false,1,2,3,4,5,6,7,8,9,10,11,12,13,{"$f":"IF(D604=\"Yes\",IF('Financial Information'!$L604=$O604,\"\",14),IF('Financial Information'!$L604=0,\"\",14))","v":14},"","",true,true,true,true,true,true,true,true,true,true,true,true,true,true,false]
[null,{"$f":"'Scheme and Member Information'!B605","v":0},{"$f":"'Scheme and Member Information'!C605","v":0},null,null,null,null,null,null,null,null,null,null,null,"",null,{"$f":"IF(S605,VLOOKUP(MIN(T605:AI605),'Data Validation (hidden)'!$B$30:$C$45,2,FALSE),IF(COUNTA(D605:N605)>0,\"'Scheme Name' missing but values entered in other columns\",\"\"))","v":""},null,false,1,2,3,4,5,6,7,8,9,10,11,12,13,{"$f":"IF(D605=\"Yes\",IF('Financial Information'!$L605=$O605,\"\",14),IF('Financial Information'!$L605=0,\"\",14))","v":14},"","",true,true,true,true,true,true,true,true,true,true,true,true,true,true,false]
[null,{"$f":"'Scheme and Member Information'!B606","v":0},{"$f":"'Scheme and Member Information'!C606","v":0},null,null,null,null,null,null,null,null,null,null,null,"",null,{"$f":"IF(S606,VLOOKUP(MIN(T606:AI606),'Data Validation (hidden)'!$B$30:$C$45,2,FALSE),IF(COUNTA(D606:N606)>0,\"'Scheme Name' missing but values entered in other columns\",\"\"))","v":""},null,false,1,2,3,4,5,6,7,8,9,10,11,12,13,{"$f":"IF(D606=\"Yes\",IF('Financial Information'!$L606=$O606,\"\",14),IF('Financial Information'!$L606=0,\"\",14))","v":14},"","",true,true,true,true,true,true,true,true,true,true,true,true,true,true,false]
[null,{"$f":"'Scheme and Member Information'!B607","v":0},{"$f":"'Scheme and Member Information'!C607","v":0},null,null,null,null,null,null,null,null,null,null,null,"",null,{"$f":"IF(S607,VLOOKUP(MIN(T607:AI607),'Data Validation (hidden)'!$B$30:$C$45,2,FALSE),IF(COUNTA(D607:N607)>0,\"'Scheme Name' missing but values entered in other columns\",\"\"))","v":""},null,false,1,2,3,4,5,6,7,8,9,10,11,12,13,{"$f":"IF(D607=\"Yes\",IF('Financial Information'!$L607=$O607,\"\",14),IF('Financial Information'!$L607=0,\"\",14))","v":14},"","",true,true,true,true,true,true,true,true,true,true,true,true,true,true,false]
[null,{"$f":"'Scheme and Member Information'!B608","v":0},{"$f":"'Scheme and Member Information'!C608","v":0},null,null,null,null,null,null,null,null,null,null,null,"",null,{"$f":"IF(S608,VLOOKUP(MIN(T608:AI608),'Data Validation (hidden)'!$B$30:$C$45,2,FALSE),IF(COUNTA(D608:N608)>0,\"'Scheme Name' missing but values entered in other columns\",\"\"))","v":""},null,false,1,2,3,4,5,6,7,8,9,10,11,12,13,{"$f":"IF(D608=\"Yes\",IF('Financial Information'!$L608=$O608,\"\",14),IF('Financial Information'!$L608=0,\"\",14))","v":14},"","",true,true,true,true,true,true,true,true,true,true,true,true,true,true,false]
[null,{"$f":"'Scheme and Member Information'!B609","v":0},{"$f":"'Scheme and Member Information'!C609","v":0},null,null,null,null,null,null,null,null,null,null,null,"",null,{"$f":"IF(S609,VLOOKUP(MIN(T609:AI609),'Data Validation (hidden)'!$B$30:$C$45,2,FALSE),IF(COUNTA(D609:N609)>0,\"'Scheme Name' missing but values entered in other columns\",\"\"))","v":""},null,false,1,2,3,4,5,6,7,8,9,10,11,12,13,{"$f":"IF(D609=\"Yes\",IF('Financial Information'!$L609=$O609,\"\",14),IF('Financial Information'!$L609=0,\"\",14))","v":14},"","",true,true,true,true,true,true,true,true,true,true,true,true,true,true,false]
[null,{"$f":"'Scheme and Member Information'!B610","v":0},{"$f":"'Scheme and Member Information'!C610","v":0},null,null,null,null,null,null,null,null,null,null,null,"",null,{"$f":"IF(S610,VLOOKUP(MIN(T610:AI610),'Data Validation (hidden)'!$B$30:$C$45,2,FALSE),IF(COUNTA(D610:N610)>0,\"'Scheme Name' missing but values entered in other columns\",\"\"))","v":""},null,false,1,2,3,4,5,6,7,8,9,10,11,12,13,{"$f":"IF(D610=\"Yes\",IF('Financial Information'!$L610=$O610,\"\",14),IF('Financial Information'!$L610=0,\"\",14))","v":14},"","",true,true,true,true,true,true,true,true,true,true,true,true,true,true,false]
[null,{"$f":"'Scheme and Member Information'!B611","v":0},{"$f":"'Scheme and Member Information'!C611","v":0},null,null,null,null,null,null,null,null,null,null,null,"",null,{"$f":"IF(S611,VLOOKUP(MIN(T611:AI611),'Data Validation (hidden)'!$B$30:$C$45,2,FALSE),IF(COUNTA(D611:N611)>0,\"'Scheme Name' missing but values entered in other columns\",\"\"))","v":""},null,false,1,2,3,4,5,6,7,8,9,10,11,12,13,{"$f":"IF(D611=\"Yes\",IF('Financial Information'!$L611=$O611,\"\",14),IF('Financial Information'!$L611=0,\"\",14))","v":14},"","",true,true,true,true,true,true,true,true,true,true,true,true,true,true,false]
[null,{"$f":"'Scheme and Member Information'!B612","v":0},{"$f":"'Scheme and Member Information'!C612","v":0},null,null,null,null,null,null,null,null,null,null,null,"",null,{"$f":"IF(S612,VLOOKUP(MIN(T612:AI612),'Data Validation (hidden)'!$B$30:$C$45,2,FALSE),IF(COUNTA(D612:N612)>0,\"'Scheme Name' missing but values entered in other columns\",\"\"))","v":""},null,false,1,2,3,4,5,6,7,8,9,10,11,12,13,{"$f":"IF(D612=\"Yes\",IF('Financial Information'!$L612=$O612,\"\",14),IF('Financial Information'!$L612=0,\"\",14))","v":14},"","",true,true,true,true,true,true,true,true,true,true,true,true,true,true,false]
[null,{"$f":"'Scheme and Member Information'!B613","v":0},{"$f":"'Scheme and Member Information'!C613","v":0},null,null,null,null,null,null,null,null,null,null,null,"",null,{"$f":"IF(S613,VLOOKUP(MIN(T613:AI613),'Data Validation (hidden)'!$B$30:$C$45,2,FALSE),IF(COUNTA(D613:N613)>0,\"'Scheme Name' missing but values entered in other columns\",\"\"))","v":""},null,false,1,2,3,4,5,6,7,8,9,10,11,12,13,{"$f":"IF(D613=\"Yes\",IF('Financial Information'!$L613=$O613,\"\",14),IF('Financial Information'!$L613=0,\"\",14))","v":14},"","",true,true,true,true,true,true,true,true,true,true,true,true,true,true,false]
[null,{"$f":"'Scheme and Member Information'!B614","v":0},{"$f":"'Scheme and Member Information'!C614","v":0},null,null,null,null,null,null,null,null,null,null,null,"",null,{"$f":"IF(S614,VLOOKUP(MIN(T614:AI614),'Data Validation (hidden)'!$B$30:$C$45,2,FALSE),IF(COUNTA(D614:N614)>0,\"'Scheme Name' missing but values entered in other columns\",\"\"))","v":""},null,false,1,2,3,4,5,6,7,8,9,10,11,12,13,{"$f":"IF(D614=\"Yes\",IF('Financial Information'!$L614=$O614,\"\",14),IF('Financial Information'!$L614=0,\"\",14))","v":14},"","",true,true,true,true,true,true,true,true,true,true,true,true,true,true,false]
[null,{"$f":"'Scheme and Member Information'!B615","v":0},{"$f":"'Scheme and Member Information'!C615","v":0},null,null,null,null,null,null,null,null,null,null,null,"",null,{"$f":"IF(S615,VLOOKUP(MIN(T615:AI615),'Data Validation (hidden)'!$B$30:$C$45,2,FALSE),IF(COUNTA(D615:N615)>0,\"'Scheme Name' missing but values entered in other columns\",\"\"))","v":""},null,false,1,2,3,4,5,6,7,8,9,10,11,12,13,{"$f":"IF(D615=\"Yes\",IF('Financial Information'!$L615=$O615,\"\",14),IF('Financial Information'!$L615=0,\"\",14))","v":14},"","",true,true,true,true,true,true,true,true,true,true,true,true,true,true,false]
[null,{"$f":"'Scheme and Member Information'!B616","v":0},{"$f":"'Scheme and Member Information'!C616","v":0},null,null,null,null,null,null,null,null,null,null,null,"",null,{"$f":"IF(S616,VLOOKUP(MIN(T616:AI616),'Data Validation (hidden)'!$B$30:$C$45,2,FALSE),IF(COUNTA(D616:N616)>0,\"'Scheme Name' missing but values entered in other columns\",\"\"))","v":""},null,false,1,2,3,4,5,6,7,8,9,10,11,12,13,{"$f":"IF(D616=\"Yes\",IF('Financial Information'!$L616=$O616,\"\",14),IF('Financial Information'!$L616=0,\"\",14))","v":14},"","",true,true,true,true,true,true,true,true,true,true,true,true,true,true,false]
[null,{"$f":"'Scheme and Member Information'!B617","v":0},{"$f":"'Scheme and Member Information'!C617","v":0},null,null,null,null,null,null,null,null,null,null,null,"",null,{"$f":"IF(S617,VLOOKUP(MIN(T617:AI617),'Data Validation (hidden)'!$B$30:$C$45,2,FALSE),IF(COUNTA(D617:N617)>0,\"'Scheme Name' missing but values entered in other columns\",\"\"))","v":""},null,false,1,2,3,4,5,6,7,8,9,10,11,12,13,{"$f":"IF(D617=\"Yes\",IF('Financial Information'!$L617=$O617,\"\",14),IF('Financial Information'!$L617=0,\"\",14))","v":14},"","",true,true,true,true,true,true,true,true,true,true,true,true,true,true,false]
[null,{"$f":"'Scheme and Member Information'!B618","v":0},{"$f":"'Scheme and Member Information'!C618","v":0},null,null,null,null,null,null,null,null,null,null,null,"",null,{"$f":"IF(S618,VLOOKUP(MIN(T618:AI618),'Data Validation (hidden)'!$B$30:$C$45,2,FALSE),IF(COUNTA(D618:N618)>0,\"'Scheme Name' missing but values entered in other columns\",\"\"))","v":""},null,false,1,2,3,4,5,6,7,8,9,10,11,12,13,{"$f":"IF(D618=\"Yes\",IF('Financial Information'!$L618=$O618,\"\",14),IF('Financial Information'!$L618=0,\"\",14))","v":14},"","",true,true,true,true,true,true,true,true,true,true,true,true,true,true,false]
[null,{"$f":"'Scheme and Member Information'!B619","v":0},{"$f":"'Scheme and Member Information'!C619","v":0},null,null,null,null,null,null,null,null,null,null,null,"",null,{"$f":"IF(S619,VLOOKUP(MIN(T619:AI619),'Data Validation (hidden)'!$B$30:$C$45,2,FALSE),IF(COUNTA(D619:N619)>0,\"'Scheme Name' missing but values entered in other columns\",\"\"))","v":""},null,false,1,2,3,4,5,6,7,8,9,10,11,12,13,{"$f":"IF(D619=\"Yes\",IF('Financial Information'!$L619=$O619,\"\",14),IF('Financial Information'!$L619=0,\"\",14))","v":14},"","",true,true,true,true,true,true,true,true,true,true,true,true,true,true,false]
[null,{"$f":"'Scheme and Member Information'!B620","v":0},{"$f":"'Scheme and Member Information'!C620","v":0},null,null,null,null,null,null,null,null,null,null,null,"",null,{"$f":"IF(S620,VLOOKUP(MIN(T620:AI620),'Data Validation (hidden)'!$B$30:$C$45,2,FALSE),IF(COUNTA(D620:N620)>0,\"'Scheme Name' missing but values entered in other columns\",\"\"))","v":""},null,false,1,2,3,4,5,6,7,8,9,10,11,12,13,{"$f":"IF(D620=\"Yes\",IF('Financial Information'!$L620=$O620,\"\",14),IF('Financial Information'!$L620=0,\"\",14))","v":14},"","",true,true,true,true,true,true,true,true,true,true,true,true,true,true,false]
[null,{"$f":"'Scheme and Member Information'!B621","v":0},{"$f":"'Scheme and Member Information'!C621","v":0},null,null,null,null,null,null,null,null,null,null,null,"",null,{"$f":"IF(S621,VLOOKUP(MIN(T621:AI621),'Data Validation (hidden)'!$B$30:$C$45,2,FALSE),IF(COUNTA(D621:N621)>0,\"'Scheme Name' missing but values entered in other columns\",\"\"))","v":""},null,false,1,2,3,4,5,6,7,8,9,10,11,12,13,{"$f":"IF(D621=\"Yes\",IF('Financial Information'!$L621=$O621,\"\",14),IF('Financial Information'!$L621=0,\"\",14))","v":14},"","",true,true,true,true,true,true,true,true,true,true,true,true,true,true,false]
[null,{"$f":"'Scheme and Member Information'!B622","v":0},{"$f":"'Scheme and Member Information'!C622","v":0},null,null,null,null,null,null,null,null,null,null,null,"",null,{"$f":"IF(S622,VLOOKUP(MIN(T622:AI622),'Data Validation (hidden)'!$B$30:$C$45,2,FALSE),IF(COUNTA(D622:N622)>0,\"'Scheme Name' missing but values entered in other columns\",\"\"))","v":""},null,false,1,2,3,4,5,6,7,8,9,10,11,12,13,{"$f":"IF(D622=\"Yes\",IF('Financial Information'!$L622=$O622,\"\",14),IF('Financial Information'!$L622=0,\"\",14))","v":14},"","",true,true,true,true,true,true,true,true,true,true,true,true,true,true,false]
[null,{"$f":"'Scheme and Member Information'!B623","v":0},{"$f":"'Scheme and Member Information'!C623","v":0},null,null,null,null,null,null,null,null,null,null,null,"",null,{"$f":"IF(S623,VLOOKUP(MIN(T623:AI623),'Data Validation (hidden)'!$B$30:$C$45,2,FALSE),IF(COUNTA(D623:N623)>0,\"'Scheme Name' missing but values entered in other columns\",\"\"))","v":""},null,false,1,2,3,4,5,6,7,8,9,10,11,12,13,{"$f":"IF(D623=\"Yes\",IF('Financial Information'!$L623=$O623,\"\",14),IF('Financial Information'!$L623=0,\"\",14))","v":14},"","",true,true,true,true,true,true,true,true,true,true,true,true,true,true,false]
[null,{"$f":"'Scheme and Member Information'!B624","v":0},{"$f":"'Scheme and Member Information'!C624","v":0},null,null,null,null,null,null,null,null,null,null,null,"",null,{"$f":"IF(S624,VLOOKUP(MIN(T624:AI624),'Data Validation (hidden)'!$B$30:$C$45,2,FALSE),IF(COUNTA(D624:N624)>0,\"'Scheme Name' missing but values entered in other columns\",\"\"))","v":""},null,false,1,2,3,4,5,6,7,8,9,10,11,12,13,{"$f":"IF(D624=\"Yes\",IF('Financial Information'!$L624=$O624,\"\",14),IF('Financial Information'!$L624=0,\"\",14))","v":14},"","",true,true,true,true,true,true,true,true,true,true,true,true,true,true,false]
[null,{"$f":"'Scheme and Member Information'!B625","v":0},{"$f":"'Scheme and Member Information'!C625","v":0},null,null,null,null,null,null,null,null,null,null,null,"",null,{"$f":"IF(S625,VLOOKUP(MIN(T625:AI625),'Data Validation (hidden)'!$B$30:$C$45,2,FALSE),IF(COUNTA(D625:N625)>0,\"'Scheme Name' missing but values entered in other columns\",\"\"))","v":""},null,false,1,2,3,4,5,6,7,8,9,10,11,12,13,{"$f":"IF(D625=\"Yes\",IF('Financial Information'!$L625=$O625,\"\",14),IF('Financial Information'!$L625=0,\"\",14))","v":14},"","",true,true,true,true,true,true,true,true,true,true,true,true,true,true,false]
[null,{"$f":"'Scheme and Member Information'!B626","v":0},{"$f":"'Scheme and Member Information'!C626","v":0},null,null,null,null,null,null,null,null,null,null,null,"",null,{"$f":"IF(S626,VLOOKUP(MIN(T626:AI626),'Data Validation (hidden)'!$B$30:$C$45,2,FALSE),IF(COUNTA(D626:N626)>0,\"'Scheme Name' missing but values entered in other columns\",\"\"))","v":""},null,false,1,2,3,4,5,6,7,8,9,10,11,12,13,{"$f":"IF(D626=\"Yes\",IF('Financial Information'!$L626=$O626,\"\",14),IF('Financial Information'!$L626=0,\"\",14))","v":14},"","",true,true,true,true,true,true,true,true,true,true,true,true,true,true,false]
[null,{"$f":"'Scheme and Member Information'!B627","v":0},{"$f":"'Scheme and Member Information'!C627","v":0},null,null,null,null,null,null,null,null,null,null,null,"",null,{"$f":"IF(S627,VLOOKUP(MIN(T627:AI627),'Data Validation (hidden)'!$B$30:$C$45,2,FALSE),IF(COUNTA(D627:N627)>0,\"'Scheme Name' missing but values entered in other columns\",\"\"))","v":""},null,false,1,2,3,4,5,6,7,8,9,10,11,12,13,{"$f":"IF(D627=\"Yes\",IF('Financial Information'!$L627=$O627,\"\",14),IF('Financial Information'!$L627=0,\"\",14))","v":14},"","",true,true,true,true,true,true,true,true,true,true,true,true,true,true,false]
[null,{"$f":"'Scheme and Member Information'!B628","v":0},{"$f":"'Scheme and Member Information'!C628","v":0},null,null,null,null,null,null,null,null,null,null,null,"",null,{"$f":"IF(S628,VLOOKUP(MIN(T628:AI628),'Data Validation (hidden)'!$B$30:$C$45,2,FALSE),IF(COUNTA(D628:N628)>0,\"'Scheme Name' missing but values entered in other columns\",\"\"))","v":""},null,false,1,2,3,4,5,6,7,8,9,10,11,12,13,{"$f":"IF(D628=\"Yes\",IF('Financial Information'!$L628=$O628,\"\",14),IF('Financial Information'!$L628=0,\"\",14))","v":14},"","",true,true,true,true,true,true,true,true,true,true,true,true,true,true,false]
[null,{"$f":"'Scheme and Member Information'!B629","v":0},{"$f":"'Scheme and Member Information'!C629","v":0},null,null,null,null,null,null,null,null,null,null,null,"",null,{"$f":"IF(S629,VLOOKUP(MIN(T629:AI629),'Data Validation (hidden)'!$B$30:$C$45,2,FALSE),IF(COUNTA(D629:N629)>0,\"'Scheme Name' missing but values entered in other columns\",\"\"))","v":""},null,false,1,2,3,4,5,6,7,8,9,10,11,12,13,{"$f":"IF(D629=\"Yes\",IF('Financial Information'!$L629=$O629,\"\",14),IF('Financial Information'!$L629=0,\"\",14))","v":14},"","",true,true,true,true,true,true,true,true,true,true,true,true,true,true,false]
[null,{"$f":"'Scheme and Member Information'!B630","v":0},{"$f":"'Scheme and Member Information'!C630","v":0},null,null,null,null,null,null,null,null,null,null,null,"",null,{"$f":"IF(S630,VLOOKUP(MIN(T630:AI630),'Data Validation (hidden)'!$B$30:$C$45,2,FALSE),IF(COUNTA(D630:N630)>0,\"'Scheme Name' missing but values entered in other columns\",\"\"))","v":""},null,false,1,2,3,4,5,6,7,8,9,10,11,12,13,{"$f":"IF(D630=\"Yes\",IF('Financial Information'!$L630=$O630,\"\",14),IF('Financial Information'!$L630=0,\"\",14))","v":14},"","",true,true,true,true,true,true,true,true,true,true,true,true,true,true,false]
[null,{"$f":"'Scheme and Member Information'!B631","v":0},{"$f":"'Scheme and Member Information'!C631","v":0},null,null,null,null,null,null,null,null,null,null,null,"",null,{"$f":"IF(S631,VLOOKUP(MIN(T631:AI631),'Data Validation (hidden)'!$B$30:$C$45,2,FALSE),IF(COUNTA(D631:N631)>0,\"'Scheme Name' missing but values entered in other columns\",\"\"))","v":""},null,false,1,2,3,4,5,6,7,8,9,10,11,12,13,{"$f":"IF(D631=\"Yes\",IF('Financial Information'!$L631=$O631,\"\",14),IF('Financial Information'!$L631=0,\"\",14))","v":14},"","",true,true,true,true,true,true,true,true,true,true,true,true,true,true,false]
[null,{"$f":"'Scheme and Member Information'!B632","v":0},{"$f":"'Scheme and Member Information'!C632","v":0},null,null,null,null,null,null,null,null,null,null,null,"",null,{"$f":"IF(S632,VLOOKUP(MIN(T632:AI632),'Data Validation (hidden)'!$B$30:$C$45,2,FALSE),IF(COUNTA(D632:N632)>0,\"'Scheme Name' missing but values entered in other columns\",\"\"))","v":""},null,false,1,2,3,4,5,6,7,8,9,10,11,12,13,{"$f":"IF(D632=\"Yes\",IF('Financial Information'!$L632=$O632,\"\",14),IF('Financial Information'!$L632=0,\"\",14))","v":14},"","",true,true,true,true,true,true,true,true,true,true,true,true,true,true,false]
[null,{"$f":"'Scheme and Member Information'!B633","v":0},{"$f":"'Scheme and Member Information'!C633","v":0},null,null,null,null,null,null,null,null,null,null,null,"",null,{"$f":"IF(S633,VLOOKUP(MIN(T633:AI633),'Data Validation (hidden)'!$B$30:$C$45,2,FALSE),IF(COUNTA(D633:N633)>0,\"'Scheme Name' missing but values entered in other columns\",\"\"))","v":""},null,false,1,2,3,4,5,6,7,8,9,10,11,12,13,{"$f":"IF(D633=\"Yes\",IF('Financial Information'!$L633=$O633,\"\",14),IF('Financial Information'!$L633=0,\"\",14))","v":14},"","",true,true,true,true,true,true,true,true,true,true,true,true,true,true,false]
[null,{"$f":"'Scheme and Member Information'!B634","v":0},{"$f":"'Scheme and Member Information'!C634","v":0},null,null,null,null,null,null,null,null,null,null,null,"",null,{"$f":"IF(S634,VLOOKUP(MIN(T634:AI634),'Data Validation (hidden)'!$B$30:$C$45,2,FALSE),IF(COUNTA(D634:N634)>0,\"'Scheme Name' missing but values entered in other columns\",\"\"))","v":""},null,false,1,2,3,4,5,6,7,8,9,10,11,12,13,{"$f":"IF(D634=\"Yes\",IF('Financial Information'!$L634=$O634,\"\",14),IF('Financial Information'!$L634=0,\"\",14))","v":14},"","",true,true,true,true,true,true,true,true,true,true,true,true,true,true,false]
[null,{"$f":"'Scheme and Member Information'!B635","v":0},{"$f":"'Scheme and Member Information'!C635","v":0},null,null,null,null,null,null,null,null,null,null,null,"",null,{"$f":"IF(S635,VLOOKUP(MIN(T635:AI635),'Data Validation (hidden)'!$B$30:$C$45,2,FALSE),IF(COUNTA(D635:N635)>0,\"'Scheme Name' missing but values entered in other columns\",\"\"))","v":""},null,false,1,2,3,4,5,6,7,8,9,10,11,12,13,{"$f":"IF(D635=\"Yes\",IF('Financial Information'!$L635=$O635,\"\",14),IF('Financial Information'!$L635=0,\"\",14))","v":14},"","",true,true,true,true,true,true,true,true,true,true,true,true,true,true,false]
[null,{"$f":"'Scheme and Member Information'!B636","v":0},{"$f":"'Scheme and Member Information'!C636","v":0},null,null,null,null,null,null,null,null,null,null,null,"",null,{"$f":"IF(S636,VLOOKUP(MIN(T636:AI636),'Data Validation (hidden)'!$B$30:$C$45,2,FALSE),IF(COUNTA(D636:N636)>0,\"'Scheme Name' missing but values entered in other columns\",\"\"))","v":""},null,false,1,2,3,4,5,6,7,8,9,10,11,12,13,{"$f":"IF(D636=\"Yes\",IF('Financial Information'!$L636=$O636,\"\",14),IF('Financial Information'!$L636=0,\"\",14))","v":14},"","",true,true,true,true,true,true,true,true,true,true,true,true,true,true,false]
[null,{"$f":"'Scheme and Member Information'!B637","v":0},{"$f":"'Scheme and Member Information'!C637","v":0},null,null,null,null,null,null,null,null,null,null,null,"",null,{"$f":"IF(S637,VLOOKUP(MIN(T637:AI637),'Data Validation (hidden)'!$B$30:$C$45,2,FALSE),IF(COUNTA(D637:N637)>0,\"'Scheme Name' missing but values entered in other columns\",\"\"))","v":""},null,false,1,2,3,4,5,6,7,8,9,10,11,12,13,{"$f":"IF(D637=\"Yes\",IF('Financial Information'!$L637=$O637,\"\",14),IF('Financial Information'!$L637=0,\"\",14))","v":14},"","",true,true,true,true,true,true,true,true,true,true,true,true,true,true,false]
[null,{"$f":"'Scheme and Member Information'!B638","v":0},{"$f":"'Scheme and Member Information'!C638","v":0},null,null,null,null,null,null,null,null,null,null,null,"",null,{"$f":"IF(S638,VLOOKUP(MIN(T638:AI638),'Data Validation (hidden)'!$B$30:$C$45,2,FALSE),IF(COUNTA(D638:N638)>0,\"'Scheme Name' missing but values entered in other columns\",\"\"))","v":""},null,false,1,2,3,4,5,6,7,8,9,10,11,12,13,{"$f":"IF(D638=\"Yes\",IF('Financial Information'!$L638=$O638,\"\",14),IF('Financial Information'!$L638=0,\"\",14))","v":14},"","",true,true,true,true,true,true,true,true,true,true,true,true,true,true,false]
[null,{"$f":"'Scheme and Member Information'!B639","v":0},{"$f":"'Scheme and Member Information'!C639","v":0},null,null,null,null,null,null,null,null,null,null,null,"",null,{"$f":"IF(S639,VLOOKUP(MIN(T639:AI639),'Data Validation (hidden)'!$B$30:$C$45,2,FALSE),IF(COUNTA(D639:N639)>0,\"'Scheme Name' missing but values entered in other columns\",\"\"))","v":""},null,false,1,2,3,4,5,6,7,8,9,10,11,12,13,{"$f":"IF(D639=\"Yes\",IF('Financial Information'!$L639=$O639,\"\",14),IF('Financial Information'!$L639=0,\"\",14))","v":14},"","",true,true,true,true,true,true,true,true,true,true,true,true,true,true,false]
[null,{"$f":"'Scheme and Member Information'!B640","v":0},{"$f":"'Scheme and Member Information'!C640","v":0},null,null,null,null,null,null,null,null,null,null,null,"",null,{"$f":"IF(S640,VLOOKUP(MIN(T640:AI640),'Data Validation (hidden)'!$B$30:$C$45,2,FALSE),IF(COUNTA(D640:N640)>0,\"'Scheme Name' missing but values entered in other columns\",\"\"))","v":""},null,false,1,2,3,4,5,6,7,8,9,10,11,12,13,{"$f":"IF(D640=\"Yes\",IF('Financial Information'!$L640=$O640,\"\",14),IF('Financial Information'!$L640=0,\"\",14))","v":14},"","",true,true,true,true,true,true,true,true,true,true,true,true,true,true,false]
[null,{"$f":"'Scheme and Member Information'!B641","v":0},{"$f":"'Scheme and Member Information'!C641","v":0},null,null,null,null,null,null,null,null,null,null,null,"",null,{"$f":"IF(S641,VLOOKUP(MIN(T641:AI641),'Data Validation (hidden)'!$B$30:$C$45,2,FALSE),IF(COUNTA(D641:N641)>0,\"'Scheme Name' missing but values entered in other columns\",\"\"))","v":""},null,false,1,2,3,4,5,6,7,8,9,10,11,12,13,{"$f":"IF(D641=\"Yes\",IF('Financial Information'!$L641=$O641,\"\",14),IF('Financial Information'!$L641=0,\"\",14))","v":14},"","",true,true,true,true,true,true,true,true,true,true,true,true,true,true,false]
[null,{"$f":"'Scheme and Member Information'!B642","v":0},{"$f":"'Scheme and Member Information'!C642","v":0},null,null,null,null,null,null,null,null,null,null,null,"",null,{"$f":"IF(S642,VLOOKUP(MIN(T642:AI642),'Data Validation (hidden)'!$B$30:$C$45,2,FALSE),IF(COUNTA(D642:N642)>0,\"'Scheme Name' missing but values entered in other columns\",\"\"))","v":""},null,false,1,2,3,4,5,6,7,8,9,10,11,12,13,{"$f":"IF(D642=\"Yes\",IF('Financial Information'!$L642=$O642,\"\",14),IF('Financial Information'!$L642=0,\"\",14))","v":14},"","",true,true,true,true,true,true,true,true,true,true,true,true,true,true,false]
[null,{"$f":"'Scheme and Member Information'!B643","v":0},{"$f":"'Scheme and Member Information'!C643","v":0},null,null,null,null,null,null,null,null,null,null,null,"",null,{"$f":"IF(S643,VLOOKUP(MIN(T643:AI643),'Data Validation (hidden)'!$B$30:$C$45,2,FALSE),IF(COUNTA(D643:N643)>0,\"'Scheme Name' missing but values entered in other columns\",\"\"))","v":""},null,false,1,2,3,4,5,6,7,8,9,10,11,12,13,{"$f":"IF(D643=\"Yes\",IF('Financial Information'!$L643=$O643,\"\",14),IF('Financial Information'!$L643=0,\"\",14))","v":14},"","",true,true,true,true,true,true,true,true,true,true,true,true,true,true,false]
[null,{"$f":"'Scheme and Member Information'!B644","v":0},{"$f":"'Scheme and Member Information'!C644","v":0},null,null,null,null,null,null,null,null,null,null,null,"",null,{"$f":"IF(S644,VLOOKUP(MIN(T644:AI644),'Data Validation (hidden)'!$B$30:$C$45,2,FALSE),IF(COUNTA(D644:N644)>0,\"'Scheme Name' missing but values entered in other columns\",\"\"))","v":""},null,false,1,2,3,4,5,6,7,8,9,10,11,12,13,{"$f":"IF(D644=\"Yes\",IF('Financial Information'!$L644=$O644,\"\",14),IF('Financial Information'!$L644=0,\"\",14))","v":14},"","",true,true,true,true,true,true,true,true,true,true,true,true,true,true,false]
[null,{"$f":"'Scheme and Member Information'!B645","v":0},{"$f":"'Scheme and Member Information'!C645","v":0},null,null,null,null,null,null,null,null,null,null,null,"",null,{"$f":"IF(S645,VLOOKUP(MIN(T645:AI645),'Data Validation (hidden)'!$B$30:$C$45,2,FALSE),IF(COUNTA(D645:N645)>0,\"'Scheme Name' missing but values entered in other columns\",\"\"))","v":""},null,false,1,2,3,4,5,6,7,8,9,10,11,12,13,{"$f":"IF(D645=\"Yes\",IF('Financial Information'!$L645=$O645,\"\",14),IF('Financial Information'!$L645=0,\"\",14))","v":14},"","",true,true,true,true,true,true,true,true,true,true,true,true,true,true,false]
[null,{"$f":"'Scheme and Member Information'!B646","v":0},{"$f":"'Scheme and Member Information'!C646","v":0},null,null,null,null,null,null,null,null,null,null,null,"",null,{"$f":"IF(S646,VLOOKUP(MIN(T646:AI646),'Data Validation (hidden)'!$B$30:$C$45,2,FALSE),IF(COUNTA(D646:N646)>0,\"'Scheme Name' missing but values entered in other columns\",\"\"))","v":""},null,false,1,2,3,4,5,6,7,8,9,10,11,12,13,{"$f":"IF(D646=\"Yes\",IF('Financial Information'!$L646=$O646,\"\",14),IF('Financial Information'!$L646=0,\"\",14))","v":14},"","",true,true,true,true,true,true,true,true,true,true,true,true,true,true,false]
[null,{"$f":"'Scheme and Member Information'!B647","v":0},{"$f":"'Scheme and Member Information'!C647","v":0},null,null,null,null,null,null,null,null,null,null,null,"",null,{"$f":"IF(S647,VLOOKUP(MIN(T647:AI647),'Data Validation (hidden)'!$B$30:$C$45,2,FALSE),IF(COUNTA(D647:N647)>0,\"'Scheme Name' missing but values entered in other columns\",\"\"))","v":""},null,false,1,2,3,4,5,6,7,8,9,10,11,12,13,{"$f":"IF(D647=\"Yes\",IF('Financial Information'!$L647=$O647,\"\",14),IF('Financial Information'!$L647=0,\"\",14))","v":14},"","",true,true,true,true,true,true,true,true,true,true,true,true,true,true,false]
[null,{"$f":"'Scheme and Member Information'!B648","v":0},{"$f":"'Scheme and Member Information'!C648","v":0},null,null,null,null,null,null,null,null,null,null,null,"",null,{"$f":"IF(S648,VLOOKUP(MIN(T648:AI648),'Data Validation (hidden)'!$B$30:$C$45,2,FALSE),IF(COUNTA(D648:N648)>0,\"'Scheme Name' missing but values entered in other columns\",\"\"))","v":""},null,false,1,2,3,4,5,6,7,8,9,10,11,12,13,{"$f":"IF(D648=\"Yes\",IF('Financial Information'!$L648=$O648,\"\",14),IF('Financial Information'!$L648=0,\"\",14))","v":14},"","",{"$f":"IF(CELL(\"format\", B648) = \"G\",TRUE,FALSE)","v":true},{"$f":"IF(CELL(\"format\", C648) = \"F0\",TRUE,FALSE)","v":true},{"$f":"IF(CELL(\"format\",D643)=\"G\",TRUE,FALSE)","v":true},{"$f":"IF( CELL(\"format\",E648) = \"C0\",TRUE,FALSE)","v":true},{"$f":"IF( CELL(\"format\",F648) = \"C0\",TRUE,FALSE)","v":true},{"$f":"IF( CELL(\"format\",G648) = \"C0\",TRUE,FALSE)","v":true},{"$f":"IF( CELL(\"format\",H648) = \"C0\",TRUE,FALSE)","v":true},{"$f":"IF( CELL(\"format\",I648) = \"C0\",TRUE,FALSE)","v":true},{"$f":"IF( CELL(\"format\",J648) = \"C0\",TRUE,FALSE)","v":true},{"$f":"IF( CELL(\"format\",K648) = \"C0\",TRUE,FALSE)","v":true},{"$f":"IF( CELL(\"format\",L648) = \"C0\",TRUE,FALSE)","v":true},{"$f":"IF( CELL(\"format\",M648) = \"C0\",TRUE,FALSE)","v":true},{"$f":"IF( CELL(\"format\",N648) = \"C0\",TRUE,FALSE)","v":true},{"$f":"IF( CELL(\"format\",O648) = \"C0\",TRUE,FALSE)","v":true},{"$f":"IF(Q648=\"\",FALSE,IF(Q648=\"OK\",FALSE,TRUE))","v":false}]
[null,{"$f":"'Scheme and Member Information'!B649","v":0},{"$f":"'Scheme and Member Information'!C649","v":0},null,null,null,null,null,null,null,null,null,null,null,{"$f":"IF(OR(E649<>\"\",F649<>\"\",G649<>\"\",H649<>\"\",I649<>\"\",J649<>\"\",K649<>\"\",L649<>\"\",M649<>\"\",N649<>\"\"),SUM(E649:N649),\"\")","v":""},null,{"$f":"IF(S649,VLOOKUP(MIN(T649:AI649),'Data Validation (hidden)'!$B$30:$C$45,2,FALSE),IF(COUNTA(D649:N649)>0,\"'Scheme Name' missing but values entered in other columns\",\"\"))","v":""},null,{"$f":"AND(B649<>\"\",B649<>0)","v":false},{"$f":"IF(C649=\"\",1,IF(C649=0,1,\"\"))","v":1},{"$f":"IF(D649=\"\",2,\"\")","v":2},{"$f":"IF(E649=\"\",IF(D649=\"No\",\"\",3),\"\")","v":3},{"$f":"IF(F649=\"\",IF(D649=\"No\",\"\",4),\"\")","v":4},{"$f":"IF(G649=\"\",IF(D649=\"No\",\"\",5),\"\")","v":5},{"$f":"IF(H649=\"\",IF(D649=\"No\",\"\",6),\"\")","v":6},{"$f":"IF(I649=\"\",IF(D649=\"No\",\"\",7),\"\")","v":7},{"$f":"IF(J649=\"\",IF(D649=\"No\",\"\",8),\"\")","v":8},{"$f":"IF(K649=\"\",IF(D649=\"No\",\"\",9),\"\")","v":9},{"$f":"IF(L649=\"\",IF(D649=\"No\",\"\",10),\"\")","v":10},{"$f":"IF(M649=\"\",IF(D649=\"No\",\"\",11),\"\")","v":11},{"$f":"IF(N649=\"\",IF(D649=\"No\",\"\",12),\"\")","v":12},{"$f":"IF(O649=\"\",IF(D649=\"No\",\"\",13),\"\")","v":13},{"$f":"IF(D649=\"Yes\",IF('Financial Information'!$L649=$O649,\"\",14),IF('Financial Information'!$L649=0,\"\",14))","v":14},{"$f":"IF(COUNT(T649:AG649)=0,\"10\",\"\")","v":""},{"$f":"IF(AND(AJ649,AK649,AL649,AM649,AN649,AO649,AP649,AQ649,AR649,AS649,AT649,AU649,AV649,AW649)=TRUE,\"\",15)","v":""},true,true,true,true,true,true,true,true,true,true,true,true,true,true,false]
[null,{"$f":"'Scheme and Member Information'!B650","v":0},{"$f":"'Scheme and Member Information'!C650","v":0},null,null,null,null,null,null,null,null,null,null,null,"",null,{"$f":"IF(S650,VLOOKUP(MIN(T650:AI650),'Data Validation (hidden)'!$B$30:$C$45,2,FALSE),IF(COUNTA(D650:N650)>0,\"'Scheme Name' missing but values entered in other columns\",\"\"))","v":""},null,false,1,2,3,4,5,6,7,8,9,10,11,12,13,{"$f":"IF(D650=\"Yes\",IF('Financial Information'!$L650=$O650,\"\",14),IF('Financial Information'!$L650=0,\"\",14))","v":14},"","",true,true,true,true,true,true,true,true,true,true,true,true,true,true,false]
[null,{"$f":"'Scheme and Member Information'!B651","v":0},{"$f":"'Scheme and Member Information'!C651","v":0},null,null,null,null,null,null,null,null,null,null,null,"",null,{"$f":"IF(S651,VLOOKUP(MIN(T651:AI651),'Data Validation (hidden)'!$B$30:$C$45,2,FALSE),IF(COUNTA(D651:N651)>0,\"'Scheme Name' missing but values entered in other columns\",\"\"))","v":""},null,false,1,2,3,4,5,6,7,8,9,10,11,12,13,{"$f":"IF(D651=\"Yes\",IF('Financial Information'!$L651=$O651,\"\",14),IF('Financial Information'!$L651=0,\"\",14))","v":14},"","",true,true,true,true,true,true,true,true,true,true,true,true,true,true,false]
[null,{"$f":"'Scheme and Member Information'!B652","v":0},{"$f":"'Scheme and Member Information'!C652","v":0},null,null,null,null,null,null,null,null,null,null,null,"",null,{"$f":"IF(S652,VLOOKUP(MIN(T652:AI652),'Data Validation (hidden)'!$B$30:$C$45,2,FALSE),IF(COUNTA(D652:N652)>0,\"'Scheme Name' missing but values entered in other columns\",\"\"))","v":""},null,false,1,2,3,4,5,6,7,8,9,10,11,12,13,{"$f":"IF(D652=\"Yes\",IF('Financial Information'!$L652=$O652,\"\",14),IF('Financial Information'!$L652=0,\"\",14))","v":14},"","",true,true,true,true,true,true,true,true,true,true,true,true,true,true,false]
[null,{"$f":"'Scheme and Member Information'!B653","v":0},{"$f":"'Scheme and Member Information'!C653","v":0},null,null,null,null,null,null,null,null,null,null,null,"",null,{"$f":"IF(S653,VLOOKUP(MIN(T653:AI653),'Data Validation (hidden)'!$B$30:$C$45,2,FALSE),IF(COUNTA(D653:N653)>0,\"'Scheme Name' missing but values entered in other columns\",\"\"))","v":""},null,false,1,2,3,4,5,6,7,8,9,10,11,12,13,{"$f":"IF(D653=\"Yes\",IF('Financial Information'!$L653=$O653,\"\",14),IF('Financial Information'!$L653=0,\"\",14))","v":14},"","",true,true,true,true,true,true,true,true,true,true,true,true,true,true,false]
[null,{"$f":"'Scheme and Member Information'!B654","v":0},{"$f":"'Scheme and Member Information'!C654","v":0},null,null,null,null,null,null,null,null,null,null,null,"",null,{"$f":"IF(S654,VLOOKUP(MIN(T654:AI654),'Data Validation (hidden)'!$B$30:$C$45,2,FALSE),IF(COUNTA(D654:N654)>0,\"'Scheme Name' missing but values entered in other columns\",\"\"))","v":""},null,false,1,2,3,4,5,6,7,8,9,10,11,12,13,{"$f":"IF(D654=\"Yes\",IF('Financial Information'!$L654=$O654,\"\",14),IF('Financial Information'!$L654=0,\"\",14))","v":14},"","",true,true,true,true,true,true,true,true,true,true,true,true,true,true,false]
[null,{"$f":"'Scheme and Member Information'!B655","v":0},{"$f":"'Scheme and Member Information'!C655","v":0},null,null,null,null,null,null,null,null,null,null,null,"",null,{"$f":"IF(S655,VLOOKUP(MIN(T655:AI655),'Data Validation (hidden)'!$B$30:$C$45,2,FALSE),IF(COUNTA(D655:N655)>0,\"'Scheme Name' missing but values entered in other columns\",\"\"))","v":""},null,false,1,2,3,4,5,6,7,8,9,10,11,12,13,{"$f":"IF(D655=\"Yes\",IF('Financial Information'!$L655=$O655,\"\",14),IF('Financial Information'!$L655=0,\"\",14))","v":14},"","",true,true,true,true,true,true,true,true,true,true,true,true,true,true,false]
[null,{"$f":"'Scheme and Member Information'!B656","v":0},{"$f":"'Scheme and Member Information'!C656","v":0},null,null,null,null,null,null,null,null,null,null,null,"",null,{"$f":"IF(S656,VLOOKUP(MIN(T656:AI656),'Data Validation (hidden)'!$B$30:$C$45,2,FALSE),IF(COUNTA(D656:N656)>0,\"'Scheme Name' missing but values entered in other columns\",\"\"))","v":""},null,false,1,2,3,4,5,6,7,8,9,10,11,12,13,{"$f":"IF(D656=\"Yes\",IF('Financial Information'!$L656=$O656,\"\",14),IF('Financial Information'!$L656=0,\"\",14))","v":14},"","",true,true,true,true,true,true,true,true,true,true,true,true,true,true,false]
[null,{"$f":"'Scheme and Member Information'!B657","v":0},{"$f":"'Scheme and Member Information'!C657","v":0},null,null,null,null,null,null,null,null,null,null,null,"",null,{"$f":"IF(S657,VLOOKUP(MIN(T657:AI657),'Data Validation (hidden)'!$B$30:$C$45,2,FALSE),IF(COUNTA(D657:N657)>0,\"'Scheme Name' missing but values entered in other columns\",\"\"))","v":""},null,false,1,2,3,4,5,6,7,8,9,10,11,12,13,{"$f":"IF(D657=\"Yes\",IF('Financial Information'!$L657=$O657,\"\",14),IF('Financial Information'!$L657=0,\"\",14))","v":14},"","",true,true,true,true,true,true,true,true,true,true,true,true,true,true,false]
[null,{"$f":"'Scheme and Member Information'!B658","v":0},{"$f":"'Scheme and Member Information'!C658","v":0},null,null,null,null,null,null,null,null,null,null,null,"",null,{"$f":"IF(S658,VLOOKUP(MIN(T658:AI658),'Data Validation (hidden)'!$B$30:$C$45,2,FALSE),IF(COUNTA(D658:N658)>0,\"'Scheme Name' missing but values entered in other columns\",\"\"))","v":""},null,false,1,2,3,4,5,6,7,8,9,10,11,12,13,{"$f":"IF(D658=\"Yes\",IF('Financial Information'!$L658=$O658,\"\",14),IF('Financial Information'!$L658=0,\"\",14))","v":14},"","",true,true,true,true,true,true,true,true,true,true,true,true,true,true,false]
[null,{"$f":"'Scheme and Member Information'!B659","v":0},{"$f":"'Scheme and Member Information'!C659","v":0},null,null,null,null,null,null,null,null,null,null,null,"",null,{"$f":"IF(S659,VLOOKUP(MIN(T659:AI659),'Data Validation (hidden)'!$B$30:$C$45,2,FALSE),IF(COUNTA(D659:N659)>0,\"'Scheme Name' missing but values entered in other columns\",\"\"))","v":""},null,false,1,2,3,4,5,6,7,8,9,10,11,12,13,{"$f":"IF(D659=\"Yes\",IF('Financial Information'!$L659=$O659,\"\",14),IF('Financial Information'!$L659=0,\"\",14))","v":14},"","",true,true,true,true,true,true,true,true,true,true,true,true,true,true,false]
[null,{"$f":"'Scheme and Member Information'!B660","v":0},{"$f":"'Scheme and Member Information'!C660","v":0},null,null,null,null,null,null,null,null,null,null,null,"",null,{"$f":"IF(S660,VLOOKUP(MIN(T660:AI660),'Data Validation (hidden)'!$B$30:$C$45,2,FALSE),IF(COUNTA(D660:N660)>0,\"'Scheme Name' missing but values entered in other columns\",\"\"))","v":""},null,false,1,2,3,4,5,6,7,8,9,10,11,12,13,{"$f":"IF(D660=\"Yes\",IF('Financial Information'!$L660=$O660,\"\",14),IF('Financial Information'!$L660=0,\"\",14))","v":14},"","",true,true,true,true,true,true,true,true,true,true,true,true,true,true,false]
[null,{"$f":"'Scheme and Member Information'!B661","v":0},{"$f":"'Scheme and Member Information'!C661","v":0},null,null,null,null,null,null,null,null,null,null,null,"",null,{"$f":"IF(S661,VLOOKUP(MIN(T661:AI661),'Data Validation (hidden)'!$B$30:$C$45,2,FALSE),IF(COUNTA(D661:N661)>0,\"'Scheme Name' missing but values entered in other columns\",\"\"))","v":""},null,false,1,2,3,4,5,6,7,8,9,10,11,12,13,{"$f":"IF(D661=\"Yes\",IF('Financial Information'!$L661=$O661,\"\",14),IF('Financial Information'!$L661=0,\"\",14))","v":14},"","",true,true,true,true,true,true,true,true,true,true,true,true,true,true,false]
[null,{"$f":"'Scheme and Member Information'!B662","v":0},{"$f":"'Scheme and Member Information'!C662","v":0},null,null,null,null,null,null,null,null,null,null,null,"",null,{"$f":"IF(S662,VLOOKUP(MIN(T662:AI662),'Data Validation (hidden)'!$B$30:$C$45,2,FALSE),IF(COUNTA(D662:N662)>0,\"'Scheme Name' missing but values entered in other columns\",\"\"))","v":""},null,false,1,2,3,4,5,6,7,8,9,10,11,12,13,{"$f":"IF(D662=\"Yes\",IF('Financial Information'!$L662=$O662,\"\",14),IF('Financial Information'!$L662=0,\"\",14))","v":14},"","",true,true,true,true,true,true,true,true,true,true,true,true,true,true,false]
[null,{"$f":"'Scheme and Member Information'!B663","v":0},{"$f":"'Scheme and Member Information'!C663","v":0},null,null,null,null,null,null,null,null,null,null,null,"",null,{"$f":"IF(S663,VLOOKUP(MIN(T663:AI663),'Data Validation (hidden)'!$B$30:$C$45,2,FALSE),IF(COUNTA(D663:N663)>0,\"'Scheme Name' missing but values entered in other columns\",\"\"))","v":""},null,false,1,2,3,4,5,6,7,8,9,10,11,12,13,{"$f":"IF(D663=\"Yes\",IF('Financial Information'!$L663=$O663,\"\",14),IF('Financial Information'!$L663=0,\"\",14))","v":14},"","",true,true,true,true,true,true,true,true,true,true,true,true,true,true,false]
[null,{"$f":"'Scheme and Member Information'!B664","v":0},{"$f":"'Scheme and Member Information'!C664","v":0},null,null,null,null,null,null,null,null,null,null,null,"",null,{"$f":"IF(S664,VLOOKUP(MIN(T664:AI664),'Data Validation (hidden)'!$B$30:$C$45,2,FALSE),IF(COUNTA(D664:N664)>0,\"'Scheme Name' missing but values entered in other columns\",\"\"))","v":""},null,false,1,2,3,4,5,6,7,8,9,10,11,12,13,{"$f":"IF(D664=\"Yes\",IF('Financial Information'!$L664=$O664,\"\",14),IF('Financial Information'!$L664=0,\"\",14))","v":14},"","",true,true,true,true,true,true,true,true,true,true,true,true,true,true,false]
[null,{"$f":"'Scheme and Member Information'!B665","v":0},{"$f":"'Scheme and Member Information'!C665","v":0},null,null,null,null,null,null,null,null,null,null,null,"",null,{"$f":"IF(S665,VLOOKUP(MIN(T665:AI665),'Data Validation (hidden)'!$B$30:$C$45,2,FALSE),IF(COUNTA(D665:N665)>0,\"'Scheme Name' missing but values entered in other columns\",\"\"))","v":""},null,false,1,2,3,4,5,6,7,8,9,10,11,12,13,{"$f":"IF(D665=\"Yes\",IF('Financial Information'!$L665=$O665,\"\",14),IF('Financial Information'!$L665=0,\"\",14))","v":14},"","",true,true,true,true,true,true,true,true,true,true,true,true,true,true,false]
[null,{"$f":"'Scheme and Member Information'!B666","v":0},{"$f":"'Scheme and Member Information'!C666","v":0},null,null,null,null,null,null,null,null,null,null,null,"",null,{"$f":"IF(S666,VLOOKUP(MIN(T666:AI666),'Data Validation (hidden)'!$B$30:$C$45,2,FALSE),IF(COUNTA(D666:N666)>0,\"'Scheme Name' missing but values entered in other columns\",\"\"))","v":""},null,false,1,2,3,4,5,6,7,8,9,10,11,12,13,{"$f":"IF(D666=\"Yes\",IF('Financial Information'!$L666=$O666,\"\",14),IF('Financial Information'!$L666=0,\"\",14))","v":14},"","",true,true,true,true,true,true,true,true,true,true,true,true,true,true,false]
[null,{"$f":"'Scheme and Member Information'!B667","v":0},{"$f":"'Scheme and Member Information'!C667","v":0},null,null,null,null,null,null,null,null,null,null,null,"",null,{"$f":"IF(S667,VLOOKUP(MIN(T667:AI667),'Data Validation (hidden)'!$B$30:$C$45,2,FALSE),IF(COUNTA(D667:N667)>0,\"'Scheme Name' missing but values entered in other columns\",\"\"))","v":""},null,false,1,2,3,4,5,6,7,8,9,10,11,12,13,{"$f":"IF(D667=\"Yes\",IF('Financial Information'!$L667=$O667,\"\",14),IF('Financial Information'!$L667=0,\"\",14))","v":14},"","",true,true,true,true,true,true,true,true,true,true,true,true,true,true,false]
[null,{"$f":"'Scheme and Member Information'!B668","v":0},{"$f":"'Scheme and Member Information'!C668","v":0},null,null,null,null,null,null,null,null,null,null,null,"",null,{"$f":"IF(S668,VLOOKUP(MIN(T668:AI668),'Data Validation (hidden)'!$B$30:$C$45,2,FALSE),IF(COUNTA(D668:N668)>0,\"'Scheme Name' missing but values entered in other columns\",\"\"))","v":""},null,false,1,2,3,4,5,6,7,8,9,10,11,12,13,{"$f":"IF(D668=\"Yes\",IF('Financial Information'!$L668=$O668,\"\",14),IF('Financial Information'!$L668=0,\"\",14))","v":14},"","",true,true,true,true,true,true,true,true,true,true,true,true,true,true,false]
[null,{"$f":"'Scheme and Member Information'!B669","v":0},{"$f":"'Scheme and Member Information'!C669","v":0},null,null,null,null,null,null,null,null,null,null,null,"",null,{"$f":"IF(S669,VLOOKUP(MIN(T669:AI669),'Data Validation (hidden)'!$B$30:$C$45,2,FALSE),IF(COUNTA(D669:N669)>0,\"'Scheme Name' missing but values entered in other columns\",\"\"))","v":""},null,false,1,2,3,4,5,6,7,8,9,10,11,12,13,{"$f":"IF(D669=\"Yes\",IF('Financial Information'!$L669=$O669,\"\",14),IF('Financial Information'!$L669=0,\"\",14))","v":14},"","",true,true,true,true,true,true,true,true,true,true,true,true,true,true,false]
[null,{"$f":"'Scheme and Member Information'!B670","v":0},{"$f":"'Scheme and Member Information'!C670","v":0},null,null,null,null,null,null,null,null,null,null,null,"",null,{"$f":"IF(S670,VLOOKUP(MIN(T670:AI670),'Data Validation (hidden)'!$B$30:$C$45,2,FALSE),IF(COUNTA(D670:N670)>0,\"'Scheme Name' missing but values entered in other columns\",\"\"))","v":""},null,false,1,2,3,4,5,6,7,8,9,10,11,12,13,{"$f":"IF(D670=\"Yes\",IF('Financial Information'!$L670=$O670,\"\",14),IF('Financial Information'!$L670=0,\"\",14))","v":14},"","",true,true,true,true,true,true,true,true,true,true,true,true,true,true,false]
[null,{"$f":"'Scheme and Member Information'!B671","v":0},{"$f":"'Scheme and Member Information'!C671","v":0},null,null,null,null,null,null,null,null,null,null,null,"",null,{"$f":"IF(S671,VLOOKUP(MIN(T671:AI671),'Data Validation (hidden)'!$B$30:$C$45,2,FALSE),IF(COUNTA(D671:N671)>0,\"'Scheme Name' missing but values entered in other columns\",\"\"))","v":""},null,false,1,2,3,4,5,6,7,8,9,10,11,12,13,{"$f":"IF(D671=\"Yes\",IF('Financial Information'!$L671=$O671,\"\",14),IF('Financial Information'!$L671=0,\"\",14))","v":14},"","",true,true,true,true,true,true,true,true,true,true,true,true,true,true,false]
[null,{"$f":"'Scheme and Member Information'!B672","v":0},{"$f":"'Scheme and Member Information'!C672","v":0},null,null,null,null,null,null,null,null,null,null,null,"",null,{"$f":"IF(S672,VLOOKUP(MIN(T672:AI672),'Data Validation (hidden)'!$B$30:$C$45,2,FALSE),IF(COUNTA(D672:N672)>0,\"'Scheme Name' missing but values entered in other columns\",\"\"))","v":""},null,false,1,2,3,4,5,6,7,8,9,10,11,12,13,{"$f":"IF(D672=\"Yes\",IF('Financial Information'!$L672=$O672,\"\",14),IF('Financial Information'!$L672=0,\"\",14))","v":14},"","",true,true,true,true,true,true,true,true,true,true,true,true,true,true,false]
[null,{"$f":"'Scheme and Member Information'!B673","v":0},{"$f":"'Scheme and Member Information'!C673","v":0},null,null,null,null,null,null,null,null,null,null,null,"",null,{"$f":"IF(S673,VLOOKUP(MIN(T673:AI673),'Data Validation (hidden)'!$B$30:$C$45,2,FALSE),IF(COUNTA(D673:N673)>0,\"'Scheme Name' missing but values entered in other columns\",\"\"))","v":""},null,false,1,2,3,4,5,6,7,8,9,10,11,12,13,{"$f":"IF(D673=\"Yes\",IF('Financial Information'!$L673=$O673,\"\",14),IF('Financial Information'!$L673=0,\"\",14))","v":14},"","",true,true,true,true,true,true,true,true,true,true,true,true,true,true,false]
[null,{"$f":"'Scheme and Member Information'!B674","v":0},{"$f":"'Scheme and Member Information'!C674","v":0},null,null,null,null,null,null,null,null,null,null,null,"",null,{"$f":"IF(S674,VLOOKUP(MIN(T674:AI674),'Data Validation (hidden)'!$B$30:$C$45,2,FALSE),IF(COUNTA(D674:N674)>0,\"'Scheme Name' missing but values entered in other columns\",\"\"))","v":""},null,false,1,2,3,4,5,6,7,8,9,10,11,12,13,{"$f":"IF(D674=\"Yes\",IF('Financial Information'!$L674=$O674,\"\",14),IF('Financial Information'!$L674=0,\"\",14))","v":14},"","",true,true,true,true,true,true,true,true,true,true,true,true,true,true,false]
[null,{"$f":"'Scheme and Member Information'!B675","v":0},{"$f":"'Scheme and Member Information'!C675","v":0},null,null,null,null,null,null,null,null,null,null,null,"",null,{"$f":"IF(S675,VLOOKUP(MIN(T675:AI675),'Data Validation (hidden)'!$B$30:$C$45,2,FALSE),IF(COUNTA(D675:N675)>0,\"'Scheme Name' missing but values entered in other columns\",\"\"))","v":""},null,false,1,2,3,4,5,6,7,8,9,10,11,12,13,{"$f":"IF(D675=\"Yes\",IF('Financial Information'!$L675=$O675,\"\",14),IF('Financial Information'!$L675=0,\"\",14))","v":14},"","",true,true,true,true,true,true,true,true,true,true,true,true,true,true,false]
[null,{"$f":"'Scheme and Member Information'!B676","v":0},{"$f":"'Scheme and Member Information'!C676","v":0},null,null,null,null,null,null,null,null,null,null,null,"",null,{"$f":"IF(S676,VLOOKUP(MIN(T676:AI676),'Data Validation (hidden)'!$B$30:$C$45,2,FALSE),IF(COUNTA(D676:N676)>0,\"'Scheme Name' missing but values entered in other columns\",\"\"))","v":""},null,false,1,2,3,4,5,6,7,8,9,10,11,12,13,{"$f":"IF(D676=\"Yes\",IF('Financial Information'!$L676=$O676,\"\",14),IF('Financial Information'!$L676=0,\"\",14))","v":14},"","",true,true,true,true,true,true,true,true,true,true,true,true,true,true,false]
[null,{"$f":"'Scheme and Member Information'!B677","v":0},{"$f":"'Scheme and Member Information'!C677","v":0},null,null,null,null,null,null,null,null,null,null,null,"",null,{"$f":"IF(S677,VLOOKUP(MIN(T677:AI677),'Data Validation (hidden)'!$B$30:$C$45,2,FALSE),IF(COUNTA(D677:N677)>0,\"'Scheme Name' missing but values entered in other columns\",\"\"))","v":""},null,false,1,2,3,4,5,6,7,8,9,10,11,12,13,{"$f":"IF(D677=\"Yes\",IF('Financial Information'!$L677=$O677,\"\",14),IF('Financial Information'!$L677=0,\"\",14))","v":14},"","",true,true,true,true,true,true,true,true,true,true,true,true,true,true,false]
[null,{"$f":"'Scheme and Member Information'!B678","v":0},{"$f":"'Scheme and Member Information'!C678","v":0},null,null,null,null,null,null,null,null,null,null,null,"",null,{"$f":"IF(S678,VLOOKUP(MIN(T678:AI678),'Data Validation (hidden)'!$B$30:$C$45,2,FALSE),IF(COUNTA(D678:N678)>0,\"'Scheme Name' missing but values entered in other columns\",\"\"))","v":""},null,false,1,2,3,4,5,6,7,8,9,10,11,12,13,{"$f":"IF(D678=\"Yes\",IF('Financial Information'!$L678=$O678,\"\",14),IF('Financial Information'!$L678=0,\"\",14))","v":14},"","",true,true,true,true,true,true,true,true,true,true,true,true,true,true,false]
[null,{"$f":"'Scheme and Member Information'!B679","v":0},{"$f":"'Scheme and Member Information'!C679","v":0},null,null,null,null,null,null,null,null,null,null,null,"",null,{"$f":"IF(S679,VLOOKUP(MIN(T679:AI679),'Data Validation (hidden)'!$B$30:$C$45,2,FALSE),IF(COUNTA(D679:N679)>0,\"'Scheme Name' missing but values entered in other columns\",\"\"))","v":""},null,false,1,2,3,4,5,6,7,8,9,10,11,12,13,{"$f":"IF(D679=\"Yes\",IF('Financial Information'!$L679=$O679,\"\",14),IF('Financial Information'!$L679=0,\"\",14))","v":14},"","",true,true,true,true,true,true,true,true,true,true,true,true,true,true,false]
[null,{"$f":"'Scheme and Member Information'!B680","v":0},{"$f":"'Scheme and Member Information'!C680","v":0},null,null,null,null,null,null,null,null,null,null,null,"",null,{"$f":"IF(S680,VLOOKUP(MIN(T680:AI680),'Data Validation (hidden)'!$B$30:$C$45,2,FALSE),IF(COUNTA(D680:N680)>0,\"'Scheme Name' missing but values entered in other columns\",\"\"))","v":""},null,false,1,2,3,4,5,6,7,8,9,10,11,12,13,{"$f":"IF(D680=\"Yes\",IF('Financial Information'!$L680=$O680,\"\",14),IF('Financial Information'!$L680=0,\"\",14))","v":14},"","",true,true,true,true,true,true,true,true,true,true,true,true,true,true,false]
[null,{"$f":"'Scheme and Member Information'!B681","v":0},{"$f":"'Scheme and Member Information'!C681","v":0},null,null,null,null,null,null,null,null,null,null,null,"",null,{"$f":"IF(S681,VLOOKUP(MIN(T681:AI681),'Data Validation (hidden)'!$B$30:$C$45,2,FALSE),IF(COUNTA(D681:N681)>0,\"'Scheme Name' missing but values entered in other columns\",\"\"))","v":""},null,false,1,2,3,4,5,6,7,8,9,10,11,12,13,{"$f":"IF(D681=\"Yes\",IF('Financial Information'!$L681=$O681,\"\",14),IF('Financial Information'!$L681=0,\"\",14))","v":14},"","",true,true,true,true,true,true,true,true,true,true,true,true,true,true,false]
[null,{"$f":"'Scheme and Member Information'!B682","v":0},{"$f":"'Scheme and Member Information'!C682","v":0},null,null,null,null,null,null,null,null,null,null,null,"",null,{"$f":"IF(S682,VLOOKUP(MIN(T682:AI682),'Data Validation (hidden)'!$B$30:$C$45,2,FALSE),IF(COUNTA(D682:N682)>0,\"'Scheme Name' missing but values entered in other columns\",\"\"))","v":""},null,false,1,2,3,4,5,6,7,8,9,10,11,12,13,{"$f":"IF(D682=\"Yes\",IF('Financial Information'!$L682=$O682,\"\",14),IF('Financial Information'!$L682=0,\"\",14))","v":14},"","",true,true,true,true,true,true,true,true,true,true,true,true,true,true,false]
[null,{"$f":"'Scheme and Member Information'!B683","v":0},{"$f":"'Scheme and Member Information'!C683","v":0},null,null,null,null,null,null,null,null,null,null,null,"",null,{"$f":"IF(S683,VLOOKUP(MIN(T683:AI683),'Data Validation (hidden)'!$B$30:$C$45,2,FALSE),IF(COUNTA(D683:N683)>0,\"'Scheme Name' missing but values entered in other columns\",\"\"))","v":""},null,false,1,2,3,4,5,6,7,8,9,10,11,12,13,{"$f":"IF(D683=\"Yes\",IF('Financial Information'!$L683=$O683,\"\",14),IF('Financial Information'!$L683=0,\"\",14))","v":14},"","",true,true,true,true,true,true,true,true,true,true,true,true,true,true,false]
[null,{"$f":"'Scheme and Member Information'!B684","v":0},{"$f":"'Scheme and Member Information'!C684","v":0},null,null,null,null,null,null,null,null,null,null,null,"",null,{"$f":"IF(S684,VLOOKUP(MIN(T684:AI684),'Data Validation (hidden)'!$B$30:$C$45,2,FALSE),IF(COUNTA(D684:N684)>0,\"'Scheme Name' missing but values entered in other columns\",\"\"))","v":""},null,false,1,2,3,4,5,6,7,8,9,10,11,12,13,{"$f":"IF(D684=\"Yes\",IF('Financial Information'!$L684=$O684,\"\",14),IF('Financial Information'!$L684=0,\"\",14))","v":14},"","",true,true,true,true,true,true,true,true,true,true,true,true,true,true,false]
[null,{"$f":"'Scheme and Member Information'!B685","v":0},{"$f":"'Scheme and Member Information'!C685","v":0},null,null,null,null,null,null,null,null,null,null,null,"",null,{"$f":"IF(S685,VLOOKUP(MIN(T685:AI685),'Data Validation (hidden)'!$B$30:$C$45,2,FALSE),IF(COUNTA(D685:N685)>0,\"'Scheme Name' missing but values entered in other columns\",\"\"))","v":""},null,false,1,2,3,4,5,6,7,8,9,10,11,12,13,{"$f":"IF(D685=\"Yes\",IF('Financial Information'!$L685=$O685,\"\",14),IF('Financial Information'!$L685=0,\"\",14))","v":14},"","",true,true,true,true,true,true,true,true,true,true,true,true,true,true,false]
[null,{"$f":"'Scheme and Member Information'!B686","v":0},{"$f":"'Scheme and Member Information'!C686","v":0},null,null,null,null,null,null,null,null,null,null,null,"",null,{"$f":"IF(S686,VLOOKUP(MIN(T686:AI686),'Data Validation (hidden)'!$B$30:$C$45,2,FALSE),IF(COUNTA(D686:N686)>0,\"'Scheme Name' missing but values entered in other columns\",\"\"))","v":""},null,false,1,2,3,4,5,6,7,8,9,10,11,12,13,{"$f":"IF(D686=\"Yes\",IF('Financial Information'!$L686=$O686,\"\",14),IF('Financial Information'!$L686=0,\"\",14))","v":14},"","",true,true,true,true,true,true,true,true,true,true,true,true,true,true,false]
[null,{"$f":"'Scheme and Member Information'!B687","v":0},{"$f":"'Scheme and Member Information'!C687","v":0},null,null,null,null,null,null,null,null,null,null,null,"",null,{"$f":"IF(S687,VLOOKUP(MIN(T687:AI687),'Data Validation (hidden)'!$B$30:$C$45,2,FALSE),IF(COUNTA(D687:N687)>0,\"'Scheme Name' missing but values entered in other columns\",\"\"))","v":""},null,false,1,2,3,4,5,6,7,8,9,10,11,12,13,{"$f":"IF(D687=\"Yes\",IF('Financial Information'!$L687=$O687,\"\",14),IF('Financial Information'!$L687=0,\"\",14))","v":14},"","",true,true,true,true,true,true,true,true,true,true,true,true,true,true,false]
[null,{"$f":"'Scheme and Member Information'!B688","v":0},{"$f":"'Scheme and Member Information'!C688","v":0},null,null,null,null,null,null,null,null,null,null,null,"",null,{"$f":"IF(S688,VLOOKUP(MIN(T688:AI688),'Data Validation (hidden)'!$B$30:$C$45,2,FALSE),IF(COUNTA(D688:N688)>0,\"'Scheme Name' missing but values entered in other columns\",\"\"))","v":""},null,false,1,2,3,4,5,6,7,8,9,10,11,12,13,{"$f":"IF(D688=\"Yes\",IF('Financial Information'!$L688=$O688,\"\",14),IF('Financial Information'!$L688=0,\"\",14))","v":14},"","",true,true,true,true,true,true,true,true,true,true,true,true,true,true,false]
[null,{"$f":"'Scheme and Member Information'!B689","v":0},{"$f":"'Scheme and Member Information'!C689","v":0},null,null,null,null,null,null,null,null,null,null,null,"",null,{"$f":"IF(S689,VLOOKUP(MIN(T689:AI689),'Data Validation (hidden)'!$B$30:$C$45,2,FALSE),IF(COUNTA(D689:N689)>0,\"'Scheme Name' missing but values entered in other columns\",\"\"))","v":""},null,false,1,2,3,4,5,6,7,8,9,10,11,12,13,{"$f":"IF(D689=\"Yes\",IF('Financial Information'!$L689=$O689,\"\",14),IF('Financial Information'!$L689=0,\"\",14))","v":14},"","",true,true,true,true,true,true,true,true,true,true,true,true,true,true,false]
[null,{"$f":"'Scheme and Member Information'!B690","v":0},{"$f":"'Scheme and Member Information'!C690","v":0},null,null,null,null,null,null,null,null,null,null,null,"",null,{"$f":"IF(S690,VLOOKUP(MIN(T690:AI690),'Data Validation (hidden)'!$B$30:$C$45,2,FALSE),IF(COUNTA(D690:N690)>0,\"'Scheme Name' missing but values entered in other columns\",\"\"))","v":""},null,false,1,2,3,4,5,6,7,8,9,10,11,12,13,{"$f":"IF(D690=\"Yes\",IF('Financial Information'!$L690=$O690,\"\",14),IF('Financial Information'!$L690=0,\"\",14))","v":14},"","",true,true,true,true,true,true,true,true,true,true,true,true,true,true,false]
[null,{"$f":"'Scheme and Member Information'!B691","v":0},{"$f":"'Scheme and Member Information'!C691","v":0},null,null,null,null,null,null,null,null,null,null,null,"",null,{"$f":"IF(S691,VLOOKUP(MIN(T691:AI691),'Data Validation (hidden)'!$B$30:$C$45,2,FALSE),IF(COUNTA(D691:N691)>0,\"'Scheme Name' missing but values entered in other columns\",\"\"))","v":""},null,false,1,2,3,4,5,6,7,8,9,10,11,12,13,{"$f":"IF(D691=\"Yes\",IF('Financial Information'!$L691=$O691,\"\",14),IF('Financial Information'!$L691=0,\"\",14))","v":14},"","",true,true,true,true,true,true,true,true,true,true,true,true,true,true,false]
[null,{"$f":"'Scheme and Member Information'!B692","v":0},{"$f":"'Scheme and Member Information'!C692","v":0},null,null,null,null,null,null,null,null,null,null,null,"",null,{"$f":"IF(S692,VLOOKUP(MIN(T692:AI692),'Data Validation (hidden)'!$B$30:$C$45,2,FALSE),IF(COUNTA(D692:N692)>0,\"'Scheme Name' missing but values entered in other columns\",\"\"))","v":""},null,false,1,2,3,4,5,6,7,8,9,10,11,12,13,{"$f":"IF(D692=\"Yes\",IF('Financial Information'!$L692=$O692,\"\",14),IF('Financial Information'!$L692=0,\"\",14))","v":14},"","",true,true,true,true,true,true,true,true,true,true,true,true,true,true,false]
[null,{"$f":"'Scheme and Member Information'!B693","v":0},{"$f":"'Scheme and Member Information'!C693","v":0},null,null,null,null,null,null,null,null,null,null,null,"",null,{"$f":"IF(S693,VLOOKUP(MIN(T693:AI693),'Data Validation (hidden)'!$B$30:$C$45,2,FALSE),IF(COUNTA(D693:N693)>0,\"'Scheme Name' missing but values entered in other columns\",\"\"))","v":""},null,false,1,2,3,4,5,6,7,8,9,10,11,12,13,{"$f":"IF(D693=\"Yes\",IF('Financial Information'!$L693=$O693,\"\",14),IF('Financial Information'!$L693=0,\"\",14))","v":14},"","",true,true,true,true,true,true,true,true,true,true,true,true,true,true,false]
[null,{"$f":"'Scheme and Member Information'!B694","v":0},{"$f":"'Scheme and Member Information'!C694","v":0},null,null,null,null,null,null,null,null,null,null,null,"",null,{"$f":"IF(S694,VLOOKUP(MIN(T694:AI694),'Data Validation (hidden)'!$B$30:$C$45,2,FALSE),IF(COUNTA(D694:N694)>0,\"'Scheme Name' missing but values entered in other columns\",\"\"))","v":""},null,false,1,2,3,4,5,6,7,8,9,10,11,12,13,{"$f":"IF(D694=\"Yes\",IF('Financial Information'!$L694=$O694,\"\",14),IF('Financial Information'!$L694=0,\"\",14))","v":14},"","",true,true,true,true,true,true,true,true,true,true,true,true,true,true,false]
[null,{"$f":"'Scheme and Member Information'!B695","v":0},{"$f":"'Scheme and Member Information'!C695","v":0},null,null,null,null,null,null,null,null,null,null,null,"",null,{"$f":"IF(S695,VLOOKUP(MIN(T695:AI695),'Data Validation (hidden)'!$B$30:$C$45,2,FALSE),IF(COUNTA(D695:N695)>0,\"'Scheme Name' missing but values entered in other columns\",\"\"))","v":""},null,false,1,2,3,4,5,6,7,8,9,10,11,12,13,{"$f":"IF(D695=\"Yes\",IF('Financial Information'!$L695=$O695,\"\",14),IF('Financial Information'!$L695=0,\"\",14))","v":14},"","",true,true,true,true,true,true,true,true,true,true,true,true,true,true,false]
[null,{"$f":"'Scheme and Member Information'!B696","v":0},{"$f":"'Scheme and Member Information'!C696","v":0},null,null,null,null,null,null,null,null,null,null,null,"",null,{"$f":"IF(S696,VLOOKUP(MIN(T696:AI696),'Data Validation (hidden)'!$B$30:$C$45,2,FALSE),IF(COUNTA(D696:N696)>0,\"'Scheme Name' missing but values entered in other columns\",\"\"))","v":""},null,false,1,2,3,4,5,6,7,8,9,10,11,12,13,{"$f":"IF(D696=\"Yes\",IF('Financial Information'!$L696=$O696,\"\",14),IF('Financial Information'!$L696=0,\"\",14))","v":14},"","",true,true,true,true,true,true,true,true,true,true,true,true,true,true,false]
[null,{"$f":"'Scheme and Member Information'!B697","v":0},{"$f":"'Scheme and Member Information'!C697","v":0},null,null,null,null,null,null,null,null,null,null,null,"",null,{"$f":"IF(S697,VLOOKUP(MIN(T697:AI697),'Data Validation (hidden)'!$B$30:$C$45,2,FALSE),IF(COUNTA(D697:N697)>0,\"'Scheme Name' missing but values entered in other columns\",\"\"))","v":""},null,false,1,2,3,4,5,6,7,8,9,10,11,12,13,{"$f":"IF(D697=\"Yes\",IF('Financial Information'!$L697=$O697,\"\",14),IF('Financial Information'!$L697=0,\"\",14))","v":14},"","",true,true,true,true,true,true,true,true,true,true,true,true,true,true,false]
[null,{"$f":"'Scheme and Member Information'!B698","v":0},{"$f":"'Scheme and Member Information'!C698","v":0},null,null,null,null,null,null,null,null,null,null,null,"",null,{"$f":"IF(S698,VLOOKUP(MIN(T698:AI698),'Data Validation (hidden)'!$B$30:$C$45,2,FALSE),IF(COUNTA(D698:N698)>0,\"'Scheme Name' missing but values entered in other columns\",\"\"))","v":""},null,false,1,2,3,4,5,6,7,8,9,10,11,12,13,{"$f":"IF(D698=\"Yes\",IF('Financial Information'!$L698=$O698,\"\",14),IF('Financial Information'!$L698=0,\"\",14))","v":14},"","",true,true,true,true,true,true,true,true,true,true,true,true,true,true,false]
[null,{"$f":"'Scheme and Member Information'!B699","v":0},{"$f":"'Scheme and Member Information'!C699","v":0},null,null,null,null,null,null,null,null,null,null,null,"",null,{"$f":"IF(S699,VLOOKUP(MIN(T699:AI699),'Data Validation (hidden)'!$B$30:$C$45,2,FALSE),IF(COUNTA(D699:N699)>0,\"'Scheme Name' missing but values entered in other columns\",\"\"))","v":""},null,false,1,2,3,4,5,6,7,8,9,10,11,12,13,{"$f":"IF(D699=\"Yes\",IF('Financial Information'!$L699=$O699,\"\",14),IF('Financial Information'!$L699=0,\"\",14))","v":14},"","",true,true,true,true,true,true,true,true,true,true,true,true,true,true,false]
[null,{"$f":"'Scheme and Member Information'!B700","v":0},{"$f":"'Scheme and Member Information'!C700","v":0},null,null,null,null,null,null,null,null,null,null,null,"",null,{"$f":"IF(S700,VLOOKUP(MIN(T700:AI700),'Data Validation (hidden)'!$B$30:$C$45,2,FALSE),IF(COUNTA(D700:N700)>0,\"'Scheme Name' missing but values entered in other columns\",\"\"))","v":""},null,false,1,2,3,4,5,6,7,8,9,10,11,12,13,{"$f":"IF(D700=\"Yes\",IF('Financial Information'!$L700=$O700,\"\",14),IF('Financial Information'!$L700=0,\"\",14))","v":14},"","",true,true,true,true,true,true,true,true,true,true,true,true,true,true,false]
[null,{"$f":"'Scheme and Member Information'!B701","v":0},{"$f":"'Scheme and Member Information'!C701","v":0},null,null,null,null,null,null,null,null,null,null,null,"",null,{"$f":"IF(S701,VLOOKUP(MIN(T701:AI701),'Data Validation (hidden)'!$B$30:$C$45,2,FALSE),IF(COUNTA(D701:N701)>0,\"'Scheme Name' missing but values entered in other columns\",\"\"))","v":""},null,false,1,2,3,4,5,6,7,8,9,10,11,12,13,{"$f":"IF(D701=\"Yes\",IF('Financial Information'!$L701=$O701,\"\",14),IF('Financial Information'!$L701=0,\"\",14))","v":14},"","",true,true,true,true,true,true,true,true,true,true,true,true,true,true,false]
[null,{"$f":"'Scheme and Member Information'!B702","v":0},{"$f":"'Scheme and Member Information'!C702","v":0},null,null,null,null,null,null,null,null,null,null,null,"",null,{"$f":"IF(S702,VLOOKUP(MIN(T702:AI702),'Data Validation (hidden)'!$B$30:$C$45,2,FALSE),IF(COUNTA(D702:N702)>0,\"'Scheme Name' missing but values entered in other columns\",\"\"))","v":""},null,false,1,2,3,4,5,6,7,8,9,10,11,12,13,{"$f":"IF(D702=\"Yes\",IF('Financial Information'!$L702=$O702,\"\",14),IF('Financial Information'!$L702=0,\"\",14))","v":14},"","",true,true,true,true,true,true,true,true,true,true,true,true,true,true,false]
[null,{"$f":"'Scheme and Member Information'!B703","v":0},{"$f":"'Scheme and Member Information'!C703","v":0},null,null,null,null,null,null,null,null,null,null,null,"",null,{"$f":"IF(S703,VLOOKUP(MIN(T703:AI703),'Data Validation (hidden)'!$B$30:$C$45,2,FALSE),IF(COUNTA(D703:N703)>0,\"'Scheme Name' missing but values entered in other columns\",\"\"))","v":""},null,false,1,2,3,4,5,6,7,8,9,10,11,12,13,{"$f":"IF(D703=\"Yes\",IF('Financial Information'!$L703=$O703,\"\",14),IF('Financial Information'!$L703=0,\"\",14))","v":14},"","",true,true,true,true,true,true,true,true,true,true,true,true,true,true,false]
[null,{"$f":"'Scheme and Member Information'!B704","v":0},{"$f":"'Scheme and Member Information'!C704","v":0},null,null,null,null,null,null,null,null,null,null,null,"",null,{"$f":"IF(S704,VLOOKUP(MIN(T704:AI704),'Data Validation (hidden)'!$B$30:$C$45,2,FALSE),IF(COUNTA(D704:N704)>0,\"'Scheme Name' missing but values entered in other columns\",\"\"))","v":""},null,false,1,2,3,4,5,6,7,8,9,10,11,12,13,{"$f":"IF(D704=\"Yes\",IF('Financial Information'!$L704=$O704,\"\",14),IF('Financial Information'!$L704=0,\"\",14))","v":14},"","",true,true,true,true,true,true,true,true,true,true,true,true,true,true,false]
[null,{"$f":"'Scheme and Member Information'!B705","v":0},{"$f":"'Scheme and Member Information'!C705","v":0},null,null,null,null,null,null,null,null,null,null,null,"",null,{"$f":"IF(S705,VLOOKUP(MIN(T705:AI705),'Data Validation (hidden)'!$B$30:$C$45,2,FALSE),IF(COUNTA(D705:N705)>0,\"'Scheme Name' missing but values entered in other columns\",\"\"))","v":""},null,false,1,2,3,4,5,6,7,8,9,10,11,12,13,{"$f":"IF(D705=\"Yes\",IF('Financial Information'!$L705=$O705,\"\",14),IF('Financial Information'!$L705=0,\"\",14))","v":14},"","",true,true,true,true,true,true,true,true,true,true,true,true,true,true,false]
[null,{"$f":"'Scheme and Member Information'!B706","v":0},{"$f":"'Scheme and Member Information'!C706","v":0},null,null,null,null,null,null,null,null,null,null,null,"",null,{"$f":"IF(S706,VLOOKUP(MIN(T706:AI706),'Data Validation (hidden)'!$B$30:$C$45,2,FALSE),IF(COUNTA(D706:N706)>0,\"'Scheme Name' missing but values entered in other columns\",\"\"))","v":""},null,false,1,2,3,4,5,6,7,8,9,10,11,12,13,{"$f":"IF(D706=\"Yes\",IF('Financial Information'!$L706=$O706,\"\",14),IF('Financial Information'!$L706=0,\"\",14))","v":14},"","",true,true,true,true,true,true,true,true,true,true,true,true,true,true,false]
[null,{"$f":"'Scheme and Member Information'!B707","v":0},{"$f":"'Scheme and Member Information'!C707","v":0},null,null,null,null,null,null,null,null,null,null,null,"",null,{"$f":"IF(S707,VLOOKUP(MIN(T707:AI707),'Data Validation (hidden)'!$B$30:$C$45,2,FALSE),IF(COUNTA(D707:N707)>0,\"'Scheme Name' missing but values entered in other columns\",\"\"))","v":""},null,false,1,2,3,4,5,6,7,8,9,10,11,12,13,{"$f":"IF(D707=\"Yes\",IF('Financial Information'!$L707=$O707,\"\",14),IF('Financial Information'!$L707=0,\"\",14))","v":14},"","",true,true,true,true,true,true,true,true,true,true,true,true,true,true,false]
[null,{"$f":"'Scheme and Member Information'!B708","v":0},{"$f":"'Scheme and Member Information'!C708","v":0},null,null,null,null,null,null,null,null,null,null,null,"",null,{"$f":"IF(S708,VLOOKUP(MIN(T708:AI708),'Data Validation (hidden)'!$B$30:$C$45,2,FALSE),IF(COUNTA(D708:N708)>0,\"'Scheme Name' missing but values entered in other columns\",\"\"))","v":""},null,false,1,2,3,4,5,6,7,8,9,10,11,12,13,{"$f":"IF(D708=\"Yes\",IF('Financial Information'!$L708=$O708,\"\",14),IF('Financial Information'!$L708=0,\"\",14))","v":14},"","",true,true,true,true,true,true,true,true,true,true,true,true,true,true,false]
[null,{"$f":"'Scheme and Member Information'!B709","v":0},{"$f":"'Scheme and Member Information'!C709","v":0},null,null,null,null,null,null,null,null,null,null,null,"",null,{"$f":"IF(S709,VLOOKUP(MIN(T709:AI709),'Data Validation (hidden)'!$B$30:$C$45,2,FALSE),IF(COUNTA(D709:N709)>0,\"'Scheme Name' missing but values entered in other columns\",\"\"))","v":""},null,false,1,2,3,4,5,6,7,8,9,10,11,12,13,{"$f":"IF(D709=\"Yes\",IF('Financial Information'!$L709=$O709,\"\",14),IF('Financial Information'!$L709=0,\"\",14))","v":14},"","",true,true,true,true,true,true,true,true,true,true,true,true,true,true,false]
[null,{"$f":"'Scheme and Member Information'!B710","v":0},{"$f":"'Scheme and Member Information'!C710","v":0},null,null,null,null,null,null,null,null,null,null,null,"",null,{"$f":"IF(S710,VLOOKUP(MIN(T710:AI710),'Data Validation (hidden)'!$B$30:$C$45,2,FALSE),IF(COUNTA(D710:N710)>0,\"'Scheme Name' missing but values entered in other columns\",\"\"))","v":""},null,false,1,2,3,4,5,6,7,8,9,10,11,12,13,{"$f":"IF(D710=\"Yes\",IF('Financial Information'!$L710=$O710,\"\",14),IF('Financial Information'!$L710=0,\"\",14))","v":14},"","",true,true,true,true,true,true,true,true,true,true,true,true,true,true,false]
[null,{"$f":"'Scheme and Member Information'!B711","v":0},{"$f":"'Scheme and Member Information'!C711","v":0},null,null,null,null,null,null,null,null,null,null,null,"",null,{"$f":"IF(S711,VLOOKUP(MIN(T711:AI711),'Data Validation (hidden)'!$B$30:$C$45,2,FALSE),IF(COUNTA(D711:N711)>0,\"'Scheme Name' missing but values entered in other columns\",\"\"))","v":""},null,false,1,2,3,4,5,6,7,8,9,10,11,12,13,{"$f":"IF(D711=\"Yes\",IF('Financial Information'!$L711=$O711,\"\",14),IF('Financial Information'!$L711=0,\"\",14))","v":14},"","",true,true,true,true,true,true,true,true,true,true,true,true,true,true,false]
[null,{"$f":"'Scheme and Member Information'!B712","v":0},{"$f":"'Scheme and Member Information'!C712","v":0},null,null,null,null,null,null,null,null,null,null,null,"",null,{"$f":"IF(S712,VLOOKUP(MIN(T712:AI712),'Data Validation (hidden)'!$B$30:$C$45,2,FALSE),IF(COUNTA(D712:N712)>0,\"'Scheme Name' missing but values entered in other columns\",\"\"))","v":""},null,false,1,2,3,4,5,6,7,8,9,10,11,12,13,{"$f":"IF(D712=\"Yes\",IF('Financial Information'!$L712=$O712,\"\",14),IF('Financial Information'!$L712=0,\"\",14))","v":14},"","",{"$f":"IF(CELL(\"format\", B712) = \"G\",TRUE,FALSE)","v":true},{"$f":"IF(CELL(\"format\", C712) = \"F0\",TRUE,FALSE)","v":true},{"$f":"IF(CELL(\"format\",D707)=\"G\",TRUE,FALSE)","v":true},{"$f":"IF( CELL(\"format\",E712) = \"C0\",TRUE,FALSE)","v":true},{"$f":"IF( CELL(\"format\",F712) = \"C0\",TRUE,FALSE)","v":true},{"$f":"IF( CELL(\"format\",G712) = \"C0\",TRUE,FALSE)","v":true},{"$f":"IF( CELL(\"format\",H712) = \"C0\",TRUE,FALSE)","v":true},{"$f":"IF( CELL(\"format\",I712) = \"C0\",TRUE,FALSE)","v":true},{"$f":"IF( CELL(\"format\",J712) = \"C0\",TRUE,FALSE)","v":true},{"$f":"IF( CELL(\"format\",K712) = \"C0\",TRUE,FALSE)","v":true},{"$f":"IF( CELL(\"format\",L712) = \"C0\",TRUE,FALSE)","v":true},{"$f":"IF( CELL(\"format\",M712) = \"C0\",TRUE,FALSE)","v":true},{"$f":"IF( CELL(\"format\",N712) = \"C0\",TRUE,FALSE)","v":true},{"$f":"IF( CELL(\"format\",O712) = \"C0\",TRUE,FALSE)","v":true},{"$f":"IF(Q712=\"\",FALSE,IF(Q712=\"OK\",FALSE,TRUE))","v":false}]
[null,{"$f":"'Scheme and Member Information'!B713","v":0},{"$f":"'Scheme and Member Information'!C713","v":0},null,null,null,null,null,null,null,null,null,null,null,{"$f":"IF(OR(E713<>\"\",F713<>\"\",G713<>\"\",H713<>\"\",I713<>\"\",J713<>\"\",K713<>\"\",L713<>\"\",M713<>\"\",N713<>\"\"),SUM(E713:N713),\"\")","v":""},null,{"$f":"IF(S713,VLOOKUP(MIN(T713:AI713),'Data Validation (hidden)'!$B$30:$C$45,2,FALSE),IF(COUNTA(D713:N713)>0,\"'Scheme Name' missing but values entered in other columns\",\"\"))","v":""},null,{"$f":"AND(B713<>\"\",B713<>0)","v":false},{"$f":"IF(C713=\"\",1,IF(C713=0,1,\"\"))","v":1},{"$f":"IF(D713=\"\",2,\"\")","v":2},{"$f":"IF(E713=\"\",IF(D713=\"No\",\"\",3),\"\")","v":3},{"$f":"IF(F713=\"\",IF(D713=\"No\",\"\",4),\"\")","v":4},{"$f":"IF(G713=\"\",IF(D713=\"No\",\"\",5),\"\")","v":5},{"$f":"IF(H713=\"\",IF(D713=\"No\",\"\",6),\"\")","v":6},{"$f":"IF(I713=\"\",IF(D713=\"No\",\"\",7),\"\")","v":7},{"$f":"IF(J713=\"\",IF(D713=\"No\",\"\",8),\"\")","v":8},{"$f":"IF(K713=\"\",IF(D713=\"No\",\"\",9),\"\")","v":9},{"$f":"IF(L713=\"\",IF(D713=\"No\",\"\",10),\"\")","v":10},{"$f":"IF(M713=\"\",IF(D713=\"No\",\"\",11),\"\")","v":11},{"$f":"IF(N713=\"\",IF(D713=\"No\",\"\",12),\"\")","v":12},{"$f":"IF(O713=\"\",IF(D713=\"No\",\"\",13),\"\")","v":13},{"$f":"IF(D713=\"Yes\",IF('Financial Information'!$L713=$O713,\"\",14),IF('Financial Information'!$L713=0,\"\",14))","v":14},{"$f":"IF(COUNT(T713:AG713)=0,\"10\",\"\")","v":""},{"$f":"IF(AND(AJ713,AK713,AL713,AM713,AN713,AO713,AP713,AQ713,AR713,AS713,AT713,AU713,AV713,AW713)=TRUE,\"\",15)","v":""},true,true,true,true,true,true,true,true,true,true,true,true,true,true,false]
[null,{"$f":"'Scheme and Member Information'!B714","v":0},{"$f":"'Scheme and Member Information'!C714","v":0},null,null,null,null,null,null,null,null,null,null,null,{"$f":"IF(OR(E714<>\"\",F714<>\"\",G714<>\"\",H714<>\"\",I714<>\"\",J714<>\"\",K714<>\"\",L714<>\"\",M714<>\"\",N714<>\"\"),SUM(E714:N714),\"\")","v":""},null,{"$f":"IF(S714,VLOOKUP(MIN(T714:AI714),'Data Validation (hidden)'!$B$30:$C$45,2,FALSE),IF(COUNTA(D714:N714)>0,\"'Scheme Name' missing but values entered in other columns\",\"\"))","v":""},null,{"$f":"AND(B714<>\"\",B714<>0)","v":false},{"$f":"IF(C714=\"\",1,IF(C714=0,1,\"\"))","v":1},{"$f":"IF(D714=\"\",2,\"\")","v":2},{"$f":"IF(E714=\"\",IF(D714=\"No\",\"\",3),\"\")","v":3},{"$f":"IF(F714=\"\",IF(D714=\"No\",\"\",4),\"\")","v":4},{"$f":"IF(G714=\"\",IF(D714=\"No\",\"\",5),\"\")","v":5},{"$f":"IF(H714=\"\",IF(D714=\"No\",\"\",6),\"\")","v":6},{"$f":"IF(I714=\"\",IF(D714=\"No\",\"\",7),\"\")","v":7},{"$f":"IF(J714=\"\",IF(D714=\"No\",\"\",8),\"\")","v":8},{"$f":"IF(K714=\"\",IF(D714=\"No\",\"\",9),\"\")","v":9},{"$f":"IF(L714=\"\",IF(D714=\"No\",\"\",10),\"\")","v":10},{"$f":"IF(M714=\"\",IF(D714=\"No\",\"\",11),\"\")","v":11},{"$f":"IF(N714=\"\",IF(D714=\"No\",\"\",12),\"\")","v":12},{"$f":"IF(O714=\"\",IF(D714=\"No\",\"\",13),\"\")","v":13},{"$f":"IF(D714=\"Yes\",IF('Financial Information'!$L714=$O714,\"\",14),IF('Financial Information'!$L714=0,\"\",14))","v":14},{"$f":"IF(COUNT(T714:AG714)=0,\"10\",\"\")","v":""},{"$f":"IF(AND(AJ714,AK714,AL714,AM714,AN714,AO714,AP714,AQ714,AR714,AS714,AT714,AU714,AV714,AW714)=TRUE,\"\",15)","v":""},true,true,true,true,true,true,true,true,true,true,true,true,true,true,false]
[null,{"$f":"'Scheme and Member Information'!B715","v":0},{"$f":"'Scheme and Member Information'!C715","v":0},null,null,null,null,null,null,null,null,null,null,null,{"$f":"IF(OR(E715<>\"\",F715<>\"\",G715<>\"\",H715<>\"\",I715<>\"\",J715<>\"\",K715<>\"\",L715<>\"\",M715<>\"\",N715<>\"\"),SUM(E715:N715),\"\")","v":""},null,{"$f":"IF(S715,VLOOKUP(MIN(T715:AI715),'Data Validation (hidden)'!$B$30:$C$45,2,FALSE),IF(COUNTA(D715:N715)>0,\"'Scheme Name' missing but values entered in other columns\",\"\"))","v":""},null,{"$f":"AND(B715<>\"\",B715<>0)","v":false},{"$f":"IF(C715=\"\",1,IF(C715=0,1,\"\"))","v":1},{"$f":"IF(D715=\"\",2,\"\")","v":2},{"$f":"IF(E715=\"\",IF(D715=\"No\",\"\",3),\"\")","v":3},{"$f":"IF(F715=\"\",IF(D715=\"No\",\"\",4),\"\")","v":4},{"$f":"IF(G715=\"\",IF(D715=\"No\",\"\",5),\"\")","v":5},{"$f":"IF(H715=\"\",IF(D715=\"No\",\"\",6),\"\")","v":6},{"$f":"IF(I715=\"\",IF(D715=\"No\",\"\",7),\"\")","v":7},{"$f":"IF(J715=\"\",IF(D715=\"No\",\"\",8),\"\")","v":8},{"$f":"IF(K715=\"\",IF(D715=\"No\",\"\",9),\"\")","v":9},{"$f":"IF(L715=\"\",IF(D715=\"No\",\"\",10),\"\")","v":10},{"$f":"IF(M715=\"\",IF(D715=\"No\",\"\",11),\"\")","v":11},{"$f":"IF(N715=\"\",IF(D715=\"No\",\"\",12),\"\")","v":12},{"$f":"IF(O715=\"\",IF(D715=\"No\",\"\",13),\"\")","v":13},{"$f":"IF(D715=\"Yes\",IF('Financial Information'!$L715=$O715,\"\",14),IF('Financial Information'!$L715=0,\"\",14))","v":14},{"$f":"IF(COUNT(T715:AG715)=0,\"10\",\"\")","v":""},{"$f":"IF(AND(AJ715,AK715,AL715,AM715,AN715,AO715,AP715,AQ715,AR715,AS715,AT715,AU715,AV715,AW715)=TRUE,\"\",15)","v":""},true,true,true,true,true,true,true,true,true,true,true,true,true,true,false]
[null,{"$f":"'Scheme and Member Information'!B716","v":0},{"$f":"'Scheme and Member Information'!C716","v":0},null,null,null,null,null,null,null,null,null,null,null,{"$f":"IF(OR(E716<>\"\",F716<>\"\",G716<>\"\",H716<>\"\",I716<>\"\",J716<>\"\",K716<>\"\",L716<>\"\",M716<>\"\",N716<>\"\"),SUM(E716:N716),\"\")","v":""},null,{"$f":"IF(S716,VLOOKUP(MIN(T716:AI716),'Data Validation (hidden)'!$B$30:$C$45,2,FALSE),IF(COUNTA(D716:N716)>0,\"'Scheme Name' missing but values entered in other columns\",\"\"))","v":""},null,{"$f":"AND(B716<>\"\",B716<>0)","v":false},{"$f":"IF(C716=\"\",1,IF(C716=0,1,\"\"))","v":1},{"$f":"IF(D716=\"\",2,\"\")","v":2},{"$f":"IF(E716=\"\",IF(D716=\"No\",\"\",3),\"\")","v":3},{"$f":"IF(F716=\"\",IF(D716=\"No\",\"\",4),\"\")","v":4},{"$f":"IF(G716=\"\",IF(D716=\"No\",\"\",5),\"\")","v":5},{"$f":"IF(H716=\"\",IF(D716=\"No\",\"\",6),\"\")","v":6},{"$f":"IF(I716=\"\",IF(D716=\"No\",\"\",7),\"\")","v":7},{"$f":"IF(J716=\"\",IF(D716=\"No\",\"\",8),\"\")","v":8},{"$f":"IF(K716=\"\",IF(D716=\"No\",\"\",9),\"\")","v":9},{"$f":"IF(L716=\"\",IF(D716=\"No\",\"\",10),\"\")","v":10},{"$f":"IF(M716=\"\",IF(D716=\"No\",\"\",11),\"\")","v":11},{"$f":"IF(N716=\"\",IF(D716=\"No\",\"\",12),\"\")","v":12},{"$f":"IF(O716=\"\",IF(D716=\"No\",\"\",13),\"\")","v":13},{"$f":"IF(D716=\"Yes\",IF('Financial Information'!$L716=$O716,\"\",14),IF('Financial Information'!$L716=0,\"\",14))","v":14},{"$f":"IF(COUNT(T716:AG716)=0,\"10\",\"\")","v":""},{"$f":"IF(AND(AJ716,AK716,AL716,AM716,AN716,AO716,AP716,AQ716,AR716,AS716,AT716,AU716,AV716,AW716)=TRUE,\"\",15)","v":""},true,true,true,true,true,true,true,true,true,true,true,true,true,true,false]
[null,{"$f":"'Scheme and Member Information'!B717","v":0},{"$f":"'Scheme and Member Information'!C717","v":0},null,null,null,null,null,null,null,null,null,null,null,{"$f":"IF(OR(E717<>\"\",F717<>\"\",G717<>\"\",H717<>\"\",I717<>\"\",J717<>\"\",K717<>\"\",L717<>\"\",M717<>\"\",N717<>\"\"),SUM(E717:N717),\"\")","v":""},null,{"$f":"IF(S717,VLOOKUP(MIN(T717:AI717),'Data Validation (hidden)'!$B$30:$C$45,2,FALSE),IF(COUNTA(D717:N717)>0,\"'Scheme Name' missing but values entered in other columns\",\"\"))","v":""},null,{"$f":"AND(B717<>\"\",B717<>0)","v":false},{"$f":"IF(C717=\"\",1,IF(C717=0,1,\"\"))","v":1},{"$f":"IF(D717=\"\",2,\"\")","v":2},{"$f":"IF(E717=\"\",IF(D717=\"No\",\"\",3),\"\")","v":3},{"$f":"IF(F717=\"\",IF(D717=\"No\",\"\",4),\"\")","v":4},{"$f":"IF(G717=\"\",IF(D717=\"No\",\"\",5),\"\")","v":5},{"$f":"IF(H717=\"\",IF(D717=\"No\",\"\",6),\"\")","v":6},{"$f":"IF(I717=\"\",IF(D717=\"No\",\"\",7),\"\")","v":7},{"$f":"IF(J717=\"\",IF(D717=\"No\",\"\",8),\"\")","v":8},{"$f":"IF(K717=\"\",IF(D717=\"No\",\"\",9),\"\")","v":9},{"$f":"IF(L717=\"\",IF(D717=\"No\",\"\",10),\"\")","v":10},{"$f":"IF(M717=\"\",IF(D717=\"No\",\"\",11),\"\")","v":11},{"$f":"IF(N717=\"\",IF(D717=\"No\",\"\",12),\"\")","v":12},{"$f":"IF(O717=\"\",IF(D717=\"No\",\"\",13),\"\")","v":13},{"$f":"IF(D717=\"Yes\",IF('Financial Information'!$L717=$O717,\"\",14),IF('Financial Information'!$L717=0,\"\",14))","v":14},{"$f":"IF(COUNT(T717:AG717)=0,\"10\",\"\")","v":""},{"$f":"IF(AND(AJ717,AK717,AL717,AM717,AN717,AO717,AP717,AQ717,AR717,AS717,AT717,AU717,AV717,AW717)=TRUE,\"\",15)","v":""},true,true,true,true,true,true,true,true,true,true,true,true,true,true,false]
[]
[null,null,null,null,null,null,null,null,null,null,null,null,null,null,null,null,{"$f":"IF(COUNTA(Q8:Q717) - COUNTIF(Q8:Q717,\"OK\") - COUNTIF(Q8:Q717,\"\") = 0, \"Validation Check Passed\", \"Validation error on row \" & Q6)","v":"Validation Check Passed"}]
[]
[null,"HIDDEN BELOW"]
[null,null,null,null,null,null,null,null,null,null,null,null,null,null,{"$f":"IF(OR(E722<>\"\",F722<>\"\",G722<>\"\",H722<>\"\",I722<>\"\",J722<>\"\",K722<>\"\",L722<>\"\",M722<>\"\",N722<>\"\"),SUM(E722:N722),\"\")","v":""}]
[null,"HIDDEN ABOVE"]

{"sheet":"LoV (hidden)","index":8,"n_rows":35,"n_cols":10,"rows_kept":35,"cut":false,"hidden":true,"merged":[]}
["Scheme Type","Scheme Classification",null,null,null,"Approved Auditors","Investment Approach","Boolean","Investment Direction","Codes"]
["Domestic","A",null,null,null,"BDO Novus Limited","Bank accounts deposits","Yes","Member Directed","MD"]
["International","B",null,null,null,"Brehon Limited","Cash","No","Provider Directed","PD"]
["Domestic & international","C",null,null,null,"Chandler Backer & Co","Cash funds",null,"Third Party Directed","TD"]
[null,"Gratuity",null,null,null,"Chandlers Limited","Corporate bonds",null,"Combination: Member/Provider Directed","MPD"]
[null,null,null,null,null,"Cleland & Co Ltd","Exchange-traded commodities",null,"Combination: Member/Third Party Directed","MTD"]
[null,null,null,null,null,"Colin Pickard & Company","Government and local authority bonds and other fixed interest stocks",null,"Combination: Provider/Third Party Directed","PTD"]
[null,null,null,null,null,"Collenette Jones Limited","Physical gold bullion",null,"Combination: Member/Provider/Third Party Directed","MPTD"]
[null,null,null,null,null,"Deloitte LLP","Investments notes (structures products)"]
["Date validation",null,null,null,null,"Ernst & Young","Long-term insurance contracts (where underlying investment is in other assets listed in",null,"The Scheme Have Investments"]
[null,null,null,null,null,"Grant Thornton Limited","this section)",null,"Yes"]
["Scheme Description",null,null,null,null,"Kemp Le Tissier Limited","Shares in investment trusts",null,"No"]
["DC",null,null,null,null,"KPMG","Managed pension funds"]
["DB",null,null,null,null,"Lince Salisbury","National Savings and Investment products"]
["H",null,null,null,null,"Moore Stephens","Permanent interest bearing shares (PIBs)"]
[null,null,null,null,null,"Perkins","Real estate investment trusts (REITs)"]
[null,null,null,null,null,"PKF (Guernsey) Limited (merged with BDO Limited)","Shares listed on the Alternative Investment Market"]
["Scheme Type",null,null,null,null,"PricewaterhouseCoopers Channel Islands","Shares listed on the Channel Islands Stock Exchange"]
["Occupational",null,null,null,null,"Grant Thornton UK LLP","Shares listed on the London Stock Exchange"]
["Personal",null,null,null,null,"Saffery Champness","Shares listed on a recognised exchange (as listed in The Companies (Recognised Stock Exchange) Regulations, 2009 (as amended))"]
[null,null,null,null,null,"Stafford Challis & Co"]
[]
[]
["Services"]
["Trustee",null,null,null,null,"Previous set of Financial Statements"]
["Administrator",null,null,null,null,"Yes"]
["Both",null,null,null,null,"No"]
[]
["Retirement Annuity",null,null,null,null,"Do you have members in countries listed in sections A, B or C of the BSSN."]
["Yes",null,null,null,null,"Yes"]
["No",null,null,null,null,"No"]
[]
["Open to New Members"]
["Yes"]
["No"]